{"text_format":"1","workbook":"xlsx","n_sheets":4,"sheets":["Checklist","By Name","View Records","Copied Records"],"not_rendered":{"charts":0,"images":1,"macros":1,"external_links":0,"defined_names":6,"comments":0,"pivot_tables":0},"unopened":[],"bounds":{"document_bytes":16777216,"sheet_cells":100000,"rows_first":2000,"rows_last":500,"rows_between":2000,"halvings":0,"cell_chars":16384,"cell_head_chars":4096},"cells_cut":0,"cells_raw":0,"read":"whole","date_system":"1900"}

{"sheet":"Checklist","index":0,"n_rows":7115,"n_cols":256,"rows_kept":281,"cut":true,"hidden":false,"merged":[],"bounds":{"rows_first":125,"rows_last":31,"rows_between":125,"halvings":4}}
[null,null,null,null,null,null,null,"Record Information",null,null,null,null,null,null,null,null,null,null,null,null,null,null,null,null,null,null,null,null,null,null,null,null,null,null,null,null,null,null,null,null,null,null,null,null,null,null,null,null,null,null,null,null,null,null,null,null,null,null,null,null,null,null,null,null,null,null,null,null,null,null,null,null,null,null,null,null,null,null,null,null,null,null,null,null,null,null,null,null,null,null,null,null,null,null,null,null,null,null,null,null,null,null,null,null,null,null,null,null,null,null,null,null,null,null,null,null,null,null,null,null,null,null,null,null,null,null,null,null,null,null,null,null,null,null,null,null,null,null,null,null,null,null,null,null,null,null,null,null,null,null,null,null,null,null,null,null,"Code","Taxon","Authority","Vernacular","Parent","Status","Code",null,null,null,null,null,null,null,null,null,null,null,null,null,null,null,null,null,null,null,null,"BRC","Taxon",null,null,null,null,null,null,null,null,null,"Field record / observation",null,null,null,null,null,"Flowering",null,null,null,null,null,null,"Sleeper","From H3",null,null,null,null,null,null,null,"Enter",null,null,null,null,null,null,null,null,null,null,null,null,null,null,null,null,null,null,null,null,null,null,null,null,null,null,null,null,null,"DINTY","Numeric","Comment"]
[null,null,null,null,null,null,"Site",null,{"$f":"IF(ISBLANK(H2),\"     Optional\",\"\")","v":"     Optional"},null,null,null,null,null,null,null,null,null,null,null,null,null,null,null,null,null,null,null,null,null,null,null,null,null,null,null,null,null,null,null,null,null,null,null,null,null,null,null,null,null,null,null,null,null,null,null,null,null,null,null,null,null,null,null,null,null,null,null,null,null,null,null,null,null,null,null,null,null,null,null,null,null,null,null,null,null,null,null,null,null,null,null,null,null,null,null,null,null,null,null,null,null,null,null,null,null,null,null,null,null,null,null,null,null,null,null,null,null,null,null,null,null,null,null,null,null,null,null,null,null,null,null,null,null,null,null,null,null,null,null,null,null,null,null,null,null,null,null,null,null,null,null,null,null,null,null,5699,"Abelia uniflora","R. Br. ex Wall.",null,"Caprifoliaceae",null,5699,null,null,null,null,null,null,null,null,null,null,null,null,null,null,null,null,null,null,null,3,3,"Acer cam","Acer campestre",3,null,"Acer cam",null,null,null,null,null,"Floral ID",null,null,null,null,null,"Flowering / fruiting",null,null,null,null,null,null,null,{"$f":"$H$3","v":0},{"$f":"IF(HA2=0,SUBSTITUTE(GZ2,\":\",\"\"),SUBSTITUTE(HA2,\":\",\"\"))","v":""},{"$f":"SUBSTITUTE(HB2,\";\",\"\")","v":""},{"$f":"SUBSTITUTE(HC2,\" \",\"\")","v":""},{"$f":"SUBSTITUTE(HD2,\".\",\"\")","v":""},{"$f":"SUBSTITUTE(HE2,\",\",\"\")","v":""},{"$f":"SUBSTITUTE(HF2,\"_\",\"\")","v":""},{"$f":"SUBSTITUTE(HG2,\"-\",\"\")","v":""},{"$f":"IF(ISBLANK(HA2),\"\",HH2)","v":""},{"$f":"IF(HA2=0,\"\",LEN(HI2))","v":""},{"$f":"LEFT(HI2,2)","v":""},{"$f":"IF(HA2=0,\"\",IF(HJ2=1,1,RIGHT(HI2,HJ2-2)))","v":""},{"$f":"RIGHT(HL2,1)","v":""},{"$f":"IF(HJ2=2,\"\",IF(HA2=0,\"\",IF(ISNUMBER(HM2*1),\"\",\"DINTY\")))","v":""},{"$f":"RIGHT(HL2,2)","v":""},{"$f":"LEFT(HO2,1)","v":""},{"$f":"IF(HJ2=2,\"\",IF(HA2=0,\"\",IF(ISNUMBER((HP2+1)*1),\"\",\"Pentad\")))","v":""},{"$f":"IF(HA2=0,\"\",IF(MOD(HJ2,2)=0,\"Even\",\"Odd\"))","v":""},{"$f":"IF(HQ2=\"Pentad\",HQ2,IF(HN2=\"DINTY\",HN2,HR2))","v":""},{"$f":"IF(HS2=\"Odd\",\"INVALID GR !!!\",HS2)","v":""},{"$f":"IF(HT2=\"Even\",HJ2,HT2)","v":""},{"$f":"IF(ISBLANK(HA2),\"\",IF(HU2=\"Dinty\",HU2,IF(HU2=\"INVALID GR !!!\",HU2,IF(HU2=\"pentad\",HT2,IF(HU2<6,\"Not Tetrad Ref\",IF(HU2>6,\"Not Tetrad Ref\",\"Numeric\"))))))","v":"Not Tetrad Ref"},{"$f":"IF(HX2=\"Monad\",HX2,IF(HY2=\"Monad\",HY2,HV2))","v":"Not Tetrad Ref"},{"$f":"IF(HV2=\"Numeric\",IF(MOD(IA2,2)=0,\"\",\"Monad\"),\"\")","v":""},{"$f":"IF(HV2=\"Numeric\",IF(MOD(IC2,2)=0,\"\",\"Monad\"),\"\")","v":""},{"$f":"IF(HV2=\"Numeric\",LEFT(HL2,1),\"\")","v":""},{"$f":"IF(HV2=\"Numeric\",MID(HL2,2,1),\"\")","v":""},{"$f":"IF(HV2=\"Numeric\",MID(HL2,3,1),\"\")","v":""},{"$f":"IF(HV2=\"Numeric\",RIGHT(HL2,1),\"\")","v":""},{"$f":"IF(HV2=\"Numeric\",CONCATENATE(\"&\",IA2,IC2),\"\")","v":""},{"$f":"IF(HV2=\"Numeric\",VLOOKUP(ID2,$IS$2:$IV$26,4),\"\")","v":""},{"$f":"IF(HW2=\"Numeric\",CONCATENATE(HK2,HZ2,IB2,IE2),\"\")","v":""},{"$f":"IF(HV2=\"DINTY\",LEFT(HL2,1),\"\")","v":""},{"$f":"IF(HV2=\"DINTY\",MID(HL2,2,1),\"\")","v":""},{"$f":"IF(HV2=\"DINTY\",RIGHT(HM2,1),\"\")","v":""},{"$f":"IF(HV2=\"DINTY\",VLOOKUP(II2,$AP$2:$AR$26,2),\"\")","v":""},{"$f":"IF(HV2=\"DINTY\",VLOOKUP(II2,$AP$2:$AR$26,3),\"\")","v":""},{"$f":"IF(HV2=\"DINTY\",CONCATENATE(HK2,\" \",IG2,IJ2,IH2,IK2),\"\")","v":""},{"$f":"IF(HW2=\"DINTY\",HI2,IF(HV2=\"Numeric\",IF2,\"\"))","v":""},{"$f":"IF(HW2=\"Numeric\",CONCATENATE(HK2,\" \",HZ2,IA2,IB2,IC2),IF(HV2=\"DINTY\",IL2,\"\"))","v":""},{"$f":"IF(HW2=\"DINTY\",\"\",IF(HW2=\"Numeric\",\"\",HW2))","v":"Not Tetrad Ref"},"A",0,0,"&00",0,0,"A"]
[null,null,null,null,null,null,"Gridref",null,{"$f":"IF(ISBLANK(H3),\"     Required\",IF($HW$2=\"Not Tetrad Ref\",\"     Valid Grid Ref\",IF($HW$2=\"DINTY\",\"     DINTY Grid Ref\",IF($HW$2=\"Numeric\",\"     This GR will recognized as a monad. If a tetrad is intended enter;\",CONCATENATE(\"     \",$HW$2)))))","v":"     Required"},null,null,{"$f":"IF(I3=\"     This GR will recognized as a monad. If a tetrad is intended enter;\",$IM$2,\"\")","v":""},null,null,null,null,null,null,null,null,null,null,null,null,null,null,null,null,null,null,null,null,null,null,null,null,null,null,null,null,null,null,null,null,null,null,null,null,null,null,null,null,null,null,null,null,null,null,null,null,null,null,null,null,null,null,null,null,null,null,null,null,null,null,null,null,null,null,null,null,null,null,null,null,null,null,null,null,null,null,null,null,null,null,null,null,null,null,null,null,null,null,null,null,null,null,null,null,null,null,null,null,null,null,null,null,null,null,null,null,null,null,null,null,null,null,null,null,null,null,null,null,null,null,null,null,null,null,null,null,null,null,null,null,null,null,null,null,null,null,null,null,null,null,null,null,2395,"Abies alba","Mill.","European Silver-fir","Pinaceae",null,2395,null,null,null,null,null,null,null,null,null,null,null,null,null,null,null,null,null,null,null,4,4,"pla","Acer platanoides",4,null,"pla",null,null,null,null,null,"Vegetative ID",null,null,null,null,null,"Fruiting",null,null,null,null,null,null,null,"NY6058","NY6058",{"$f":"SUBSTITUTE(HB3,\";\",\"\")","v":"NY6058"},{"$f":"SUBSTITUTE(HC3,\" \",\"\")","v":"NY6058"},{"$f":"SUBSTITUTE(HD3,\".\",\"\")","v":"NY6058"},{"$f":"SUBSTITUTE(HE3,\",\",\"\")","v":"NY6058"},{"$f":"SUBSTITUTE(HF3,\"_\",\"\")","v":"NY6058"},{"$f":"SUBSTITUTE(HG3,\"-\",\"\")","v":"NY6058"},"NY6058",6,"NY","6058",{"$f":"RIGHT(HL3,1)","v":"8"},"","58",{"$f":"LEFT(HO3,1)","v":"5"},"","Even","Even","Even",6,"Numeric","Numeric","","","6","0","5","8","&08","E","NY65E","","","",{"$f":"IF(HV3=\"DINTY\",VLOOKUP(II3,$IP$2:$IR$26,2),\"\")","v":""},{"$f":"IF(HV3=\"DINTY\",VLOOKUP(II3,$IP$2:$IR$26,3),\"\")","v":""},"","NY65E","NY 6058","","B",0,2,"&02",0,2,"B"]
[null,null,null,null,null,null,"VC",null,{"$f":"IF(ISBLANK(H4),\"     Required\",IF(H4=69,\"     Westmorland with North Lancashire\",IF(H4=70,\"     Cumberland\",\"\")))","v":"     Required"},null,null,null,null,null,null,null,null,null,null,null,null,null,null,null,null,null,null,null,null,null,null,null,null,null,null,null,null,null,null,null,null,null,null,null,null,null,null,null,null,null,null,null,null,null,null,null,null,null,null,null,null,null,null,null,null,null,null,null,null,null,null,null,null,null,null,null,null,null,null,null,null,null,null,null,null,null,null,null,null,null,null,null,null,null,null,null,null,null,null,null,null,null,null,null,null,null,null,null,null,null,null,null,null,null,null,null,null,null,null,null,null,null,null,null,null,null,null,null,null,null,null,null,null,null,null,null,null,null,null,null,null,null,null,null,null,null,null,null,null,null,null,null,null,null,null,null,"No BRC","Abies amabilis","Douglas ex J. Forbes","Pacific Silver-fir","Pinaceae",null,"No BRC",null,null,null,null,null,null,null,null,null,null,null,null,null,null,null,null,null,null,null,5,5,"pse","Acer pseudoplatanus",5,null,"pse",null,null,null,null,null,"Photographic record",null,null,null,null,null,"Vegetative",null,null,null,null,null,null,null,"NY67543","NY67543","NY67543","NY67543","NY67543","NY67543","NY67543","NY67543","NY67543",7,"NY","67543","3","","43","4","","Odd","Odd","INVALID GR !!!","INVALID GR !!!","INVALID GR !!!","INVALID GR !!!","","","","","","","","","","","","",{"$f":"IF(HV4=\"DINTY\",VLOOKUP(II4,$IP$2:$IR$26,2),\"\")","v":""},{"$f":"IF(HV4=\"DINTY\",VLOOKUP(II4,$IP$2:$IR$26,3),\"\")","v":""},"","","","INVALID GR !!!","C",0,4,"&04",0,4,"C"]
[null,null,null,null,null,null,"Date",null,{"$f":"IF(ISBLANK(H5),\"     Required\",IF(NOT(ISERR(YEAR(H5))),\"\",\"     INVALID DATE !!\"))","v":"     Required"},null,null,null,null,null,null,null,null,null,null,null,null,null,null,null,null,null,null,null,null,null,null,null,null,null,null,null,null,null,null,null,null,null,null,null,null,null,null,null,null,null,null,null,null,null,null,null,null,null,null,null,null,null,null,null,null,null,null,null,null,null,null,null,null,null,null,null,null,null,null,null,null,null,null,null,null,null,null,null,null,null,null,null,null,null,null,null,null,null,null,null,null,null,null,null,null,null,null,null,null,null,null,null,null,null,null,null,null,null,null,null,null,null,null,null,null,null,null,null,null,null,null,null,null,null,null,null,null,null,null,null,null,null,null,null,null,null,null,null,null,null,null,null,null,null,null,null,7926,"Abies cephalonica","Loudon","Greek Fir","Pinaceae",null,7926,null,null,null,null,null,null,null,null,null,null,null,null,null,null,null,null,null,null,null,7,7,"Achil mil","Achillea millefolium",7,null,"Achil mil",null,null,null,null,null,"Bench determination",null,null,null,null,null,"Not in flower",null,null,null,null,null,null,null,"NY6059","NY6059","NY6059","NY6059","NY6059","NY6059","NY6059","NY6059","NY6059",6,"NY","6059","9","","59","5","","Even","Even","Even",6,"Numeric","Monad","","Monad","6","0","5","9","&09","E","","","","",{"$f":"IF(HV5=\"DINTY\",VLOOKUP(II5,$IP$2:$IR$26,2),\"\")","v":""},{"$f":"IF(HV5=\"DINTY\",VLOOKUP(II5,$IP$2:$IR$26,3),\"\")","v":""},"","","","Monad","D",0,6,"&06",0,6,"D"]
[null,null,null,null,null,null,"Recorder",null,{"$f":"IF(ISBLANK(H6),\"     Required\",\"\")","v":"     Required"},null,null,null,null,null,null,null,null,null,null,null,null,null,null,null,null,null,null,null,null,null,null,null,null,null,null,null,null,null,null,null,null,null,null,null,null,null,null,null,null,null,null,null,null,null,null,null,null,null,null,null,null,null,null,null,null,null,null,null,null,null,null,null,null,null,null,null,null,null,null,null,null,null,null,null,null,null,null,null,null,null,null,null,null,null,null,null,null,null,null,null,null,null,null,null,null,null,null,null,null,null,null,null,null,null,null,null,null,null,null,null,null,null,null,null,null,null,null,null,null,null,null,null,null,null,null,null,null,null,null,null,null,null,null,null,null,null,null,null,null,null,null,null,null,null,null,null,3586,"Abies cilicica","(Antoine & Kotschy) Carrière","Cilician Fir","Pinaceae",null,3586,null,null,null,null,null,null,null,null,null,null,null,null,null,null,null,null,null,null,null,9,9,"pta","Achillea ptarmica",9,null,"pta",null,null,null,null,null,"Reported to recorder",null,null,null,null,null,"Sapling",null,null,null,null,null,null,null,"ny678678","ny678678","ny678678","ny678678","ny678678","ny678678","ny678678","ny678678","ny678678",8,"ny","678678","8","","78","7","","Even","Even","Even",8,"Not Tetrad Ref","Not Tetrad Ref","","","","","","","","","","","","",{"$f":"IF(HV6=\"DINTY\",VLOOKUP(II6,$IP$2:$IR$26,2),\"\")","v":""},{"$f":"IF(HV6=\"DINTY\",VLOOKUP(II6,$IP$2:$IR$26,3),\"\")","v":""},"","","","Not Tetrad Ref","E",0,8,"&08",0,8,"E"]
[null,null,null,null,null,null,"Method",null,{"$f":"IF(ISBLANK(H7),\"     Optional. If left blank 'Field record / observation' will be recorded\",\"\")","v":"     Optional. If left blank 'Field record / observation' will be recorded"},null,null,null,null,null,null,null,null,null,null,null,null,null,null,null,null,null,null,null,null,null,null,null,null,null,null,null,null,null,null,null,null,null,null,null,null,null,null,null,null,null,null,null,null,null,null,null,null,null,null,null,null,null,null,null,null,null,null,null,null,null,null,null,null,null,null,null,null,null,null,null,null,null,null,null,null,null,null,null,null,null,null,null,null,null,null,null,null,null,null,null,null,null,null,null,null,null,null,null,null,null,null,null,null,null,null,null,null,null,null,null,null,null,null,null,null,null,null,null,null,null,null,null,null,null,null,null,null,null,null,null,null,null,null,null,null,null,null,null,null,null,null,null,null,null,null,null,3589,"Abies concolor","(Gordon) Lindl. ex Hildebr.","Colorado White-fir","Pinaceae",null,3589,null,null,null,null,null,null,null,null,null,null,null,null,null,null,null,null,null,null,null,3305,3305,"Aconi*nap","Aconitum napellus sens. lat.",3305,null,"Aconi*nap",null,null,null,null,null,"Unpreserved specimen",null,null,null,null,null,"Sporophyte",null,null,null,null,null,null,null,"NY65E","NY65E","NY65E","NY65E","NY65E","NY65E","NY65E","NY65E","NY65E",5,"NY","65E","E","DINTY","5E","5","","Odd","DINTY","DINTY","DINTY","DINTY","DINTY","","","","","","","","","","6","5","E",{"$f":"IF(HV7=\"DINTY\",VLOOKUP(II7,$IP$2:$IR$26,2),\"\")","v":0},{"$f":"IF(HV7=\"DINTY\",VLOOKUP(II7,$IP$2:$IR$26,3),\"\")","v":8},"NY 6058","NY65E","NY 6058","","F",2,0,"&20",2,0,"F"]
[null,null,null,null,null,null,null,null,null,null,null,null,null,null,null,null,null,null,null,null,null,null,null,null,null,null,null,null,null,null,null,null,null,null,null,null,null,null,null,null,null,null,null,null,null,null,null,null,null,null,null,null,null,null,null,null,null,null,null,null,null,null,null,null,null,null,null,null,null,null,null,null,null,null,null,null,null,null,null,null,null,null,null,null,null,null,null,null,null,null,null,null,null,null,null,null,null,null,null,null,null,null,null,null,null,null,null,null,null,null,null,null,null,null,null,null,null,null,null,null,null,null,null,null,null,null,null,null,null,null,null,null,null,null,null,null,null,null,null,null,null,null,null,null,null,null,null,null,null,null,null,null,null,null,null,null,3590,"Abies delavayi","Franch.","Delavay's Silver-fir","Pinaceae",null,3590,null,null,null,null,null,null,null,null,null,null,null,null,null,null,null,null,null,null,null,19,19,"Adoxa mos","Adoxa moschatellina",19,null,"Adoxa mos",null,null,null,null,null,"Voucher specimen",null,null,null,null,null,"Gametophyte",null,null,null,null,null,null,null,null,"","","","","","","","","","","","","","","","","","","","","","","","","","","","","","","","","","",{"$f":"IF(HV8=\"DINTY\",VLOOKUP(II8,$AP$2:$AR$26,2),\"\")","v":""},{"$f":"IF(HV8=\"DINTY\",VLOOKUP(II8,$AP$2:$AR$26,3),\"\")","v":""},"","","","","G",2,2,"&22",2,2,"G"]
[null,null,null,null,null,null,null,null,null,null,"Optional Supplementary Information",null,null,null,null,null,null,null,null,null,null,null,null,null,null,null,null,null,null,null,null,null,null,null,null,null,null,null,null,null,null,null,null,null,null,null,null,null,null,null,null,null,null,null,null,null,null,null,null,null,null,null,null,null,null,null,null,null,null,null,null,null,null,null,null,null,null,null,null,null,null,null,null,null,null,null,null,null,null,null,null,null,null,null,null,null,null,null,null,null,null,null,null,null,null,null,null,null,null,null,null,null,null,null,null,null,null,null,null,null,null,null,null,null,null,null,null,null,null,null,null,null,null,null,null,null,null,null,null,null,null,null,null,null,null,null,null,null,null,null,null,null,null,null,null,null,5640,"Abies firma","Siebold & Zucc.","Momi Fir","Pinaceae",null,5640,null,null,null,null,null,null,null,null,null,null,null,null,null,null,null,null,null,null,null,20,20,"Aegop pod","Aegopodium podagraria",20,null,"Aegop pod",null,null,null,null,null,"Grown on",null,null,null,null,null,"Mature",null,null,null,null,null,null,null,null,null,"","","","","","","","","","","","","","","","","","","","","","","","","","","","","","","","","",{"$f":"IF(HV9=\"DINTY\",VLOOKUP(II9,$AP$2:$AR$26,2),\"\")","v":""},{"$f":"IF(HV9=\"DINTY\",VLOOKUP(II9,$AP$2:$AR$26,3),\"\")","v":""},"","","","","H",2,4,"&24",2,4,"H"]
[null,"Code/MpM","BRC",null,"Taxon",null,"BRC","Taxon Recorded","Vernacular","Gridref","Determiner","Method","Stage","Comment",null,null,null,null,"BRC","Taxon","Vernacular","Site","Gridref","VC","Date","Recorder","Determiner","Method","Stage","Comment",null,"BRC","Recorded List","Vernacular","Site","Gridref","VC","Date","Recorder","Determiner","Method","Stage","Comment",null,null,null,null,null,null,null,null,null,null,null,null,null,null,null,null,null,null,null,null,null,null,null,null,null,null,null,null,null,null,null,null,null,null,null,null,null,null,null,null,null,null,null,null,null,null,null,null,null,null,null,null,null,null,null,null,null,null,null,null,null,null,null,null,null,null,null,null,null,null,null,null,null,null,null,null,null,null,null,null,null,null,null,null,null,null,null,null,null,null,null,null,null,null,null,null,null,null,null,null,null,null,null,null,null,null,null,null,null,null,null,null,null,"No BRC","Abies fraseri","(Pursh) Poir.","Fraser Fir","Pinaceae",null,"No BRC",null,null,null,null,null,null,null,null,null,null,null,null,null,null,null,null,null,null,null,2241,2241,"Aescu hip","Aesculus hippocastanum",2241,null,"Aescu hip",null,null,null,null,null,"DNA determination",null,null,null,null,null,"Part grown",null,null,null,null,null,null,null,null,null,null,null,null,null,null,null,null,null,null,null,null,null,null,null,null,null,null,null,null,null,null,null,null,null,null,null,null,null,null,null,null,null,null,null,null,null,null,null,null,"I",2,6,"&26",2,6,"I"]
[{"$f":"IF(D11=\"\",\"\",ROW())","v":""},3,3,null,"Acer cam",null,{"$f":"IF(ISBLANK(D11),\"\",VLOOKUP(H11,$FB$2:$FG$7115,6,FALSE))","v":""},{"$f":"IF(ISBLANK(D11),\"\",VLOOKUP(C11,$GB$2:$GD$683,3,FALSE))","v":""},{"$f":"IF(ISBLANK(D11),\"\",IF(ISBLANK(VLOOKUP(H11,FB2:FG7115,3,FALSE)),\"\",VLOOKUP(H11,FB2:FG7115,3,FALSE)))","v":""},null,null,null,null,null,null,null,null,null,{"$f":"IF(LEN($H11)<1,\"\",G11)","v":""},{"$f":"IF(LEN($H11)<1,\"\",H11)","v":""},{"$f":"IF(LEN($H11)<1,\"\",I11)","v":""},{"$f":"IF(LEN($H11)<1,\"\",IF(ISBLANK($H$2),\"\",$H$2))","v":""},{"$f":"IF(LEN($H11)<1,\"\",IF(ISTEXT(J11),J11,IF(ISTEXT($H$3),$H$3,\"NO Grid Ref!!\")))","v":""},{"$f":"IF(LEN($H11)<1,\"\",IF(ISBLANK($H$4),\"NO VC!!\",$H$4))","v":""},{"$f":"IF(LEN($H11)<1,\"\",IF(ISBLANK($H$5),\"NO Date!!\",$H$5))","v":""},{"$f":"IF(LEN($H11)<1,\"\",IF(ISBLANK($H$6),\"NO Recorder!!\",$H$6))","v":""},{"$f":"IF(LEN($H11)<1,\"\",IF(ISTEXT(K11),K11,IF(ISTEXT($H$6),$H$6,\"NO Determiner!!\")))","v":""},{"$f":"IF(LEN($H11)<1,\"\",IF(ISTEXT(L11),L11,IF(ISTEXT($H$7),$H$7,\"Field record / observation\")))","v":""},{"$f":"IF(LEN($H11)<1,\"\",IF(LEN(M11)<1,\"Not Recorded\",M11))","v":""},{"$f":"IF(LEN($H11)<1,\"\",IF(LEN(N11)<1,\"  --\",N11))","v":""},null,{"$f":"IF(ROW($A11)-ROW($A$11)+1>COUNT($A$11:$A$707),\"\",INDEX(S:S,SMALL($A$11:$A$707,1+ROW($A11)-ROW($A$11))))","v":""},"","","","","","","","","","","",null,null,null,null,null,null,null,null,null,null,null,null,null,null,null,null,null,null,null,null,null,null,null,null,null,null,null,null,null,null,null,null,null,null,null,null,null,null,null,null,null,null,null,null,null,null,null,null,null,null,null,null,null,null,null,null,null,null,null,null,null,null,null,null,null,null,null,null,null,null,null,null,null,null,null,null,null,null,null,null,null,null,null,null,null,null,null,null,null,null,null,null,null,null,null,null,null,null,null,null,null,null,null,null,null,null,null,null,null,null,null,null,null,2396,"Abies grandis","(Douglas ex D. Don) Lindl.","Giant Fir","Pinaceae",null,2396,null,null,null,null,null,null,null,null,null,null,null,null,null,null,null,null,null,null,null,21,21,"Aethu cyn","Aethusa cynapium",21,null,"Aethu cyn",null,null,null,null,null,"Documented record",null,null,null,null,null,"Pollen",null,null,null,null,null,null,null,null,null,null,null,null,null,null,null,null,null,null,null,null,null,null,null,null,null,null,null,null,null,null,null,null,null,null,null,null,null,null,null,null,null,null,null,null,{"$f":"IF($HW$2=\"Not Tetrad Ref\",\"Valid Grid Ref\",IF($HW$2=\"DINTY\",\"DINTY Grid Ref\",IF($HW$2=\"Numeric\",\"If this is a tetrad replace with DINTY ie\",$HW$2)))","v":"Valid Grid Ref"},null,null,null,"J",2,8,"&28",2,8,"J"]
["",4,4,null,"pla",null,{"$f":"IF(ISBLANK(D12),\"\",VLOOKUP(H12,$FB$2:$FG$7115,6,FALSE))","v":""},{"$f":"IF(ISBLANK(D12),\"\",VLOOKUP(C12,$GB$2:$GD$683,3,FALSE))","v":""},"",null,null,null,null,null,null,null,null,null,{"$f":"IF(LEN($H12)<1,\"\",G12)","v":""},{"$f":"IF(LEN($H12)<1,\"\",H12)","v":""},{"$f":"IF(LEN($H12)<1,\"\",I12)","v":""},{"$f":"IF(LEN($H12)<1,\"\",IF(ISBLANK($H$2),\"\",$H$2))","v":""},{"$f":"IF(LEN($H12)<1,\"\",IF(ISTEXT(J12),J12,IF(ISTEXT($H$3),$H$3,\"NO Grid Ref!!\")))","v":""},{"$f":"IF(LEN($H12)<1,\"\",IF(ISBLANK($H$4),\"NO VC!!\",$H$4))","v":""},{"$f":"IF(LEN($H12)<1,\"\",IF(ISBLANK($H$5),\"NO Date!!\",$H$5))","v":""},{"$f":"IF(LEN($H12)<1,\"\",IF(ISBLANK($H$6),\"NO Recorder!!\",$H$6))","v":""},{"$f":"IF(LEN($H12)<1,\"\",IF(ISTEXT(K12),K12,IF(ISTEXT($H$6),$H$6,\"NO Determiner!!\")))","v":""},{"$f":"IF(LEN($H12)<1,\"\",IF(ISTEXT(L12),L12,IF(ISTEXT($H$7),$H$7,\"Field record / observation\")))","v":""},{"$f":"IF(LEN($H12)<1,\"\",IF(LEN(M12)<1,\"Not Recorded\",M12))","v":""},{"$f":"IF(LEN($H12)<1,\"\",IF(LEN(N12)<1,\"  --\",N12))","v":""},null,{"$f":"IF(ROW($A12)-ROW($A$11)+1>COUNT($A$11:$A$707),\"\",INDEX(S:S,SMALL($A$11:$A$707,1+ROW($A12)-ROW($A$11))))","v":""},{"$f":"IF(ROW($A12)-ROW($A$11)+1>COUNT($A$11:$A$707),\"\",INDEX(T:T,SMALL($A$11:$A$707,1+ROW($A12)-ROW($A$11))))","v":""},{"$f":"IF(ROW($A12)-ROW($A$11)+1>COUNT($A$11:$A$707),\"\",INDEX(U:U,SMALL($A$11:$A$707,1+ROW($A12)-ROW($A$11))))","v":""},{"$f":"IF(ROW($A12)-ROW($A$11)+1>COUNT($A$11:$A$707),\"\",INDEX(V:V,SMALL($A$11:$A$707,1+ROW($A12)-ROW($A$11))))","v":""},{"$f":"IF(ROW($A12)-ROW($A$11)+1>COUNT($A$11:$A$707),\"\",INDEX(W:W,SMALL($A$11:$A$707,1+ROW($A12)-ROW($A$11))))","v":""},{"$f":"IF(ROW($A12)-ROW($A$11)+1>COUNT($A$11:$A$707),\"\",INDEX(X:X,SMALL($A$11:$A$707,1+ROW($A12)-ROW($A$11))))","v":""},{"$f":"IF(ROW($A12)-ROW($A$11)+1>COUNT($A$11:$A$707),\"\",INDEX(Y:Y,SMALL($A$11:$A$707,1+ROW($A12)-ROW($A$11))))","v":""},{"$f":"IF(ROW($A12)-ROW($A$11)+1>COUNT($A$11:$A$707),\"\",INDEX(Z:Z,SMALL($A$11:$A$707,1+ROW($A12)-ROW($A$11))))","v":""},{"$f":"IF(ROW($A12)-ROW($A$11)+1>COUNT($A$11:$A$707),\"\",INDEX(AA:AA,SMALL($A$11:$A$707,1+ROW($A12)-ROW($A$11))))","v":""},{"$f":"IF(ROW($A12)-ROW($A$11)+1>COUNT($A$11:$A$707),\"\",INDEX(AB:AB,SMALL($A$11:$A$707,1+ROW($A12)-ROW($A$11))))","v":""},{"$f":"IF(ROW($A12)-ROW($A$11)+1>COUNT($A$11:$A$707),\"\",INDEX(AC:AC,SMALL($A$11:$A$707,1+ROW($A12)-ROW($A$11))))","v":""},{"$f":"IF(ROW($A12)-ROW($A$11)+1>COUNT($A$11:$A$707),\"\",INDEX(AD:AD,SMALL($A$11:$A$707,1+ROW($A12)-ROW($A$11))))","v":""},null,null,null,null,null,null,null,null,null,null,null,null,null,null,null,null,null,null,null,null,null,null,null,null,null,null,null,null,null,null,null,null,null,null,null,null,null,null,null,null,null,null,null,null,null,null,null,null,null,null,null,null,null,null,null,null,null,null,null,null,null,null,null,null,null,null,null,null,null,null,null,null,null,null,null,null,null,null,null,null,null,null,null,null,null,null,null,null,null,null,null,null,null,null,null,null,null,null,null,null,null,null,null,null,null,null,null,null,null,null,null,null,null,3596,"Abies homolepis","Siebold & Zucc.","Nikko Fir","Pinaceae",null,3596,null,null,null,null,null,null,null,null,null,null,null,null,null,null,null,null,null,null,null,22,22,"Agrim eup","Agrimonia eupatoria",22,null,"Agrim eup",null,null,null,null,null,null,null,null,null,null,null,"Seed",null,null,null,null,null,null,null,null,null,null,null,null,null,null,null,null,null,null,null,null,null,null,null,null,null,null,null,null,null,null,null,null,null,null,null,null,null,null,null,null,null,null,null,null,{"$f":"IF(HW3=\"Not Tetrad Ref\",\"Valid Grid Ref\",IF(HW3=\"DINTY\",\"DINTY Grid Ref\",IF(HW3=\"Numeric\",\"If this is a tetrad replace with DINTY ie\",HW3)))","v":"If this is a tetrad replace with DINTY ie"},null,null,null,"K",4,0,"&40",4,0,"K"]
["",5,5,null,"pse",null,"","","",null,null,null,null,null,null,null,null,null,"","","","","","","","","","","","",null,"","","","","","","","","","","","",null,null,null,null,null,null,null,null,null,null,null,null,null,null,null,null,null,null,null,null,null,null,null,null,null,null,null,null,null,null,null,null,null,null,null,null,null,null,null,null,null,null,null,null,null,null,null,null,null,null,null,null,null,null,null,null,null,null,null,null,null,null,null,null,null,null,null,null,null,null,null,null,null,null,null,null,null,null,null,null,null,null,null,null,null,null,null,null,null,null,null,null,null,null,null,null,null,null,null,null,null,null,null,null,null,null,null,null,null,null,null,null,null,3598,"Abies lasiocarpa","(Hook.) Nutt.","Subalpine Fir","Pinaceae",null,3598,null,null,null,null,null,null,null,null,null,null,null,null,null,null,null,null,null,null,null,35.200000000000003,35.200000000000003,"Agros can","Agrostis canina",35.200000000000003,null,"Agros can",null,null,null,null,null,null,null,null,null,null,null,"Seedling",null,null,null,null,null,null,null,null,null,null,null,null,null,null,null,null,null,null,null,null,null,null,null,null,null,null,null,null,null,null,null,null,null,null,null,null,null,null,null,null,null,null,null,null,{"$f":"IF(HW4=\"Not Tetrad Ref\",\"Valid Grid Ref\",IF(HW4=\"DINTY\",\"DINTY Grid Ref\",IF(HW4=\"Numeric\",\"If this is a tetrad replace with DINTY ie\",HW4)))","v":"INVALID GR !!!"},null,null,null,"L",4,2,"&42",4,2,"L"]
["",7,7,null,"Achil mil",null,"","","",null,null,null,null,null,null,null,null,null,"","","","","","","","","","","","",null,"","","","","","","","","","","","",null,null,null,null,null,null,null,null,null,null,null,null,null,null,null,null,null,null,null,null,null,null,null,null,null,null,null,null,null,null,null,null,null,null,null,null,null,null,null,null,null,null,null,null,null,null,null,null,null,null,null,null,null,null,null,null,null,null,null,null,null,null,null,null,null,null,null,null,null,null,null,null,null,null,null,null,null,null,null,null,null,null,null,null,null,null,null,null,null,null,null,null,null,null,null,null,null,null,null,null,null,null,null,null,null,null,null,null,null,null,null,null,null,7927,"Abies nordmanniana","(Steven) Spach","Caucasian Fir","Pinaceae",null,7927,null,null,null,null,null,null,null,null,null,null,null,null,null,null,null,null,null,null,null,35,35,"*can","Agrostis canina sens. lat.",35,null,"*can",null,null,null,null,null,null,null,null,null,null,null,"Terrestrial Form",null,null,null,null,null,null,null,null,null,null,null,null,null,null,null,null,null,null,null,null,null,null,null,null,null,null,null,null,null,null,null,null,null,null,null,null,null,null,null,null,null,null,null,null,{"$f":"IF(HW5=\"Not Tetrad Ref\",\"Valid Grid Ref\",IF(HW5=\"DINTY\",\"DINTY Grid Ref\",IF(HW5=\"Numeric\",\"If this is a tetrad replace with DINTY ie\",HW5)))","v":"Monad"},null,null,null,"M",4,4,"&44",4,4,"M"]
["",9,9,null,"pta",null,"","","",null,null,null,null,null,null,null,null,null,"","","","","","","","","","","","",null,"","","","","","","","","","","","",null,null,null,null,null,null,null,null,null,null,null,null,null,null,null,null,null,null,null,null,null,null,null,null,null,null,null,null,null,null,null,null,null,null,null,null,null,null,null,null,null,null,null,null,null,null,null,null,null,null,null,null,null,null,null,null,null,null,null,null,null,null,null,null,null,null,null,null,null,null,null,null,null,null,null,null,null,null,null,null,null,null,null,null,null,null,null,null,null,null,null,null,null,null,null,null,null,null,null,null,null,null,null,null,null,null,null,null,null,null,null,null,null,3603,"Abies pinsapo","Boiss.","Spanish Fir","Pinaceae",null,3603,null,null,null,null,null,null,null,null,null,null,null,null,null,null,null,null,null,null,null,40,40,"cap","Agrostis capillaris",40,null,"cap",null,null,null,null,null,null,null,null,null,null,null,"Aquatic Form",null,null,null,null,null,null,null,null,null,null,null,null,null,null,null,null,null,null,null,null,null,null,null,null,null,null,null,null,null,null,null,null,null,null,null,null,null,null,null,null,null,null,null,null,{"$f":"IF(HW6=\"Not Tetrad Ref\",\"Valid Grid Ref\",IF(HW6=\"DINTY\",\"DINTY Grid Ref\",IF(HW6=\"Numeric\",\"If this is a tetrad replace with DINTY ie\",HW6)))","v":"Valid Grid Ref"},null,null,null,"N",4,6,"&46",4,6,"N"]
["",3305,3305,null,"Aconi*nap",null,"","","",null,null,null,null,null,null,null,null,null,"","","","","","","","","","","","",null,"","","","","","","","","","","","",null,null,null,null,null,null,null,null,null,null,null,null,null,null,null,null,null,null,null,null,null,null,null,null,null,null,null,null,null,null,null,null,null,null,null,null,null,null,null,null,null,null,null,null,null,null,null,null,null,null,null,null,null,null,null,null,null,null,null,null,null,null,null,null,null,null,null,null,null,null,null,null,null,null,null,null,null,null,null,null,null,null,null,null,null,null,null,null,null,null,null,null,null,null,null,null,null,null,null,null,null,null,null,null,null,null,null,null,null,null,null,null,null,2397,"Abies procera","Rehder","Noble Fir","Pinaceae",null,2397,null,null,null,null,null,null,null,null,null,null,null,null,null,null,null,null,null,null,null,39,39,"sto","Agrostis stolonifera",39,null,"sto",null,null,null,null,null,null,null,null,null,null,null,null,null,null,null,null,null,null,null,null,null,null,null,null,null,null,null,null,null,null,null,null,null,null,null,null,null,null,null,null,null,null,null,null,null,null,null,null,null,null,null,null,null,null,null,null,{"$f":"IF(HW7=\"Not Tetrad Ref\",\"Valid Grid Ref\",IF(HW7=\"DINTY\",\"DINTY Grid Ref\",IF(HW7=\"Numeric\",\"If this is a tetrad replace with DINTY ie\",HW7)))","v":"DINTY Grid Ref"},null,null,null,"P",4,8,"&48",4,8,"P"]
["",19,19,null,"Adoxa mos",null,"","","",null,null,null,null,null,null,null,null,null,"","","","","","","","","","","","",null,"","","","","","","","","","","","",null,null,null,null,null,null,null,null,null,null,null,null,null,null,null,null,null,null,null,null,null,null,null,null,null,null,null,null,null,null,null,null,null,null,null,null,null,null,null,null,null,null,null,null,null,null,null,null,null,null,null,null,null,null,null,null,null,null,null,null,null,null,null,null,null,null,null,null,null,null,null,null,null,null,null,null,null,null,null,null,null,null,null,null,null,null,null,null,null,null,null,null,null,null,null,null,null,null,null,null,null,null,null,null,null,null,null,null,null,null,null,null,null,3609,"Abies veitchii","Lindl.","Veitch's Silver-fir","Pinaceae",null,3609,null,null,null,null,null,null,null,null,null,null,null,null,null,null,null,null,null,null,null,41,41,"Aira car","Aira caryophyllea",41,null,"Aira car",null,null,null,null,null,null,null,null,null,null,null,null,null,null,null,null,null,null,null,null,null,null,null,null,null,null,null,null,null,null,null,null,null,null,null,null,null,null,null,null,null,null,null,null,null,null,null,null,null,null,null,null,null,null,null,null,null,null,null,null,"Q",6,0,"&60",6,0,"Q"]
["",20,20,null,"Aegop pod",null,"","","",null,null,null,null,null,null,null,null,null,"","","","","","","","","","","","",null,"","","","","","","","","","","","",null,null,null,null,null,null,null,null,null,null,null,null,null,null,null,null,null,null,null,null,null,null,null,null,null,null,null,null,null,null,null,null,null,null,null,null,null,null,null,null,null,null,null,null,null,null,null,null,null,null,null,null,null,null,null,null,null,null,null,null,null,null,null,null,null,null,null,null,null,null,null,null,null,null,null,null,null,null,null,null,null,null,null,null,null,null,null,null,null,null,null,null,null,null,null,null,null,null,null,null,null,null,null,null,null,null,null,null,null,null,null,null,null,5700,"Abutilon malvifolium","(Benth.) J.M. Black",null,"Malvaceae",null,5700,null,null,null,null,null,null,null,null,null,null,null,null,null,null,null,null,null,null,null,42,42,"pra","Aira praecox",42,null,"pra",null,null,null,null,null,null,null,null,null,null,null,null,null,null,null,null,null,null,null,null,null,null,null,null,null,null,null,null,null,null,null,null,null,null,null,null,null,null,null,null,null,null,null,null,null,null,null,null,null,null,null,null,null,null,null,null,null,null,null,null,"R",6,2,"&62",6,2,"R"]
["",2241,2241,null,"Aescu hip",null,"","","",null,null,null,null,null,null,null,null,null,"","","","","","","","","","","","",null,"","","","","","","","","","","","",null,null,null,null,null,null,null,null,null,null,null,null,null,null,null,null,null,null,null,null,null,null,null,null,null,null,null,null,null,null,null,null,null,null,null,null,null,null,null,null,null,null,null,null,null,null,null,null,null,null,null,null,null,null,null,null,null,null,null,null,null,null,null,null,null,null,null,null,null,null,null,null,null,null,null,null,null,null,null,null,null,null,null,null,null,null,null,null,null,null,null,null,null,null,null,null,null,null,null,null,null,null,null,null,null,null,null,null,null,null,null,null,null,5701,"Abutilon pictum","(Gillies ex Hook. & Arn.) Walp.","Chinese-lantern","Malvaceae",null,5701,null,null,null,null,null,null,null,null,null,null,null,null,null,null,null,null,null,null,null,46,46,"Ajuga rep","Ajuga reptans",46,null,"Ajuga rep",null,null,null,null,null,null,null,null,null,null,null,null,null,null,null,null,null,null,null,null,null,null,null,null,null,null,null,null,null,null,null,null,null,null,null,null,null,null,null,null,null,null,null,null,null,null,null,null,null,null,null,null,null,null,null,null,null,null,null,null,"S",6,4,"&64",6,4,"S"]
["",21,21,null,"Aethu cyn",null,"","","",null,null,null,null,null,null,null,null,null,"","","","","","","","","","","","",null,"","","","","","","","","","","","",null,null,null,null,null,null,null,null,null,null,null,null,null,null,null,null,null,null,null,null,null,null,null,null,null,null,null,null,null,null,null,null,null,null,null,null,null,null,null,null,null,null,null,null,null,null,null,null,null,null,null,null,null,null,null,null,null,null,null,null,null,null,null,null,null,null,null,null,null,null,null,null,null,null,null,null,null,null,null,null,null,null,null,null,null,null,null,null,null,null,null,null,null,null,null,null,null,null,null,null,null,null,null,null,null,null,null,null,null,null,null,null,null,2418,"Abutilon theophrasti","Medikus","Velvetleaf","Malvaceae",null,2418,null,null,null,null,null,null,null,null,null,null,null,null,null,null,null,null,null,null,null,48,48,"Alche alp","Alchemilla alpina",48,null,"Alche alp",null,null,null,null,null,null,null,null,null,null,null,null,null,null,null,null,null,null,null,null,null,null,null,null,null,null,null,null,null,null,null,null,null,null,null,null,null,null,null,null,null,null,null,null,null,null,null,null,null,null,null,null,null,null,null,null,null,null,null,null,"T",6,6,"&66",6,6,"T"]
["",22,22,null,"Agrim eup",null,"","","",null,null,null,null,null,null,null,null,null,"","","","","","","","","","","","",null,"","","","","","","","","","","","",null,null,null,null,null,null,null,null,null,null,null,null,null,null,null,null,null,null,null,null,null,null,null,null,null,null,null,null,null,null,null,null,null,null,null,null,null,null,null,null,null,null,null,null,null,null,null,null,null,null,null,null,null,null,null,null,null,null,null,null,null,null,null,null,null,null,null,null,null,null,null,null,null,null,null,null,null,null,null,null,null,null,null,null,null,null,null,null,null,null,null,null,null,null,null,null,null,null,null,null,null,null,null,null,null,null,null,null,null,null,null,null,null,"No BRC","Abutilon vitifolium","(Cav.) C. Presl","Grape-leaved Flowering-maple","Malvaceae",null,"No BRC",null,null,null,null,null,null,null,null,null,null,null,null,null,null,null,null,null,null,null,4480,4480,"fil","Alchemilla filicaulis",4480,null,"fil",null,null,null,null,null,null,null,null,null,null,null,null,null,null,null,null,null,null,null,null,null,null,null,null,null,null,null,null,null,null,null,null,null,null,null,null,null,null,null,null,null,null,null,null,null,null,null,null,null,null,null,null,null,null,null,null,null,null,null,null,"U",6,8,"&68",6,8,"U"]
["",35.200000000000003,35.200000000000003,null,"Agros can",null,"","","",null,null,null,null,null,null,null,null,null,"","","","","","","","","","","","",null,"","","","","","","","","","","","",null,null,null,null,null,null,null,null,null,null,null,null,null,null,null,null,null,null,null,null,null,null,null,null,null,null,null,null,null,null,null,null,null,null,null,null,null,null,null,null,null,null,null,null,null,null,null,null,null,null,null,null,null,null,null,null,null,null,null,null,null,null,null,null,null,null,null,null,null,null,null,null,null,null,null,null,null,null,null,null,null,null,null,null,null,null,null,null,null,null,null,null,null,null,null,null,null,null,null,null,null,null,null,null,null,null,null,null,null,null,null,null,null,"No BRC","Acacia dealbata","Link","Silver Wattle","Mimosaceae",null,"No BRC",null,null,null,null,null,null,null,null,null,null,null,null,null,null,null,null,null,null,null,57,57,"fil ves","Alchemilla filicaulis subsp. vestita",57,null,"fil ves",null,null,null,null,null,null,null,null,null,null,null,null,null,null,null,null,null,null,null,null,null,null,null,null,null,null,null,null,null,null,null,null,null,null,null,null,null,null,null,null,null,null,null,null,null,null,null,null,null,null,null,null,null,null,null,null,null,null,null,null,"V",8,0,"&80",8,0,"V"]
["",35,35,null,"*can",null,"","","",null,null,null,null,null,null,null,null,null,"","","","","","","","","","","","",null,"","","","","","","","","","","","",null,null,null,null,null,null,null,null,null,null,null,null,null,null,null,null,null,null,null,null,null,null,null,null,null,null,null,null,null,null,null,null,null,null,null,null,null,null,null,null,null,null,null,null,null,null,null,null,null,null,null,null,null,null,null,null,null,null,null,null,null,null,null,null,null,null,null,null,null,null,null,null,null,null,null,null,null,null,null,null,null,null,null,null,null,null,null,null,null,null,null,null,null,null,null,null,null,null,null,null,null,null,null,null,null,null,null,null,null,null,null,null,null,5447,"Acacia falciformis","DC.","Hickory Wattle","Mimosaceae",null,5447,null,null,null,null,null,null,null,null,null,null,null,null,null,null,null,null,null,null,null,51,51,"glab","Alchemilla glabra",51,null,"glab",null,null,null,null,null,null,null,null,null,null,null,null,null,null,null,null,null,null,null,null,null,null,null,null,null,null,null,null,null,null,null,null,null,null,null,null,null,null,null,null,null,null,null,null,null,null,null,null,null,null,null,null,null,null,null,null,null,null,null,null,"W",8,2,"&82",8,2,"W"]
["",40,40,null,"cap",null,"","","",null,null,null,null,null,null,null,null,null,"","","","","","","","","","","","",null,"","","","","","","","","","","","",null,null,null,null,null,null,null,null,null,null,null,null,null,null,null,null,null,null,null,null,null,null,null,null,null,null,null,null,null,null,null,null,null,null,null,null,null,null,null,null,null,null,null,null,null,null,null,null,null,null,null,null,null,null,null,null,null,null,null,null,null,null,null,null,null,null,null,null,null,null,null,null,null,null,null,null,null,null,null,null,null,null,null,null,null,null,null,null,null,null,null,null,null,null,null,null,null,null,null,null,null,null,null,null,null,null,null,null,null,null,null,null,null,"No BRC","Acacia longifolia","(Andrews) Willd.","Sydney Golden-wattle","Mimosaceae",null,"No BRC",null,null,null,null,null,null,null,null,null,null,null,null,null,null,null,null,null,null,null,58,58,"*vul","Alchemilla vulgaris agg.",58,null,"*vul",null,null,null,null,null,null,null,null,null,null,null,null,null,null,null,null,null,null,null,null,null,null,null,null,null,null,null,null,null,null,null,null,null,null,null,null,null,null,null,null,null,null,null,null,null,null,null,null,null,null,null,null,null,null,null,null,null,null,null,null,"X",8,4,"&84",8,4,"X"]
["",39,39,null,"sto",null,"","","",null,null,null,null,null,null,null,null,null,"","","","","","","","","","","","",null,"","","","","","","","","","","","",null,null,null,null,null,null,null,null,null,null,null,null,null,null,null,null,null,null,null,null,null,null,null,null,null,null,null,null,null,null,null,null,null,null,null,null,null,null,null,null,null,null,null,null,null,null,null,null,null,null,null,null,null,null,null,null,null,null,null,null,null,null,null,null,null,null,null,null,null,null,null,null,null,null,null,null,null,null,null,null,null,null,null,null,null,null,null,null,null,null,null,null,null,null,null,null,null,null,null,null,null,null,null,null,null,null,null,null,null,null,null,null,null,5415,"Acacia melanoxylon","R.Br.","Australian Blackwood","Mimosaceae",null,5415,null,null,null,null,null,null,null,null,null,null,null,null,null,null,null,null,null,null,null,60,60,"xan","Alchemilla xanthochlora",60,null,"xan",null,null,null,null,null,null,null,null,null,null,null,null,null,null,null,null,null,null,null,null,null,null,null,null,null,null,null,null,null,null,null,null,null,null,null,null,null,null,null,null,null,null,null,null,null,null,null,null,null,null,null,null,null,null,null,null,null,null,null,null,"Y",8,6,"&86",8,6,"Y"]
["",41,41,null,"Aira car",null,"","","",null,null,null,null,null,null,null,null,null,"","","","","","","","","","","","",null,"","","","","","","","","","","","",null,null,null,null,null,null,null,null,null,null,null,null,null,null,null,null,null,null,null,null,null,null,null,null,null,null,null,null,null,null,null,null,null,null,null,null,null,null,null,null,null,null,null,null,null,null,null,null,null,null,null,null,null,null,null,null,null,null,null,null,null,null,null,null,null,null,null,null,null,null,null,null,null,null,null,null,null,null,null,null,null,null,null,null,null,null,null,null,null,null,null,null,null,null,null,null,null,null,null,null,null,null,null,null,null,null,null,null,null,null,null,null,null,5416,"Acacia retinodes",null,null,"Mimosaceae",null,5416,null,null,null,null,null,null,null,null,null,null,null,null,null,null,null,null,null,null,null,63,63,"Alism pla","Alisma plantago-aquatica",63,null,"Alism pla",null,null,null,null,null,null,null,null,null,null,null,null,null,null,null,null,null,null,null,null,null,null,null,null,null,null,null,null,null,null,null,null,null,null,null,null,null,null,null,null,null,null,null,null,null,null,null,null,null,null,null,null,null,null,null,null,null,null,null,null,"Z",8,8,"&88",8,8,"Z"]
["",42,42,null,"pra",null,"","","",null,null,null,null,null,null,null,null,null,"","","","","","","","","","","","",null,"","","","","","","","","","","","",null,null,null,null,null,null,null,null,null,null,null,null,null,null,null,null,null,null,null,null,null,null,null,null,null,null,null,null,null,null,null,null,null,null,null,null,null,null,null,null,null,null,null,null,null,null,null,null,null,null,null,null,null,null,null,null,null,null,null,null,null,null,null,null,null,null,null,null,null,null,null,null,null,null,null,null,null,null,null,null,null,null,null,null,null,null,null,null,null,null,null,null,null,null,null,null,null,null,null,null,null,null,null,null,null,null,null,null,null,null,null,null,null,"No BRC","Acacia saligna","(Labill.) H.L. Wendl.","Blue-leaf Wattle","Mimosaceae",null,"No BRC",null,null,null,null,null,null,null,null,null,null,null,null,null,null,null,null,null,null,null,64,64,"Allia pet","Alliaria petiolata",64,null,"Allia pet"]
["",46,46,null,"Ajuga rep",null,"","","",null,null,null,null,null,null,null,null,null,"","","","","","","","","","","","",null,"","","","","","","","","","","","",null,null,null,null,null,null,null,null,null,null,null,null,null,null,null,null,null,null,null,null,null,null,null,null,null,null,null,null,null,null,null,null,null,null,null,null,null,null,null,null,null,null,null,null,null,null,null,null,null,null,null,null,null,null,null,null,null,null,null,null,null,null,null,null,null,null,null,null,null,null,null,null,null,null,null,null,null,null,null,null,null,null,null,null,null,null,null,null,null,null,null,null,null,null,null,null,null,null,null,null,null,null,null,null,null,null,null,null,null,null,null,null,null,"No BRC","Acacia verticillata","(L'Her.) Willd.","Prickly Moses","Mimosaceae",null,"No BRC",null,null,null,null,null,null,null,null,null,null,null,null,null,null,null,null,null,null,null,71,71,"Alliu sco","Allium scorodoprasum",71,null,"Alliu sco"]
["",48,48,null,"Alche alp",null,"","","",null,null,null,null,null,null,null,null,null,"","","","","","","","","","","","",null,"","","","","","","","","","","","",null,null,null,null,null,null,null,null,null,null,null,null,null,null,null,null,null,null,null,null,null,null,null,null,null,null,null,null,null,null,null,null,null,null,null,null,null,null,null,null,null,null,null,null,null,null,null,null,null,null,null,null,null,null,null,null,null,null,null,null,null,null,null,null,null,null,null,null,null,null,null,null,null,null,null,null,null,null,null,null,null,null,null,null,null,null,null,null,null,null,null,null,null,null,null,null,null,null,null,null,null,null,null,null,null,null,null,null,null,null,null,null,null,2528,"Acaena anserinifolia","(Forster & G.Forster) Druce","Bronze Pirri-pirri-bur","Rosaceae",null,2528,null,null,null,null,null,null,null,null,null,null,null,null,null,null,null,null,null,null,null,75,75,"urs","Allium ursinum",75,null,"urs"]
["",4480,4480,null,"fil",null,"","","",null,null,null,null,null,null,null,null,null,"","","","","","","","","","","","",null,"","","","","","","","","","","","",null,null,null,null,null,null,null,null,null,null,null,null,null,null,null,null,null,null,null,null,null,null,null,null,null,null,null,null,null,null,null,null,null,null,null,null,null,null,null,null,null,null,null,null,null,null,null,null,null,null,null,null,null,null,null,null,null,null,null,null,null,null,null,null,null,null,null,null,null,null,null,null,null,null,null,null,null,null,null,null,null,null,null,null,null,null,null,null,null,null,null,null,null,null,null,null,null,null,null,null,null,null,null,null,null,null,null,null,null,null,null,null,null,4325,"Acaena anserinifolia x inermis",null,null,"Rosaceae",null,4325,null,null,null,null,null,null,null,null,null,null,null,null,null,null,null,null,null,null,null,76,76,"vin","Allium vineale",76,null,"vin"]
["",57,57,null,"fil ves",null,"","","",null,null,null,null,null,null,null,null,null,"","","","","","","","","","","","",null,"","","","","","","","","","","","",null,null,null,null,null,null,null,null,null,null,null,null,null,null,null,null,null,null,null,null,null,null,null,null,null,null,null,null,null,null,null,null,null,null,null,null,null,null,null,null,null,null,null,null,null,null,null,null,null,null,null,null,null,null,null,null,null,null,null,null,null,null,null,null,null,null,null,null,null,null,null,null,null,null,null,null,null,null,null,null,null,null,null,null,null,null,null,null,null,null,null,null,null,null,null,null,null,null,null,null,null,null,null,null,null,null,null,null,null,null,null,null,null,7928,"Acaena caesiiglauca","(Bitter) Bergmans","Glaucous Pirri-pirri-bur","Rosaceae",null,7928,null,null,null,null,null,null,null,null,null,null,null,null,null,null,null,null,null,null,null,77,77,"Alnus glu","Alnus glutinosa",77,null,"Alnus glu"]
["",51,51,null,"glab",null,"","","",null,null,null,null,null,null,null,null,null,"","","","","","","","","","","","",null,"","","","","","","","","","","","",null,null,null,null,null,null,null,null,null,null,null,null,null,null,null,null,null,null,null,null,null,null,null,null,null,null,null,null,null,null,null,null,null,null,null,null,null,null,null,null,null,null,null,null,null,null,null,null,null,null,null,null,null,null,null,null,null,null,null,null,null,null,null,null,null,null,null,null,null,null,null,null,null,null,null,null,null,null,null,null,null,null,null,null,null,null,null,null,null,null,null,null,null,null,null,null,null,null,null,null,null,null,null,null,null,null,null,null,null,null,null,null,null,2530,"Acaena inermis","Hook.f.","Spineless Acaena","Rosaceae",null,2530,null,null,null,null,null,null,null,null,null,null,null,null,null,null,null,null,null,null,null,82,82,"Alope gen","Alopecurus geniculatus",82,null,"Alope gen"]
["",58,58,null,"*vul",null,"","","",null,null,null,null,null,null,null,null,null,"","","","","","","","","","","","",null,"","","","","","","","","","","","",null,null,null,null,null,null,null,null,null,null,null,null,null,null,null,null,null,null,null,null,null,null,null,null,null,null,null,null,null,null,null,null,null,null,null,null,null,null,null,null,null,null,null,null,null,null,null,null,null,null,null,null,null,null,null,null,null,null,null,null,null,null,null,null,null,null,null,null,null,null,null,null,null,null,null,null,null,null,null,null,null,null,null,null,null,null,null,null,null,null,null,null,null,null,null,null,null,null,null,null,null,null,null,null,null,null,null,null,null,null,null,null,null,2525,"Acaena magellanica","(Lam.) Vahl",null,"Rosaceae",null,2525,null,null,null,null,null,null,null,null,null,null,null,null,null,null,null,null,null,null,null,85,85,"pra","Alopecurus pratensis",85,null,"pra"]
["",60,60,null,"xan",null,"","","",null,null,null,null,null,null,null,null,null,"","","","","","","","","","","","",null,"","","","","","","","","","","","",null,null,null,null,null,null,null,null,null,null,null,null,null,null,null,null,null,null,null,null,null,null,null,null,null,null,null,null,null,null,null,null,null,null,null,null,null,null,null,null,null,null,null,null,null,null,null,null,null,null,null,null,null,null,null,null,null,null,null,null,null,null,null,null,null,null,null,null,null,null,null,null,null,null,null,null,null,null,null,null,null,null,null,null,null,null,null,null,null,null,null,null,null,null,null,null,null,null,null,null,null,null,null,null,null,null,null,null,null,null,null,null,null,2527,"Acaena novae-zelandiae","Kirk","Pirri-pirri-bur","Rosaceae",null,2527,null,null,null,null,null,null,null,null,null,null,null,null,null,null,null,null,null,null,null,99,99,"Anaga arv","Anagallis arvensis",99,null,"Anaga arv"]
["",63,63,null,"Alism pla",null,"","","",null,null,null,null,null,null,null,null,null,"","","","","","","","","","","","",null,"","","","","","","","","","","","",null,null,null,null,null,null,null,null,null,null,null,null,null,null,null,null,null,null,null,null,null,null,null,null,null,null,null,null,null,null,null,null,null,null,null,null,null,null,null,null,null,null,null,null,null,null,null,null,null,null,null,null,null,null,null,null,null,null,null,null,null,null,null,null,null,null,null,null,null,null,null,null,null,null,null,null,null,null,null,null,null,null,null,null,null,null,null,null,null,null,null,null,null,null,null,null,null,null,null,null,null,null,null,null,null,null,null,null,null,null,null,null,null,2526,"Acaena ovalifolia","Ruiz Lopez & Pavon","Two-spined Acaena","Rosaceae",null,2526,null,null,null,null,null,null,null,null,null,null,null,null,null,null,null,null,null,null,null,100,100,"ten","Anagallis tenella",100,null,"ten"]
["",64,64,null,"Allia pet",null,"","","",null,null,null,null,null,null,null,null,null,"","","","","","","","","","","","",null,"","","","","","","","","","","","",null,null,null,null,null,null,null,null,null,null,null,null,null,null,null,null,null,null,null,null,null,null,null,null,null,null,null,null,null,null,null,null,null,null,null,null,null,null,null,null,null,null,null,null,null,null,null,null,null,null,null,null,null,null,null,null,null,null,null,null,null,null,null,null,null,null,null,null,null,null,null,null,null,null,null,null,null,null,null,null,null,null,null,null,null,null,null,null,null,null,null,null,null,null,null,null,null,null,null,null,null,null,null,null,null,null,null,null,null,null,null,null,null,5705,"Acaena ovina","A. Cunn.","Sheep's-bur","Rosaceae",null,5705,null,null,null,null,null,null,null,null,null,null,null,null,null,null,null,null,null,null,null,103,103,"Andro pol","Andromeda polifolia",103,null,"Andro pol"]
["",71,71,null,"Alliu sco",null,"","","",null,null,null,null,null,null,null,null,null,"","","","","","","","","","","","",null,"","","","","","","","","","","","",null,null,null,null,null,null,null,null,null,null,null,null,null,null,null,null,null,null,null,null,null,null,null,null,null,null,null,null,null,null,null,null,null,null,null,null,null,null,null,null,null,null,null,null,null,null,null,null,null,null,null,null,null,null,null,null,null,null,null,null,null,null,null,null,null,null,null,null,null,null,null,null,null,null,null,null,null,null,null,null,null,null,null,null,null,null,null,null,null,null,null,null,null,null,null,null,null,null,null,null,null,null,null,null,null,null,null,null,null,null,null,null,null,"No BRC","Acaena sp.",null,null,"Rosaceae",null,"No BRC",null,null,null,null,null,null,null,null,null,null,null,null,null,null,null,null,null,null,null,105,105,"Anemo nem","Anemone nemorosa",105,null,"Anemo nem"]
["",75,75,null,"urs",null,"","","",null,null,null,null,null,null,null,null,null,"","","","","","","","","","","","",null,"","","","","","","","","","","","",null,null,null,null,null,null,null,null,null,null,null,null,null,null,null,null,null,null,null,null,null,null,null,null,null,null,null,null,null,null,null,null,null,null,null,null,null,null,null,null,null,null,null,null,null,null,null,null,null,null,null,null,null,null,null,null,null,null,null,null,null,null,null,null,null,null,null,null,null,null,null,null,null,null,null,null,null,null,null,null,null,null,null,null,null,null,null,null,null,null,null,null,null,null,null,null,null,null,null,null,null,null,null,null,null,null,null,null,null,null,null,null,null,5710,"Acanthospermum australe","(Loefl.) Kuntze","Spiny-bur","Asteraceae",null,5710,null,null,null,null,null,null,null,null,null,null,null,null,null,null,null,null,null,null,null,109,109,"Angel syl","Angelica sylvestris",109,null,"Angel syl"]
["",76,76,null,"vin",null,"","","",null,null,null,null,null,null,null,null,null,"","","","","","","","","","","","",null,"","","","","","","","","","","","",null,null,null,null,null,null,null,null,null,null,null,null,null,null,null,null,null,null,null,null,null,null,null,null,null,null,null,null,null,null,null,null,null,null,null,null,null,null,null,null,null,null,null,null,null,null,null,null,null,null,null,null,null,null,null,null,null,null,null,null,null,null,null,null,null,null,null,null,null,null,null,null,null,null,null,null,null,null,null,null,null,null,null,null,null,null,null,null,null,null,null,null,null,null,null,null,null,null,null,null,null,null,null,null,null,null,null,null,null,null,null,null,null,2,"Acanthus mollis","Linnaeus","Bear's-breech","Acanthaceae",null,2,null,null,null,null,null,null,null,null,null,null,null,null,null,null,null,null,null,null,null,113,113,"Anisa ste","Anisantha sterilis",113,null,"Anisa ste"]
["",77,77,null,"Alnus glu",null,"","","",null,null,null,null,null,null,null,null,null,"","","","","","","","","","","","",null,"","","","","","","","","","","","",null,null,null,null,null,null,null,null,null,null,null,null,null,null,null,null,null,null,null,null,null,null,null,null,null,null,null,null,null,null,null,null,null,null,null,null,null,null,null,null,null,null,null,null,null,null,null,null,null,null,null,null,null,null,null,null,null,null,null,null,null,null,null,null,null,null,null,null,null,null,null,null,null,null,null,null,null,null,null,null,null,null,null,null,null,null,null,null,null,null,null,null,null,null,null,null,null,null,null,null,null,null,null,null,null,null,null,null,null,null,null,null,null,7131,"Acanthus spinosus","Linnaeus","Spiny Bear's-breech","Acanthaceae",null,7131,null,null,null,null,null,null,null,null,null,null,null,null,null,null,null,null,null,null,null,116,116,"Anten dio","Antennaria dioica",116,null,"Anten dio"]
["",82,82,null,"Alope gen",null,"","","",null,null,null,null,null,null,null,null,null,"","","","","","","","","","","","",null,"","","","","","","","","","","","",null,null,null,null,null,null,null,null,null,null,null,null,null,null,null,null,null,null,null,null,null,null,null,null,null,null,null,null,null,null,null,null,null,null,null,null,null,null,null,null,null,null,null,null,null,null,null,null,null,null,null,null,null,null,null,null,null,null,null,null,null,null,null,null,null,null,null,null,null,null,null,null,null,null,null,null,null,null,null,null,null,null,null,null,null,null,null,null,null,null,null,null,null,null,null,null,null,null,null,null,null,null,null,null,null,null,null,null,null,null,null,null,null,3,"Acer campestre","Linnaeus","Field Maple","Aceraceae",null,3,null,null,null,null,null,null,null,null,null,null,null,null,null,null,null,null,null,null,null,121,121,"Antho odo","Anthoxanthum odoratum",121,null,"Antho odo"]
["",85,85,null,"pra",null,"","","",null,null,null,null,null,null,null,null,null,"","","","","","","","","","","","",null,"","","","","","","","","","","","",null,null,null,null,null,null,null,null,null,null,null,null,null,null,null,null,null,null,null,null,null,null,null,null,null,null,null,null,null,null,null,null,null,null,null,null,null,null,null,null,null,null,null,null,null,null,null,null,null,null,null,null,null,null,null,null,null,null,null,null,null,null,null,null,null,null,null,null,null,null,null,null,null,null,null,null,null,null,null,null,null,null,null,null,null,null,null,null,null,null,null,null,null,null,null,null,null,null,null,null,null,null,null,null,null,null,null,null,null,null,null,null,null,7132,"Acer cappadocicum","Gled.","Cappadocian Maple","Aceraceae",null,7132,null,null,null,null,null,null,null,null,null,null,null,null,null,null,null,null,null,null,null,125,125,"Anthr syl","Anthriscus sylvestris",125,null,"Anthr syl"]
["",99,99,null,"Anaga arv",null,"","","",null,null,null,null,null,null,null,null,null,"","","","","","","","","","","","",null,"","","","","","","","","","","","",null,null,null,null,null,null,null,null,null,null,null,null,null,null,null,null,null,null,null,null,null,null,null,null,null,null,null,null,null,null,null,null,null,null,null,null,null,null,null,null,null,null,null,null,null,null,null,null,null,null,null,null,null,null,null,null,null,null,null,null,null,null,null,null,null,null,null,null,null,null,null,null,null,null,null,null,null,null,null,null,null,null,null,null,null,null,null,null,null,null,null,null,null,null,null,null,null,null,null,null,null,null,null,null,null,null,null,null,null,null,null,null,null,5712,"Acer heldreichii","Orph. ex Boiss.","Heldrich's Maple","Aceraceae",null,5712,null,null,null,null,null,null,null,null,null,null,null,null,null,null,null,null,null,null,null,126,126,"Anthy vul","Anthyllis vulneraria",126,null,"Anthy vul"]
["",100,100,null,"ten",null,"","","",null,null,null,null,null,null,null,null,null,"","","","","","","","","","","","",null,"","","","","","","","","","","","",null,null,null,null,null,null,null,null,null,null,null,null,null,null,null,null,null,null,null,null,null,null,null,null,null,null,null,null,null,null,null,null,null,null,null,null,null,null,null,null,null,null,null,null,null,null,null,null,null,null,null,null,null,null,null,null,null,null,null,null,null,null,null,null,null,null,null,null,null,null,null,null,null,null,null,null,null,null,null,null,null,null,null,null,null,null,null,null,null,null,null,null,null,null,null,null,null,null,null,null,null,null,null,null,null,null,null,null,null,null,null,null,null,4134,"Acer japonicum","Thunb.","Downy Japanese-maple","Aceraceae",null,4134,null,null,null,null,null,null,null,null,null,null,null,null,null,null,null,null,null,null,null,131,131,"Aphan*agg","Aphanes arvensis agg.",131,null,"Aphan*agg"]
["",103,103,null,"Andro pol",null,"","","",null,null,null,null,null,null,null,null,null,"","","","","","","","","","","","",null,"","","","","","","","","","","","",null,null,null,null,null,null,null,null,null,null,null,null,null,null,null,null,null,null,null,null,null,null,null,null,null,null,null,null,null,null,null,null,null,null,null,null,null,null,null,null,null,null,null,null,null,null,null,null,null,null,null,null,null,null,null,null,null,null,null,null,null,null,null,null,null,null,null,null,null,null,null,null,null,null,null,null,null,null,null,null,null,null,null,null,null,null,null,null,null,null,null,null,null,null,null,null,null,null,null,null,null,null,null,null,null,null,null,null,null,null,null,null,null,4085,"Acer macrophyllum","Pursh","Oregon Maple","Aceraceae",null,4085,null,null,null,null,null,null,null,null,null,null,null,null,null,null,null,null,null,null,null,132,132,"arv","Aphanes arvensis",132,null,"arv"]
["",105,105,null,"Anemo nem",null,"","","",null,null,null,null,null,null,null,null,null,"","","","","","","","","","","","",null,"","","","","","","","","","","","",null,null,null,null,null,null,null,null,null,null,null,null,null,null,null,null,null,null,null,null,null,null,null,null,null,null,null,null,null,null,null,null,null,null,null,null,null,null,null,null,null,null,null,null,null,null,null,null,null,null,null,null,null,null,null,null,null,null,null,null,null,null,null,null,null,null,null,null,null,null,null,null,null,null,null,null,null,null,null,null,null,null,null,null,null,null,null,null,null,null,null,null,null,null,null,null,null,null,null,null,null,null,null,null,null,null,null,null,null,null,null,null,null,7929,"Acer mono","Maxim.",null,"Aceraceae",null,7929,null,null,null,null,null,null,null,null,null,null,null,null,null,null,null,null,null,null,null,133,133,"aus","Aphanes australis",133,null,"aus"]
["",109,109,null,"Angel syl",null,"","","",null,null,null,null,null,null,null,null,null,"","","","","","","","","","","","",null,"","","","","","","","","","","","",null,null,null,null,null,null,null,null,null,null,null,null,null,null,null,null,null,null,null,null,null,null,null,null,null,null,null,null,null,null,null,null,null,null,null,null,null,null,null,null,null,null,null,null,null,null,null,null,null,null,null,null,null,null,null,null,null,null,null,null,null,null,null,null,null,null,null,null,null,null,null,null,null,null,null,null,null,null,null,null,null,null,null,null,null,null,null,null,null,null,null,null,null,null,null,null,null,null,null,null,null,null,null,null,null,null,null,null,null,null,null,null,null,5713,"Acer monspessulanum","L.","Montpellier Maple","Aceraceae",null,5713,null,null,null,null,null,null,null,null,null,null,null,null,null,null,null,null,null,null,null,135,135,"Apium inu","Apium inundatum",135,null,"Apium inu"]
["",113,113,null,"Anisa ste",null,"","","",null,null,null,null,null,null,null,null,null,"","","","","","","","","","","","",null,"","","","","","","","","","","","",null,null,null,null,null,null,null,null,null,null,null,null,null,null,null,null,null,null,null,null,null,null,null,null,null,null,null,null,null,null,null,null,null,null,null,null,null,null,null,null,null,null,null,null,null,null,null,null,null,null,null,null,null,null,null,null,null,null,null,null,null,null,null,null,null,null,null,null,null,null,null,null,null,null,null,null,null,null,null,null,null,null,null,null,null,null,null,null,null,null,null,null,null,null,null,null,null,null,null,null,null,null,null,null,null,null,null,null,null,null,null,null,null,7133,"Acer negundo","Linnaeus","Ashleaf Maple","Aceraceae",null,7133,null,null,null,null,null,null,null,null,null,null,null,null,null,null,null,null,null,null,null,137,137,"nod","Apium nodiflorum",137,null,"nod"]
["",116,116,null,"Anten dio",null,"","","",null,null,null,null,null,null,null,null,null,"","","","","","","","","","","","",null,"","","","","","","","","","","","",null,null,null,null,null,null,null,null,null,null,null,null,null,null,null,null,null,null,null,null,null,null,null,null,null,null,null,null,null,null,null,null,null,null,null,null,null,null,null,null,null,null,null,null,null,null,null,null,null,null,null,null,null,null,null,null,null,null,null,null,null,null,null,null,null,null,null,null,null,null,null,null,null,null,null,null,null,null,null,null,null,null,null,null,null,null,null,null,null,null,null,null,null,null,null,null,null,null,null,null,null,null,null,null,null,null,null,null,null,null,null,null,null,4046,"Acer palmatum","Thunb.","Smooth Japanese-maple","Aceraceae",null,4046,null,null,null,null,null,null,null,null,null,null,null,null,null,null,null,null,null,null,null,141,141,"Aquil vul","Aquilegia vulgaris",141,null,"Aquil vul"]
["",121,121,null,"Antho odo",null,"","","",null,null,null,null,null,null,null,null,null,"","","","","","","","","","","","",null,"","","","","","","","","","","","",null,null,null,null,null,null,null,null,null,null,null,null,null,null,null,null,null,null,null,null,null,null,null,null,null,null,null,null,null,null,null,null,null,null,null,null,null,null,null,null,null,null,null,null,null,null,null,null,null,null,null,null,null,null,null,null,null,null,null,null,null,null,null,null,null,null,null,null,null,null,null,null,null,null,null,null,null,null,null,null,null,null,null,null,null,null,null,null,null,null,null,null,null,null,null,null,null,null,null,null,null,null,null,null,null,null,null,null,null,null,null,null,null,4,"Acer platanoides","Linnaeus","Norway Maple","Aceraceae",null,4,null,null,null,null,null,null,null,null,null,null,null,null,null,null,null,null,null,null,null,142,142,"Arabid tha","Arabidopsis thaliana",142,null,"Arabid tha"]
["",125,125,null,"Anthr syl",null,"","","",null,null,null,null,null,null,null,null,null,"","","","","","","","","","","","",null,"","","","","","","","","","","","",null,null,null,null,null,null,null,null,null,null,null,null,null,null,null,null,null,null,null,null,null,null,null,null,null,null,null,null,null,null,null,null,null,null,null,null,null,null,null,null,null,null,null,null,null,null,null,null,null,null,null,null,null,null,null,null,null,null,null,null,null,null,null,null,null,null,null,null,null,null,null,null,null,null,null,null,null,null,null,null,null,null,null,null,null,null,null,null,null,null,null,null,null,null,null,null,null,null,null,null,null,null,null,null,null,null,null,null,null,null,null,null,null,5,"Acer pseudoplatanus","Linnaeus","Sycamore","Aceraceae",null,5,null,null,null,null,null,null,null,null,null,null,null,null,null,null,null,null,null,null,null,146,146,"Arabis hir","Arabis hirsuta",146,null,"Arabis hir"]
["",126,126,null,"Anthy vul",null,"","","",null,null,null,null,null,null,null,null,null,"","","","","","","","","","","","",null,"","","","","","","","","","","","",null,null,null,null,null,null,null,null,null,null,null,null,null,null,null,null,null,null,null,null,null,null,null,null,null,null,null,null,null,null,null,null,null,null,null,null,null,null,null,null,null,null,null,null,null,null,null,null,null,null,null,null,null,null,null,null,null,null,null,null,null,null,null,null,null,null,null,null,null,null,null,null,null,null,null,null,null,null,null,null,null,null,null,null,null,null,null,null,null,null,null,null,null,null,null,null,null,null,null,null,null,null,null,null,null,null,null,null,null,null,null,null,null,5714,"Acer rubrum","L.","Red Maple","Aceraceae",null,5714,null,null,null,null,null,null,null,null,null,null,null,null,null,null,null,null,null,null,null,150,150,"Arcti*min","Arctium sp.",150,null,"Arcti*min"]
["",132,131,null,"Aphan*agg",null,"","","",null,null,null,null,null,null,null,null,null,"","","","","","","","","","","","",null,"","","","","","","","","","","","",null,null,null,null,null,null,null,null,null,null,null,null,null,null,null,null,null,null,null,null,null,null,null,null,null,null,null,null,null,null,null,null,null,null,null,null,null,null,null,null,null,null,null,null,null,null,null,null,null,null,null,null,null,null,null,null,null,null,null,null,null,null,null,null,null,null,null,null,null,null,null,null,null,null,null,null,null,null,null,null,null,null,null,null,null,null,null,null,null,null,null,null,null,null,null,null,null,null,null,null,null,null,null,null,null,null,null,null,null,null,null,null,null,5715,"Acer rufinerve","Siebold & Zucc.","Grey-budded Snake-bark-maple","Aceraceae",null,5715,null,null,null,null,null,null,null,null,null,null,null,null,null,null,null,null,null,null,null,162,162,"Arena ser","Arenaria serpyllifolia",162,null,"Arena ser"]
["",131,132,null,"arv",null,"","","",null,null,null,null,null,null,null,null,null,"","","","","","","","","","","","",null,"","","","","","","","","","","","",null,null,null,null,null,null,null,null,null,null,null,null,null,null,null,null,null,null,null,null,null,null,null,null,null,null,null,null,null,null,null,null,null,null,null,null,null,null,null,null,null,null,null,null,null,null,null,null,null,null,null,null,null,null,null,null,null,null,null,null,null,null,null,null,null,null,null,null,null,null,null,null,null,null,null,null,null,null,null,null,null,null,null,null,null,null,null,null,null,null,null,null,null,null,null,null,null,null,null,null,null,null,null,null,null,null,null,null,null,null,null,null,null,5387,"Acer saccharinum","Linnaeus","Silver Maple","Aceraceae",null,5387,null,null,null,null,null,null,null,null,null,null,null,null,null,null,null,null,null,null,null,162.19999999999999,162.19999999999999,"ser ser","Arenaria serpyllifolia subsp. serpyllifolia",162.19999999999999,null,"ser ser"]
["",133,133,null,"aus",null,"","","",null,null,null,null,null,null,null,null,null,"","","","","","","","","","","","",null,"","","","","","","","","","","","",null,null,null,null,null,null,null,null,null,null,null,null,null,null,null,null,null,null,null,null,null,null,null,null,null,null,null,null,null,null,null,null,null,null,null,null,null,null,null,null,null,null,null,null,null,null,null,null,null,null,null,null,null,null,null,null,null,null,null,null,null,null,null,null,null,null,null,null,null,null,null,null,null,null,null,null,null,null,null,null,null,null,null,null,null,null,null,null,null,null,null,null,null,null,null,null,null,null,null,null,null,null,null,null,null,null,null,null,null,null,null,null,null,5716,"Acer saccharum","Marshall","Sugar Maple","Aceraceae",null,5716,null,null,null,null,null,null,null,null,null,null,null,null,null,null,null,null,null,null,null,166,166,"Armer mar","Armeria maritima",166,null,"Armer mar"]
["",135,135,null,"Apium inu",null,"","","",null,null,null,null,null,null,null,null,null,"","","","","","","","","","","","",null,"","","","","","","","","","","","",null,null,null,null,null,null,null,null,null,null,null,null,null,null,null,null,null,null,null,null,null,null,null,null,null,null,null,null,null,null,null,null,null,null,null,null,null,null,null,null,null,null,null,null,null,null,null,null,null,null,null,null,null,null,null,null,null,null,null,null,null,null,null,null,null,null,null,null,null,null,null,null,null,null,null,null,null,null,null,null,null,null,null,null,null,null,null,null,null,null,null,null,null,null,null,null,null,null,null,null,null,null,null,null,null,null,null,null,null,null,null,null,null,"No BRC","Acer sp.",null,"a maple","Aceraceae",null,"No BRC",null,null,null,null,null,null,null,null,null,null,null,null,null,null,null,null,null,null,null,167,167,"Armor rus","Armoracia rusticana",167,null,"Armor rus"]
["",137,137,null,"nod",null,"","","",null,null,null,null,null,null,null,null,null,"","","","","","","","","","","","",null,"","","","","","","","","","","","",null,null,null,null,null,null,null,null,null,null,null,null,null,null,null,null,null,null,null,null,null,null,null,null,null,null,null,null,null,null,null,null,null,null,null,null,null,null,null,null,null,null,null,null,null,null,null,null,null,null,null,null,null,null,null,null,null,null,null,null,null,null,null,null,null,null,null,null,null,null,null,null,null,null,null,null,null,null,null,null,null,null,null,null,null,null,null,null,null,null,null,null,null,null,null,null,null,null,null,null,null,null,null,null,null,null,null,null,null,null,null,null,null,7930,"Acer tataricum","Linnaeus","Tartar Maple","Aceraceae",null,7930,null,null,null,null,null,null,null,null,null,null,null,null,null,null,null,null,null,null,null,169,169,"Arrhe ela","Arrhenatherum elatius",169,null,"Arrhe ela"]
["",137,141,null,"Aquil vul",null,"","","",null,null,null,null,null,null,null,null,null,"","","","","","","","","","","","",null,"","","","","","","","","","","","",null,null,null,null,null,null,null,null,null,null,null,null,null,null,null,null,null,null,null,null,null,null,null,null,null,null,null,null,null,null,null,null,null,null,null,null,null,null,null,null,null,null,null,null,null,null,null,null,null,null,null,null,null,null,null,null,null,null,null,null,null,null,null,null,null,null,null,null,null,null,null,null,null,null,null,null,null,null,null,null,null,null,null,null,null,null,null,null,null,null,null,null,null,null,null,null,null,null,null,null,null,null,null,null,null,null,null,null,null,null,null,null,null,5717,"Acer truncatum","Bunge","Shantung Maple","Aceraceae",null,5717,null,null,null,null,null,null,null,null,null,null,null,null,null,null,null,null,null,null,null,175,175,"Artem vul","Artemisia vulgaris",175,null,"Artem vul"]
["",141,142,null,"Arabid tha",null,"","","",null,null,null,null,null,null,null,null,null,"","","","","","","","","","","","",null,"","","","","","","","","","","","",null,null,null,null,null,null,null,null,null,null,null,null,null,null,null,null,null,null,null,null,null,null,null,null,null,null,null,null,null,null,null,null,null,null,null,null,null,null,null,null,null,null,null,null,null,null,null,null,null,null,null,null,null,null,null,null,null,null,null,null,null,null,null,null,null,null,null,null,null,null,null,null,null,null,null,null,null,null,null,null,null,null,null,null,null,null,null,null,null,null,null,null,null,null,null,null,null,null,null,null,null,null,null,null,null,null,null,null,null,null,null,null,null,4074,"Achillea ageratum","L.","Sweet Yarrow","Asteraceae",null,4074,null,null,null,null,null,null,null,null,null,null,null,null,null,null,null,null,null,null,null,176,176,"Arum mac","Arum maculatum",176,null,"Arum mac"]
["",142,146,null,"Arabis hir",null,"","","",null,null,null,null,null,null,null,null,null,"","","","","","","","","","","","",null,"","","","","","","","","","","","",null,null,null,null,null,null,null,null,null,null,null,null,null,null,null,null,null,null,null,null,null,null,null,null,null,null,null,null,null,null,null,null,null,null,null,null,null,null,null,null,null,null,null,null,null,null,null,null,null,null,null,null,null,null,null,null,null,null,null,null,null,null,null,null,null,null,null,null,null,null,null,null,null,null,null,null,null,null,null,null,null,null,null,null,null,null,null,null,null,null,null,null,null,null,null,null,null,null,null,null,null,null,null,null,null,null,null,null,null,null,null,null,null,5721,"Achillea cretica","L.","Chamomile-leaved Lavender-cotton","Asteraceae",null,5721,null,null,null,null,null,null,null,null,null,null,null,null,null,null,null,null,null,null,null,185.1,185.1,"Asple adi","Asplenium adiantum-nigrum",185.1,null,"Asple adi"]
["",146,150,null,"Arcti*min",null,"","","",null,null,null,null,null,null,null,null,null,"","","","","","","","","","","","",null,"","","","","","","","","","","","",null,null,null,null,null,null,null,null,null,null,null,null,null,null,null,null,null,null,null,null,null,null,null,null,null,null,null,null,null,null,null,null,null,null,null,null,null,null,null,null,null,null,null,null,null,null,null,null,null,null,null,null,null,null,null,null,null,null,null,null,null,null,null,null,null,null,null,null,null,null,null,null,null,null,null,null,null,null,null,null,null,null,null,null,null,null,null,null,null,null,null,null,null,null,null,null,null,null,null,null,null,null,null,null,null,null,null,null,null,null,null,null,null,5652,"Achillea decolorans","Schrad.","Serrated Yarrow","Asteraceae",null,5652,null,null,null,null,null,null,null,null,null,null,null,null,null,null,null,null,null,null,null,473,473,"cet","Asplenium ceterach",473,null,"cet"]
["","No BRC",162,null,"Arena ser",null,"","","",null,null,null,null,null,null,null,null,null,"","","","","","","","","","","","",null,"","","","","","","","","","","","",null,null,null,null,null,null,null,null,null,null,null,null,null,null,null,null,null,null,null,null,null,null,null,null,null,null,null,null,null,null,null,null,null,null,null,null,null,null,null,null,null,null,null,null,null,null,null,null,null,null,null,null,null,null,null,null,null,null,null,null,null,null,null,null,null,null,null,null,null,null,null,null,null,null,null,null,null,null,null,null,null,null,null,null,null,null,null,null,null,null,null,null,null,null,null,null,null,null,null,null,null,null,null,null,null,null,null,null,null,null,null,null,null,10,"Achillea distans","Waldst. & Kit. ex Willd.","Tall Yarrow","Asteraceae",null,10,null,null,null,null,null,null,null,null,null,null,null,null,null,null,null,null,null,null,null,192,192,"rut","Asplenium ruta-muraria",192,null,"rut"]
["",162,162.19999999999999,null,"ser ser",null,"","","",null,null,null,null,null,null,null,null,null,"","","","","","","","","","","","",null,"","","","","","","","","","","","",null,null,null,null,null,null,null,null,null,null,null,null,null,null,null,null,null,null,null,null,null,null,null,null,null,null,null,null,null,null,null,null,null,null,null,null,null,null,null,null,null,null,null,null,null,null,null,null,null,null,null,null,null,null,null,null,null,null,null,null,null,null,null,null,null,null,null,null,null,null,null,null,null,null,null,null,null,null,null,null,null,null,null,null,null,null,null,null,null,null,null,null,null,null,null,null,null,null,null,null,null,null,null,null,null,null,null,null,null,null,null,null,null,7931,"Achillea filipendulina","Lam.","Fern-leaf Yarrow","Asteraceae",null,7931,null,null,null,null,null,null,null,null,null,null,null,null,null,null,null,null,null,null,null,1466,1466,"sco","Asplenium scolopendrium",1466,null,"sco"]
["",162.19999999999999,166,null,"Armer mar",null,"","","",null,null,null,null,null,null,null,null,null,"","","","","","","","","","","","",null,"","","","","","","","","","","","",null,null,null,null,null,null,null,null,null,null,null,null,null,null,null,null,null,null,null,null,null,null,null,null,null,null,null,null,null,null,null,null,null,null,null,null,null,null,null,null,null,null,null,null,null,null,null,null,null,null,null,null,null,null,null,null,null,null,null,null,null,null,null,null,null,null,null,null,null,null,null,null,null,null,null,null,null,null,null,null,null,null,null,null,null,null,null,null,null,null,null,null,null,null,null,null,null,null,null,null,null,null,null,null,null,null,null,null,null,null,null,null,null,7932,"Achillea grandifolia","Friv.",null,"Asteraceae",null,7932,null,null,null,null,null,null,null,null,null,null,null,null,null,null,null,null,null,null,null,194,194,"tri","Asplenium trichomanes",194,null,"tri"]
["",166,167,null,"Armor rus",null,"","","",null,null,null,null,null,null,null,null,null,"","","","","","","","","","","","",null,"","","","","","","","","","","","",null,null,null,null,null,null,null,null,null,null,null,null,null,null,null,null,null,null,null,null,null,null,null,null,null,null,null,null,null,null,null,null,null,null,null,null,null,null,null,null,null,null,null,null,null,null,null,null,null,null,null,null,null,null,null,null,null,null,null,null,null,null,null,null,null,null,null,null,null,null,null,null,null,null,null,null,null,null,null,null,null,null,null,null,null,null,null,null,null,null,null,null,null,null,null,null,null,null,null,null,null,null,null,null,null,null,null,null,null,null,null,null,null,7134,"Achillea ligustica","All.","Southern Yarrow","Asteraceae",null,7134,null,null,null,null,null,null,null,null,null,null,null,null,null,null,null,null,null,null,null,195,195,"vir","Asplenium viride",195,null,"vir"]
["",167,169,null,"Arrhe ela",null,"","","",null,null,null,null,null,null,null,null,null,"","","","","","","","","","","","",null,"","","","","","","","","","","","",null,null,null,null,null,null,null,null,null,null,null,null,null,null,null,null,null,null,null,null,null,null,null,null,null,null,null,null,null,null,null,null,null,null,null,null,null,null,null,null,null,null,null,null,null,null,null,null,null,null,null,null,null,null,null,null,null,null,null,null,null,null,null,null,null,null,null,null,null,null,null,null,null,null,null,null,null,null,null,null,null,null,null,null,null,null,null,null,null,null,null,null,null,null,null,null,null,null,null,null,null,null,null,null,null,null,null,null,null,null,null,null,null,1412,"Achillea maritima","(L.) Ehrhend. & Y.P. Guo","Cottonweed","Asteraceae","Extinct",1412,null,null,null,null,null,null,null,null,null,null,null,null,null,null,null,null,null,null,null,211,211,"Athyr fil","Athyrium filix-femina",211,null,"Athyr fil"]
["",169,175,null,"Artem vul",null,"","","",null,null,null,null,null,null,null,null,null,"","","","","","","","","","","","",null,"","","","","","","","","","","","",null,null,null,null,null,null,null,null,null,null,null,null,null,null,null,null,null,null,null,null,null,null,null,null,null,null,null,null,null,null,null,null,null,null,null,null,null,null,null,null,null,null,null,null,null,null,null,null,null,null,null,null,null,null,null,null,null,null,null,null,null,null,null,null,null,null,null,null,null,null,null,null,null,null,null,null,null,null,null,null,null,null,null,null,null,null,null,null,null,null,null,null,null,null,null,null,null,null,null,null,null,null,null,null,null,null,null,null,null,null,null,null,null,7,"Achillea millefolium","Linnaeus","Yarrow","Asteraceae",null,7,null,null,null,null,null,null,null,null,null,null,null,null,null,null,null,null,null,null,null,218,218,"Atrip pat","Atriplex patula",218,null,"Atrip pat"]
["",175,176,null,"Arum mac",null,"","","",null,null,null,null,null,null,null,null,null,"","","","","","","","","","","","",null,"","","","","","","","","","","","",null,null,null,null,null,null,null,null,null,null,null,null,null,null,null,null,null,null,null,null,null,null,null,null,null,null,null,null,null,null,null,null,null,null,null,null,null,null,null,null,null,null,null,null,null,null,null,null,null,null,null,null,null,null,null,null,null,null,null,null,null,null,null,null,null,null,null,null,null,null,null,null,null,null,null,null,null,null,null,null,null,null,null,null,null,null,null,null,null,null,null,null,null,null,null,null,null,null,null,null,null,null,null,null,null,null,null,null,null,null,null,null,null,8,"Achillea nobilis","Linnaeus",null,"Asteraceae",null,8,null,null,null,null,null,null,null,null,null,null,null,null,null,null,null,null,null,null,null,214,214,"pro","Atriplex prostrata",214,null,"pro"]
["",176,185.1,null,"Asple adi",null,"","","",null,null,null,null,null,null,null,null,null,"","","","","","","","","","","","",null,"","","","","","","","","","","","",null,null,null,null,null,null,null,null,null,null,null,null,null,null,null,null,null,null,null,null,null,null,null,null,null,null,null,null,null,null,null,null,null,null,null,null,null,null,null,null,null,null,null,null,null,null,null,null,null,null,null,null,null,null,null,null,null,null,null,null,null,null,null,null,null,null,null,null,null,null,null,null,null,null,null,null,null,null,null,null,null,null,null,null,null,null,null,null,null,null,null,null,null,null,null,null,null,null,null,null,null,null,null,null,null,null,null,null,null,null,null,null,null,9,"Achillea ptarmica","Linnaeus","Sneezewort","Asteraceae",null,9,null,null,null,null,null,null,null,null,null,null,null,null,null,null,null,null,null,null,null,961,961,"Avenu pra","Avenula pratensis",961,null,"Avenu pra"]
["",185.1,473,null,"cet",null,"","","",null,null,null,null,null,null,null,null,null,"","","","","","","","","","","","",null,"","","","","","","","","","","","",null,null,null,null,null,null,null,null,null,null,null,null,null,null,null,null,null,null,null,null,null,null,null,null,null,null,null,null,null,null,null,null,null,null,null,null,null,null,null,null,null,null,null,null,null,null,null,null,null,null,null,null,null,null,null,null,null,null,null,null,null,null,null,null,null,null,null,null,null,null,null,null,null,null,null,null,null,null,null,null,null,null,null,null,null,null,null,null,null,null,null,null,null,null,null,null,null,null,null,null,null,null,null,null,null,null,null,null,null,null,null,null,null,11,"Achillea tomentosa","Linnaeus","Yellow Milfoil","Asteraceae",null,11,null,null,null,null,null,null,null,null,null,null,null,null,null,null,null,null,null,null,null,962,962,"pub","Avenula pubescens",962,null,"pub"]
["",473,192,null,"rut",null,"","","",null,null,null,null,null,null,null,null,null,"","","","","","","","","","","","",null,"","","","","","","","","","","","",null,null,null,null,null,null,null,null,null,null,null,null,null,null,null,null,null,null,null,null,null,null,null,null,null,null,null,null,null,null,null,null,null,null,null,null,null,null,null,null,null,null,null,null,null,null,null,null,null,null,null,null,null,null,null,null,null,null,null,null,null,null,null,null,null,null,null,null,null,null,null,null,null,null,null,null,null,null,null,null,null,null,null,null,null,null,null,null,null,null,null,null,null,null,null,null,null,null,null,null,null,null,null,null,null,null,null,null,null,null,null,null,null,5726,"Achyranthes aspera","L.","Chaff-flower","Amaranthaceae",null,5726,null,null,null,null,null,null,null,null,null,null,null,null,null,null,null,null,null,null,null,229,229,"Barba vul","Barbarea vulgaris",229,null,"Barba vul"]
["",192,1466,null,"sco",null,"","","",null,null,null,null,null,null,null,null,null,"","","","","","","","","","","","",null,"","","","","","","","","","","","",null,null,null,null,null,null,null,null,null,null,null,null,null,null,null,null,null,null,null,null,null,null,null,null,null,null,null,null,null,null,null,null,null,null,null,null,null,null,null,null,null,null,null,null,null,null,null,null,null,null,null,null,null,null,null,null,null,null,null,null,null,null,null,null,null,null,null,null,null,null,null,null,null,null,null,null,null,null,null,null,null,null,null,null,null,null,null,null,null,null,null,null,null,null,null,null,null,null,null,null,null,null,null,null,null,null,null,null,null,null,null,null,null,5727,"Aconitum angustifolium","Bernh.","Narrow-leaved Monk's-hood","Ranunculaceae",null,5727,null,null,null,null,null,null,null,null,null,null,null,null,null,null,null,null,null,null,null,231,231,"Belli per","Bellis perennis",231,null,"Belli per"]
["",1466,194,null,"tri",null,"","","",null,null,null,null,null,null,null,null,null,"","","","","","","","","","","","",null,"","","","","","","","","","","","",null,null,null,null,null,null,null,null,null,null,null,null,null,null,null,null,null,null,null,null,null,null,null,null,null,null,null,null,null,null,null,null,null,null,null,null,null,null,null,null,null,null,null,null,null,null,null,null,null,null,null,null,null,null,null,null,null,null,null,null,null,null,null,null,null,null,null,null,null,null,null,null,null,null,null,null,null,null,null,null,null,null,null,null,null,null,null,null,null,null,null,null,null,null,null,null,null,null,null,null,null,null,null,null,null,null,null,null,null,null,null,null,null,5728,"Aconitum carmichaelii","Debeaux","Carmichael's Monk's-hood","Ranunculaceae",null,5728,null,null,null,null,null,null,null,null,null,null,null,null,null,null,null,null,null,null,null,232,232,"Berbe vul","Berberis vulgaris",232,null,"Berbe vul"]
["",194,195,null,"vir",null,"","","",null,null,null,null,null,null,null,null,null,"","","","","","","","","","","","",null,"","","","","","","","","","","","",null,null,null,null,null,null,null,null,null,null,null,null,null,null,null,null,null,null,null,null,null,null,null,null,null,null,null,null,null,null,null,null,null,null,null,null,null,null,null,null,null,null,null,null,null,null,null,null,null,null,null,null,null,null,null,null,null,null,null,null,null,null,null,null,null,null,null,null,null,null,null,null,null,null,null,null,null,null,null,null,null,null,null,null,null,null,null,null,null,null,null,null,null,null,null,null,null,null,null,null,null,null,null,null,null,null,null,null,null,null,null,null,null,7933,"Aconitum compactum","(Reichb.) Gayer",null,"Ranunculaceae",null,7933,null,null,null,null,null,null,null,null,null,null,null,null,null,null,null,null,null,null,null,237,237,"Beton off","Betonica officinalis",237,null,"Beton off"]
[{"$f":"IF(D75=\"\",\"\",ROW())","v":""},195,211,null,"Athyr fil",null,"","",{"$f":"IF(ISBLANK(D75),\"\",IF(ISBLANK(VLOOKUP(H75,FB66:FG7179,3,FALSE)),\"\",VLOOKUP(H75,FB66:FG7179,3,FALSE)))","v":""},null,null,null,null,null,null,null,null,null,"","","","","","","","","","","","",null,"","","","","","","","","","","","",null,null,null,null,null,null,null,null,null,null,null,null,null,null,null,null,null,null,null,null,null,null,null,null,null,null,null,null,null,null,null,null,null,null,null,null,null,null,null,null,null,null,null,null,null,null,null,null,null,null,null,null,null,null,null,null,null,null,null,null,null,null,null,null,null,null,null,null,null,null,null,null,null,null,null,null,null,null,null,null,null,null,null,null,null,null,null,null,null,null,null,null,null,null,null,null,null,null,null,null,null,null,null,null,null,null,null,null,null,null,null,null,null,7135,"Aconitum lycoctonum","(Richb.) Nyman","Wolf's-bane","Ranunculaceae",null,7135,null,null,null,null,null,null,null,null,null,null,null,null,null,null,null,null,null,null,null,239,239,"Betul pen","Betula pendula",239,null,"Betul pen"]
["",211,218,null,"Atrip pat",null,{"$f":"IF(ISBLANK(D76),\"\",VLOOKUP(H76,$FB$2:$FG$7115,6,FALSE))","v":""},{"$f":"IF(ISBLANK(D76),\"\",VLOOKUP(C76,$GB$2:$GD$683,3,FALSE))","v":""},"",null,null,null,null,null,null,null,null,null,{"$f":"IF(LEN($H76)<1,\"\",G76)","v":""},{"$f":"IF(LEN($H76)<1,\"\",H76)","v":""},{"$f":"IF(LEN($H76)<1,\"\",I76)","v":""},{"$f":"IF(LEN($H76)<1,\"\",IF(ISBLANK($H$2),\"\",$H$2))","v":""},{"$f":"IF(LEN($H76)<1,\"\",IF(ISTEXT(J76),J76,IF(ISTEXT($H$3),$H$3,\"NO Grid Ref!!\")))","v":""},{"$f":"IF(LEN($H76)<1,\"\",IF(ISBLANK($H$4),\"NO VC!!\",$H$4))","v":""},{"$f":"IF(LEN($H76)<1,\"\",IF(ISBLANK($H$5),\"NO Date!!\",$H$5))","v":""},{"$f":"IF(LEN($H76)<1,\"\",IF(ISBLANK($H$6),\"NO Recorder!!\",$H$6))","v":""},{"$f":"IF(LEN($H76)<1,\"\",IF(ISTEXT(K76),K76,IF(ISTEXT($H$6),$H$6,\"NO Determiner!!\")))","v":""},{"$f":"IF(LEN($H76)<1,\"\",IF(ISTEXT(L76),L76,IF(ISTEXT($H$7),$H$7,\"Field record / observation\")))","v":""},{"$f":"IF(LEN($H76)<1,\"\",IF(LEN(M76)<1,\"Not Recorded\",M76))","v":""},{"$f":"IF(LEN($H76)<1,\"\",IF(LEN(N76)<1,\"  --\",N76))","v":""},null,{"$f":"IF(ROW($A76)-ROW($A$11)+1>COUNT($A$11:$A$707),\"\",INDEX(S:S,SMALL($A$11:$A$707,1+ROW($A76)-ROW($A$11))))","v":""},{"$f":"IF(ROW($A76)-ROW($A$11)+1>COUNT($A$11:$A$707),\"\",INDEX(T:T,SMALL($A$11:$A$707,1+ROW($A76)-ROW($A$11))))","v":""},{"$f":"IF(ROW($A76)-ROW($A$11)+1>COUNT($A$11:$A$707),\"\",INDEX(U:U,SMALL($A$11:$A$707,1+ROW($A76)-ROW($A$11))))","v":""},{"$f":"IF(ROW($A76)-ROW($A$11)+1>COUNT($A$11:$A$707),\"\",INDEX(V:V,SMALL($A$11:$A$707,1+ROW($A76)-ROW($A$11))))","v":""},{"$f":"IF(ROW($A76)-ROW($A$11)+1>COUNT($A$11:$A$707),\"\",INDEX(W:W,SMALL($A$11:$A$707,1+ROW($A76)-ROW($A$11))))","v":""},{"$f":"IF(ROW($A76)-ROW($A$11)+1>COUNT($A$11:$A$707),\"\",INDEX(X:X,SMALL($A$11:$A$707,1+ROW($A76)-ROW($A$11))))","v":""},{"$f":"IF(ROW($A76)-ROW($A$11)+1>COUNT($A$11:$A$707),\"\",INDEX(Y:Y,SMALL($A$11:$A$707,1+ROW($A76)-ROW($A$11))))","v":""},{"$f":"IF(ROW($A76)-ROW($A$11)+1>COUNT($A$11:$A$707),\"\",INDEX(Z:Z,SMALL($A$11:$A$707,1+ROW($A76)-ROW($A$11))))","v":""},{"$f":"IF(ROW($A76)-ROW($A$11)+1>COUNT($A$11:$A$707),\"\",INDEX(AA:AA,SMALL($A$11:$A$707,1+ROW($A76)-ROW($A$11))))","v":""},{"$f":"IF(ROW($A76)-ROW($A$11)+1>COUNT($A$11:$A$707),\"\",INDEX(AB:AB,SMALL($A$11:$A$707,1+ROW($A76)-ROW($A$11))))","v":""},{"$f":"IF(ROW($A76)-ROW($A$11)+1>COUNT($A$11:$A$707),\"\",INDEX(AC:AC,SMALL($A$11:$A$707,1+ROW($A76)-ROW($A$11))))","v":""},{"$f":"IF(ROW($A76)-ROW($A$11)+1>COUNT($A$11:$A$707),\"\",INDEX(AD:AD,SMALL($A$11:$A$707,1+ROW($A76)-ROW($A$11))))","v":""},null,null,null,null,null,null,null,null,null,null,null,null,null,null,null,null,null,null,null,null,null,null,null,null,null,null,null,null,null,null,null,null,null,null,null,null,null,null,null,null,null,null,null,null,null,null,null,null,null,null,null,null,null,null,null,null,null,null,null,null,null,null,null,null,null,null,null,null,null,null,null,null,null,null,null,null,null,null,null,null,null,null,null,null,null,null,null,null,null,null,null,null,null,null,null,null,null,null,null,null,null,null,null,null,null,null,null,null,null,null,null,null,null,14,"Aconitum napellus","L.","Monk's-hood","Ranunculaceae",null,14,null,null,null,null,null,null,null,null,null,null,null,null,null,null,null,null,null,null,null,240,240,"pub","Betula pubescens",240,null,"pub"]
["",218,214,null,"pro",null,"","","",null,null,null,null,null,null,null,null,null,"","","","","","","","","","","","",null,"","","","","","","","","","","","",null,null,null,null,null,null,null,null,null,null,null,null,null,null,null,null,null,null,null,null,null,null,null,null,null,null,null,null,null,null,null,null,null,null,null,null,null,null,null,null,null,null,null,null,null,null,null,null,null,null,null,null,null,null,null,null,null,null,null,null,null,null,null,null,null,null,null,null,null,null,null,null,null,null,null,null,null,null,null,null,null,null,null,null,null,null,null,null,null,null,null,null,null,null,null,null,null,null,null,null,null,null,null,null,null,null,null,null,null,null,null,null,null,3305,"Aconitum napellus sens. lat.",null,"Monk's-hood","Ranunculaceae",null,3305,null,null,null,null,null,null,null,null,null,null,null,null,null,null,null,null,null,null,null,244,244,"Blech spi","Blechnum spicant",244,null,"Blech spi"]
["",214,961,null,"Avenu pra",null,"","","",null,null,null,null,null,null,null,null,null,"","","","","","","","","","","","",null,"","","","","","","","","","","","",null,null,null,null,null,null,null,null,null,null,null,null,null,null,null,null,null,null,null,null,null,null,null,null,null,null,null,null,null,null,null,null,null,null,null,null,null,null,null,null,null,null,null,null,null,null,null,null,null,null,null,null,null,null,null,null,null,null,null,null,null,null,null,null,null,null,null,null,null,null,null,null,null,null,null,null,null,null,null,null,null,null,null,null,null,null,null,null,null,null,null,null,null,null,null,null,null,null,null,null,null,null,null,null,null,null,null,null,null,null,null,null,null,14.1,"Aconitum napellus subsp. napellus",null,"Monk's-hood","Ranunculaceae","Nationally Scarce",14.1,null,null,null,null,null,null,null,null,null,null,null,null,null,null,null,null,null,null,null,245,245,"Blysm com","Blysmus compressus",245,null,"Blysm com"]
["",961,962,null,"pub",null,"","","",null,null,null,null,null,null,null,null,null,"","","","","","","","","","","","",null,"","","","","","","","","","","","",null,null,null,null,null,null,null,null,null,null,null,null,null,null,null,null,null,null,null,null,null,null,null,null,null,null,null,null,null,null,null,null,null,null,null,null,null,null,null,null,null,null,null,null,null,null,null,null,null,null,null,null,null,null,null,null,null,null,null,null,null,null,null,null,null,null,null,null,null,null,null,null,null,null,null,null,null,null,null,null,null,null,null,null,null,null,null,null,null,null,null,null,null,null,null,null,null,null,null,null,null,null,null,null,null,null,null,null,null,null,null,null,null,14.2,"Aconitum napellus subsp. vulgare","(DC) Rouy & Foucaud","Monk's-hood","Ranunculaceae",null,14.2,null,null,null,null,null,null,null,null,null,null,null,null,null,null,null,null,null,null,null,248,248,"Botry lun","Botrychium lunaria",248,null,"Botry lun"]
["",962,229,null,"Barba vul",null,"","","",null,null,null,null,null,null,null,null,null,"","","","","","","","","","","","",null,"","","","","","","","","","","","",null,null,null,null,null,null,null,null,null,null,null,null,null,null,null,null,null,null,null,null,null,null,null,null,null,null,null,null,null,null,null,null,null,null,null,null,null,null,null,null,null,null,null,null,null,null,null,null,null,null,null,null,null,null,null,null,null,null,null,null,null,null,null,null,null,null,null,null,null,null,null,null,null,null,null,null,null,null,null,null,null,null,null,null,null,null,null,null,null,null,null,null,null,null,null,null,null,null,null,null,null,null,null,null,null,null,null,null,null,null,null,null,null,2985,"Aconitum x stoerkianum","Rchb.","A. napellus x variegatum","Ranunculaceae",null,2985,null,null,null,null,null,null,null,null,null,null,null,null,null,null,null,null,null,null,null,250,250,"Brach syl","Brachypodium sylvaticum",250,null,"Brach syl"]
["",962,231,null,"Belli per",null,"","","",null,null,null,null,null,null,null,null,null,"","","","","","","","","","","","",null,"","","","","","","","","","","","",null,null,null,null,null,null,null,null,null,null,null,null,null,null,null,null,null,null,null,null,null,null,null,null,null,null,null,null,null,null,null,null,null,null,null,null,null,null,null,null,null,null,null,null,null,null,null,null,null,null,null,null,null,null,null,null,null,null,null,null,null,null,null,null,null,null,null,null,null,null,null,null,null,null,null,null,null,null,null,null,null,null,null,null,null,null,null,null,null,null,null,null,null,null,null,null,null,null,null,null,null,null,null,null,null,null,null,null,null,null,null,null,null,15,"Acorus calamus","Linnaeus","Sweet-flag","Araceae",null,15,null,null,null,null,null,null,null,null,null,null,null,null,null,null,null,null,null,null,null,256,256,"Briza med","Briza media",256,null,"Briza med"]
["",229,232,null,"Berbe vul",null,"","","",null,null,null,null,null,null,null,null,null,"","","","","","","","","","","","",null,"","","","","","","","","","","","",null,null,null,null,null,null,null,null,null,null,null,null,null,null,null,null,null,null,null,null,null,null,null,null,null,null,null,null,null,null,null,null,null,null,null,null,null,null,null,null,null,null,null,null,null,null,null,null,null,null,null,null,null,null,null,null,null,null,null,null,null,null,null,null,null,null,null,null,null,null,null,null,null,null,null,null,null,null,null,null,null,null,null,null,null,null,null,null,null,null,null,null,null,null,null,null,null,null,null,null,null,null,null,null,null,null,null,null,null,null,null,null,null,4517,"Acorus gramineus","Aiton","Slender Sweet-flag","Araceae",null,4517,null,null,null,null,null,null,null,null,null,null,null,null,null,null,null,null,null,null,null,272,272,"Bromo ram","Bromopsis ramosa",272,null,"Bromo ram"]
["",231,237,null,"Beton off",null,"","","",null,null,null,null,null,null,null,null,null,"","","","","","","","","","","","",null,"","","","","","","","","","","","",null,null,null,null,null,null,null,null,null,null,null,null,null,null,null,null,null,null,null,null,null,null,null,null,null,null,null,null,null,null,null,null,null,null,null,null,null,null,null,null,null,null,null,null,null,null,null,null,null,null,null,null,null,null,null,null,null,null,null,null,null,null,null,null,null,null,null,null,null,null,null,null,null,null,null,null,null,null,null,null,null,null,null,null,null,null,null,null,null,null,null,null,null,null,null,null,null,null,null,null,null,null,null,null,null,null,null,null,null,null,null,null,null,7136,"Acroptilon repens","(Linnaeus) DC.","Russian Knapweed","Asteraceae",null,7136,null,null,null,null,null,null,null,null,null,null,null,null,null,null,null,null,null,null,null,269,269,"Bromu hor","Bromus hordeaceus",269,null,"Bromu hor"]
["",232,239,null,"Betul pen",null,"","","",null,null,null,null,null,null,null,null,null,"","","","","","","","","","","","",null,"","","","","","","","","","","","",null,null,null,null,null,null,null,null,null,null,null,null,null,null,null,null,null,null,null,null,null,null,null,null,null,null,null,null,null,null,null,null,null,null,null,null,null,null,null,null,null,null,null,null,null,null,null,null,null,null,null,null,null,null,null,null,null,null,null,null,null,null,null,null,null,null,null,null,null,null,null,null,null,null,null,null,null,null,null,null,null,null,null,null,null,null,null,null,null,null,null,null,null,null,null,null,null,null,null,null,null,null,null,null,null,null,null,null,null,null,null,null,null,5730,"Actaea erythrocarpa","Fisch.","European Baneberry","Ranunculaceae",null,5730,null,null,null,null,null,null,null,null,null,null,null,null,null,null,null,null,null,null,null,303,303,"Calli*ham","Callitriche brutia sens. lat.",303,null,"Calli*ham"]
["",237,240,null,"pub",null,"","","",null,null,null,null,null,null,null,null,null,"","","","","","","","","","","","",null,"","","","","","","","","","","","",null,null,null,null,null,null,null,null,null,null,null,null,null,null,null,null,null,null,null,null,null,null,null,null,null,null,null,null,null,null,null,null,null,null,null,null,null,null,null,null,null,null,null,null,null,null,null,null,null,null,null,null,null,null,null,null,null,null,null,null,null,null,null,null,null,null,null,null,null,null,null,null,null,null,null,null,null,null,null,null,null,null,null,null,null,null,null,null,null,null,null,null,null,null,null,null,null,null,null,null,null,null,null,null,null,null,null,null,null,null,null,null,null,16,"Actaea spicata","L.","Baneberry","Ranunculaceae","Nationally Scarce",16,null,null,null,null,null,null,null,null,null,null,null,null,null,null,null,null,null,null,null,307,307,"*sta","Callitriche stagnalis sens. lat.",307,null,"*sta"]
["",239,244,null,"Blech spi",null,"","","",null,null,null,null,null,null,null,null,null,"","","","","","","","","","","","",null,"","","","","","","","","","","","",null,null,null,null,null,null,null,null,null,null,null,null,null,null,null,null,null,null,null,null,null,null,null,null,null,null,null,null,null,null,null,null,null,null,null,null,null,null,null,null,null,null,null,null,null,null,null,null,null,null,null,null,null,null,null,null,null,null,null,null,null,null,null,null,null,null,null,null,null,null,null,null,null,null,null,null,null,null,null,null,null,null,null,null,null,null,null,null,null,null,null,null,null,null,null,null,null,null,null,null,null,null,null,null,null,null,null,null,null,null,null,null,null,"No BRC","Actinidia deliciosa","(A.Chev.) C.F.Liang. & A.R.Ferguson","Kiwifruit","Actinidiaceae",null,"No BRC",null,null,null,null,null,null,null,null,null,null,null,null,null,null,null,null,null,null,null,309,309,"Callu vul","Calluna vulgaris",309,null,"Callu vul"]
["",240,245,null,"Blysm com",null,"","","",null,null,null,null,null,null,null,null,null,"","","","","","","","","","","","",null,"","","","","","","","","","","","",null,null,null,null,null,null,null,null,null,null,null,null,null,null,null,null,null,null,null,null,null,null,null,null,null,null,null,null,null,null,null,null,null,null,null,null,null,null,null,null,null,null,null,null,null,null,null,null,null,null,null,null,null,null,null,null,null,null,null,null,null,null,null,null,null,null,null,null,null,null,null,null,null,null,null,null,null,null,null,null,null,null,null,null,null,null,null,null,null,null,null,null,null,null,null,null,null,null,null,null,null,null,null,null,null,null,null,null,null,null,null,null,null,5731,"Adenocarpus complicatus","(L.) J. Gay",null,"Fabaceae",null,5731,null,null,null,null,null,null,null,null,null,null,null,null,null,null,null,null,null,null,null,310,310,"Calth pal","Caltha palustris",310,null,"Calth pal"]
["",244,248,null,"Botry lun",null,"","","",null,null,null,null,null,null,null,null,null,"","","","","","","","","","","","",null,"","","","","","","","","","","","",null,null,null,null,null,null,null,null,null,null,null,null,null,null,null,null,null,null,null,null,null,null,null,null,null,null,null,null,null,null,null,null,null,null,null,null,null,null,null,null,null,null,null,null,null,null,null,null,null,null,null,null,null,null,null,null,null,null,null,null,null,null,null,null,null,null,null,null,null,null,null,null,null,null,null,null,null,null,null,null,null,null,null,null,null,null,null,null,null,null,null,null,null,null,null,null,null,null,null,null,null,null,null,null,null,null,null,null,null,null,null,null,null,17,"Adiantum capillus-veneris","L.","Maidenhair Fern","Adiantaceae","Nationally Scarce",17,null,null,null,null,null,null,null,null,null,null,null,null,null,null,null,null,null,null,null,2266,2266,"Calys pul","Calystegia pulchra",2266,null,"Calys pul"]
["",245,250,null,"Brach syl",null,"","","",null,null,null,null,null,null,null,null,null,"","","","","","","","","","","","",null,"","","","","","","","","","","","",null,null,null,null,null,null,null,null,null,null,null,null,null,null,null,null,null,null,null,null,null,null,null,null,null,null,null,null,null,null,null,null,null,null,null,null,null,null,null,null,null,null,null,null,null,null,null,null,null,null,null,null,null,null,null,null,null,null,null,null,null,null,null,null,null,null,null,null,null,null,null,null,null,null,null,null,null,null,null,null,null,null,null,null,null,null,null,null,null,null,null,null,null,null,null,null,null,null,null,null,null,null,null,null,null,null,null,null,null,null,null,null,null,5732,"Adiantum pedatum","L.","American Maidenhair-fern","Adiantaceae",null,5732,null,null,null,null,null,null,null,null,null,null,null,null,null,null,null,null,null,null,null,311,311,"sep","Calystegia sepium",311,null,"sep"]
["",248,256,null,"Briza med",null,"","","",null,null,null,null,null,null,null,null,null,"","","","","","","","","","","","",null,"","","","","","","","","","","","",null,null,null,null,null,null,null,null,null,null,null,null,null,null,null,null,null,null,null,null,null,null,null,null,null,null,null,null,null,null,null,null,null,null,null,null,null,null,null,null,null,null,null,null,null,null,null,null,null,null,null,null,null,null,null,null,null,null,null,null,null,null,null,null,null,null,null,null,null,null,null,null,null,null,null,null,null,null,null,null,null,null,null,null,null,null,null,null,null,null,null,null,null,null,null,null,null,null,null,null,null,null,null,null,null,null,null,null,null,null,null,null,null,"No BRC","Adiantum raddianum","C. Presl.","Delta Maidenhair","Adiantaceae",null,"No BRC",null,null,null,null,null,null,null,null,null,null,null,null,null,null,null,null,null,null,null,313,313,"sil","Calystegia silvatica",313,null,"sil"]
["",250,272,null,"Bromo ram",null,"","","",null,null,null,null,null,null,null,null,null,"","","","","","","","","","","","",null,"","","","","","","","","","","","",null,null,null,null,null,null,null,null,null,null,null,null,null,null,null,null,null,null,null,null,null,null,null,null,null,null,null,null,null,null,null,null,null,null,null,null,null,null,null,null,null,null,null,null,null,null,null,null,null,null,null,null,null,null,null,null,null,null,null,null,null,null,null,null,null,null,null,null,null,null,null,null,null,null,null,null,null,null,null,null,null,null,null,null,null,null,null,null,null,null,null,null,null,null,null,null,null,null,null,null,null,null,null,null,null,null,null,null,null,null,null,null,null,"No BRC","Adiantum sp.",null,null,"Adiantaceae",null,"No BRC",null,null,null,null,null,null,null,null,null,null,null,null,null,null,null,null,null,null,null,316,316,"Campa lat","Campanula latifolia",316,null,"Campa lat"]
["",256,269,null,"Bromu hor",null,"","","",null,null,null,null,null,null,null,null,null,"","","","","","","","","","","","",null,"","","","","","","","","","","","",null,null,null,null,null,null,null,null,null,null,null,null,null,null,null,null,null,null,null,null,null,null,null,null,null,null,null,null,null,null,null,null,null,null,null,null,null,null,null,null,null,null,null,null,null,null,null,null,null,null,null,null,null,null,null,null,null,null,null,null,null,null,null,null,null,null,null,null,null,null,null,null,null,null,null,null,null,null,null,null,null,null,null,null,null,null,null,null,null,null,null,null,null,null,null,null,null,null,null,null,null,null,null,null,null,null,null,null,null,null,null,null,null,5733,"Adonis aestivalis","L.","Summer Pheasant's-eye","Ranunculaceae",null,5733,null,null,null,null,null,null,null,null,null,null,null,null,null,null,null,null,null,null,null,322,322,"rot","Campanula rotundifolia",322,null,"rot"]
["",272,303,null,"Calli*ham",null,"","","",null,null,null,null,null,null,null,null,null,"","","","","","","","","","","","",null,"","","","","","","","","","","","",null,null,null,null,null,null,null,null,null,null,null,null,null,null,null,null,null,null,null,null,null,null,null,null,null,null,null,null,null,null,null,null,null,null,null,null,null,null,null,null,null,null,null,null,null,null,null,null,null,null,null,null,null,null,null,null,null,null,null,null,null,null,null,null,null,null,null,null,null,null,null,null,null,null,null,null,null,null,null,null,null,null,null,null,null,null,null,null,null,null,null,null,null,null,null,null,null,null,null,null,null,null,null,null,null,null,null,null,null,null,null,null,null,18,"Adonis annua","L.","Pheasant's-eye","Ranunculaceae","Endangered",18,null,null,null,null,null,null,null,null,null,null,null,null,null,null,null,null,null,null,null,325,325,"Capse bur","Capsella bursa-pastoris",325,null,"Capse bur"]
["",269,307,null,"*sta",null,"","","",null,null,null,null,null,null,null,null,null,"","","","","","","","","","","","",null,"","","","","","","","","","","","",null,null,null,null,null,null,null,null,null,null,null,null,null,null,null,null,null,null,null,null,null,null,null,null,null,null,null,null,null,null,null,null,null,null,null,null,null,null,null,null,null,null,null,null,null,null,null,null,null,null,null,null,null,null,null,null,null,null,null,null,null,null,null,null,null,null,null,null,null,null,null,null,null,null,null,null,null,null,null,null,null,null,null,null,null,null,null,null,null,null,null,null,null,null,null,null,null,null,null,null,null,null,null,null,null,null,null,null,null,null,null,null,null,5734,"Adonis flammea","Jacq.","Large Pheasant's-eye","Ranunculaceae",null,5734,null,null,null,null,null,null,null,null,null,null,null,null,null,null,null,null,null,null,null,327,327,"Carda ama","Cardamine amara",327,null,"Carda ama"]
["",303,309,null,"Callu vul",null,"","","",null,null,null,null,null,null,null,null,null,"","","","","","","","","","","","",null,"","","","","","","","","","","","",null,null,null,null,null,null,null,null,null,null,null,null,null,null,null,null,null,null,null,null,null,null,null,null,null,null,null,null,null,null,null,null,null,null,null,null,null,null,null,null,null,null,null,null,null,null,null,null,null,null,null,null,null,null,null,null,null,null,null,null,null,null,null,null,null,null,null,null,null,null,null,null,null,null,null,null,null,null,null,null,null,null,null,null,null,null,null,null,null,null,null,null,null,null,null,null,null,null,null,null,null,null,null,null,null,null,null,null,null,null,null,null,null,19,"Adoxa moschatellina","L.","Moschatel","Adoxaceae",null,19,null,null,null,null,null,null,null,null,null,null,null,null,null,null,null,null,null,null,null,328,328,"fle","Cardamine flexuosa",328,null,"fle"]
["",307,310,null,"Calth pal",null,"","","",null,null,null,null,null,null,null,null,null,"","","","","","","","","","","","",null,"","","","","","","","","","","","",null,null,null,null,null,null,null,null,null,null,null,null,null,null,null,null,null,null,null,null,null,null,null,null,null,null,null,null,null,null,null,null,null,null,null,null,null,null,null,null,null,null,null,null,null,null,null,null,null,null,null,null,null,null,null,null,null,null,null,null,null,null,null,null,null,null,null,null,null,null,null,null,null,null,null,null,null,null,null,null,null,null,null,null,null,null,null,null,null,null,null,null,null,null,null,null,null,null,null,null,null,null,null,null,null,null,null,null,null,null,null,null,null,4196,"Aegilops cylindrica","Host","Jointed Goatgrass","Poaceae",null,4196,null,null,null,null,null,null,null,null,null,null,null,null,null,null,null,null,null,null,null,329,329,"hir","Cardamine hirsuta",329,null,"hir"]
["",309,2266,null,"Calys pul",null,"","","",null,null,null,null,null,null,null,null,null,"","","","","","","","","","","","",null,"","","","","","","","","","","","",null,null,null,null,null,null,null,null,null,null,null,null,null,null,null,null,null,null,null,null,null,null,null,null,null,null,null,null,null,null,null,null,null,null,null,null,null,null,null,null,null,null,null,null,null,null,null,null,null,null,null,null,null,null,null,null,null,null,null,null,null,null,null,null,null,null,null,null,null,null,null,null,null,null,null,null,null,null,null,null,null,null,null,null,null,null,null,null,null,null,null,null,null,null,null,null,null,null,null,null,null,null,null,null,null,null,null,null,null,null,null,null,null,20,"Aegopodium podagraria","L.","Ground-elder","Apiaceae",null,20,null,null,null,null,null,null,null,null,null,null,null,null,null,null,null,null,null,null,null,331,331,"pra","Cardamine pratensis",331,null,"pra"]
["",310,311,null,"sep",null,"","","",null,null,null,null,null,null,null,null,null,"","","","","","","","","","","","",null,"","","","","","","","","","","","",null,null,null,null,null,null,null,null,null,null,null,null,null,null,null,null,null,null,null,null,null,null,null,null,null,null,null,null,null,null,null,null,null,null,null,null,null,null,null,null,null,null,null,null,null,null,null,null,null,null,null,null,null,null,null,null,null,null,null,null,null,null,null,null,null,null,null,null,null,null,null,null,null,null,null,null,null,null,null,null,null,null,null,null,null,null,null,null,null,null,null,null,null,null,null,null,null,null,null,null,null,null,null,null,null,null,null,null,null,null,null,null,null,7934,"Aeonium arboreum","(L.) Webb & Berthel.","Tree Aeonium","Crassulaceae",null,7934,null,null,null,null,null,null,null,null,null,null,null,null,null,null,null,null,null,null,null,335,335,"Cardu cri","Carduus crispus",335,null,"Cardu cri"]
["",2266,313,null,"sil",null,"","","",null,null,null,null,null,null,null,null,null,"","","","","","","","","","","","",null,"","","","","","","","","","","","",null,null,null,null,null,null,null,null,null,null,null,null,null,null,null,null,null,null,null,null,null,null,null,null,null,null,null,null,null,null,null,null,null,null,null,null,null,null,null,null,null,null,null,null,null,null,null,null,null,null,null,null,null,null,null,null,null,null,null,null,null,null,null,null,null,null,null,null,null,null,null,null,null,null,null,null,null,null,null,null,null,null,null,null,null,null,null,null,null,null,null,null,null,null,null,null,null,null,null,null,null,null,null,null,null,null,null,null,null,null,null,null,null,7137,"Aeonium cuneatum","Webb & Berth.","Aeonium","Crassulaceae",null,7137,null,null,null,null,null,null,null,null,null,null,null,null,null,null,null,null,null,null,null,341,341,"Carex acuti","Carex acutiformis",341,null,"Carex acuti"]
["",311,316,null,"Campa lat",null,"","","",null,null,null,null,null,null,null,null,null,"","","","","","","","","","","","",null,"","","","","","","","","","","","",null,null,null,null,null,null,null,null,null,null,null,null,null,null,null,null,null,null,null,null,null,null,null,null,null,null,null,null,null,null,null,null,null,null,null,null,null,null,null,null,null,null,null,null,null,null,null,null,null,null,null,null,null,null,null,null,null,null,null,null,null,null,null,null,null,null,null,null,null,null,null,null,null,null,null,null,null,null,null,null,null,null,null,null,null,null,null,null,null,null,null,null,null,null,null,null,null,null,null,null,null,null,null,null,null,null,null,null,null,null,null,null,null,2420,"Aesculus carnea","J. Zeyh.","Red Horse-chestnut","Hippocastanaceae",null,2420,null,null,null,null,null,null,null,null,null,null,null,null,null,null,null,null,null,null,null,344,344,"are","Carex arenaria",344,null,"are"]
["",313,322,null,"rot",null,"","","",null,null,null,null,null,null,null,null,null,"","","","","","","","","","","","",null,"","","","","","","","","","","","",null,null,null,null,null,null,null,null,null,null,null,null,null,null,null,null,null,null,null,null,null,null,null,null,null,null,null,null,null,null,null,null,null,null,null,null,null,null,null,null,null,null,null,null,null,null,null,null,null,null,null,null,null,null,null,null,null,null,null,null,null,null,null,null,null,null,null,null,null,null,null,null,null,null,null,null,null,null,null,null,null,null,null,null,null,null,null,null,null,null,null,null,null,null,null,null,null,null,null,null,null,null,null,null,null,null,null,null,null,null,null,null,null,4180,"Aesculus flava","Sol.","Yellow Buckeye","Hippocastanaceae",null,4180,null,null,null,null,null,null,null,null,null,null,null,null,null,null,null,null,null,null,null,349,349,"big","Carex bigelowii",349,null,"big"]
["",316,325,null,"Capse bur",null,"","","",null,null,null,null,null,null,null,null,null,"","","","","","","","","","","","",null,"","","","","","","","","","","","",null,null,null,null,null,null,null,null,null,null,null,null,null,null,null,null,null,null,null,null,null,null,null,null,null,null,null,null,null,null,null,null,null,null,null,null,null,null,null,null,null,null,null,null,null,null,null,null,null,null,null,null,null,null,null,null,null,null,null,null,null,null,null,null,null,null,null,null,null,null,null,null,null,null,null,null,null,null,null,null,null,null,null,null,null,null,null,null,null,null,null,null,null,null,null,null,null,null,null,null,null,null,null,null,null,null,null,null,null,null,null,null,null,2241,"Aesculus hippocastanum","Linnaeus","Horse-chestnut","Hippocastanaceae",null,2241,null,null,null,null,null,null,null,null,null,null,null,null,null,null,null,null,null,null,null,350,350,"bin","Carex binervis",350,null,"bin"]
["",322,327,null,"Carda ama",null,"","","",null,null,null,null,null,null,null,null,null,"","","","","","","","","","","","",null,"","","","","","","","","","","","",null,null,null,null,null,null,null,null,null,null,null,null,null,null,null,null,null,null,null,null,null,null,null,null,null,null,null,null,null,null,null,null,null,null,null,null,null,null,null,null,null,null,null,null,null,null,null,null,null,null,null,null,null,null,null,null,null,null,null,null,null,null,null,null,null,null,null,null,null,null,null,null,null,null,null,null,null,null,null,null,null,null,null,null,null,null,null,null,null,null,null,null,null,null,null,null,null,null,null,null,null,null,null,null,null,null,null,null,null,null,null,null,null,7903,"Aesculus hippocastanum x pavia","Linnaeus",null,"Hippocastanaceae",null,7903,null,null,null,null,null,null,null,null,null,null,null,null,null,null,null,null,null,null,null,359,359,"can","Carex canescens",359,null,"can"]
["",325,328,null,"fle",null,"","","",null,null,null,null,null,null,null,null,null,"","","","","","","","","","","","",null,"","","","","","","","","","","","",null,null,null,null,null,null,null,null,null,null,null,null,null,null,null,null,null,null,null,null,null,null,null,null,null,null,null,null,null,null,null,null,null,null,null,null,null,null,null,null,null,null,null,null,null,null,null,null,null,null,null,null,null,null,null,null,null,null,null,null,null,null,null,null,null,null,null,null,null,null,null,null,null,null,null,null,null,null,null,null,null,null,null,null,null,null,null,null,null,null,null,null,null,null,null,null,null,null,null,null,null,null,null,null,null,null,null,null,null,null,null,null,null,3316,"Aesculus indica","(Wallich ex Cambess.) Hook.","Indian Horse-chestnut","Hippocastanaceae",null,3316,null,null,null,null,null,null,null,null,null,null,null,null,null,null,null,null,null,null,null,355,355,"car","Carex caryophyllea",355,null,"car"]
["",327,329,null,"hir",null,"","","",null,null,null,null,null,null,null,null,null,"","","","","","","","","","","","",null,"","","","","","","","","","","","",null,null,null,null,null,null,null,null,null,null,null,null,null,null,null,null,null,null,null,null,null,null,null,null,null,null,null,null,null,null,null,null,null,null,null,null,null,null,null,null,null,null,null,null,null,null,null,null,null,null,null,null,null,null,null,null,null,null,null,null,null,null,null,null,null,null,null,null,null,null,null,null,null,null,null,null,null,null,null,null,null,null,null,null,null,null,null,null,null,null,null,null,null,null,null,null,null,null,null,null,null,null,null,null,null,null,null,null,null,null,null,null,null,5747,"Aesculus parviflora","Walter","Bottlebrush Buckeye","Hippocastanaceae",null,5747,null,null,null,null,null,null,null,null,null,null,null,null,null,null,null,null,null,null,null,361,361,"demis","Carex demissa",361,null,"demis"]
["",328,331,null,"pra",null,"","","",null,null,null,null,null,null,null,null,null,"","","","","","","","","","","","",null,"","","","","","","","","","","","",null,null,null,null,null,null,null,null,null,null,null,null,null,null,null,null,null,null,null,null,null,null,null,null,null,null,null,null,null,null,null,null,null,null,null,null,null,null,null,null,null,null,null,null,null,null,null,null,null,null,null,null,null,null,null,null,null,null,null,null,null,null,null,null,null,null,null,null,null,null,null,null,null,null,null,null,null,null,null,null,null,null,null,null,null,null,null,null,null,null,null,null,null,null,null,null,null,null,null,null,null,null,null,null,null,null,null,null,null,null,null,null,null,7138,"Aetheorhiza bulbosa","(Linnaeus) Cass.","Tuberous Hawk's-beard","Asteraceae",null,7138,null,null,null,null,null,null,null,null,null,null,null,null,null,null,null,null,null,null,null,365,365,"dio","Carex dioica",365,null,"dio"]
["",329,335,null,"Cardu cri",null,"","","",null,null,null,null,null,null,null,null,null,"","","","","","","","","","","","",null,"","","","","","","","","","","","",null,null,null,null,null,null,null,null,null,null,null,null,null,null,null,null,null,null,null,null,null,null,null,null,null,null,null,null,null,null,null,null,null,null,null,null,null,null,null,null,null,null,null,null,null,null,null,null,null,null,null,null,null,null,null,null,null,null,null,null,null,null,null,null,null,null,null,null,null,null,null,null,null,null,null,null,null,null,null,null,null,null,null,null,null,null,null,null,null,null,null,null,null,null,null,null,null,null,null,null,null,null,null,null,null,null,null,null,null,null,null,null,null,5748,"Aethionema grandiflorum","Boiss. & Hohen.","Persian Candytuft","Brassicaceae",null,5748,null,null,null,null,null,null,null,null,null,null,null,null,null,null,null,null,null,null,null,367,367,"disti","Carex disticha",367,null,"disti"]
["",331,341,null,"Carex acuti",null,"","","",null,null,null,null,null,null,null,null,null,"","","","","","","","","","","","",null,"","","","","","","","","","","","",null,null,null,null,null,null,null,null,null,null,null,null,null,null,null,null,null,null,null,null,null,null,null,null,null,null,null,null,null,null,null,null,null,null,null,null,null,null,null,null,null,null,null,null,null,null,null,null,null,null,null,null,null,null,null,null,null,null,null,null,null,null,null,null,null,null,null,null,null,null,null,null,null,null,null,null,null,null,null,null,null,null,null,null,null,null,null,null,null,null,null,null,null,null,null,null,null,null,null,null,null,null,null,null,null,null,null,null,null,null,null,null,null,5749,"Aethionema saxatile","(L.) R. Br.","Burnt Candytuft","Brassicaceae",null,5749,null,null,null,null,null,null,null,null,null,null,null,null,null,null,null,null,null,null,null,370,370,"ech","Carex echinata",370,null,"ech"]
["",335,344,null,"are",null,"","","",null,null,null,null,null,null,null,null,null,"","","","","","","","","","","","",null,"","","","","","","","","","","","",null,null,null,null,null,null,null,null,null,null,null,null,null,null,null,null,null,null,null,null,null,null,null,null,null,null,null,null,null,null,null,null,null,null,null,null,null,null,null,null,null,null,null,null,null,null,null,null,null,null,null,null,null,null,null,null,null,null,null,null,null,null,null,null,null,null,null,null,null,null,null,null,null,null,null,null,null,null,null,null,null,null,null,null,null,null,null,null,null,null,null,null,null,null,null,null,null,null,null,null,null,null,null,null,null,null,null,null,null,null,null,null,null,21,"Aethusa cynapium","Linnaeus","Fool's Parsley","Apiaceae",null,21,null,null,null,null,null,null,null,null,null,null,null,null,null,null,null,null,null,null,null,376,376,"flac","Carex flacca",376,null,"flac"]
["",341,349,null,"big",null,"","","",null,null,null,null,null,null,null,null,null,"","","","","","","","","","","","",null,"","","","","","","","","","","","",null,null,null,null,null,null,null,null,null,null,null,null,null,null,null,null,null,null,null,null,null,null,null,null,null,null,null,null,null,null,null,null,null,null,null,null,null,null,null,null,null,null,null,null,null,null,null,null,null,null,null,null,null,null,null,null,null,null,null,null,null,null,null,null,null,null,null,null,null,null,null,null,null,null,null,null,null,null,null,null,null,null,null,null,null,null,null,null,null,null,null,null,null,null,null,null,null,null,null,null,null,null,null,null,null,null,null,null,null,null,null,null,null,21.1,"Aethusa cynapium subsp. agrestis","(Wallr.) Dostál","Fool's Parsley","Apiaceae",null,21.1,null,null,null,null,null,null,null,null,null,null,null,null,null,null,null,null,null,null,null,381,381,"hir","Carex hirta",381,null,"hir"]
["",344,350,null,"bin",null,"","","",null,null,null,null,null,null,null,null,null,"","","","","","","","","","","","",null,"","","","","","","","","","","","",null,null,null,null,null,null,null,null,null,null,null,null,null,null,null,null,null,null,null,null,null,null,null,null,null,null,null,null,null,null,null,null,null,null,null,null,null,null,null,null,null,null,null,null,null,null,null,null,null,null,null,null,null,null,null,null,null,null,null,null,null,null,null,null,null,null,null,null,null,null,null,null,null,null,null,null,null,null,null,null,null,null,null,null,null,null,null,null,null,null,null,null,null,null,null,null,null,null,null,null,null,null,null,null,null,null,null,null,null,null,null,null,null,21.2,"Aethusa cynapium subsp. cynapium","Linnaeus","Fool's Parsley","Apiaceae",null,21.2,null,null,null,null,null,null,null,null,null,null,null,null,null,null,null,null,null,null,null,382,382,"hos","Carex hostiana",382,null,"hos"]
["",349,359,null,"can",null,"","","",null,null,null,null,null,null,null,null,null,"","","","","","","","","","","","",null,"","","","","","","","","","","","",null,null,null,null,null,null,null,null,null,null,null,null,null,null,null,null,null,null,null,null,null,null,null,null,null,null,null,null,null,null,null,null,null,null,null,null,null,null,null,null,null,null,null,null,null,null,null,null,null,null,null,null,null,null,null,null,null,null,null,null,null,null,null,null,null,null,null,null,null,null,null,null,null,null,null,null,null,null,null,null,null,null,null,null,null,null,null,null,null,null,null,null,null,null,null,null,null,null,null,null,null,null,null,null,null,null,null,null,null,null,null,null,null,21.3,"Aethusa cynapium subsp. elata","(Friedl. ex Fisch.) Schübl. & Martens",null,"Apiaceae",null,21.3,null,null,null,null,null,null,null,null,null,null,null,null,null,null,null,null,null,null,null,385,385,"lae","Carex laevigata",385,null,"lae"]
["",350,355,null,"car",null,"","","",null,null,null,null,null,null,null,null,null,"","","","","","","","","","","","",null,"","","","","","","","","","","","",null,null,null,null,null,null,null,null,null,null,null,null,null,null,null,null,null,null,null,null,null,null,null,null,null,null,null,null,null,null,null,null,null,null,null,null,null,null,null,null,null,null,null,null,null,null,null,null,null,null,null,null,null,null,null,null,null,null,null,null,null,null,null,null,null,null,null,null,null,null,null,null,null,null,null,null,null,null,null,null,null,null,null,null,null,null,null,null,null,null,null,null,null,null,null,null,null,null,null,null,null,null,null,null,null,null,null,null,null,null,null,null,null,5417,"Agapanthus praecox","Willd.","African Lily","Liliaceae",null,5417,null,null,null,null,null,null,null,null,null,null,null,null,null,null,null,null,null,null,null,387,387,"lepid","Carex lepidocarpa",387,null,"lepid"]
["",359,361,null,"demis",null,"","","",null,null,null,null,null,null,null,null,null,"","","","","","","","","","","","",null,"","","","","","","","","","","","",null,null,null,null,null,null,null,null,null,null,null,null,null,null,null,null,null,null,null,null,null,null,null,null,null,null,null,null,null,null,null,null,null,null,null,null,null,null,null,null,null,null,null,null,null,null,null,null,null,null,null,null,null,null,null,null,null,null,null,null,null,null,null,null,null,null,null,null,null,null,null,null,null,null,null,null,null,null,null,null,null,null,null,null,null,null,null,null,null,null,null,null,null,null,null,null,null,null,null,null,null,null,null,null,null,null,null,null,null,null,null,null,null,"No BRC","Agastache rugosa","(Fisch. & Mey.) O. Kuntze","Korean Mint","Lamiaceae",null,"No BRC",null,null,null,null,null,null,null,null,null,null,null,null,null,null,null,null,null,null,null,397,397,"lepor","Carex leporina",397,null,"lepor"]
["",355,365,null,"dio",null,"","","",null,null,null,null,null,null,null,null,null,"","","","","","","","","","","","",null,"","","","","","","","","","","","",null,null,null,null,null,null,null,null,null,null,null,null,null,null,null,null,null,null,null,null,null,null,null,null,null,null,null,null,null,null,null,null,null,null,null,null,null,null,null,null,null,null,null,null,null,null,null,null,null,null,null,null,null,null,null,null,null,null,null,null,null,null,null,null,null,null,null,null,null,null,null,null,null,null,null,null,null,null,null,null,null,null,null,null,null,null,null,null,null,null,null,null,null,null,null,null,null,null,null,null,null,null,null,null,null,null,null,null,null,null,null,null,null,7139,"Agave americana","Linnaeus","Centuryplant","Agavaceae",null,7139,null,null,null,null,null,null,null,null,null,null,null,null,null,null,null,null,null,null,null,398,398,"mur","Carex muricata",398,null,"mur"]
["",361,367,null,"disti",null,"","","",null,null,null,null,null,null,null,null,null,"","","","","","","","","","","","",null,"","","","","","","","","","","","",null,null,null,null,null,null,null,null,null,null,null,null,null,null,null,null,null,null,null,null,null,null,null,null,null,null,null,null,null,null,null,null,null,null,null,null,null,null,null,null,null,null,null,null,null,null,null,null,null,null,null,null,null,null,null,null,null,null,null,null,null,null,null,null,null,null,null,null,null,null,null,null,null,null,null,null,null,null,null,null,null,null,null,null,null,null,null,null,null,null,null,null,null,null,null,null,null,null,null,null,null,null,null,null,null,null,null,null,null,null,null,null,null,7935,"Ageratum houstonianum","Miller","Flossflower","Asteraceae",null,7935,null,null,null,null,null,null,null,null,null,null,null,null,null,null,null,null,null,null,null,398.2,398.2,"mur pai","Carex muricata subsp. pairae",398.2,null,"mur pai"]
["",7117,370,null,"ech",null,"","","",null,null,null,null,null,null,null,null,null,"","","","","","","","","","","","",null,"","","","","","","","","","","","",null,null,null,null,null,null,null,null,null,null,null,null,null,null,null,null,null,null,null,null,null,null,null,null,null,null,null,null,null,null,null,null,null,null,null,null,null,null,null,null,null,null,null,null,null,null,null,null,null,null,null,null,null,null,null,null,null,null,null,null,null,null,null,null,null,null,null,null,null,null,null,null,null,null,null,null,null,null,null,null,null,null,null,null,null,null,null,null,null,null,null,null,null,null,null,null,null,null,null,null,null,null,null,null,null,null,null,null,null,null,null,null,null,22,"Agrimonia eupatoria","Linnaeus","Agrimony","Rosaceae",null,22,null,null,null,null,null,null,null,null,null,null,null,null,null,null,null,null,null,null,null,393,393,"nig","Carex nigra",393,null,"nig"]
["",365,376,null,"flac",null,"","","",null,null,null,null,null,null,null,null,null,"","","","","","","","","","","","",null,"","","","","","","","","","","","",null,null,null,null,null,null,null,null,null,null,null,null,null,null,null,null,null,null,null,null,null,null,null,null,null,null,null,null,null,null,null,null,null,null,null,null,null,null,null,null,null,null,null,null,null,null,null,null,null,null,null,null,null,null,null,null,null,null,null,null,null,null,null,null,null,null,null,null,null,null,null,null,null,null,null,null,null,null,null,null,null,null,null,null,null,null,null,null,null,null,null,null,null,null,null,null,null,null,null,null,null,null,null,null,null,null,null,null,null,null,null,null,null,23,"Agrimonia procera","Wallr.","Fragrant Agrimony","Rosaceae",null,23,null,null,null,null,null,null,null,null,null,null,null,null,null,null,null,null,null,null,null,396,396,"otr","Carex otrubae",396,null,"otr"]
["",367,381,null,"hir",null,"","","",null,null,null,null,null,null,null,null,null,"","","","","","","","","","","","",null,"","","","","","","","","","","","",null,null,null,null,null,null,null,null,null,null,null,null,null,null,null,null,null,null,null,null,null,null,null,null,null,null,null,null,null,null,null,null,null,null,null,null,null,null,null,null,null,null,null,null,null,null,null,null,null,null,null,null,null,null,null,null,null,null,null,null,null,null,null,null,null,null,null,null,null,null,null,null,null,null,null,null,null,null,null,null,null,null,null,null,null,null,null,null,null,null,null,null,null,null,null,null,null,null,null,null,null,null,null,null,null,null,null,null,null,null,null,null,null,2710,"Agrimonia x wirtgenii","Asch. & Graebner","A. eupatoria x procera","Rosaceae",null,2710,null,null,null,null,null,null,null,null,null,null,null,null,null,null,null,null,null,null,null,399,399,"pal","Carex pallescens",399,null,"pal"]
["",370,382,null,"hos",null,"","","",null,null,null,null,null,null,null,null,null,"","","","","","","","","","","","",null,"","","","","","","","","","","","",null,null,null,null,null,null,null,null,null,null,null,null,null,null,null,null,null,null,null,null,null,null,null,null,null,null,null,null,null,null,null,null,null,null,null,null,null,null,null,null,null,null,null,null,null,null,null,null,null,null,null,null,null,null,null,null,null,null,null,null,null,null,null,null,null,null,null,null,null,null,null,null,null,null,null,null,null,null,null,null,null,null,null,null,null,null,null,null,null,null,null,null,null,null,null,null,null,null,null,null,null,null,null,null,null,null,null,null,null,null,null,null,null,3303,"Agropyron cristatum","(L.)Gaertn.",null,"Poaceae",null,3303,null,null,null,null,null,null,null,null,null,null,null,null,null,null,null,null,null,null,null,400,400,"panicea","Carex panicea",400,null,"panicea"]
["",376,385,null,"lae",null,"","","",null,null,null,null,null,null,null,null,null,"","","","","","","","","","","","",null,"","","","","","","","","","","","",null,null,null,null,null,null,null,null,null,null,null,null,null,null,null,null,null,null,null,null,null,null,null,null,null,null,null,null,null,null,null,null,null,null,null,null,null,null,null,null,null,null,null,null,null,null,null,null,null,null,null,null,null,null,null,null,null,null,null,null,null,null,null,null,null,null,null,null,null,null,null,null,null,null,null,null,null,null,null,null,null,null,null,null,null,null,null,null,null,null,null,null,null,null,null,null,null,null,null,null,null,null,null,null,null,null,null,null,null,null,null,null,null,34,"Agrostemma githago","L.","Corncockle","Caryophyllaceae",null,34,null,null,null,null,null,null,null,null,null,null,null,null,null,null,null,null,null,null,null,401,401,"panicula","Carex paniculata",401,null,"panicula"]
["",381,387,null,"lepid",null,"","","",null,null,null,null,null,null,null,null,null,"","","","","","","","","","","","",null,"","","","","","","","","","","","",null,null,null,null,null,null,null,null,null,null,null,null,null,null,null,null,null,null,null,null,null,null,null,null,null,null,null,null,null,null,null,null,null,null,null,null,null,null,null,null,null,null,null,null,null,null,null,null,null,null,null,null,null,null,null,null,null,null,null,null,null,null,null,null,null,null,null,null,null,null,null,null,null,null,null,null,null,null,null,null,null,null,null,null,null,null,null,null,null,null,null,null,null,null,null,null,null,null,null,null,null,null,null,null,null,null,null,null,null,null,null,null,null,7140,"Agrostis avenacea","J.Gmelin","Blown-grass","Poaceae",null,7140,null,null,null,null,null,null,null,null,null,null,null,null,null,null,null,null,null,null,null,404,404,"pen","Carex pendula",404,null,"pen"]
["",382,397,null,"lepor",null,"","","",null,null,null,null,null,null,null,null,null,"","","","","","","","","","","","",null,"","","","","","","","","","","","",null,null,null,null,null,null,null,null,null,null,null,null,null,null,null,null,null,null,null,null,null,null,null,null,null,null,null,null,null,null,null,null,null,null,null,null,null,null,null,null,null,null,null,null,null,null,null,null,null,null,null,null,null,null,null,null,null,null,null,null,null,null,null,null,null,null,null,null,null,null,null,null,null,null,null,null,null,null,null,null,null,null,null,null,null,null,null,null,null,null,null,null,null,null,null,null,null,null,null,null,null,null,null,null,null,null,null,null,null,null,null,null,null,35.200000000000003,"Agrostis canina","Linnaeus","Velvet Bent","Poaceae",null,35.200000000000003,null,null,null,null,null,null,null,null,null,null,null,null,null,null,null,null,null,null,null,405,405,"pil","Carex pilulifera",405,null,"pil"]
["",385,398,null,"mur",null,"","","",null,null,null,null,null,null,null,null,null,"","","","","","","","","","","","",null,"","","","","","","","","","","","",null,null,null,null,null,null,null,null,null,null,null,null,null,null,null,null,null,null,null,null,null,null,null,null,null,null,null,null,null,null,null,null,null,null,null,null,null,null,null,null,null,null,null,null,null,null,null,null,null,null,null,null,null,null,null,null,null,null,null,null,null,null,null,null,null,null,null,null,null,null,null,null,null,null,null,null,null,null,null,null,null,null,null,null,null,null,null,null,null,null,null,null,null,null,null,null,null,null,null,null,null,null,null,null,null,null,null,null,null,null,null,null,null,35,"Agrostis canina sens. lat.","Linnaeus","Velvet Bent","Poaceae",null,35,null,null,null,null,null,null,null,null,null,null,null,null,null,null,null,null,null,null,null,408,408,"pul","Carex pulicaris",408,null,"pul"]
["",387,398.2,null,"mur pai",null,"","","",null,null,null,null,null,null,null,null,null,"","","","","","","","","","","","",null,"","","","","","","","","","","","",null,null,null,null,null,null,null,null,null,null,null,null,null,null,null,null,null,null,null,null,null,null,null,null,null,null,null,null,null,null,null,null,null,null,null,null,null,null,null,null,null,null,null,null,null,null,null,null,null,null,null,null,null,null,null,null,null,null,null,null,null,null,null,null,null,null,null,null,null,null,null,null,null,null,null,null,null,null,null,null,null,null,null,null,null,null,null,null,null,null,null,null,null,null,null,null,null,null,null,null,null,null,null,null,null,null,null,null,null,null,null,null,null,40,"Agrostis capillaris","Linnaeus","Common Bent","Poaceae",null,40,null,null,null,null,null,null,null,null,null,null,null,null,null,null,null,null,null,null,null,412,412,"rem","Carex remota",412,null,"rem"]
["",476,480,null,"Cheli maj",null,"","","",null,null,null,null,null,null,null,null,null,"","","","","","","","","","","","",null,"","","","","","","","","","","","",null,null,null,null,null,null,null,null,null,null,null,null,null,null,null,null,null,null,null,null,null,null,null,null,null,null,null,null,null,null,null,null,null,null,null,null,null,null,null,null,null,null,null,null,null,null,null,null,null,null,null,null,null,null,null,null,null,null,null,null,null,null,null,null,null,null,null,null,null,null,null,null,null,null,null,null,null,null,null,null,null,null,null,null,null,null,null,null,null,null,null,null,null,null,null,null,null,null,null,null,null,null,null,null,null,null,null,null,null,null,null,null,null,44,"Ajuga genevensis","L.","Cornish Bugle","Lamiaceae",null,44,null,null,null,null,null,null,null,null,null,null,null,null,null,null,null,null,null,null,null,520,520,"pal","Cirsium palustre",520,null,"pal"]
["",586,603,null,"Cysto fra",null,"","","",null,null,null,null,null,null,null,null,null,"","","","","","","","","","","","",null,"","","","","","","","","","","","",null,null,null,null,null,null,null,null,null,null,null,null,null,null,null,null,null,null,null,null,null,null,null,null,null,null,null,null,null,null,null,null,null,null,null,null,null,null,null,null,null,null,null,null,null,null,null,null,null,null,null,null,null,null,null,null,null,null,null,null,null,null,null,null,null,null,null,null,null,null,null,null,null,null,null,null,null,null,null,null,null,null,null,null,null,null,null,null,null,null,null,null,null,null,null,null,null,null,null,null,null,null,null,null,null,null,null,null,null,null,null,null,null,8283,"Allium ampeloprasum","L.","Wild Leek","Liliaceae","Nationally Scarce",8283,null,null,null,null,null,null,null,null,null,null,null,null,null,null,null,null,null,null,null,627,627,"Desch ces","Deschampsia cespitosa",627,null,"Desch ces"]
["",796,1527,null,"Fallo con",null,"","","",null,null,null,null,null,null,null,null,null,"","","","","","","","","","","","",null,"","","","","","","","","","","","",null,null,null,null,null,null,null,null,null,null,null,null,null,null,null,null,null,null,null,null,null,null,null,null,null,null,null,null,null,null,null,null,null,null,null,null,null,null,null,null,null,null,null,null,null,null,null,null,null,null,null,null,null,null,null,null,null,null,null,null,null,null,null,null,null,null,null,null,null,null,null,null,null,null,null,null,null,null,null,null,null,null,null,null,null,null,null,null,null,null,null,null,null,null,null,null,null,null,null,null,null,null,null,null,null,null,null,null,null,null,null,null,null,7938,"Amaranthus arenicola","I.M.Johnston",null,"Amaranthaceae",null,7938,null,null,null,null,null,null,null,null,null,null,null,null,null,null,null,null,null,null,null,838,838,"Fraga ves","Fragaria vesca",838,null,"Fraga ves"]
["",996,999,null,"Hydro vul",null,"","","",null,null,null,null,null,null,null,null,null,"","","","","","","","","","","","",null,"","","","","","","","","","","","",null,null,null,null,null,null,null,null,null,null,null,null,null,null,null,null,null,null,null,null,null,null,null,null,null,null,null,null,null,null,null,null,null,null,null,null,null,null,null,null,null,null,null,null,null,null,null,null,null,null,null,null,null,null,null,null,null,null,null,null,null,null,null,null,null,null,null,null,null,null,null,null,null,null,null,null,null,null,null,null,null,null,null,null,null,null,null,null,null,null,null,null,null,null,null,null,null,null,null,null,null,null,null,null,null,null,null,null,null,null,null,null,null,7158,"Anemone x hybrida","Paxton","Japanese Anemone","Ranunculaceae",null,7158,null,null,null,null,null,null,null,null,null,null,null,null,null,null,null,null,null,null,null,1020,1020,"Hypoc rad","Hypochaeris radicata",1020,null,"Hypoc rad"]
["",1263,1289,null,"Menya tri",null,"","","",null,null,null,null,null,null,null,null,null,"","","","","","","","","","","","",null,"","","","","","","","","","","","",null,null,null,null,null,null,null,null,null,null,null,null,null,null,null,null,null,null,null,null,null,null,null,null,null,null,null,null,null,null,null,null,null,null,null,null,null,null,null,null,null,null,null,null,null,null,null,null,null,null,null,null,null,null,null,null,null,null,null,null,null,null,null,null,null,null,null,null,null,null,null,null,null,null,null,null,null,null,null,null,null,null,null,null,null,null,null,null,null,null,null,null,null,null,null,null,null,null,null,null,null,null,null,null,null,null,null,null,null,null,null,null,null,5403,"Arenaria montana","Linnaeus","Mountain Sandwort","Caryophyllaceae",null,5403,null,null,null,null,null,null,null,null,null,null,null,null,null,null,null,null,null,null,null,1317,1317,"Myoso arv","Myosotis arvensis",1317,null,"Myoso arv"]
["",1537,1465,null,"Phrag aus",null,"","","",null,null,null,null,null,null,null,null,null,"","","","","","","","","","","","",null,"","","","","","","","","","","","",null,null,null,null,null,null,null,null,null,null,null,null,null,null,null,null,null,null,null,null,null,null,null,null,null,null,null,null,null,null,null,null,null,null,null,null,null,null,null,null,null,null,null,null,null,null,null,null,null,null,null,null,null,null,null,null,null,null,null,null,null,null,null,null,null,null,null,null,null,null,null,null,null,null,null,null,null,null,null,null,null,null,null,null,null,null,null,null,null,null,null,null,null,null,null,null,null,null,null,null,null,null,null,null,null,null,null,null,null,null,null,null,null,179.2,"Asparagus prostratus","Dumort.","Wild Asparagus","Liliaceae","Endangered",179.2,null,null,null,null,null,null,null,null,null,null,null,null,null,null,null,null,null,null,null,1488,1488,"maj","Plantago major",1488,null,"maj"]
["",1548,1584,null,"Poten ans",null,"","","",null,null,null,null,null,null,null,null,null,"","","","","","","","","","","","",null,"","","","","","","","","","","","",null,null,null,null,null,null,null,null,null,null,null,null,null,null,null,null,null,null,null,null,null,null,null,null,null,null,null,null,null,null,null,null,null,null,null,null,null,null,null,null,null,null,null,null,null,null,null,null,null,null,null,null,null,null,null,null,null,null,null,null,null,null,null,null,null,null,null,null,null,null,null,null,null,null,null,null,null,null,null,null,null,null,null,null,null,null,null,null,null,null,null,null,null,null,null,null,null,null,null,null,null,null,null,null,null,null,null,null,null,null,null,null,null,7840,"Asplenium x staufferi",null,"A. trichomanes ssp. pachyrachis x ssp. quadrivalens","Aspleniaceae",null,7840,null,null,null,null,null,null,null,null,null,null,null,null,null,null,null,null,null,null,null,1607,1607,"vul","Primula vulgaris",1607,null,"vul"]
["",7533,3547,null,"nemo",null,"","","",null,null,null,null,null,null,null,null,null,"","","","","","","","","","","","",null,"","","","","","","","","","","","",null,null,null,null,null,null,null,null,null,null,null,null,null,null,null,null,null,null,null,null,null,null,null,null,null,null,null,null,null,null,null,null,null,null,null,null,null,null,null,null,null,null,null,null,null,null,null,null,null,null,null,null,null,null,null,null,null,null,null,null,null,null,null,null,null,null,null,null,null,null,null,null,null,null,null,null,null,null,null,null,null,null,null,null,null,null,null,null,null,null,null,null,null,null,null,null,null,null,null,null,null,null,null,null,null,null,null,null,null,null,null,null,null,2287,"Atriplex praecox","Huelph.","Early Orache","Chenopodiaceae","Nationally Scarce",2287,null,null,null,null,null,null,null,null,null,null,null,null,null,null,null,null,null,null,null,1742,1742,"crisp","Rumex crispus",1742,null,"crisp"]
["",1981,2021,null,"Succi pra",null,"","","",null,null,null,null,null,null,null,null,null,"","","","","","","","","","","","",null,"","","","","","","","","","","","",null,null,null,null,null,null,null,null,null,null,null,null,null,null,null,null,null,null,null,null,null,null,null,null,null,null,null,null,null,null,null,null,null,null,null,null,null,null,null,null,null,null,null,null,null,null,null,null,null,null,null,null,null,null,null,null,null,null,null,null,null,null,null,null,null,null,null,null,null,null,null,null,null,null,null,null,null,null,null,null,null,null,null,null,null,null,null,null,null,null,null,null,null,null,null,null,null,null,null,null,null,null,null,null,null,null,null,null,null,null,null,null,null,242.1,"Bidens tripartita var. tripartita",null,null,"Asteraceae",null,242.1,null,null,null,null,null,null,null,null,null,null,null,null,null,null,null,null,null,null,null,2046,2046,"Teucr scoro","Teucrium scorodonia",2046,null,"Teucr scoro"]
["",5459,2126,null,"Urtic dio",null,"","","",null,null,null,null,null,null,null,null,null,"","","","","","","","","","","","",null,"","","","","","","","","","","","",null,null,null,null,null,null,null,null,null,null,null,null,null,null,null,null,null,null,null,null,null,null,null,null,null,null,null,null,null,null,null,null,null,null,null,null,null,null,null,null,null,null,null,null,null,null,null,null,null,null,null,null,null,null,null,null,null,null,null,null,null,null,null,null,null,null,null,null,null,null,null,null,null,null,null,null,null,null,null,null,null,null,null,null,null,null,null,null,null,null,null,null,null,null,null,null,null,null,null,null,null,null,null,null,null,null,null,null,null,null,null,null,null,253.4,"Brassica oleracea var. capitata",null,null,"Brassicaceae",null,253.4,null,null,null,null,null,null,null,null,null,null,null,null,null,null,null,null,null,null,null,2161,2161,"Veron agr","Veronica agrestis",2161,null,"Veron agr"]
[null,null,null,null,null,null,null,null,null,null,null,null,null,null,null,null,null,null,null,null,null,null,null,null,null,null,null,null,null,null,null,null,null,null,null,null,null,null,null,null,null,null,null,null,null,null,null,null,null,null,null,null,null,null,null,null,null,null,null,null,null,null,null,null,null,null,null,null,null,null,null,null,null,null,null,null,null,null,null,null,null,null,null,null,null,null,null,null,null,null,null,null,null,null,null,null,null,null,null,null,null,null,null,null,null,null,null,null,null,null,null,null,null,null,null,null,null,null,null,null,null,null,null,null,null,null,null,null,null,null,null,null,null,null,null,null,null,null,null,null,null,null,null,null,null,null,null,null,null,null,null,null,null,null,null,null,6036,"Calepina irregularis","(Asso) Thell.","White Ball-mustard","Brassicaceae",null,6036]
[null,null,null,null,null,null,null,null,null,null,null,null,null,null,null,null,null,null,null,null,null,null,null,null,null,null,null,null,null,null,null,null,null,null,null,null,null,null,null,null,null,null,null,null,null,null,null,null,null,null,null,null,null,null,null,null,null,null,null,null,null,null,null,null,null,null,null,null,null,null,null,null,null,null,null,null,null,null,null,null,null,null,null,null,null,null,null,null,null,null,null,null,null,null,null,null,null,null,null,null,null,null,null,null,null,null,null,null,null,null,null,null,null,null,null,null,null,null,null,null,null,null,null,null,null,null,null,null,null,null,null,null,null,null,null,null,null,null,null,null,null,null,null,null,null,null,null,null,null,null,null,null,null,null,null,null,311.39999999999998,"Calystegia sepium subsp. sepium f. colorata",null,"Hedge Bindweed (Pink Form)","Convolvulaceae",null,311.39999999999998]
[null,null,null,null,null,null,null,null,null,null,null,null,null,null,null,null,null,null,null,null,null,null,null,null,null,null,null,null,null,null,null,null,null,null,null,null,null,null,null,null,null,null,null,null,null,null,null,null,null,null,null,null,null,null,null,null,null,null,null,null,null,null,null,null,null,null,null,null,null,null,null,null,null,null,null,null,null,null,null,null,null,null,null,null,null,null,null,null,null,null,null,null,null,null,null,null,null,null,null,null,null,null,null,null,null,null,null,null,null,null,null,null,null,null,null,null,null,null,null,null,null,null,null,null,null,null,null,null,null,null,null,null,null,null,null,null,null,null,null,null,null,null,null,null,null,null,null,null,null,null,null,null,null,null,null,null,340,"Carex acuta","L.","Slender Tufted-sedge","Cyperaceae",null,340]
[null,null,null,null,null,null,null,null,null,null,null,null,null,null,null,null,null,null,null,null,null,null,null,null,null,null,null,null,null,null,null,null,null,null,null,null,null,null,null,null,null,null,null,null,null,null,null,null,null,null,null,null,null,null,null,null,null,null,null,null,null,null,null,null,null,null,null,null,null,null,null,null,null,null,null,null,null,null,null,null,null,null,null,null,null,null,null,null,null,null,null,null,null,null,null,null,null,null,null,null,null,null,null,null,null,null,null,null,null,null,null,null,null,null,null,null,null,null,null,null,null,null,null,null,null,null,null,null,null,null,null,null,null,null,null,null,null,null,null,null,null,null,null,null,null,null,null,null,null,null,null,null,null,null,null,null,379,"Carex glacialis","Mack.",null,"Cyperaceae",null,379]
[null,null,null,null,null,null,null,null,null,null,null,null,null,null,null,null,null,null,null,null,null,null,null,null,null,null,null,null,null,null,null,null,null,null,null,null,null,null,null,null,null,null,null,null,null,null,null,null,null,null,null,null,null,null,null,null,null,null,null,null,null,null,null,null,null,null,null,null,null,null,null,null,null,null,null,null,null,null,null,null,null,null,null,null,null,null,null,null,null,null,null,null,null,null,null,null,null,null,null,null,null,null,null,null,null,null,null,null,null,null,null,null,null,null,null,null,null,null,null,null,null,null,null,null,null,null,null,null,null,null,null,null,null,null,null,null,null,null,null,null,null,null,null,null,null,null,null,null,null,null,null,null,null,null,null,null,396,"Carex otrubae","Podp.","False Fox-sedge","Cyperaceae",null,396]
[null,null,null,null,null,null,null,null,null,null,null,null,null,null,null,null,null,null,null,null,null,null,null,null,null,null,null,null,null,null,null,null,null,null,null,null,null,null,null,null,null,null,null,null,null,null,null,null,null,null,null,null,null,null,null,null,null,null,null,null,null,null,null,null,null,null,null,null,null,null,null,null,null,null,null,null,null,null,null,null,null,null,null,null,null,null,null,null,null,null,null,null,null,null,null,null,null,null,null,null,null,null,null,null,null,null,null,null,null,null,null,null,null,null,null,null,null,null,null,null,null,null,null,null,null,null,null,null,null,null,null,null,null,null,null,null,null,null,null,null,null,null,null,null,null,null,null,null,null,null,null,null,null,null,null,null,2980,"Cedrus libani subsp. libani",null,"Cedar of Lebanon","Pinaceae",null,2980]
[null,null,null,null,null,null,null,null,null,null,null,null,null,null,null,null,null,null,null,null,null,null,null,null,null,null,null,null,null,null,null,null,null,null,null,null,null,null,null,null,null,null,null,null,null,null,null,null,null,null,null,null,null,null,null,null,null,null,null,null,null,null,null,null,null,null,null,null,null,null,null,null,null,null,null,null,null,null,null,null,null,null,null,null,null,null,null,null,null,null,null,null,null,null,null,null,null,null,null,null,null,null,null,null,null,null,null,null,null,null,null,null,null,null,null,null,null,null,null,null,null,null,null,null,null,null,null,null,null,null,null,null,null,null,null,null,null,null,null,null,null,null,null,null,null,null,null,null,null,null,null,null,null,null,null,null,456,"Centunculus minimus","L.","Chaffweed","Primulaceae","Near Threatened",456]
[null,null,null,null,null,null,null,null,null,null,null,null,null,null,null,null,null,null,null,null,null,null,null,null,null,null,null,null,null,null,null,null,null,null,null,null,null,null,null,null,null,null,null,null,null,null,null,null,null,null,null,null,null,null,null,null,null,null,null,null,null,null,null,null,null,null,null,null,null,null,null,null,null,null,null,null,null,null,null,null,null,null,null,null,null,null,null,null,null,null,null,null,null,null,null,null,null,null,null,null,null,null,null,null,null,null,null,null,null,null,null,null,null,null,null,null,null,null,null,null,null,null,null,null,null,null,null,null,null,null,null,null,null,null,null,null,null,null,null,null,null,null,null,null,null,null,null,null,null,null,null,null,null,null,null,null,477,"Chamerion angustifolium","(L.) Holub","Rosebay Willowherb","Onagraceae",null,477]
[null,null,null,null,null,null,null,null,null,null,null,null,null,null,null,null,null,null,null,null,null,null,null,null,null,null,null,null,null,null,null,null,null,null,null,null,null,null,null,null,null,null,null,null,null,null,null,null,null,null,null,null,null,null,null,null,null,null,null,null,null,null,null,null,null,null,null,null,null,null,null,null,null,null,null,null,null,null,null,null,null,null,null,null,null,null,null,null,null,null,null,null,null,null,null,null,null,null,null,null,null,null,null,null,null,null,null,null,null,null,null,null,null,null,null,null,null,null,null,null,null,null,null,null,null,null,null,null,null,null,null,null,null,null,null,null,null,null,null,null,null,null,null,null,null,null,null,null,null,null,null,null,null,null,null,null,106,"Chara fragifera","Durieu","Strawberry Stonewort","Characeae","RDB3",106]
[null,null,null,null,null,null,null,null,null,null,null,null,null,null,null,null,null,null,null,null,null,null,null,null,null,null,null,null,null,null,null,null,null,null,null,null,null,null,null,null,null,null,null,null,null,null,null,null,null,null,null,null,null,null,null,null,null,null,null,null,null,null,null,null,null,null,null,null,null,null,null,null,null,null,null,null,null,null,null,null,null,null,null,null,null,null,null,null,null,null,null,null,null,null,null,null,null,null,null,null,null,null,null,null,null,null,null,null,null,null,null,null,null,null,null,null,null,null,null,null,null,null,null,null,null,null,null,null,null,null,null,null,null,null,null,null,null,null,null,null,null,null,null,null,null,null,null,null,null,null,null,null,null,null,null,null,4482,"Chorispora tenella",null,null,"Brassicaceae",null,4482]
[null,null,null,null,null,null,null,null,null,null,null,null,null,null,null,null,null,null,null,null,null,null,null,null,null,null,null,null,null,null,null,null,null,null,null,null,null,null,null,null,null,null,null,null,null,null,null,null,null,null,null,null,null,null,null,null,null,null,null,null,null,null,null,null,null,null,null,null,null,null,null,null,null,null,null,null,null,null,null,null,null,null,null,null,null,null,null,null,null,null,null,null,null,null,null,null,null,null,null,null,null,null,null,null,null,null,null,null,null,null,null,null,null,null,null,null,null,null,null,null,null,null,null,null,null,null,null,null,null,null,null,null,null,null,null,null,null,null,null,null,null,null,null,null,null,null,null,null,null,null,null,null,null,null,null,null,527,"Clematis montana","Buch.-Ham. ex DC.","Himalayan Clematis","Ranunculaceae",null,527]
[null,null,null,null,null,null,null,null,null,null,null,null,null,null,null,null,null,null,null,null,null,null,null,null,null,null,null,null,null,null,null,null,null,null,null,null,null,null,null,null,null,null,null,null,null,null,null,null,null,null,null,null,null,null,null,null,null,null,null,null,null,null,null,null,null,null,null,null,null,null,null,null,null,null,null,null,null,null,null,null,null,null,null,null,null,null,null,null,null,null,null,null,null,null,null,null,null,null,null,null,null,null,null,null,null,null,null,null,null,null,null,null,null,null,null,null,null,null,null,null,null,null,null,null,null,null,null,null,null,null,null,null,null,null,null,null,null,null,null,null,null,null,null,null,null,null,null,null,null,null,null,null,null,null,null,null,3340,"Correa backhouseana","Hook.","Tasmanian-fuchsia","Rutaceae",null,3340]
[null,null,null,null,null,null,null,null,null,null,null,null,null,null,null,null,null,null,null,null,null,null,null,null,null,null,null,null,null,null,null,null,null,null,null,null,null,null,null,null,null,null,null,null,null,null,null,null,null,null,null,null,null,null,null,null,null,null,null,null,null,null,null,null,null,null,null,null,null,null,null,null,null,null,null,null,null,null,null,null,null,null,null,null,null,null,null,null,null,null,null,null,null,null,null,null,null,null,null,null,null,null,null,null,null,null,null,null,null,null,null,null,null,null,null,null,null,null,null,null,null,null,null,null,null,null,null,null,null,null,null,null,null,null,null,null,null,null,null,null,null,null,null,null,null,null,null,null,null,null,null,null,null,null,null,null,2944,"Cotoneaster lucidus","Schld.","Shiny Cotoneaster","Rosaceae",null,2944]
[null,null,null,null,null,null,null,null,null,null,null,null,null,null,null,null,null,null,null,null,null,null,null,null,null,null,null,null,null,null,null,null,null,null,null,null,null,null,null,null,null,null,null,null,null,null,null,null,null,null,null,null,null,null,null,null,null,null,null,null,null,null,null,null,null,null,null,null,null,null,null,null,null,null,null,null,null,null,null,null,null,null,null,null,null,null,null,null,null,null,null,null,null,null,null,null,null,null,null,null,null,null,null,null,null,null,null,null,null,null,null,null,null,null,null,null,null,null,null,null,null,null,null,null,null,null,null,null,null,null,null,null,null,null,null,null,null,null,null,null,null,null,null,null,null,null,null,null,null,null,null,null,null,null,null,null,3382,"Cotoneaster mairei","H. Lev","Maire's Cotoneaster","Rosaceae",null,3382]
[null,null,null,null,null,null,null,null,null,null,null,null,null,null,null,null,null,null,null,null,null,null,null,null,null,null,null,null,null,null,null,null,null,null,null,null,null,null,null,null,null,null,null,null,null,null,null,null,null,null,null,null,null,null,null,null,null,null,null,null,null,null,null,null,null,null,null,null,null,null,null,null,null,null,null,null,null,null,null,null,null,null,null,null,null,null,null,null,null,null,null,null,null,null,null,null,null,null,null,null,null,null,null,null,null,null,null,null,null,null,null,null,null,null,null,null,null,null,null,null,null,null,null,null,null,null,null,null,null,null,null,null,null,null,null,null,null,null,null,null,null,null,null,null,null,null,null,null,null,null,null,null,null,null,null,null,7256,"Crataegus heterophylla","Fluegge","Various-leaved Hawthorn","Rosaceae",null,7256]
[null,null,null,null,null,null,null,null,null,null,null,null,null,null,null,null,null,null,null,null,null,null,null,null,null,null,null,null,null,null,null,null,null,null,null,null,null,null,null,null,null,null,null,null,null,null,null,null,null,null,null,null,null,null,null,null,null,null,null,null,null,null,null,null,null,null,null,null,null,null,null,null,null,null,null,null,null,null,null,null,null,null,null,null,null,null,null,null,null,null,null,null,null,null,null,null,null,null,null,null,null,null,null,null,null,null,null,null,null,null,null,null,null,null,null,null,null,null,null,null,null,null,null,null,null,null,null,null,null,null,null,null,null,null,null,null,null,null,null,null,null,null,null,null,null,null,null,null,null,null,null,null,null,null,null,null,594,"Cynodon dactylon","(L.) Pers.","Bermuda-grass","Poaceae","Rare",594]
[null,null,null,null,null,null,null,null,null,null,null,null,null,null,null,null,null,null,null,null,null,null,null,null,null,null,null,null,null,null,null,null,null,null,null,null,null,null,null,null,null,null,null,null,null,null,null,null,null,null,null,null,null,null,null,null,null,null,null,null,null,null,null,null,null,null,null,null,null,null,null,null,null,null,null,null,null,null,null,null,null,null,null,null,null,null,null,null,null,null,null,null,null,null,null,null,null,null,null,null,null,null,null,null,null,null,null,null,null,null,null,null,null,null,null,null,null,null,null,null,null,null,null,null,null,null,null,null,null,null,null,null,null,null,null,null,null,null,null,null,null,null,null,null,null,null,null,null,null,null,null,null,null,null,null,null,611.4,"Dactylorhiza majalis subsp. scotica",null,null,"Orchidaceae",null,611.4]
[null,null,null,null,null,null,null,null,null,null,null,null,null,null,null,null,null,null,null,null,null,null,null,null,null,null,null,null,null,null,null,null,null,null,null,null,null,null,null,null,null,null,null,null,null,null,null,null,null,null,null,null,null,null,null,null,null,null,null,null,null,null,null,null,null,null,null,null,null,null,null,null,null,null,null,null,null,null,null,null,null,null,null,null,null,null,null,null,null,null,null,null,null,null,null,null,null,null,null,null,null,null,null,null,null,null,null,null,null,null,null,null,null,null,null,null,null,null,null,null,null,null,null,null,null,null,null,null,null,null,null,null,null,null,null,null,null,null,null,null,null,null,null,null,null,null,null,null,null,null,null,null,null,null,null,null,619.29999999999995,"Datura stramonium var. chalybaea","W.D.J. Koch","Purple-flowered Thorn-apple","Solanaceae",null,619.29999999999995]
[null,null,null,null,null,null,null,null,null,null,null,null,null,null,null,null,null,null,null,null,null,null,null,null,null,null,null,null,null,null,null,null,null,null,null,null,null,null,null,null,null,null,null,null,null,null,null,null,null,null,null,null,null,null,null,null,null,null,null,null,null,null,null,null,null,null,null,null,null,null,null,null,null,null,null,null,null,null,null,null,null,null,null,null,null,null,null,null,null,null,null,null,null,null,null,null,null,null,null,null,null,null,null,null,null,null,null,null,null,null,null,null,null,null,null,null,null,null,null,null,null,null,null,null,null,null,null,null,null,null,null,null,null,null,null,null,null,null,null,null,null,null,null,null,null,null,null,null,null,null,null,null,null,null,null,null,644,"Diplotaxis muralis","(L.) DC.","Annual Wall-rocket","Brassicaceae",null,644]
[null,null,null,null,null,null,null,null,null,null,null,null,null,null,null,null,null,null,null,null,null,null,null,null,null,null,null,null,null,null,null,null,null,null,null,null,null,null,null,null,null,null,null,null,null,null,null,null,null,null,null,null,null,null,null,null,null,null,null,null,null,null,null,null,null,null,null,null,null,null,null,null,null,null,null,null,null,null,null,null,null,null,null,null,null,null,null,null,null,null,null,null,null,null,null,null,null,null,null,null,null,null,null,null,null,null,null,null,null,null,null,null,null,null,null,null,null,null,null,null,null,null,null,null,null,null,null,null,null,null,null,null,null,null,null,null,null,null,null,null,null,null,null,null,null,null,null,null,null,null,null,null,null,null,null,null,7285,"Echium pininana","Webb & Bernh.","Giant Viper's-bugloss","Boraginaceae",null,7285]
[null,null,null,null,null,null,null,null,null,null,null,null,null,null,null,null,null,null,null,null,null,null,null,null,null,null,null,null,null,null,null,null,null,null,null,null,null,null,null,null,null,null,null,null,null,null,null,null,null,null,null,null,null,null,null,null,null,null,null,null,null,null,null,null,null,null,null,null,null,null,null,null,null,null,null,null,null,null,null,null,null,null,null,null,null,null,null,null,null,null,null,null,null,null,null,null,null,null,null,null,null,null,null,null,null,null,null,null,null,null,null,null,null,null,null,null,null,null,null,null,null,null,null,null,null,null,null,null,null,null,null,null,null,null,null,null,null,null,null,null,null,null,null,null,null,null,null,null,null,null,null,null,null,null,null,null,3228,"Eleusine multiflora","A.Rich","Fat-spiked Yard-grass","Poaceae",null,3228]
[null,null,null,null,null,null,null,null,null,null,null,null,null,null,null,null,null,null,null,null,null,null,null,null,null,null,null,null,null,null,null,null,null,null,null,null,null,null,null,null,null,null,null,null,null,null,null,null,null,null,null,null,null,null,null,null,null,null,null,null,null,null,null,null,null,null,null,null,null,null,null,null,null,null,null,null,null,null,null,null,null,null,null,null,null,null,null,null,null,null,null,null,null,null,null,null,null,null,null,null,null,null,null,null,null,null,null,null,null,null,null,null,null,null,null,null,null,null,null,null,null,null,null,null,null,null,null,null,null,null,null,null,null,null,null,null,null,null,null,null,null,null,null,null,null,null,null,null,null,null,null,null,null,null,null,null,2783,"Epilobium x mentiens","Smejkal","E. tetragonum x ciliatum","Onagraceae",null,2783]
[null,null,null,null,null,null,null,null,null,null,null,null,null,null,null,null,null,null,null,null,null,null,null,null,null,null,null,null,null,null,null,null,null,null,null,null,null,null,null,null,null,null,null,null,null,null,null,null,null,null,null,null,null,null,null,null,null,null,null,null,null,null,null,null,null,null,null,null,null,null,null,null,null,null,null,null,null,null,null,null,null,null,null,null,null,null,null,null,null,null,null,null,null,null,null,null,null,null,null,null,null,null,null,null,null,null,null,null,null,null,null,null,null,null,null,null,null,null,null,null,null,null,null,null,null,null,null,null,null,null,null,null,null,null,null,null,null,null,null,null,null,null,null,null,null,null,null,null,null,null,null,null,null,null,null,null,710,"Epipactis purpurata","Sm.","Violet Helleborine","Orchidaceae",null,710]
[null,null,null,null,null,null,null,null,null,null,null,null,null,null,null,null,null,null,null,null,null,null,null,null,null,null,null,null,null,null,null,null,null,null,null,null,null,null,null,null,null,null,null,null,null,null,null,null,null,null,null,null,null,null,null,null,null,null,null,null,null,null,null,null,null,null,null,null,null,null,null,null,null,null,null,null,null,null,null,null,null,null,null,null,null,null,null,null,null,null,null,null,null,null,null,null,null,null,null,null,null,null,null,null,null,null,null,null,null,null,null,null,null,null,null,null,null,null,null,null,null,null,null,null,null,null,null,null,null,null,null,null,null,null,null,null,null,null,null,null,null,null,null,null,null,null,null,null,null,null,null,null,null,null,null,null,740,"Eriophorum angustifolium","Honck.","Common Cottongrass","Cyperaceae",null,740]
[null,null,null,null,null,null,null,null,null,null,null,null,null,null,null,null,null,null,null,null,null,null,null,null,null,null,null,null,null,null,null,null,null,null,null,null,null,null,null,null,null,null,null,null,null,null,null,null,null,null,null,null,null,null,null,null,null,null,null,null,null,null,null,null,null,null,null,null,null,null,null,null,null,null,null,null,null,null,null,null,null,null,null,null,null,null,null,null,null,null,null,null,null,null,null,null,null,null,null,null,null,null,null,null,null,null,null,null,null,null,null,null,null,null,null,null,null,null,null,null,null,null,null,null,null,null,null,null,null,null,null,null,null,null,null,null,null,null,null,null,null,null,null,null,null,null,null,null,null,null,null,null,null,null,null,null,3439,"Erythronium dens-canis",null,"Dog's-tooth-violet","Liliaceae",null,3439]
[null,null,null,null,null,null,null,null,null,null,null,null,null,null,null,null,null,null,null,null,null,null,null,null,null,null,null,null,null,null,null,null,null,null,null,null,null,null,null,null,null,null,null,null,null,null,null,null,null,null,null,null,null,null,null,null,null,null,null,null,null,null,null,null,null,null,null,null,null,null,null,null,null,null,null,null,null,null,null,null,null,null,null,null,null,null,null,null,null,null,null,null,null,null,null,null,null,null,null,null,null,null,null,null,null,null,null,null,null,null,null,null,null,null,null,null,null,null,null,null,null,null,null,null,null,null,null,null,null,null,null,null,null,null,null,null,null,null,null,null,null,null,null,null,null,null,null,null,null,null,null,null,null,null,null,null,7121.2,"Euphorbia characias subsp. veneta","(Willd.) Litard",null,"Euphorbiaceae",null,7121.2]
[null,null,null,null,null,null,null,null,null,null,null,null,null,null,null,null,null,null,null,null,null,null,null,null,null,null,null,null,null,null,null,null,null,null,null,null,null,null,null,null,null,null,null,null,null,null,null,null,null,null,null,null,null,null,null,null,null,null,null,null,null,null,null,null,null,null,null,null,null,null,null,null,null,null,null,null,null,null,null,null,null,null,null,null,null,null,null,null,null,null,null,null,null,null,null,null,null,null,null,null,null,null,null,null,null,null,null,null,null,null,null,null,null,null,null,null,null,null,null,null,null,null,null,null,null,null,null,null,null,null,null,null,null,null,null,null,null,null,null,null,null,null,null,null,null,null,null,null,null,null,null,null,null,null,null,null,7307,"Euphrasia officinalis subsb. anglica x arctica",null,null,"Scrophulariaceae",null,7307]
[null,null,null,null,null,null,null,null,null,null,null,null,null,null,null,null,null,null,null,null,null,null,null,null,null,null,null,null,null,null,null,null,null,null,null,null,null,null,null,null,null,null,null,null,null,null,null,null,null,null,null,null,null,null,null,null,null,null,null,null,null,null,null,null,null,null,null,null,null,null,null,null,null,null,null,null,null,null,null,null,null,null,null,null,null,null,null,null,null,null,null,null,null,null,null,null,null,null,null,null,null,null,null,null,null,null,null,null,null,null,null,null,null,null,null,null,null,null,null,null,null,null,null,null,null,null,null,null,null,null,null,null,null,null,null,null,null,null,null,null,null,null,null,null,null,null,null,null,null,null,null,null,null,null,null,null,811,"Falcaria vulgaris","Bernh.","Longleaf","Apiaceae",null,811]
[null,null,null,null,null,null,null,null,null,null,null,null,null,null,null,null,null,null,null,null,null,null,null,null,null,null,null,null,null,null,null,null,null,null,null,null,null,null,null,null,null,null,null,null,null,null,null,null,null,null,null,null,null,null,null,null,null,null,null,null,null,null,null,null,null,null,null,null,null,null,null,null,null,null,null,null,null,null,null,null,null,null,null,null,null,null,null,null,null,null,null,null,null,null,null,null,null,null,null,null,null,null,null,null,null,null,null,null,null,null,null,null,null,null,null,null,null,null,null,null,null,null,null,null,null,null,null,null,null,null,null,null,null,null,null,null,null,null,null,null,null,null,null,null,null,null,null,null,null,null,null,null,null,null,null,null,828,"Filago arvensis","Linnaeus","Field Cudweed","Asteraceae",null,828]
[null,null,null,null,null,null,null,null,null,null,null,null,null,null,null,null,null,null,null,null,null,null,null,null,null,null,null,null,null,null,null,null,null,null,null,null,null,null,null,null,null,null,null,null,null,null,null,null,null,null,null,null,null,null,null,null,null,null,null,null,null,null,null,null,null,null,null,null,null,null,null,null,null,null,null,null,null,null,null,null,null,null,null,null,null,null,null,null,null,null,null,null,null,null,null,null,null,null,null,null,null,null,null,null,null,null,null,null,null,null,null,null,null,null,null,null,null,null,null,null,null,null,null,null,null,null,null,null,null,null,null,null,null,null,null,null,null,null,null,null,null,null,null,null,null,null,null,null,null,null,null,null,null,null,null,null,839,"Frangula alnus","Miller","Alder Buckthorn","Rhamnaceae",null,839]
[null,null,null,null,null,null,null,null,null,null,null,null,null,null,null,null,null,null,null,null,null,null,null,null,null,null,null,null,null,null,null,null,null,null,null,null,null,null,null,null,null,null,null,null,null,null,null,null,null,null,null,null,null,null,null,null,null,null,null,null,null,null,null,null,null,null,null,null,null,null,null,null,null,null,null,null,null,null,null,null,null,null,null,null,null,null,null,null,null,null,null,null,null,null,null,null,null,null,null,null,null,null,null,null,null,null,null,null,null,null,null,null,null,null,null,null,null,null,null,null,null,null,null,null,null,null,null,null,null,null,null,null,null,null,null,null,null,null,null,null,null,null,null,null,null,null,null,null,null,null,null,null,null,null,null,null,863,"Galeopsis angustifolia","Ehrh. ex Hoffm.","Red Hemp-nettle","Lamiaceae","Critically endangered",863]
[null,null,null,null,null,null,null,null,null,null,null,null,null,null,null,null,null,null,null,null,null,null,null,null,null,null,null,null,null,null,null,null,null,null,null,null,null,null,null,null,null,null,null,null,null,null,null,null,null,null,null,null,null,null,null,null,null,null,null,null,null,null,null,null,null,null,null,null,null,null,null,null,null,null,null,null,null,null,null,null,null,null,null,null,null,null,null,null,null,null,null,null,null,null,null,null,null,null,null,null,null,null,null,null,null,null,null,null,null,null,null,null,null,null,null,null,null,null,null,null,null,null,null,null,null,null,null,null,null,null,null,null,null,null,null,null,null,null,null,null,null,null,null,null,null,null,null,null,null,null,null,null,null,null,null,null,893,"Genista tinctoria","Linnaeus","Dyer's Greenweed","Fabaceae",null,893]
[null,null,null,null,null,null,null,null,null,null,null,null,null,null,null,null,null,null,null,null,null,null,null,null,null,null,null,null,null,null,null,null,null,null,null,null,null,null,null,null,null,null,null,null,null,null,null,null,null,null,null,null,null,null,null,null,null,null,null,null,null,null,null,null,null,null,null,null,null,null,null,null,null,null,null,null,null,null,null,null,null,null,null,null,null,null,null,null,null,null,null,null,null,null,null,null,null,null,null,null,null,null,null,null,null,null,null,null,null,null,null,null,null,null,null,null,null,null,null,null,null,null,null,null,null,null,null,null,null,null,null,null,null,null,null,null,null,null,null,null,null,null,null,null,null,null,null,null,null,null,null,null,null,null,null,null,923,"Geum x intermedium","Ehrh.","G. rivale x urbanum","Rosaceae",null,923]
[null,null,null,null,null,null,null,null,null,null,null,null,null,null,null,null,null,null,null,null,null,null,null,null,null,null,null,null,null,null,null,null,null,null,null,null,null,null,null,null,null,null,null,null,null,null,null,null,null,null,null,null,null,null,null,null,null,null,null,null,null,null,null,null,null,null,null,null,null,null,null,null,null,null,null,null,null,null,null,null,null,null,null,null,null,null,null,null,null,null,null,null,null,null,null,null,null,null,null,null,null,null,null,null,null,null,null,null,null,null,null,null,null,null,null,null,null,null,null,null,null,null,null,null,null,null,null,null,null,null,null,null,null,null,null,null,null,null,null,null,null,null,null,null,null,null,null,null,null,null,null,null,null,null,null,null,954.3,"Helianthemum oelandicum subsp. piloselloides","(Lapeyr.) Greuter & Burdet",null,"Cistaceae",null,954.3]
[null,null,null,null,null,null,null,null,null,null,null,null,null,null,null,null,null,null,null,null,null,null,null,null,null,null,null,null,null,null,null,null,null,null,null,null,null,null,null,null,null,null,null,null,null,null,null,null,null,null,null,null,null,null,null,null,null,null,null,null,null,null,null,null,null,null,null,null,null,null,null,null,null,null,null,null,null,null,null,null,null,null,null,null,null,null,null,null,null,null,null,null,null,null,null,null,null,null,null,null,null,null,null,null,null,null,null,null,null,null,null,null,null,null,null,null,null,null,null,null,null,null,null,null,null,null,null,null,null,null,null,null,null,null,null,null,null,null,null,null,null,null,null,null,null,null,null,null,null,null,null,null,null,null,null,null,3003,"Hieracium alpinum","L.","Alpine Hawkweed","Hieracium microspecies",null,3003]
[null,null,null,null,null,null,null,null,null,null,null,null,null,null,null,null,null,null,null,null,null,null,null,null,null,null,null,null,null,null,null,null,null,null,null,null,null,null,null,null,null,null,null,null,null,null,null,null,null,null,null,null,null,null,null,null,null,null,null,null,null,null,null,null,null,null,null,null,null,null,null,null,null,null,null,null,null,null,null,null,null,null,null,null,null,null,null,null,null,null,null,null,null,null,null,null,null,null,null,null,null,null,null,null,null,null,null,null,null,null,null,null,null,null,null,null,null,null,null,null,null,null,null,null,null,null,null,null,null,null,null,null,null,null,null,null,null,null,null,null,null,null,null,null,null,null,null,null,null,null,null,null,null,null,null,null,3025,"Hieracium borreri","Syme","Borrer's Hawkweed","Hieracium microspecies",null,3025]
[null,null,null,null,null,null,null,null,null,null,null,null,null,null,null,null,null,null,null,null,null,null,null,null,null,null,null,null,null,null,null,null,null,null,null,null,null,null,null,null,null,null,null,null,null,null,null,null,null,null,null,null,null,null,null,null,null,null,null,null,null,null,null,null,null,null,null,null,null,null,null,null,null,null,null,null,null,null,null,null,null,null,null,null,null,null,null,null,null,null,null,null,null,null,null,null,null,null,null,null,null,null,null,null,null,null,null,null,null,null,null,null,null,null,null,null,null,null,null,null,null,null,null,null,null,null,null,null,null,null,null,null,null,null,null,null,null,null,null,null,null,null,null,null,null,null,null,null,null,null,null,null,null,null,null,null,3049,"Hieracium chloranthum","Pugsley ex P.D. Sell","Green-flowered Hawkweed","Hieracium microspecies",null,3049]
[null,null,null,null,null,null,null,null,null,null,null,null,null,null,null,null,null,null,null,null,null,null,null,null,null,null,null,null,null,null,null,null,null,null,null,null,null,null,null,null,null,null,null,null,null,null,null,null,null,null,null,null,null,null,null,null,null,null,null,null,null,null,null,null,null,null,null,null,null,null,null,null,null,null,null,null,null,null,null,null,null,null,null,null,null,null,null,null,null,null,null,null,null,null,null,null,null,null,null,null,null,null,null,null,null,null,null,null,null,null,null,null,null,null,null,null,null,null,null,null,null,null,null,null,null,null,null,null,null,null,null,null,null,null,null,null,null,null,null,null,null,null,null,null,null,null,null,null,null,null,null,null,null,null,null,null,3079,"Hieracium eustales","E.F. Linton","Floccose-bracted Hawkweed","Hieracium microspecies","Rare",3079]
[null,null,null,null,null,null,null,null,null,null,null,null,null,null,null,null,null,null,null,null,null,null,null,null,null,null,null,null,null,null,null,null,null,null,null,null,null,null,null,null,null,null,null,null,null,null,null,null,null,null,null,null,null,null,null,null,null,null,null,null,null,null,null,null,null,null,null,null,null,null,null,null,null,null,null,null,null,null,null,null,null,null,null,null,null,null,null,null,null,null,null,null,null,null,null,null,null,null,null,null,null,null,null,null,null,null,null,null,null,null,null,null,null,null,null,null,null,null,null,null,null,null,null,null,null,null,null,null,null,null,null,null,null,null,null,null,null,null,null,null,null,null,null,null,null,null,null,null,null,null,null,null,null,null,null,null,3091,"Hieracium gracilifolium agg.",null,"A hawkweed","Hieracium microspecies",null,3091]
[null,null,null,null,null,null,null,null,null,null,null,null,null,null,null,null,null,null,null,null,null,null,null,null,null,null,null,null,null,null,null,null,null,null,null,null,null,null,null,null,null,null,null,null,null,null,null,null,null,null,null,null,null,null,null,null,null,null,null,null,null,null,null,null,null,null,null,null,null,null,null,null,null,null,null,null,null,null,null,null,null,null,null,null,null,null,null,null,null,null,null,null,null,null,null,null,null,null,null,null,null,null,null,null,null,null,null,null,null,null,null,null,null,null,null,null,null,null,null,null,null,null,null,null,null,null,null,null,null,null,null,null,null,null,null,null,null,null,null,null,null,null,null,null,null,null,null,null,null,null,null,null,null,null,null,null,"No BRC","Hieracium liljeholmii","Dahlst.","Liljholm's Hawkweed","Hieracium microspecies",null,"No BRC"]
[null,null,null,null,null,null,null,null,null,null,null,null,null,null,null,null,null,null,null,null,null,null,null,null,null,null,null,null,null,null,null,null,null,null,null,null,null,null,null,null,null,null,null,null,null,null,null,null,null,null,null,null,null,null,null,null,null,null,null,null,null,null,null,null,null,null,null,null,null,null,null,null,null,null,null,null,null,null,null,null,null,null,null,null,null,null,null,null,null,null,null,null,null,null,null,null,null,null,null,null,null,null,null,null,null,null,null,null,null,null,null,null,null,null,null,null,null,null,null,null,null,null,null,null,null,null,null,null,null,null,null,null,null,null,null,null,null,null,null,null,null,null,null,null,null,null,null,null,null,null,null,null,null,null,null,null,3162,"Hieracium pseudanglicum","Pugsley","Upland Hawkweed","Hieracium microspecies",null,3162]
[null,null,null,null,null,null,null,null,null,null,null,null,null,null,null,null,null,null,null,null,null,null,null,null,null,null,null,null,null,null,null,null,null,null,null,null,null,null,null,null,null,null,null,null,null,null,null,null,null,null,null,null,null,null,null,null,null,null,null,null,null,null,null,null,null,null,null,null,null,null,null,null,null,null,null,null,null,null,null,null,null,null,null,null,null,null,null,null,null,null,null,null,null,null,null,null,null,null,null,null,null,null,null,null,null,null,null,null,null,null,null,null,null,null,null,null,null,null,null,null,null,null,null,null,null,null,null,null,null,null,null,null,null,null,null,null,null,null,null,null,null,null,null,null,null,null,null,null,null,null,null,null,null,null,null,null,"No BRC","Hieracium rubiginosum","F. Hanb.","Rusty-red Hawkweed","Hieracium microspecies",null,"No BRC"]
[null,null,null,null,null,null,null,null,null,null,null,null,null,null,null,null,null,null,null,null,null,null,null,null,null,null,null,null,null,null,null,null,null,null,null,null,null,null,null,null,null,null,null,null,null,null,null,null,null,null,null,null,null,null,null,null,null,null,null,null,null,null,null,null,null,null,null,null,null,null,null,null,null,null,null,null,null,null,null,null,null,null,null,null,null,null,null,null,null,null,null,null,null,null,null,null,null,null,null,null,null,null,null,null,null,null,null,null,null,null,null,null,null,null,null,null,null,null,null,null,null,null,null,null,null,null,null,null,null,null,null,null,null,null,null,null,null,null,null,null,null,null,null,null,null,null,null,null,null,null,null,null,null,null,null,null,3219,"Hieracium subramosum","Loennr.","Pettycur Hawkweed","Hieracium microspecies",null,3219]
[null,null,null,null,null,null,null,null,null,null,null,null,null,null,null,null,null,null,null,null,null,null,null,null,null,null,null,null,null,null,null,null,null,null,null,null,null,null,null,null,null,null,null,null,null,null,null,null,null,null,null,null,null,null,null,null,null,null,null,null,null,null,null,null,null,null,null,null,null,null,null,null,null,null,null,null,null,null,null,null,null,null,null,null,null,null,null,null,null,null,null,null,null,null,null,null,null,null,null,null,null,null,null,null,null,null,null,null,null,null,null,null,null,null,null,null,null,null,null,null,null,null,null,null,null,null,null,null,null,null,null,null,null,null,null,null,null,null,null,null,null,null,null,null,null,null,null,null,null,null,null,null,null,null,null,null,"No BRC","Hieracium umbellatum subsp. ogwenii","(E.F. Linton) W.R. Linton","Umbellate Hawkweed","Hieracium microspecies",null,"No BRC"]
[null,null,null,null,null,null,null,null,null,null,null,null,null,null,null,null,null,null,null,null,null,null,null,null,null,null,null,null,null,null,null,null,null,null,null,null,null,null,null,null,null,null,null,null,null,null,null,null,null,null,null,null,null,null,null,null,null,null,null,null,null,null,null,null,null,null,null,null,null,null,null,null,null,null,null,null,null,null,null,null,null,null,null,null,null,null,null,null,null,null,null,null,null,null,null,null,null,null,null,null,null,null,null,null,null,null,null,null,null,null,null,null,null,null,null,null,null,null,null,null,null,null,null,null,null,null,null,null,null,null,null,null,null,null,null,null,null,null,null,null,null,null,null,null,null,null,null,null,null,null,null,null,null,null,null,null,8282,"Hordeum vulgare","Linnaeus","Six-rowed Barley","Poaceae",null,8282]
[null,null,null,null,null,null,null,null,null,null,null,null,null,null,null,null,null,null,null,null,null,null,null,null,null,null,null,null,null,null,null,null,null,null,null,null,null,null,null,null,null,null,null,null,null,null,null,null,null,null,null,null,null,null,null,null,null,null,null,null,null,null,null,null,null,null,null,null,null,null,null,null,null,null,null,null,null,null,null,null,null,null,null,null,null,null,null,null,null,null,null,null,null,null,null,null,null,null,null,null,null,null,null,null,null,null,null,null,null,null,null,null,null,null,null,null,null,null,null,null,null,null,null,null,null,null,null,null,null,null,null,null,null,null,null,null,null,null,null,null,null,null,null,null,null,null,null,null,null,null,null,null,null,null,null,null,1004,"Hypericum calycinum","Linnaeus","Rose-of-Sharon","Clusiaceae",null,1004]
[null,null,null,null,null,null,null,null,null,null,null,null,null,null,null,null,null,null,null,null,null,null,null,null,null,null,null,null,null,null,null,null,null,null,null,null,null,null,null,null,null,null,null,null,null,null,null,null,null,null,null,null,null,null,null,null,null,null,null,null,null,null,null,null,null,null,null,null,null,null,null,null,null,null,null,null,null,null,null,null,null,null,null,null,null,null,null,null,null,null,null,null,null,null,null,null,null,null,null,null,null,null,null,null,null,null,null,null,null,null,null,null,null,null,null,null,null,null,null,null,null,null,null,null,null,null,null,null,null,null,null,null,null,null,null,null,null,null,null,null,null,null,null,null,null,null,null,null,null,null,null,null,null,null,null,null,3477,"Iochroma australis",null,"Argentine-pear","Solanaceae",null,3477]
[null,null,null,null,null,null,null,null,null,null,null,null,null,null,null,null,null,null,null,null,null,null,null,null,null,null,null,null,null,null,null,null,null,null,null,null,null,null,null,null,null,null,null,null,null,null,null,null,null,null,null,null,null,null,null,null,null,null,null,null,null,null,null,null,null,null,null,null,null,null,null,null,null,null,null,null,null,null,null,null,null,null,null,null,null,null,null,null,null,null,null,null,null,null,null,null,null,null,null,null,null,null,null,null,null,null,null,null,null,null,null,null,null,null,null,null,null,null,null,null,null,null,null,null,null,null,null,null,null,null,null,null,null,null,null,null,null,null,null,null,null,null,null,null,null,null,null,null,null,null,null,null,null,null,null,null,1064,"Juncus x kern-reichgeltii","Jansen & Wachter ex Reichg.","J. conglomeratus x effusus","Juncaceae",null,1064]
[null,null,null,null,null,null,null,null,null,null,null,null,null,null,null,null,null,null,null,null,null,null,null,null,null,null,null,null,null,null,null,null,null,null,null,null,null,null,null,null,null,null,null,null,null,null,null,null,null,null,null,null,null,null,null,null,null,null,null,null,null,null,null,null,null,null,null,null,null,null,null,null,null,null,null,null,null,null,null,null,null,null,null,null,null,null,null,null,null,null,null,null,null,null,null,null,null,null,null,null,null,null,null,null,null,null,null,null,null,null,null,null,null,null,null,null,null,null,null,null,null,null,null,null,null,null,null,null,null,null,null,null,null,null,null,null,null,null,null,null,null,null,null,null,null,null,null,null,null,null,null,null,null,null,null,null,1099,"Lamium amplexicaule","Linnaeus","Henbit Dead-nettle","Lamiaceae",null,1099]
[null,null,null,null,null,null,null,null,null,null,null,null,null,null,null,null,null,null,null,null,null,null,null,null,null,null,null,null,null,null,null,null,null,null,null,null,null,null,null,null,null,null,null,null,null,null,null,null,null,null,null,null,null,null,null,null,null,null,null,null,null,null,null,null,null,null,null,null,null,null,null,null,null,null,null,null,null,null,null,null,null,null,null,null,null,null,null,null,null,null,null,null,null,null,null,null,null,null,null,null,null,null,null,null,null,null,null,null,null,null,null,null,null,null,null,null,null,null,null,null,null,null,null,null,null,null,null,null,null,null,null,null,null,null,null,null,null,null,null,null,null,null,null,null,null,null,null,null,null,null,null,null,null,null,null,null,2300,"Lemna minuta","Kunth","Least Duckweed","Lemnaceae",null,2300]
[null,null,null,null,null,null,null,null,null,null,null,null,null,null,null,null,null,null,null,null,null,null,null,null,null,null,null,null,null,null,null,null,null,null,null,null,null,null,null,null,null,null,null,null,null,null,null,null,null,null,null,null,null,null,null,null,null,null,null,null,null,null,null,null,null,null,null,null,null,null,null,null,null,null,null,null,null,null,null,null,null,null,null,null,null,null,null,null,null,null,null,null,null,null,null,null,null,null,null,null,null,null,null,null,null,null,null,null,null,null,null,null,null,null,null,null,null,null,null,null,null,null,null,null,null,null,null,null,null,null,null,null,null,null,null,null,null,null,null,null,null,null,null,null,null,null,null,null,null,null,null,null,null,null,null,null,2533,"Limonium britannicum","Ingrouille",null,"Plumbaginaceae",null,2533]
[null,null,null,null,null,null,null,null,null,null,null,null,null,null,null,null,null,null,null,null,null,null,null,null,null,null,null,null,null,null,null,null,null,null,null,null,null,null,null,null,null,null,null,null,null,null,null,null,null,null,null,null,null,null,null,null,null,null,null,null,null,null,null,null,null,null,null,null,null,null,null,null,null,null,null,null,null,null,null,null,null,null,null,null,null,null,null,null,null,null,null,null,null,null,null,null,null,null,null,null,null,null,null,null,null,null,null,null,null,null,null,null,null,null,null,null,null,null,null,null,null,null,null,null,null,null,null,null,null,null,null,null,null,null,null,null,null,null,null,null,null,null,null,null,null,null,null,null,null,null,null,null,null,null,null,null,1152.0999999999999,"Limonium recurvum subsp. recurvum",null,null,"Plumbaginaceae",null,1152.0999999999999]
[null,null,null,null,null,null,null,null,null,null,null,null,null,null,null,null,null,null,null,null,null,null,null,null,null,null,null,null,null,null,null,null,null,null,null,null,null,null,null,null,null,null,null,null,null,null,null,null,null,null,null,null,null,null,null,null,null,null,null,null,null,null,null,null,null,null,null,null,null,null,null,null,null,null,null,null,null,null,null,null,null,null,null,null,null,null,null,null,null,null,null,null,null,null,null,null,null,null,null,null,null,null,null,null,null,null,null,null,null,null,null,null,null,null,null,null,null,null,null,null,null,null,null,null,null,null,null,null,null,null,null,null,null,null,null,null,null,null,null,null,null,null,null,null,null,null,null,null,null,null,null,null,null,null,null,null,1189,"Lonicera xylosteum","L.","Fly Honeysuckle","Caprifoliaceae","Rare",1189]
[null,null,null,null,null,null,null,null,null,null,null,null,null,null,null,null,null,null,null,null,null,null,null,null,null,null,null,null,null,null,null,null,null,null,null,null,null,null,null,null,null,null,null,null,null,null,null,null,null,null,null,null,null,null,null,null,null,null,null,null,null,null,null,null,null,null,null,null,null,null,null,null,null,null,null,null,null,null,null,null,null,null,null,null,null,null,null,null,null,null,null,null,null,null,null,null,null,null,null,null,null,null,null,null,null,null,null,null,null,null,null,null,null,null,null,null,null,null,null,null,null,null,null,null,null,null,null,null,null,null,null,null,null,null,null,null,null,null,null,null,null,null,null,null,null,null,null,null,null,null,null,null,null,null,null,null,1230,"Malus sylvestris sens. lat.",null,"Apple","Rosaceae",null,1230]
[null,null,null,null,null,null,null,null,null,null,null,null,null,null,null,null,null,null,null,null,null,null,null,null,null,null,null,null,null,null,null,null,null,null,null,null,null,null,null,null,null,null,null,null,null,null,null,null,null,null,null,null,null,null,null,null,null,null,null,null,null,null,null,null,null,null,null,null,null,null,null,null,null,null,null,null,null,null,null,null,null,null,null,null,null,null,null,null,null,null,null,null,null,null,null,null,null,null,null,null,null,null,null,null,null,null,null,null,null,null,null,null,null,null,null,null,null,null,null,null,null,null,null,null,null,null,null,null,null,null,null,null,null,null,null,null,null,null,null,null,null,null,null,null,null,null,null,null,null,null,null,null,null,null,null,null,8131,"Medicago arborea","Linnaeus","Tree Medick","Fabaceae",null,8131]
[null,null,null,null,null,null,null,null,null,null,null,null,null,null,null,null,null,null,null,null,null,null,null,null,null,null,null,null,null,null,null,null,null,null,null,null,null,null,null,null,null,null,null,null,null,null,null,null,null,null,null,null,null,null,null,null,null,null,null,null,null,null,null,null,null,null,null,null,null,null,null,null,null,null,null,null,null,null,null,null,null,null,null,null,null,null,null,null,null,null,null,null,null,null,null,null,null,null,null,null,null,null,null,null,null,null,null,null,null,null,null,null,null,null,null,null,null,null,null,null,null,null,null,null,null,null,null,null,null,null,null,null,null,null,null,null,null,null,null,null,null,null,null,null,null,null,null,null,null,null,null,null,null,null,null,null,4329,"Mimulus x burnetii","S.Arn.","M. cupreus x guttatus","Scrophulariaceae",null,4329]
[null,null,null,null,null,null,null,null,null,null,null,null,null,null,null,null,null,null,null,null,null,null,null,null,null,null,null,null,null,null,null,null,null,null,null,null,null,null,null,null,null,null,null,null,null,null,null,null,null,null,null,null,null,null,null,null,null,null,null,null,null,null,null,null,null,null,null,null,null,null,null,null,null,null,null,null,null,null,null,null,null,null,null,null,null,null,null,null,null,null,null,null,null,null,null,null,null,null,null,null,null,null,null,null,null,null,null,null,null,null,null,null,null,null,null,null,null,null,null,null,null,null,null,null,null,null,null,null,null,null,null,null,null,null,null,null,null,null,null,null,null,null,null,null,null,null,null,null,null,null,null,null,null,null,null,null,4388,"Muehlenbeckia complexa","(A. Cunn.) Meisn.","Wireplant","Polygonaceae",null,4388]
[null,null,null,null,null,null,null,null,null,null,null,null,null,null,null,null,null,null,null,null,null,null,null,null,null,null,null,null,null,null,null,null,null,null,null,null,null,null,null,null,null,null,null,null,null,null,null,null,null,null,null,null,null,null,null,null,null,null,null,null,null,null,null,null,null,null,null,null,null,null,null,null,null,null,null,null,null,null,null,null,null,null,null,null,null,null,null,null,null,null,null,null,null,null,null,null,null,null,null,null,null,null,null,null,null,null,null,null,null,null,null,null,null,null,null,null,null,null,null,null,null,null,null,null,null,null,null,null,null,null,null,null,null,null,null,null,null,null,null,null,null,null,null,null,null,null,null,null,null,null,null,null,null,null,null,null,1338,"Narcissus hispanicus","Gouan","Spanish Daffodil","Liliaceae",null,1338]
[null,null,null,null,null,null,null,null,null,null,null,null,null,null,null,null,null,null,null,null,null,null,null,null,null,null,null,null,null,null,null,null,null,null,null,null,null,null,null,null,null,null,null,null,null,null,null,null,null,null,null,null,null,null,null,null,null,null,null,null,null,null,null,null,null,null,null,null,null,null,null,null,null,null,null,null,null,null,null,null,null,null,null,null,null,null,null,null,null,null,null,null,null,null,null,null,null,null,null,null,null,null,null,null,null,null,null,null,null,null,null,null,null,null,null,null,null,null,null,null,null,null,null,null,null,null,null,null,null,null,null,null,null,null,null,null,null,null,null,null,null,null,null,null,null,null,null,null,null,null,null,null,null,null,null,null,"No BRC","Narcissus 'Telamonius Plenus'",null,"Div. Four (Pets Yellow - Trpt Yellow)","Liliaceae",null,"No BRC"]
[null,null,null,null,null,null,null,null,null,null,null,null,null,null,null,null,null,null,null,null,null,null,null,null,null,null,null,null,null,null,null,null,null,null,null,null,null,null,null,null,null,null,null,null,null,null,null,null,null,null,null,null,null,null,null,null,null,null,null,null,null,null,null,null,null,null,null,null,null,null,null,null,null,null,null,null,null,null,null,null,null,null,null,null,null,null,null,null,null,null,null,null,null,null,null,null,null,null,null,null,null,null,null,null,null,null,null,null,null,null,null,null,null,null,null,null,null,null,null,null,null,null,null,null,null,null,null,null,null,null,null,null,null,null,null,null,null,null,null,null,null,null,null,null,null,null,null,null,null,null,null,null,null,null,null,null,1352,"Neottia nidus-avis","(L.) Rich.","Bird's-nest Orchid","Orchidaceae","Near Threatened",1352]
[null,null,null,null,null,null,null,null,null,null,null,null,null,null,null,null,null,null,null,null,null,null,null,null,null,null,null,null,null,null,null,null,null,null,null,null,null,null,null,null,null,null,null,null,null,null,null,null,null,null,null,null,null,null,null,null,null,null,null,null,null,null,null,null,null,null,null,null,null,null,null,null,null,null,null,null,null,null,null,null,null,null,null,null,null,null,null,null,null,null,null,null,null,null,null,null,null,null,null,null,null,null,null,null,null,null,null,null,null,null,null,null,null,null,null,null,null,null,null,null,null,null,null,null,null,null,null,null,null,null,null,null,null,null,null,null,null,null,null,null,null,null,null,null,null,null,null,null,null,null,null,null,null,null,null,null,"No BRC","Oenothera perangusta","R.R. Gates",null,"Onagraceae",null,"No BRC"]
[null,null,null,null,null,null,null,null,null,null,null,null,null,null,null,null,null,null,null,null,null,null,null,null,null,null,null,null,null,null,null,null,null,null,null,null,null,null,null,null,null,null,null,null,null,null,null,null,null,null,null,null,null,null,null,null,null,null,null,null,null,null,null,null,null,null,null,null,null,null,null,null,null,null,null,null,null,null,null,null,null,null,null,null,null,null,null,null,null,null,null,null,null,null,null,null,null,null,null,null,null,null,null,null,null,null,null,null,null,null,null,null,null,null,null,null,null,null,null,null,null,null,null,null,null,null,null,null,null,null,null,null,null,null,null,null,null,null,null,null,null,null,null,null,null,null,null,null,null,null,null,null,null,null,null,null,1388,"Orchis militaris","L.","Military Orchid","Orchidaceae","Vulnerable",1388]
[null,null,null,null,null,null,null,null,null,null,null,null,null,null,null,null,null,null,null,null,null,null,null,null,null,null,null,null,null,null,null,null,null,null,null,null,null,null,null,null,null,null,null,null,null,null,null,null,null,null,null,null,null,null,null,null,null,null,null,null,null,null,null,null,null,null,null,null,null,null,null,null,null,null,null,null,null,null,null,null,null,null,null,null,null,null,null,null,null,null,null,null,null,null,null,null,null,null,null,null,null,null,null,null,null,null,null,null,null,null,null,null,null,null,null,null,null,null,null,null,null,null,null,null,null,null,null,null,null,null,null,null,null,null,null,null,null,null,null,null,null,null,null,null,null,null,null,null,null,null,null,null,null,null,null,null,"No BRC","Oxalis magellanica","G.Forst.","Australian Sorrel","Oxalidaceae",null,"No BRC"]
[null,null,null,null,null,null,null,null,null,null,null,null,null,null,null,null,null,null,null,null,null,null,null,null,null,null,null,null,null,null,null,null,null,null,null,null,null,null,null,null,null,null,null,null,null,null,null,null,null,null,null,null,null,null,null,null,null,null,null,null,null,null,null,null,null,null,null,null,null,null,null,null,null,null,null,null,null,null,null,null,null,null,null,null,null,null,null,null,null,null,null,null,null,null,null,null,null,null,null,null,null,null,null,null,null,null,null,null,null,null,null,null,null,null,null,null,null,null,null,null,null,null,null,null,null,null,null,null,null,null,null,null,null,null,null,null,null,null,null,null,null,null,null,null,null,null,null,null,null,null,null,null,null,null,null,null,3517,"Pancratium maritimum",null,"Sea Daffodil","Liliaceae",null,3517]
[null,null,null,null,null,null,null,null,null,null,null,null,null,null,null,null,null,null,null,null,null,null,null,null,null,null,null,null,null,null,null,null,null,null,null,null,null,null,null,null,null,null,null,null,null,null,null,null,null,null,null,null,null,null,null,null,null,null,null,null,null,null,null,null,null,null,null,null,null,null,null,null,null,null,null,null,null,null,null,null,null,null,null,null,null,null,null,null,null,null,null,null,null,null,null,null,null,null,null,null,null,null,null,null,null,null,null,null,null,null,null,null,null,null,null,null,null,null,null,null,null,null,null,null,null,null,null,null,null,null,null,null,null,null,null,null,null,null,null,null,null,null,null,null,null,null,null,null,null,null,null,null,null,null,null,null,1534,"Persicaria minor","(Hudson) Opiz","Small Water-pepper","Polygonaceae","Vulnerable",1534]
[null,null,null,null,null,null,null,null,null,null,null,null,null,null,null,null,null,null,null,null,null,null,null,null,null,null,null,null,null,null,null,null,null,null,null,null,null,null,null,null,null,null,null,null,null,null,null,null,null,null,null,null,null,null,null,null,null,null,null,null,null,null,null,null,null,null,null,null,null,null,null,null,null,null,null,null,null,null,null,null,null,null,null,null,null,null,null,null,null,null,null,null,null,null,null,null,null,null,null,null,null,null,null,null,null,null,null,null,null,null,null,null,null,null,null,null,null,null,null,null,null,null,null,null,null,null,null,null,null,null,null,null,null,null,null,null,null,null,null,null,null,null,null,null,null,null,null,null,null,null,null,null,null,null,null,null,1464,"Phlomis fruticosa","Linnaeus","Jerusalem Sage","Lamiaceae",null,1464]
[null,null,null,null,null,null,null,null,null,null,null,null,null,null,null,null,null,null,null,null,null,null,null,null,null,null,null,null,null,null,null,null,null,null,null,null,null,null,null,null,null,null,null,null,null,null,null,null,null,null,null,null,null,null,null,null,null,null,null,null,null,null,null,null,null,null,null,null,null,null,null,null,null,null,null,null,null,null,null,null,null,null,null,null,null,null,null,null,null,null,null,null,null,null,null,null,null,null,null,null,null,null,null,null,null,null,null,null,null,null,null,null,null,null,null,null,null,null,null,null,null,null,null,null,null,null,null,null,null,null,null,null,null,null,null,null,null,null,null,null,null,null,null,null,null,null,null,null,null,null,null,null,null,null,null,null,2841,"Pilosella x longisquama","(Peter) Holub","P. officinarum x peleteriana","Asteraceae",null,2841]
[null,null,null,null,null,null,null,null,null,null,null,null,null,null,null,null,null,null,null,null,null,null,null,null,null,null,null,null,null,null,null,null,null,null,null,null,null,null,null,null,null,null,null,null,null,null,null,null,null,null,null,null,null,null,null,null,null,null,null,null,null,null,null,null,null,null,null,null,null,null,null,null,null,null,null,null,null,null,null,null,null,null,null,null,null,null,null,null,null,null,null,null,null,null,null,null,null,null,null,null,null,null,null,null,null,null,null,null,null,null,null,null,null,null,null,null,null,null,null,null,null,null,null,null,null,null,null,null,null,null,null,null,null,null,null,null,null,null,null,null,null,null,null,null,null,null,null,null,null,null,null,null,null,null,null,null,"No BRC","Pleioblastus sp.",null,null,"Poaceae",null,"No BRC"]
[null,null,null,null,null,null,null,null,null,null,null,null,null,null,null,null,null,null,null,null,null,null,null,null,null,null,null,null,null,null,null,null,null,null,null,null,null,null,null,null,null,null,null,null,null,null,null,null,null,null,null,null,null,null,null,null,null,null,null,null,null,null,null,null,null,null,null,null,null,null,null,null,null,null,null,null,null,null,null,null,null,null,null,null,null,null,null,null,null,null,null,null,null,null,null,null,null,null,null,null,null,null,null,null,null,null,null,null,null,null,null,null,null,null,null,null,null,null,null,null,null,null,null,null,null,null,null,null,null,null,null,null,null,null,null,null,null,null,null,null,null,null,null,null,null,null,null,null,null,null,null,null,null,null,null,null,1545,"Polypogon monspeliensis","(L.) Deesf.","Annual Beard-grass","Poaceae","Nationally Scarce",1545]
[null,null,null,null,null,null,null,null,null,null,null,null,null,null,null,null,null,null,null,null,null,null,null,null,null,null,null,null,null,null,null,null,null,null,null,null,null,null,null,null,null,null,null,null,null,null,null,null,null,null,null,null,null,null,null,null,null,null,null,null,null,null,null,null,null,null,null,null,null,null,null,null,null,null,null,null,null,null,null,null,null,null,null,null,null,null,null,null,null,null,null,null,null,null,null,null,null,null,null,null,null,null,null,null,null,null,null,null,null,null,null,null,null,null,null,null,null,null,null,null,null,null,null,null,null,null,null,null,null,null,null,null,null,null,null,null,null,null,null,null,null,null,null,null,null,null,null,null,null,null,null,null,null,null,null,null,1572,"Potamogeton nodosus","Poiret","Loddon Pondweed","Potamogetonaceae","Vulnerable",1572]
[null,null,null,null,null,null,null,null,null,null,null,null,null,null,null,null,null,null,null,null,null,null,null,null,null,null,null,null,null,null,null,null,null,null,null,null,null,null,null,null,null,null,null,null,null,null,null,null,null,null,null,null,null,null,null,null,null,null,null,null,null,null,null,null,null,null,null,null,null,null,null,null,null,null,null,null,null,null,null,null,null,null,null,null,null,null,null,null,null,null,null,null,null,null,null,null,null,null,null,null,null,null,null,null,null,null,null,null,null,null,null,null,null,null,null,null,null,null,null,null,null,null,null,null,null,null,null,null,null,null,null,null,null,null,null,null,null,null,null,null,null,null,null,null,null,null,null,null,null,null,null,null,null,null,null,null,1583,"Potentilla anglica","Laich.","Trailing Tormentil","Rosaceae",null,1583]
[null,null,null,null,null,null,null,null,null,null,null,null,null,null,null,null,null,null,null,null,null,null,null,null,null,null,null,null,null,null,null,null,null,null,null,null,null,null,null,null,null,null,null,null,null,null,null,null,null,null,null,null,null,null,null,null,null,null,null,null,null,null,null,null,null,null,null,null,null,null,null,null,null,null,null,null,null,null,null,null,null,null,null,null,null,null,null,null,null,null,null,null,null,null,null,null,null,null,null,null,null,null,null,null,null,null,null,null,null,null,null,null,null,null,null,null,null,null,null,null,null,null,null,null,null,null,null,null,null,null,null,null,null,null,null,null,null,null,null,null,null,null,null,null,null,null,null,null,null,null,null,null,null,null,null,null,1611,"Prunus avium","(Linnaeus) Linnaeus","Wild Cherry","Rosaceae",null,1611]
[null,null,null,null,null,null,null,null,null,null,null,null,null,null,null,null,null,null,null,null,null,null,null,null,null,null,null,null,null,null,null,null,null,null,null,null,null,null,null,null,null,null,null,null,null,null,null,null,null,null,null,null,null,null,null,null,null,null,null,null,null,null,null,null,null,null,null,null,null,null,null,null,null,null,null,null,null,null,null,null,null,null,null,null,null,null,null,null,null,null,null,null,null,null,null,null,null,null,null,null,null,null,null,null,null,null,null,null,null,null,null,null,null,null,null,null,null,null,null,null,null,null,null,null,null,null,null,null,null,null,null,null,null,null,null,null,null,null,null,null,null,null,null,null,null,null,null,null,null,null,null,null,null,null,null,null,1618.4,"Pseudotsuga menziesii subsp. glaucescens",null,"Douglas Fir","Pinaceae",null,1618.4]
[null,null,null,null,null,null,null,null,null,null,null,null,null,null,null,null,null,null,null,null,null,null,null,null,null,null,null,null,null,null,null,null,null,null,null,null,null,null,null,null,null,null,null,null,null,null,null,null,null,null,null,null,null,null,null,null,null,null,null,null,null,null,null,null,null,null,null,null,null,null,null,null,null,null,null,null,null,null,null,null,null,null,null,null,null,null,null,null,null,null,null,null,null,null,null,null,null,null,null,null,null,null,null,null,null,null,null,null,null,null,null,null,null,null,null,null,null,null,null,null,null,null,null,null,null,null,null,null,null,null,null,null,null,null,null,null,null,null,null,null,null,null,null,null,null,null,null,null,null,null,null,null,null,null,null,null,1637,"Quercus ilex","L.","Evergreen Oak","Fagaceae",null,1637]
[null,null,null,null,null,null,null,null,null,null,null,null,null,null,null,null,null,null,null,null,null,null,null,null,null,null,null,null,null,null,null,null,null,null,null,null,null,null,null,null,null,null,null,null,null,null,null,null,null,null,null,null,null,null,null,null,null,null,null,null,null,null,null,null,null,null,null,null,null,null,null,null,null,null,null,null,null,null,null,null,null,null,null,null,null,null,null,null,null,null,null,null,null,null,null,null,null,null,null,null,null,null,null,null,null,null,null,null,null,null,null,null,null,null,null,null,null,null,null,null,null,null,null,null,null,null,null,null,null,null,null,null,null,null,null,null,null,null,null,null,null,null,null,null,null,null,null,null,null,null,null,null,null,null,null,null,1673,"Reseda luteola","Linnaeus","Weld","Resedaceae",null,1673]
[null,null,null,null,null,null,null,null,null,null,null,null,null,null,null,null,null,null,null,null,null,null,null,null,null,null,null,null,null,null,null,null,null,null,null,null,null,null,null,null,null,null,null,null,null,null,null,null,null,null,null,null,null,null,null,null,null,null,null,null,null,null,null,null,null,null,null,null,null,null,null,null,null,null,null,null,null,null,null,null,null,null,null,null,null,null,null,null,null,null,null,null,null,null,null,null,null,null,null,null,null,null,null,null,null,null,null,null,null,null,null,null,null,null,null,null,null,null,null,null,null,null,null,null,null,null,null,null,null,null,null,null,null,null,null,null,null,null,null,null,null,null,null,null,null,null,null,null,null,null,null,null,null,null,null,null,1693,"Ribes alpinum","L.","Mountain Currant","Grossulariaceae","Nationally Scarce",1693]
[null,null,null,null,null,null,null,null,null,null,null,null,null,null,null,null,null,null,null,null,null,null,null,null,null,null,null,null,null,null,null,null,null,null,null,null,null,null,null,null,null,null,null,null,null,null,null,null,null,null,null,null,null,null,null,null,null,null,null,null,null,null,null,null,null,null,null,null,null,null,null,null,null,null,null,null,null,null,null,null,null,null,null,null,null,null,null,null,null,null,null,null,null,null,null,null,null,null,null,null,null,null,null,null,null,null,null,null,null,null,null,null,null,null,null,null,null,null,null,null,null,null,null,null,null,null,null,null,null,null,null,null,null,null,null,null,null,null,null,null,null,null,null,null,null,null,null,null,null,null,null,null,null,null,null,null,2735,"Rosa caesia subsp. glauca x rubiginosa",null,"(fxm or mxf)","Rosaceae",null,2735]
[null,null,null,null,null,null,null,null,null,null,null,null,null,null,null,null,null,null,null,null,null,null,null,null,null,null,null,null,null,null,null,null,null,null,null,null,null,null,null,null,null,null,null,null,null,null,null,null,null,null,null,null,null,null,null,null,null,null,null,null,null,null,null,null,null,null,null,null,null,null,null,null,null,null,null,null,null,null,null,null,null,null,null,null,null,null,null,null,null,null,null,null,null,null,null,null,null,null,null,null,null,null,null,null,null,null,null,null,null,null,null,null,null,null,null,null,null,null,null,null,null,null,null,null,null,null,null,null,null,null,null,null,null,null,null,null,null,null,null,null,null,null,null,null,null,null,null,null,null,null,null,null,null,null,null,null,"No BRC","Rosa glauca","Pourret","Red-leaved Rose","Rosaceae",null,"No BRC"]
[null,null,null,null,null,null,null,null,null,null,null,null,null,null,null,null,null,null,null,null,null,null,null,null,null,null,null,null,null,null,null,null,null,null,null,null,null,null,null,null,null,null,null,null,null,null,null,null,null,null,null,null,null,null,null,null,null,null,null,null,null,null,null,null,null,null,null,null,null,null,null,null,null,null,null,null,null,null,null,null,null,null,null,null,null,null,null,null,null,null,null,null,null,null,null,null,null,null,null,null,null,null,null,null,null,null,null,null,null,null,null,null,null,null,null,null,null,null,null,null,null,null,null,null,null,null,null,null,null,null,null,null,null,null,null,null,null,null,null,null,null,null,null,null,null,null,null,null,null,null,null,null,null,null,null,null,8198,"Rosa sericea","Lindl.","Silky Rose","Rosaceae",null,8198]
[null,null,null,null,null,null,null,null,null,null,null,null,null,null,null,null,null,null,null,null,null,null,null,null,null,null,null,null,null,null,null,null,null,null,null,null,null,null,null,null,null,null,null,null,null,null,null,null,null,null,null,null,null,null,null,null,null,null,null,null,null,null,null,null,null,null,null,null,null,null,null,null,null,null,null,null,null,null,null,null,null,null,null,null,null,null,null,null,null,null,null,null,null,null,null,null,null,null,null,null,null,null,null,null,null,null,null,null,null,null,null,null,null,null,null,null,null,null,null,null,null,null,null,null,null,null,null,null,null,null,null,null,null,null,null,null,null,null,null,null,null,null,null,null,null,null,null,null,null,null,null,null,null,null,null,null,8199,"Rosa wilmottiae","Hemsley",null,"Rosaceae",null,8199]
[null,null,null,null,null,null,null,null,null,null,null,null,null,null,null,null,null,null,null,null,null,null,null,null,null,null,null,null,null,null,null,null,null,null,null,null,null,null,null,null,null,null,null,null,null,null,null,null,null,null,null,null,null,null,null,null,null,null,null,null,null,null,null,null,null,null,null,null,null,null,null,null,null,null,null,null,null,null,null,null,null,null,null,null,null,null,null,null,null,null,null,null,null,null,null,null,null,null,null,null,null,null,null,null,null,null,null,null,null,null,null,null,null,null,null,null,null,null,null,null,null,null,null,null,null,null,null,null,null,null,null,null,null,null,null,null,null,null,null,null,null,null,null,null,null,null,null,null,null,null,null,null,null,null,null,null,2737,"Rosa x timbalii","Wolley-Dod","Rosa obtusifolia x rubiginosa (fxm or mxf)","Rosaceae",null,2737]
[null,null,null,null,null,null,null,null,null,null,null,null,null,null,null,null,null,null,null,null,null,null,null,null,null,null,null,null,null,null,null,null,null,null,null,null,null,null,null,null,null,null,null,null,null,null,null,null,null,null,null,null,null,null,null,null,null,null,null,null,null,null,null,null,null,null,null,null,null,null,null,null,null,null,null,null,null,null,null,null,null,null,null,null,null,null,null,null,null,null,null,null,null,null,null,null,null,null,null,null,null,null,null,null,null,null,null,null,null,null,null,null,null,null,null,null,null,null,null,null,null,null,null,null,null,null,null,null,null,null,null,null,null,null,null,null,null,null,null,null,null,null,null,null,null,null,null,null,null,null,null,null,null,null,null,null,7539,"Rubus cordatifolius","(Rogers ex Riddelsd.) D.Allen",null,"Rubus microspecies",null,7539]
[null,null,null,null,null,null,null,null,null,null,null,null,null,null,null,null,null,null,null,null,null,null,null,null,null,null,null,null,null,null,null,null,null,null,null,null,null,null,null,null,null,null,null,null,null,null,null,null,null,null,null,null,null,null,null,null,null,null,null,null,null,null,null,null,null,null,null,null,null,null,null,null,null,null,null,null,null,null,null,null,null,null,null,null,null,null,null,null,null,null,null,null,null,null,null,null,null,null,null,null,null,null,null,null,null,null,null,null,null,null,null,null,null,null,null,null,null,null,null,null,null,null,null,null,null,null,null,null,null,null,null,null,null,null,null,null,null,null,null,null,null,null,null,null,null,null,null,null,null,null,null,null,null,null,null,null,7541,"Rubus gallofuscus","Newton & M.Porter",null,"Rubus microspecies",null,7541]
[null,null,null,null,null,null,null,null,null,null,null,null,null,null,null,null,null,null,null,null,null,null,null,null,null,null,null,null,null,null,null,null,null,null,null,null,null,null,null,null,null,null,null,null,null,null,null,null,null,null,null,null,null,null,null,null,null,null,null,null,null,null,null,null,null,null,null,null,null,null,null,null,null,null,null,null,null,null,null,null,null,null,null,null,null,null,null,null,null,null,null,null,null,null,null,null,null,null,null,null,null,null,null,null,null,null,null,null,null,null,null,null,null,null,null,null,null,null,null,null,null,null,null,null,null,null,null,null,null,null,null,null,null,null,null,null,null,null,null,null,null,null,null,null,null,null,null,null,null,null,null,null,null,null,null,null,3509,"Rubus lintonii","Focke ex Bab.",null,"Rubus microspecies",null,3509]
[null,null,null,null,null,null,null,null,null,null,null,null,null,null,null,null,null,null,null,null,null,null,null,null,null,null,null,null,null,null,null,null,null,null,null,null,null,null,null,null,null,null,null,null,null,null,null,null,null,null,null,null,null,null,null,null,null,null,null,null,null,null,null,null,null,null,null,null,null,null,null,null,null,null,null,null,null,null,null,null,null,null,null,null,null,null,null,null,null,null,null,null,null,null,null,null,null,null,null,null,null,null,null,null,null,null,null,null,null,null,null,null,null,null,null,null,null,null,null,null,null,null,null,null,null,null,null,null,null,null,null,null,null,null,null,null,null,null,null,null,null,null,null,null,null,null,null,null,null,null,null,null,null,null,null,null,3578,"Rubus plicatus","Weihe & Nees",null,"Rubus microspecies",null,3578]
[null,null,null,null,null,null,null,null,null,null,null,null,null,null,null,null,null,null,null,null,null,null,null,null,null,null,null,null,null,null,null,null,null,null,null,null,null,null,null,null,null,null,null,null,null,null,null,null,null,null,null,null,null,null,null,null,null,null,null,null,null,null,null,null,null,null,null,null,null,null,null,null,null,null,null,null,null,null,null,null,null,null,null,null,null,null,null,null,null,null,null,null,null,null,null,null,null,null,null,null,null,null,null,null,null,null,null,null,null,null,null,null,null,null,null,null,null,null,null,null,null,null,null,null,null,null,null,null,null,null,null,null,null,null,null,null,null,null,null,null,null,null,null,null,null,null,null,null,null,null,null,null,null,null,null,null,3601,"Rubus pyramidalis","Kaltenb.",null,"Rubus microspecies",null,3601]
[null,null,null,null,null,null,null,null,null,null,null,null,null,null,null,null,null,null,null,null,null,null,null,null,null,null,null,null,null,null,null,null,null,null,null,null,null,null,null,null,null,null,null,null,null,null,null,null,null,null,null,null,null,null,null,null,null,null,null,null,null,null,null,null,null,null,null,null,null,null,null,null,null,null,null,null,null,null,null,null,null,null,null,null,null,null,null,null,null,null,null,null,null,null,null,null,null,null,null,null,null,null,null,null,null,null,null,null,null,null,null,null,null,null,null,null,null,null,null,null,null,null,null,null,null,null,null,null,null,null,null,null,null,null,null,null,null,null,null,null,null,null,null,null,null,null,null,null,null,null,null,null,null,null,null,null,3661,"Rubus subtercanens","W.C.R.Watson",null,"Rubus microspecies",null,3661]
[null,null,null,null,null,null,null,null,null,null,null,null,null,null,null,null,null,null,null,null,null,null,null,null,null,null,null,null,null,null,null,null,null,null,null,null,null,null,null,null,null,null,null,null,null,null,null,null,null,null,null,null,null,null,null,null,null,null,null,null,null,null,null,null,null,null,null,null,null,null,null,null,null,null,null,null,null,null,null,null,null,null,null,null,null,null,null,null,null,null,null,null,null,null,null,null,null,null,null,null,null,null,null,null,null,null,null,null,null,null,null,null,null,null,null,null,null,null,null,null,null,null,null,null,null,null,null,null,null,null,null,null,null,null,null,null,null,null,null,null,null,null,null,null,null,null,null,null,null,null,null,null,null,null,null,null,1748,"Rumex obtusifolius","Linnaeus","Broad-leaved Dock","Polygonaceae",null,1748]
[null,null,null,null,null,null,null,null,null,null,null,null,null,null,null,null,null,null,null,null,null,null,null,null,null,null,null,null,null,null,null,null,null,null,null,null,null,null,null,null,null,null,null,null,null,null,null,null,null,null,null,null,null,null,null,null,null,null,null,null,null,null,null,null,null,null,null,null,null,null,null,null,null,null,null,null,null,null,null,null,null,null,null,null,null,null,null,null,null,null,null,null,null,null,null,null,null,null,null,null,null,null,null,null,null,null,null,null,null,null,null,null,null,null,null,null,null,null,null,null,null,null,null,null,null,null,null,null,null,null,null,null,null,null,null,null,null,null,null,null,null,null,null,null,null,null,null,null,null,null,null,null,null,null,null,null,1767,"Sagina procumbens","Linnaeus","Procumbent Pearlwort","Caryophyllaceae",null,1767]
[null,null,null,null,null,null,null,null,null,null,null,null,null,null,null,null,null,null,null,null,null,null,null,null,null,null,null,null,null,null,null,null,null,null,null,null,null,null,null,null,null,null,null,null,null,null,null,null,null,null,null,null,null,null,null,null,null,null,null,null,null,null,null,null,null,null,null,null,null,null,null,null,null,null,null,null,null,null,null,null,null,null,null,null,null,null,null,null,null,null,null,null,null,null,null,null,null,null,null,null,null,null,null,null,null,null,null,null,null,null,null,null,null,null,null,null,null,null,null,null,null,null,null,null,null,null,null,null,null,null,null,null,null,null,null,null,null,null,null,null,null,null,null,null,null,null,null,null,null,null,null,null,null,null,null,null,1797,"Salix myrsinifolia","Salisb.","Dark-leaved Willow","Salicaceae",null,1797]
[null,null,null,null,null,null,null,null,null,null,null,null,null,null,null,null,null,null,null,null,null,null,null,null,null,null,null,null,null,null,null,null,null,null,null,null,null,null,null,null,null,null,null,null,null,null,null,null,null,null,null,null,null,null,null,null,null,null,null,null,null,null,null,null,null,null,null,null,null,null,null,null,null,null,null,null,null,null,null,null,null,null,null,null,null,null,null,null,null,null,null,null,null,null,null,null,null,null,null,null,null,null,null,null,null,null,null,null,null,null,null,null,null,null,null,null,null,null,null,null,null,null,null,null,null,null,null,null,null,null,null,null,null,null,null,null,null,null,null,null,null,null,null,null,null,null,null,null,null,null,null,null,null,null,null,null,2319,"Salix x friesiana","Andersson","S. repens x viminalis","Salicaceae",null,2319]
[null,null,null,null,null,null,null,null,null,null,null,null,null,null,null,null,null,null,null,null,null,null,null,null,null,null,null,null,null,null,null,null,null,null,null,null,null,null,null,null,null,null,null,null,null,null,null,null,null,null,null,null,null,null,null,null,null,null,null,null,null,null,null,null,null,null,null,null,null,null,null,null,null,null,null,null,null,null,null,null,null,null,null,null,null,null,null,null,null,null,null,null,null,null,null,null,null,null,null,null,null,null,null,null,null,null,null,null,null,null,null,null,null,null,null,null,null,null,null,null,null,null,null,null,null,null,null,null,null,null,null,null,null,null,null,null,null,null,null,null,null,null,null,null,null,null,null,null,null,null,null,null,null,null,null,null,2350.1,"Salix x sepulcralis nothovar. sepulcralis",null,"S. alba var.alba x babylonica","Salicaceae",null,2350.1]
[null,null,null,null,null,null,null,null,null,null,null,null,null,null,null,null,null,null,null,null,null,null,null,null,null,null,null,null,null,null,null,null,null,null,null,null,null,null,null,null,null,null,null,null,null,null,null,null,null,null,null,null,null,null,null,null,null,null,null,null,null,null,null,null,null,null,null,null,null,null,null,null,null,null,null,null,null,null,null,null,null,null,null,null,null,null,null,null,null,null,null,null,null,null,null,null,null,null,null,null,null,null,null,null,null,null,null,null,null,null,null,null,null,null,null,null,null,null,null,null,null,null,null,null,null,null,null,null,null,null,null,null,null,null,null,null,null,null,null,null,null,null,null,null,null,null,null,null,null,null,null,null,null,null,null,null,7562,"Saxifraga cuneifolia","Linnaeus","Lesser Londonpride","Saxifragaceae",null,7562]
[null,null,null,null,null,null,null,null,null,null,null,null,null,null,null,null,null,null,null,null,null,null,null,null,null,null,null,null,null,null,null,null,null,null,null,null,null,null,null,null,null,null,null,null,null,null,null,null,null,null,null,null,null,null,null,null,null,null,null,null,null,null,null,null,null,null,null,null,null,null,null,null,null,null,null,null,null,null,null,null,null,null,null,null,null,null,null,null,null,null,null,null,null,null,null,null,null,null,null,null,null,null,null,null,null,null,null,null,null,null,null,null,null,null,null,null,null,null,null,null,null,null,null,null,null,null,null,null,null,null,null,null,null,null,null,null,null,null,null,null,null,null,null,null,null,null,null,null,null,null,null,null,null,null,null,null,1845,"Scabiosa atropurpurea","Linnaeus","Sweet Scabious","Dipsacaceae",null,1845]
[null,null,null,null,null,null,null,null,null,null,null,null,null,null,null,null,null,null,null,null,null,null,null,null,null,null,null,null,null,null,null,null,null,null,null,null,null,null,null,null,null,null,null,null,null,null,null,null,null,null,null,null,null,null,null,null,null,null,null,null,null,null,null,null,null,null,null,null,null,null,null,null,null,null,null,null,null,null,null,null,null,null,null,null,null,null,null,null,null,null,null,null,null,null,null,null,null,null,null,null,null,null,null,null,null,null,null,null,null,null,null,null,null,null,null,null,null,null,null,null,null,null,null,null,null,null,null,null,null,null,null,null,null,null,null,null,null,null,null,null,null,null,null,null,null,null,null,null,null,null,null,null,null,null,null,null,2924,"Scutellaria x hybrida","Strail","S. galericulata x minor","Lamiaceae",null,2924]
[null,null,null,null,null,null,null,null,null,null,null,null,null,null,null,null,null,null,null,null,null,null,null,null,null,null,null,null,null,null,null,null,null,null,null,null,null,null,null,null,null,null,null,null,null,null,null,null,null,null,null,null,null,null,null,null,null,null,null,null,null,null,null,null,null,null,null,null,null,null,null,null,null,null,null,null,null,null,null,null,null,null,null,null,null,null,null,null,null,null,null,null,null,null,null,null,null,null,null,null,null,null,null,null,null,null,null,null,null,null,null,null,null,null,null,null,null,null,null,null,null,null,null,null,null,null,null,null,null,null,null,null,null,null,null,null,null,null,null,null,null,null,null,null,null,null,null,null,null,null,null,null,null,null,null,null,3294,"Setaria parviflora","(Poiret)","Knotroot Bristle-grass","Poaceae",null,3294]
[null,null,null,null,null,null,null,null,null,null,null,null,null,null,null,null,null,null,null,null,null,null,null,null,null,null,null,null,null,null,null,null,null,null,null,null,null,null,null,null,null,null,null,null,null,null,null,null,null,null,null,null,null,null,null,null,null,null,null,null,null,null,null,null,null,null,null,null,null,null,null,null,null,null,null,null,null,null,null,null,null,null,null,null,null,null,null,null,null,null,null,null,null,null,null,null,null,null,null,null,null,null,null,null,null,null,null,null,null,null,null,null,null,null,null,null,null,null,null,null,null,null,null,null,null,null,null,null,null,null,null,null,null,null,null,null,null,null,null,null,null,null,null,null,null,null,null,null,null,null,null,null,null,null,null,null,1921,"Silene conica","L.","Sand Catchfly","Caryophyllaceae","Vulnerable",1921]
[null,null,null,null,null,null,null,null,null,null,null,null,null,null,null,null,null,null,null,null,null,null,null,null,null,null,null,null,null,null,null,null,null,null,null,null,null,null,null,null,null,null,null,null,null,null,null,null,null,null,null,null,null,null,null,null,null,null,null,null,null,null,null,null,null,null,null,null,null,null,null,null,null,null,null,null,null,null,null,null,null,null,null,null,null,null,null,null,null,null,null,null,null,null,null,null,null,null,null,null,null,null,null,null,null,null,null,null,null,null,null,null,null,null,null,null,null,null,null,null,null,null,null,null,null,null,null,null,null,null,null,null,null,null,null,null,null,null,null,null,null,null,null,null,null,null,null,null,null,null,null,null,null,null,null,null,4473,"Solanum sisymbriifolium","Lam.","Red Buffalo-bur","Solanaceae",null,4473]
[null,null,null,null,null,null,null,null,null,null,null,null,null,null,null,null,null,null,null,null,null,null,null,null,null,null,null,null,null,null,null,null,null,null,null,null,null,null,null,null,null,null,null,null,null,null,null,null,null,null,null,null,null,null,null,null,null,null,null,null,null,null,null,null,null,null,null,null,null,null,null,null,null,null,null,null,null,null,null,null,null,null,null,null,null,null,null,null,null,null,null,null,null,null,null,null,null,null,null,null,null,null,null,null,null,null,null,null,null,null,null,null,null,null,null,null,null,null,null,null,null,null,null,null,null,null,null,null,null,null,null,null,null,null,null,null,null,null,null,null,null,null,null,null,null,null,null,null,null,null,null,null,null,null,null,null,7591,"Sorbaria sorbifolia","(Linnaeus) A.Braun","Sorbaria","Rosaceae",null,7591]
[null,null,null,null,null,null,null,null,null,null,null,null,null,null,null,null,null,null,null,null,null,null,null,null,null,null,null,null,null,null,null,null,null,null,null,null,null,null,null,null,null,null,null,null,null,null,null,null,null,null,null,null,null,null,null,null,null,null,null,null,null,null,null,null,null,null,null,null,null,null,null,null,null,null,null,null,null,null,null,null,null,null,null,null,null,null,null,null,null,null,null,null,null,null,null,null,null,null,null,null,null,null,null,null,null,null,null,null,null,null,null,null,null,null,null,null,null,null,null,null,null,null,null,null,null,null,null,null,null,null,null,null,null,null,null,null,null,null,null,null,null,null,null,null,null,null,null,null,null,null,null,null,null,null,null,null,"No BRC","Sorbus x robertsonii","T.C.G. Rich","S. aria x eminens","Rosaceae",null,"No BRC"]
[null,null,null,null,null,null,null,null,null,null,null,null,null,null,null,null,null,null,null,null,null,null,null,null,null,null,null,null,null,null,null,null,null,null,null,null,null,null,null,null,null,null,null,null,null,null,null,null,null,null,null,null,null,null,null,null,null,null,null,null,null,null,null,null,null,null,null,null,null,null,null,null,null,null,null,null,null,null,null,null,null,null,null,null,null,null,null,null,null,null,null,null,null,null,null,null,null,null,null,null,null,null,null,null,null,null,null,null,null,null,null,null,null,null,null,null,null,null,null,null,null,null,null,null,null,null,null,null,null,null,null,null,null,null,null,null,null,null,null,null,null,null,null,null,null,null,null,null,null,null,null,null,null,null,null,null,"No BRC","Stipa variabilis","Hughes",null,"Poaceae",null,"No BRC"]
[null,null,null,null,null,null,null,null,null,null,null,null,null,null,null,null,null,null,null,null,null,null,null,null,null,null,null,null,null,null,null,null,null,null,null,null,null,null,null,null,null,null,null,null,null,null,null,null,null,null,null,null,null,null,null,null,null,null,null,null,null,null,null,null,null,null,null,null,null,null,null,null,null,null,null,null,null,null,null,null,null,null,null,null,null,null,null,null,null,null,null,null,null,null,null,null,null,null,null,null,null,null,null,null,null,null,null,null,null,null,null,null,null,null,null,null,null,null,null,null,null,null,null,null,null,null,null,null,null,null,null,null,null,null,null,null,null,null,null,null,null,null,null,null,null,null,null,null,null,null,null,null,null,null,null,null,7487,"Stranvaesia davidiana","Decne.","Stranvaesia","Rosaceae",null,7487]
[null,null,null,null,null,null,null,null,null,null,null,null,null,null,null,null,null,null,null,null,null,null,null,null,null,null,null,null,null,null,null,null,null,null,null,null,null,null,null,null,null,null,null,null,null,null,null,null,null,null,null,null,null,null,null,null,null,null,null,null,null,null,null,null,null,null,null,null,null,null,null,null,null,null,null,null,null,null,null,null,null,null,null,null,null,null,null,null,null,null,null,null,null,null,null,null,null,null,null,null,null,null,null,null,null,null,null,null,null,null,null,null,null,null,null,null,null,null,null,null,null,null,null,null,null,null,null,null,null,null,null,null,null,null,null,null,null,null,null,null,null,null,null,null,null,null,null,null,null,null,null,null,null,null,null,null,3954,"Taraxacum corynodes","Hagl.",null,"Taraxacum microspecies",null,3954]
[null,null,null,null,null,null,null,null,null,null,null,null,null,null,null,null,null,null,null,null,null,null,null,null,null,null,null,null,null,null,null,null,null,null,null,null,null,null,null,null,null,null,null,null,null,null,null,null,null,null,null,null,null,null,null,null,null,null,null,null,null,null,null,null,null,null,null,null,null,null,null,null,null,null,null,null,null,null,null,null,null,null,null,null,null,null,null,null,null,null,null,null,null,null,null,null,null,null,null,null,null,null,null,null,null,null,null,null,null,null,null,null,null,null,null,null,null,null,null,null,null,null,null,null,null,null,null,null,null,null,null,null,null,null,null,null,null,null,null,null,null,null,null,null,null,null,null,null,null,null,null,null,null,null,null,null,3970,"Taraxacum interveniens","Hagl.",null,"Taraxacum microspecies",null,3970]
[null,null,null,null,null,null,null,null,null,null,null,null,null,null,null,null,null,null,null,null,null,null,null,null,null,null,null,null,null,null,null,null,null,null,null,null,null,null,null,null,null,null,null,null,null,null,null,null,null,null,null,null,null,null,null,null,null,null,null,null,null,null,null,null,null,null,null,null,null,null,null,null,null,null,null,null,null,null,null,null,null,null,null,null,null,null,null,null,null,null,null,null,null,null,null,null,null,null,null,null,null,null,null,null,null,null,null,null,null,null,null,null,null,null,null,null,null,null,null,null,null,null,null,null,null,null,null,null,null,null,null,null,null,null,null,null,null,null,null,null,null,null,null,null,null,null,null,null,null,null,null,null,null,null,null,null,3893,"Taraxacum oxoniense","Dahlst.",null,"Taraxacum microspecies",null,3893]
[null,null,null,null,null,null,null,null,null,null,null,null,null,null,null,null,null,null,null,null,null,null,null,null,null,null,null,null,null,null,null,null,null,null,null,null,null,null,null,null,null,null,null,null,null,null,null,null,null,null,null,null,null,null,null,null,null,null,null,null,null,null,null,null,null,null,null,null,null,null,null,null,null,null,null,null,null,null,null,null,null,null,null,null,null,null,null,null,null,null,null,null,null,null,null,null,null,null,null,null,null,null,null,null,null,null,null,null,null,null,null,null,null,null,null,null,null,null,null,null,null,null,null,null,null,null,null,null,null,null,null,null,null,null,null,null,null,null,null,null,null,null,null,null,null,null,null,null,null,null,null,null,null,null,null,null,"No BRC","Taraxacum subericinum","Hagendijk, Soest & Zevenb.",null,"Taraxacum microspecies",null,"No BRC"]
[null,null,null,null,null,null,null,null,null,null,null,null,null,null,null,null,null,null,null,null,null,null,null,null,null,null,null,null,null,null,null,null,null,null,null,null,null,null,null,null,null,null,null,null,null,null,null,null,null,null,null,null,null,null,null,null,null,null,null,null,null,null,null,null,null,null,null,null,null,null,null,null,null,null,null,null,null,null,null,null,null,null,null,null,null,null,null,null,null,null,null,null,null,null,null,null,null,null,null,null,null,null,null,null,null,null,null,null,null,null,null,null,null,null,null,null,null,null,null,null,null,null,null,null,null,null,null,null,null,null,null,null,null,null,null,null,null,null,null,null,null,null,null,null,null,null,null,null,null,null,null,null,null,null,null,null,4032,"Taraxacum valens","Markl.",null,"Taraxacum microspecies",null,4032]
[null,null,null,null,null,null,null,null,null,null,null,null,null,null,null,null,null,null,null,null,null,null,null,null,null,null,null,null,null,null,null,null,null,null,null,null,null,null,null,null,null,null,null,null,null,null,null,null,null,null,null,null,null,null,null,null,null,null,null,null,null,null,null,null,null,null,null,null,null,null,null,null,null,null,null,null,null,null,null,null,null,null,null,null,null,null,null,null,null,null,null,null,null,null,null,null,null,null,null,null,null,null,null,null,null,null,null,null,null,null,null,null,null,null,null,null,null,null,null,null,null,null,null,null,null,null,null,null,null,null,null,null,null,null,null,null,null,null,null,null,null,null,null,null,null,null,null,null,null,null,null,null,null,null,null,null,"No BRC","Tilia sp.",null,"a lime","Tiliaceae",null,"No BRC"]
[null,null,null,null,null,null,null,null,null,null,null,null,null,null,null,null,null,null,null,null,null,null,null,null,null,null,null,null,null,null,null,null,null,null,null,null,null,null,null,null,null,null,null,null,null,null,null,null,null,null,null,null,null,null,null,null,null,null,null,null,null,null,null,null,null,null,null,null,null,null,null,null,null,null,null,null,null,null,null,null,null,null,null,null,null,null,null,null,null,null,null,null,null,null,null,null,null,null,null,null,null,null,null,null,null,null,null,null,null,null,null,null,null,null,null,null,null,null,null,null,null,null,null,null,null,null,null,null,null,null,null,null,null,null,null,null,null,null,null,null,null,null,null,null,null,null,null,null,null,null,null,null,null,null,null,null,2090,"Trifolium ochroleucon","Hudson","Sulphur Clover","Fabaceae","Near Threatened",2090]
[null,null,null,null,null,null,null,null,null,null,null,null,null,null,null,null,null,null,null,null,null,null,null,null,null,null,null,null,null,null,null,null,null,null,null,null,null,null,null,null,null,null,null,null,null,null,null,null,null,null,null,null,null,null,null,null,null,null,null,null,null,null,null,null,null,null,null,null,null,null,null,null,null,null,null,null,null,null,null,null,null,null,null,null,null,null,null,null,null,null,null,null,null,null,null,null,null,null,null,null,null,null,null,null,null,null,null,null,null,null,null,null,null,null,null,null,null,null,null,null,null,null,null,null,null,null,null,null,null,null,null,null,null,null,null,null,null,null,null,null,null,null,null,null,null,null,null,null,null,null,null,null,null,null,null,null,2115,"Ulmus minor","Mill.","Small-leaved Elm (sensu Stace)","Ulmaceae",null,2115]
[null,null,null,null,null,null,null,null,null,null,null,null,null,null,null,null,null,null,null,null,null,null,null,null,null,null,null,null,null,null,null,null,null,null,null,null,null,null,null,null,null,null,null,null,null,null,null,null,null,null,null,null,null,null,null,null,null,null,null,null,null,null,null,null,null,null,null,null,null,null,null,null,null,null,null,null,null,null,null,null,null,null,null,null,null,null,null,null,null,null,null,null,null,null,null,null,null,null,null,null,null,null,null,null,null,null,null,null,null,null,null,null,null,null,null,null,null,null,null,null,null,null,null,null,null,null,null,null,null,null,null,null,null,null,null,null,null,null,null,null,null,null,null,null,null,null,null,null,null,null,null,null,null,null,null,null,2145.1,"Valerianella locusta var. dunensis",null,null,"Valerianaceae",null,2145.1]
[null,null,null,null,null,null,null,null,null,null,null,null,null,null,null,null,null,null,null,null,null,null,null,null,null,null,null,null,null,null,null,null,null,null,null,null,null,null,null,null,null,null,null,null,null,null,null,null,null,null,null,null,null,null,null,null,null,null,null,null,null,null,null,null,null,null,null,null,null,null,null,null,null,null,null,null,null,null,null,null,null,null,null,null,null,null,null,null,null,null,null,null,null,null,null,null,null,null,null,null,null,null,null,null,null,null,null,null,null,null,null,null,null,null,null,null,null,null,null,null,null,null,null,null,null,null,null,null,null,null,null,null,null,null,null,null,null,null,null,null,null,null,null,null,null,null,null,null,null,null,null,null,null,null,null,null,8269,"Verbena rigida","Sprengel","Slender Vervain","Verbenaceae",null,8269]
[null,null,null,null,null,null,null,null,null,null,null,null,null,null,null,null,null,null,null,null,null,null,null,null,null,null,null,null,null,null,null,null,null,null,null,null,null,null,null,null,null,null,null,null,null,null,null,null,null,null,null,null,null,null,null,null,null,null,null,null,null,null,null,null,null,null,null,null,null,null,null,null,null,null,null,null,null,null,null,null,null,null,null,null,null,null,null,null,null,null,null,null,null,null,null,null,null,null,null,null,null,null,null,null,null,null,null,null,null,null,null,null,null,null,null,null,null,null,null,null,null,null,null,null,null,null,null,null,null,null,null,null,null,null,null,null,null,null,null,null,null,null,null,null,null,null,null,null,null,null,null,null,null,null,null,null,2183,"Veronica verna","L.","Spring Speedwell","Scrophulariaceae","Endangered",2183]
[null,null,null,null,null,null,null,null,null,null,null,null,null,null,null,null,null,null,null,null,null,null,null,null,null,null,null,null,null,null,null,null,null,null,null,null,null,null,null,null,null,null,null,null,null,null,null,null,null,null,null,null,null,null,null,null,null,null,null,null,null,null,null,null,null,null,null,null,null,null,null,null,null,null,null,null,null,null,null,null,null,null,null,null,null,null,null,null,null,null,null,null,null,null,null,null,null,null,null,null,null,null,null,null,null,null,null,null,null,null,null,null,null,null,null,null,null,null,null,null,null,null,null,null,null,null,null,null,null,null,null,null,null,null,null,null,null,null,null,null,null,null,null,null,null,null,null,null,null,null,null,null,null,null,null,null,2210.1,"Viola hirta subsp. calcarea","(Bab.) E.F. Warb.","Hairy Violet","Violaceae",null,2210.1]
[null,null,null,null,null,null,null,null,null,null,null,null,null,null,null,null,null,null,null,null,null,null,null,null,null,null,null,null,null,null,null,null,null,null,null,null,null,null,null,null,null,null,null,null,null,null,null,null,null,null,null,null,null,null,null,null,null,null,null,null,null,null,null,null,null,null,null,null,null,null,null,null,null,null,null,null,null,null,null,null,null,null,null,null,null,null,null,null,null,null,null,null,null,null,null,null,null,null,null,null,null,null,null,null,null,null,null,null,null,null,null,null,null,null,null,null,null,null,null,null,null,null,null,null,null,null,null,null,null,null,null,null,null,null,null,null,null,null,null,null,null,null,null,null,null,null,null,null,null,null,null,null,null,null,null,null,2684,"Viola x intersita","G.Beck","V. canina x riviniana","Violaceae",null,2684]
[null,null,null,null,null,null,null,null,null,null,null,null,null,null,null,null,null,null,null,null,null,null,null,null,null,null,null,null,null,null,null,null,null,null,null,null,null,null,null,null,null,null,null,null,null,null,null,null,null,null,null,null,null,null,null,null,null,null,null,null,null,null,null,null,null,null,null,null,null,null,null,null,null,null,null,null,null,null,null,null,null,null,null,null,null,null,null,null,null,null,null,null,null,null,null,null,null,null,null,null,null,null,null,null,null,null,null,null,null,null,null,null,null,null,null,null,null,null,null,null,null,null,null,null,null,null,null,null,null,null,null,null,null,null,null,null,null,null,null,null,null,null,null,null,null,null,null,null,null,null,null,null,null,null,null,null,2855,"X Gymnanacamptis anacamptis","(F.H.Wilms) Asch. & Graebner","Gymnadenia conopsea x Anacamptis pyramidalis","Orchidaceae",null,2855]
[null,null,null,null,null,null,null,null,null,null,null,null,null,null,null,null,null,null,null,null,null,null,null,null,null,null,null,null,null,null,null,null,null,null,null,null,null,null,null,null,null,null,null,null,null,null,null,null,null,null,null,null,null,null,null,null,null,null,null,null,null,null,null,null,null,null,null,null,null,null,null,null,null,null,null,null,null,null,null,null,null,null,null,null,null,null,null,null,null,null,null,null,null,null,null,null,null,null,null,null,null,null,null,null,null,null,null,null,null,null,null,null,null,null,null,null,null,null,null,null,null,null,null,null,null,null,null,null,null,null,null,null,null,null,null,null,null,null,null,null,null,null,null,null,null,null,null,null,null,null,null,null,null,null,null,null,7676,"X Pseudanthera breadalbanensis","McKean","Platanthera chlorantha x Pseudorchis albida","Orchidaceae",null,7676]
[null,null,null,null,null,null,null,null,null,null,null,null,null,null,null,null,null,null,null,null,null,null,null,null,null,null,null,null,null,null,null,null,null,null,null,null,null,null,null,null,null,null,null,null,null,null,null,null,null,null,null,null,null,null,null,null,null,null,null,null,null,null,null,null,null,null,null,null,null,null,null,null,null,null,null,null,null,null,null,null,null,null,null,null,null,null,null,null,null,null,null,null,null,null,null,null,null,null,null,null,null,null,null,null,null,null,null,null,null,null,null,null,null,null,null,null,null,null,null,null,null,null,null,null,null,null,null,null,null,null,null,null,null,null,null,null,null,null,null,null,null,null,null,null,null,null,null,null,null,null,null,null,null,null,null,null,4346,"X Pseudorhiza bruniana","(Brügger) P.F.Hunt","Dactylorhiza maculata x Pseudorchis albida","Orchidaceae",null,4346]
[null,null,null,null,null,null,null,null,null,null,null,null,null,null,null,null,null,null,null,null,null,null,null,null,null,null,null,null,null,null,null,null,null,null,null,null,null,null,null,null,null,null,null,null,null,null,null,null,null,null,null,null,null,null,null,null,null,null,null,null,null,null,null,null,null,null,null,null,null,null,null,null,null,null,null,null,null,null,null,null,null,null,null,null,null,null,null,null,null,null,null,null,null,null,null,null,null,null,null,null,null,null,null,null,null,null,null,null,null,null,null,null,null,null,null,null,null,null,null,null,null,null,null,null,null,null,null,null,null,null,null,null,null,null,null,null,null,null,null,null,null,null,null,null,null,null,null,null,null,null,null,null,null,null,null,null,4469,"X Schedolium braunii","(K. Richt.) Stace","Schedonorus pratensis x Lolium multiflorum","Poaceae",null,4469]
[null,null,null,null,null,null,null,null,null,null,null,null,null,null,null,null,null,null,null,null,null,null,null,null,null,null,null,null,null,null,null,null,null,null,null,null,null,null,null,null,null,null,null,null,null,null,null,null,null,null,null,null,null,null,null,null,null,null,null,null,null,null,null,null,null,null,null,null,null,null,null,null,null,null,null,null,null,null,null,null,null,null,null,null,null,null,null,null,null,null,null,null,null,null,null,null,null,null,null,null,null,null,null,null,null,null,null,null,null,null,null,null,null,null,null,null,null,null,null,null,null,null,null,null,null,null,null,null,null,null,null,null,null,null,null,null,null,null,null,null,null,null,null,null,null,null,null,null,null,null,null,null,null,null,null,null,2901,"X Schedolium brinkmannii","(A. Braun) Holub","Schedonorus giganteus x Lolium perenne","Poaceae",null,2901]
[null,null,null,null,null,null,null,null,null,null,null,null,null,null,null,null,null,null,null,null,null,null,null,null,null,null,null,null,null,null,null,null,null,null,null,null,null,null,null,null,null,null,null,null,null,null,null,null,null,null,null,null,null,null,null,null,null,null,null,null,null,null,null,null,null,null,null,null,null,null,null,null,null,null,null,null,null,null,null,null,null,null,null,null,null,null,null,null,null,null,null,null,null,null,null,null,null,null,null,null,null,null,null,null,null,null,null,null,null,null,null,null,null,null,null,null,null,null,null,null,null,null,null,null,null,null,null,null,null,null,null,null,null,null,null,null,null,null,null,null,null,null,null,null,null,null,null,null,null,null,null,null,null,null,null,null,2900,"X Schedolium holmbergii","(Dörfl.) Holub","Schedonorus arundinaceus x Lolium perenne","Poaceae",null,2900]
[null,null,null,null,null,null,null,null,null,null,null,null,null,null,null,null,null,null,null,null,null,null,null,null,null,null,null,null,null,null,null,null,null,null,null,null,null,null,null,null,null,null,null,null,null,null,null,null,null,null,null,null,null,null,null,null,null,null,null,null,null,null,null,null,null,null,null,null,null,null,null,null,null,null,null,null,null,null,null,null,null,null,null,null,null,null,null,null,null,null,null,null,null,null,null,null,null,null,null,null,null,null,null,null,null,null,null,null,null,null,null,null,null,null,null,null,null,null,null,null,null,null,null,null,null,null,null,null,null,null,null,null,null,null,null,null,null,null,null,null,null,null,null,null,null,null,null,null,null,null,null,null,null,null,null,null,4470,"X Schedolium krasanii","H. Scholz","Schedonorus arundinaceus x Lolium multiflorum","Poaceae",null,4470]
[null,null,null,null,null,null,null,null,null,null,null,null,null,null,null,null,null,null,null,null,null,null,null,null,null,null,null,null,null,null,null,null,null,null,null,null,null,null,null,null,null,null,null,null,null,null,null,null,null,null,null,null,null,null,null,null,null,null,null,null,null,null,null,null,null,null,null,null,null,null,null,null,null,null,null,null,null,null,null,null,null,null,null,null,null,null,null,null,null,null,null,null,null,null,null,null,null,null,null,null,null,null,null,null,null,null,null,null,null,null,null,null,null,null,null,null,null,null,null,null,null,null,null,null,null,null,null,null,null,null,null,null,null,null,null,null,null,null,null,null,null,null,null,null,null,null,null,null,null,null,null,null,null,null,null,null,815,"X Schedolium loliaceum","(Huds.) Holub","Schedonorus pratensis x Lolium perenne","Poaceae",null,815]
[null,null,null,null,null,null,null,null,null,null,null,null,null,null,null,null,null,null,null,null,null,null,null,null,null,null,null,null,null,null,null,null,null,null,null,null,null,null,null,null,null,null,null,null,null,null,null,null,null,null,null,null,null,null,null,null,null,null,null,null,null,null,null,null,null,null,null,null,null,null,null,null,null,null,null,null,null,null,null,null,null,null,null,null,null,null,null,null,null,null,null,null,null,null,null,null,null,null,null,null,null,null,null,null,null,null,null,null,null,null,null,null,null,null,null,null,null,null,null,null,null,null,null,null,null,null,null,null,null,null,null,null,null,null,null,null,null,null,null,null,null,null,null,null,null,null,null,null,null,null,null,null,null,null,null,null,7862,"X Schedolium nilssonii","Cugnac & A. Camus","Schedonorus giganteus x Lolium multiflorum","Poaceae",null,7862]
[null,null,null,null,null,null,null,null,null,null,null,null,null,null,null,null,null,null,null,null,null,null,null,null,null,null,null,null,null,null,null,null,null,null,null,null,null,null,null,null,null,null,null,null,null,null,null,null,null,null,null,null,null,null,null,null,null,null,null,null,null,null,null,null,null,null,null,null,null,null,null,null,null,null,null,null,null,null,null,null,null,null,null,null,null,null,null,null,null,null,null,null,null,null,null,null,null,null,null,null,null,null,null,null,null,null,null,null,null,null,null,null,null,null,null,null,null,null,null,null,null,null,null,null,null,null,null,null,null,null,null,null,null,null,null,null,null,null,null,null,null,null,null,null,null,null,null,null,null,null,null,null,null,null,null,null,2825,"X Tripleurothemis maleolens","(P.Fourn) Stace","Anthemis cotula x Tripleurospermum inodorum","Asteraceae",null,2825]
[null,null,null,null,null,null,null,null,null,null,null,null,null,null,null,null,null,null,null,null,null,null,null,null,null,null,null,null,null,null,null,null,null,null,null,null,null,null,null,null,null,null,null,null,null,null,null,null,null,null,null,null,null,null,null,null,null,null,null,null,null,null,null,null,null,null,null,null,null,null,null,null,null,null,null,null,null,null,null,null,null,null,null,null,null,null,null,null,null,null,null,null,null,null,null,null,null,null,null,null,null,null,null,null,null,null,null,null,null,null,null,null,null,null,null,null,null,null,null,null,null,null,null,null,null,null,null,null,null,null,null,null,null,null,null,null,null,null,null,null,null,null,null,null,null,null,null,null,null,null,null,null,null,null,null,null,3577,"X Triticosecale rimpaui","Wittm. ex A. Camus","Triticale (Secale X Triticum)","Poaceae",null,3577]
[null,null,null,null,null,null,null,null,null,null,null,null,null,null,null,null,null,null,null,null,null,null,null,null,null,null,null,null,null,null,null,null,null,null,null,null,null,null,null,null,null,null,null,null,null,null,null,null,null,null,null,null,null,null,null,null,null,null,null,null,null,null,null,null,null,null,null,null,null,null,null,null,null,null,null,null,null,null,null,null,null,null,null,null,null,null,null,null,null,null,null,null,null,null,null,null,null,null,null,null,null,null,null,null,null,null,null,null,null,null,null,null,null,null,null,null,null,null,null,null,null,null,null,null,null,null,null,null,null,null,null,null,null,null,null,null,null,null,null,null,null,null,null,null,null,null,null,null,null,null,null,null,null,null,null,null,2636,"Xanthium ambrosioides","Hook. & Arn.","Argentine Cocklebur","Asteraceae",null,2636]
[null,null,null,null,null,null,null,null,null,null,null,null,null,null,null,null,null,null,null,null,null,null,null,null,null,null,null,null,null,null,null,null,null,null,null,null,null,null,null,null,null,null,null,null,null,null,null,null,null,null,null,null,null,null,null,null,null,null,null,null,null,null,null,null,null,null,null,null,null,null,null,null,null,null,null,null,null,null,null,null,null,null,null,null,null,null,null,null,null,null,null,null,null,null,null,null,null,null,null,null,null,null,null,null,null,null,null,null,null,null,null,null,null,null,null,null,null,null,null,null,null,null,null,null,null,null,null,null,null,null,null,null,null,null,null,null,null,null,null,null,null,null,null,null,null,null,null,null,null,null,null,null,null,null,null,null,2235,"Xanthium spinosum","Linnaeus","Spiny Cocklebur","Asteraceae",null,2235]
[null,null,null,null,null,null,null,null,null,null,null,null,null,null,null,null,null,null,null,null,null,null,null,null,null,null,null,null,null,null,null,null,null,null,null,null,null,null,null,null,null,null,null,null,null,null,null,null,null,null,null,null,null,null,null,null,null,null,null,null,null,null,null,null,null,null,null,null,null,null,null,null,null,null,null,null,null,null,null,null,null,null,null,null,null,null,null,null,null,null,null,null,null,null,null,null,null,null,null,null,null,null,null,null,null,null,null,null,null,null,null,null,null,null,null,null,null,null,null,null,null,null,null,null,null,null,null,null,null,null,null,null,null,null,null,null,null,null,null,null,null,null,null,null,null,null,null,null,null,null,null,null,null,null,null,null,2236,"Xanthium strumarium","Linnaeus","Rough Cocklebur","Asteraceae",null,2236]
[null,null,null,null,null,null,null,null,null,null,null,null,null,null,null,null,null,null,null,null,null,null,null,null,null,null,null,null,null,null,null,null,null,null,null,null,null,null,null,null,null,null,null,null,null,null,null,null,null,null,null,null,null,null,null,null,null,null,null,null,null,null,null,null,null,null,null,null,null,null,null,null,null,null,null,null,null,null,null,null,null,null,null,null,null,null,null,null,null,null,null,null,null,null,null,null,null,null,null,null,null,null,null,null,null,null,null,null,null,null,null,null,null,null,null,null,null,null,null,null,null,null,null,null,null,null,null,null,null,null,null,null,null,null,null,null,null,null,null,null,null,null,null,null,null,null,null,null,null,null,null,null,null,null,null,null,2968,"Xanthocyparis nootkatensis","(D. Don) Farjon & D.K. Harder","Nootka Cypress","Cupressaceae",null,2968]
[null,null,null,null,null,null,null,null,null,null,null,null,null,null,null,null,null,null,null,null,null,null,null,null,null,null,null,null,null,null,null,null,null,null,null,null,null,null,null,null,null,null,null,null,null,null,null,null,null,null,null,null,null,null,null,null,null,null,null,null,null,null,null,null,null,null,null,null,null,null,null,null,null,null,null,null,null,null,null,null,null,null,null,null,null,null,null,null,null,null,null,null,null,null,null,null,null,null,null,null,null,null,null,null,null,null,null,null,null,null,null,null,null,null,null,null,null,null,null,null,null,null,null,null,null,null,null,null,null,null,null,null,null,null,null,null,null,null,null,null,null,null,null,null,null,null,null,null,null,null,null,null,null,null,null,null,4240,"Yucca gloriosa","L.","Spanish-dagger","Agavaceae",null,4240]
[null,null,null,null,null,null,null,null,null,null,null,null,null,null,null,null,null,null,null,null,null,null,null,null,null,null,null,null,null,null,null,null,null,null,null,null,null,null,null,null,null,null,null,null,null,null,null,null,null,null,null,null,null,null,null,null,null,null,null,null,null,null,null,null,null,null,null,null,null,null,null,null,null,null,null,null,null,null,null,null,null,null,null,null,null,null,null,null,null,null,null,null,null,null,null,null,null,null,null,null,null,null,null,null,null,null,null,null,null,null,null,null,null,null,null,null,null,null,null,null,null,null,null,null,null,null,null,null,null,null,null,null,null,null,null,null,null,null,null,null,null,null,null,null,null,null,null,null,null,null,null,null,null,null,null,null,7671,"Yucca gloriosa var. recurvifolia","(Salisb.) Engelm.","Curved-leaved Spanish-dagger","Agavaceae",null,7671]
[null,null,null,null,null,null,null,null,null,null,null,null,null,null,null,null,null,null,null,null,null,null,null,null,null,null,null,null,null,null,null,null,null,null,null,null,null,null,null,null,null,null,null,null,null,null,null,null,null,null,null,null,null,null,null,null,null,null,null,null,null,null,null,null,null,null,null,null,null,null,null,null,null,null,null,null,null,null,null,null,null,null,null,null,null,null,null,null,null,null,null,null,null,null,null,null,null,null,null,null,null,null,null,null,null,null,null,null,null,null,null,null,null,null,null,null,null,null,null,null,null,null,null,null,null,null,null,null,null,null,null,null,null,null,null,null,null,null,null,null,null,null,null,null,null,null,null,null,null,null,null,null,null,null,null,null,5419,"Yushania anceps","(Milford) W.C. Lin","Indian Fountain-bamboo","Poaceae",null,5419]
[null,null,null,null,null,null,null,null,null,null,null,null,null,null,null,null,null,null,null,null,null,null,null,null,null,null,null,null,null,null,null,null,null,null,null,null,null,null,null,null,null,null,null,null,null,null,null,null,null,null,null,null,null,null,null,null,null,null,null,null,null,null,null,null,null,null,null,null,null,null,null,null,null,null,null,null,null,null,null,null,null,null,null,null,null,null,null,null,null,null,null,null,null,null,null,null,null,null,null,null,null,null,null,null,null,null,null,null,null,null,null,null,null,null,null,null,null,null,null,null,null,null,null,null,null,null,null,null,null,null,null,null,null,null,null,null,null,null,null,null,null,null,null,null,null,null,null,null,null,null,null,null,null,null,null,null,"No BRC","Zanichellia palustris subsp. palustris",null,null,"Zannichelliaceae",null,"No BRC"]
[null,null,null,null,null,null,null,null,null,null,null,null,null,null,null,null,null,null,null,null,null,null,null,null,null,null,null,null,null,null,null,null,null,null,null,null,null,null,null,null,null,null,null,null,null,null,null,null,null,null,null,null,null,null,null,null,null,null,null,null,null,null,null,null,null,null,null,null,null,null,null,null,null,null,null,null,null,null,null,null,null,null,null,null,null,null,null,null,null,null,null,null,null,null,null,null,null,null,null,null,null,null,null,null,null,null,null,null,null,null,null,null,null,null,null,null,null,null,null,null,null,null,null,null,null,null,null,null,null,null,null,null,null,null,null,null,null,null,null,null,null,null,null,null,null,null,null,null,null,null,null,null,null,null,null,null,"No BRC","Zanichellia palustris subsp. pedicellata","(Wahlenb. & Rosén) Syme",null,"Zannichelliaceae",null,"No BRC"]
[null,null,null,null,null,null,null,null,null,null,null,null,null,null,null,null,null,null,null,null,null,null,null,null,null,null,null,null,null,null,null,null,null,null,null,null,null,null,null,null,null,null,null,null,null,null,null,null,null,null,null,null,null,null,null,null,null,null,null,null,null,null,null,null,null,null,null,null,null,null,null,null,null,null,null,null,null,null,null,null,null,null,null,null,null,null,null,null,null,null,null,null,null,null,null,null,null,null,null,null,null,null,null,null,null,null,null,null,null,null,null,null,null,null,null,null,null,null,null,null,null,null,null,null,null,null,null,null,null,null,null,null,null,null,null,null,null,null,null,null,null,null,null,null,null,null,null,null,null,null,null,null,null,null,null,null,2237,"Zannichellia palustris","Linnaeus","Horned Pondweed","Zannichelliaceae",null,2237]
[null,null,null,null,null,null,null,null,null,null,null,null,null,null,null,null,null,null,null,null,null,null,null,null,null,null,null,null,null,null,null,null,null,null,null,null,null,null,null,null,null,null,null,null,null,null,null,null,null,null,null,null,null,null,null,null,null,null,null,null,null,null,null,null,null,null,null,null,null,null,null,null,null,null,null,null,null,null,null,null,null,null,null,null,null,null,null,null,null,null,null,null,null,null,null,null,null,null,null,null,null,null,null,null,null,null,null,null,null,null,null,null,null,null,null,null,null,null,null,null,null,null,null,null,null,null,null,null,null,null,null,null,null,null,null,null,null,null,null,null,null,null,null,null,null,null,null,null,null,null,null,null,null,null,null,null,7672,"Zantedeschia aethiopica","(Linnaeus) Sprengel","Altar-lily","Araceae",null,7672]
[null,null,null,null,null,null,null,null,null,null,null,null,null,null,null,null,null,null,null,null,null,null,null,null,null,null,null,null,null,null,null,null,null,null,null,null,null,null,null,null,null,null,null,null,null,null,null,null,null,null,null,null,null,null,null,null,null,null,null,null,null,null,null,null,null,null,null,null,null,null,null,null,null,null,null,null,null,null,null,null,null,null,null,null,null,null,null,null,null,null,null,null,null,null,null,null,null,null,null,null,null,null,null,null,null,null,null,null,null,null,null,null,null,null,null,null,null,null,null,null,null,null,null,null,null,null,null,null,null,null,null,null,null,null,null,null,null,null,null,null,null,null,null,null,null,null,null,null,null,null,null,null,null,null,null,null,9091,"Zauschneria californica ","C. Presl","Californian Fuchsia","Onagraceae",null,9091]
[null,null,null,null,null,null,null,null,null,null,null,null,null,null,null,null,null,null,null,null,null,null,null,null,null,null,null,null,null,null,null,null,null,null,null,null,null,null,null,null,null,null,null,null,null,null,null,null,null,null,null,null,null,null,null,null,null,null,null,null,null,null,null,null,null,null,null,null,null,null,null,null,null,null,null,null,null,null,null,null,null,null,null,null,null,null,null,null,null,null,null,null,null,null,null,null,null,null,null,null,null,null,null,null,null,null,null,null,null,null,null,null,null,null,null,null,null,null,null,null,null,null,null,null,null,null,null,null,null,null,null,null,null,null,null,null,null,null,null,null,null,null,null,null,null,null,null,null,null,null,null,null,null,null,null,null,4439,"Zea mays","Linnaeus","Maize","Poaceae",null,4439]
[null,null,null,null,null,null,null,null,null,null,null,null,null,null,null,null,null,null,null,null,null,null,null,null,null,null,null,null,null,null,null,null,null,null,null,null,null,null,null,null,null,null,null,null,null,null,null,null,null,null,null,null,null,null,null,null,null,null,null,null,null,null,null,null,null,null,null,null,null,null,null,null,null,null,null,null,null,null,null,null,null,null,null,null,null,null,null,null,null,null,null,null,null,null,null,null,null,null,null,null,null,null,null,null,null,null,null,null,null,null,null,null,null,null,null,null,null,null,null,null,null,null,null,null,null,null,null,null,null,null,null,null,null,null,null,null,null,null,null,null,null,null,null,null,null,null,null,null,null,null,null,null,null,null,null,null,"No BRC","Zelkova serrata","(Thunb.) Makino","Japanese Elm","Ulmaceae",null,"No BRC"]
[null,null,null,null,null,null,null,null,null,null,null,null,null,null,null,null,null,null,null,null,null,null,null,null,null,null,null,null,null,null,null,null,null,null,null,null,null,null,null,null,null,null,null,null,null,null,null,null,null,null,null,null,null,null,null,null,null,null,null,null,null,null,null,null,null,null,null,null,null,null,null,null,null,null,null,null,null,null,null,null,null,null,null,null,null,null,null,null,null,null,null,null,null,null,null,null,null,null,null,null,null,null,null,null,null,null,null,null,null,null,null,null,null,null,null,null,null,null,null,null,null,null,null,null,null,null,null,null,null,null,null,null,null,null,null,null,null,null,null,null,null,null,null,null,null,null,null,null,null,null,null,null,null,null,null,null,8279,"Zinnia elegans","Jacq.","Youth-and-age","Asteraceae",null,8279]
[null,null,null,null,null,null,null,null,null,null,null,null,null,null,null,null,null,null,null,null,null,null,null,null,null,null,null,null,null,null,null,null,null,null,null,null,null,null,null,null,null,null,null,null,null,null,null,null,null,null,null,null,null,null,null,null,null,null,null,null,null,null,null,null,null,null,null,null,null,null,null,null,null,null,null,null,null,null,null,null,null,null,null,null,null,null,null,null,null,null,null,null,null,null,null,null,null,null,null,null,null,null,null,null,null,null,null,null,null,null,null,null,null,null,null,null,null,null,null,null,null,null,null,null,null,null,null,null,null,null,null,null,null,null,null,null,null,null,null,null,null,null,null,null,null,null,null,null,null,null,null,null,null,null,null,null,"No BRC","Zizania latifolia","(Griseb.) Turcz. ex Stapf","Manchurian Wildrice","Poaceae",null,"No BRC"]
[null,null,null,null,null,null,null,null,null,null,null,null,null,null,null,null,null,null,null,null,null,null,null,null,null,null,null,null,null,null,null,null,null,null,null,null,null,null,null,null,null,null,null,null,null,null,null,null,null,null,null,null,null,null,null,null,null,null,null,null,null,null,null,null,null,null,null,null,null,null,null,null,null,null,null,null,null,null,null,null,null,null,null,null,null,null,null,null,null,null,null,null,null,null,null,null,null,null,null,null,null,null,null,null,null,null,null,null,null,null,null,null,null,null,null,null,null,null,null,null,null,null,null,null,null,null,null,null,null,null,null,null,null,null,null,null,null,null,null,null,null,null,null,null,null,null,null,null,null,null,null,null,null,null,null,null,2238,"Zostera angustifolia","(Hornem.) Reichb.","Narrow-leaved Eel-grass (Now sunk into Z marina)","Zosteraceae",null,2238]
[null,null,null,null,null,null,null,null,null,null,null,null,null,null,null,null,null,null,null,null,null,null,null,null,null,null,null,null,null,null,null,null,null,null,null,null,null,null,null,null,null,null,null,null,null,null,null,null,null,null,null,null,null,null,null,null,null,null,null,null,null,null,null,null,null,null,null,null,null,null,null,null,null,null,null,null,null,null,null,null,null,null,null,null,null,null,null,null,null,null,null,null,null,null,null,null,null,null,null,null,null,null,null,null,null,null,null,null,null,null,null,null,null,null,null,null,null,null,null,null,null,null,null,null,null,null,null,null,null,null,null,null,null,null,null,null,null,null,null,null,null,null,null,null,null,null,null,null,null,null,null,null,null,null,null,null,2239,"Zostera marina","L.","Eelgrass","Zosteraceae","Near Threatened",2239]
[null,null,null,null,null,null,null,null,null,null,null,null,null,null,null,null,null,null,null,null,null,null,null,null,null,null,null,null,null,null,null,null,null,null,null,null,null,null,null,null,null,null,null,null,null,null,null,null,null,null,null,null,null,null,null,null,null,null,null,null,null,null,null,null,null,null,null,null,null,null,null,null,null,null,null,null,null,null,null,null,null,null,null,null,null,null,null,null,null,null,null,null,null,null,null,null,null,null,null,null,null,null,null,null,null,null,null,null,null,null,null,null,null,null,null,null,null,null,null,null,null,null,null,null,null,null,null,null,null,null,null,null,null,null,null,null,null,null,null,null,null,null,null,null,null,null,null,null,null,null,null,null,null,null,null,null,2240,"Zostera noltei","Hornem.","Dwarf Eelgrass","Zosteraceae","Vulnerable",2240]
[null,null,null,null,null,null,null,null,null,null,null,null,null,null,null,null,null,null,null,null,null,null,null,null,null,null,null,null,null,null,null,null,null,null,null,null,null,null,null,null,null,null,null,null,null,null,null,null,null,null,null,null,null,null,null,null,null,null,null,null,null,null,null,null,null,null,null,null,null,null,null,null,null,null,null,null,null,null,null,null,null,null,null,null,null,null,null,null,null,null,null,null,null,null,null,null,null,null,null,null,null,null,null,null,null,null,null,null,null,null,null,null,null,null,null,null,null,null,null,null,null,null,null,null,null,null,null,null,null,null,null,null,null,null,null,null,null,null,null,null,null,null,null,null,null,null,null,null,null,null,null,null,null,null,null,null,"No BRC","Zostera noltii",null,"Dwarf Eel-grass","Zosteraceae",null,"No BRC"]

{"sheet":"By Name","index":1,"n_rows":7130,"n_cols":79,"rows_kept":1125,"cut":true,"hidden":false,"merged":[],"bounds":{"rows_first":500,"rows_last":125,"rows_between":500,"halvings":2}}
[null,"          Enter Taxon",null,null,null,null,null,null,"Optional Supplementary Information"]
[null,"BRC","By Name",null,"BRC","Taxon","Vernacular","Gridref","Determiner","Method","Stage","Comment",null,null,null,"BRC","Taxon","Vernacular","Site","Gridref","VC","Date","Recorder","Determiner","Method","Stage","Comment",null,"BRC","Recorded List","Vernacular","Site","Gridref","VC","Date","Recorder","Determiner","Method","Stage","Comment",null,null,null,null,null,null,null,null,null,null,null,null,null,null,null,null,null,null,null,"Code","Taxon",null,null,"Code","Taxon","Authority","Vernacular","Parent","Status","Code","List",null,null,null,null,null,null,null,"List"]
[{"$f":"IF(F3=\"\",\"\",ROW())","v":""},null,null,null,{"$f":"IF(ISBLANK(B3),IF(ISBLANK(C3),\"\",IF(RIGHT(C3,LEN(C3)-FIND(\"_\",C3,1))=\"No BRC\",\"No BRC\",RIGHT(C3,LEN(C3)-FIND(\"_\",C3,1))*1)),B3)","v":""},{"$f":"IF(ISBLANK(B3),IF(ISBLANK(C3),\"\",LEFT(C3,FIND(\"_\",C3,1)-1)),VLOOKUP(B3,$BH$3:$BI$7130,2))","v":""},{"$f":"IF(LEN(F3)<1,\"\",IF(ISBLANK(VLOOKUP(F3,$BM$3:$BR$7116,3,FALSE)),\"\",(VLOOKUP(F3,$BM$3:$BR$7130,3,FALSE))))","v":""},null,null,null,null,null,null,null,null,{"$f":"IF(LEN($F3)<1,\"\",E3)","v":""},{"$f":"IF(LEN($F3)<1,\"\",F3)","v":""},{"$f":"IF(LEN($F3)<1,\"\",G3)","v":""},{"$f":"IF(LEN($F3)<1,\"\",IF(ISBLANK(Checklist!$H$2),\"\",Checklist!$H$2))","v":""},{"$f":"IF(LEN($F3)<1,\"\",IF(ISTEXT(H3),H3,IF(ISTEXT(Checklist!$H$3),Checklist!$H$3,\"NO Grid Ref!!\")))","v":""},{"$f":"IF(LEN($F3)<1,\"\",IF(ISBLANK(Checklist!$H$4),\"NO VC!!\",Checklist!$H$4))","v":""},{"$f":"IF(LEN($F3)<1,\"\",IF(ISBLANK(Checklist!$H$5),\"NO Date!!\",Checklist!$H$5))","v":""},{"$f":"IF(LEN($F3)<1,\"\",IF(ISBLANK(Checklist!$H$6),\"NO Recorder!!\",Checklist!$H$6))","v":""},{"$f":"IF(LEN($F3)<1,\"\",IF(ISTEXT(I3),I3,IF(ISTEXT(Checklist!$H$6),Checklist!$H$6,\"NO Determiner!!\")))","v":""},{"$f":"IF(LEN($F3)<1,\"\",IF(ISTEXT(J3),J3,IF(ISTEXT(Checklist!$H$7),Checklist!$H$7,\"Field record / observation\")))","v":""},{"$f":"IF(LEN($F3)<1,\"\",IF(LEN(K3)<1,\"Not Recorded\",K3))","v":""},{"$f":"IF(LEN($F3)<1,\"\",IF(LEN(L3)<1,\"  --\",L3))","v":""},null,{"$f":"IF(ROW($A3)-ROW($A$3)+1>COUNT($A$3:$A$501),\"\",INDEX(P:P,SMALL($A$3:$A$501,1+ROW($A3)-ROW($A$3))))","v":""},"","","","","","","","","","","",null,null,null,null,null,null,null,null,null,null,null,null,null,null,null,null,null,null,null,2,"Acanthus mollis",null,null,5699,"Abelia uniflora","R. Br. ex Wall.",null,"Caprifoliaceae",null,5699,{"$f":"CONCATENATE(BM3,\"_\",BL3)","v":"Abelia uniflora_5699"},null,null,null,null,null,null,null,"Abelia uniflora_5699"]
[{"$f":"IF(F4=\"\",\"\",ROW())","v":""},null,null,null,"",{"$f":"IF(ISBLANK(B4),IF(ISBLANK(C4),\"\",LEFT(C4,FIND(\"_\",C4,1)-1)),VLOOKUP(B4,$BH$3:$BI$7130,2))","v":""},{"$f":"IF(LEN(F4)<1,\"\",IF(ISBLANK(VLOOKUP(F4,$BM$3:$BR$7116,3,FALSE)),\"\",(VLOOKUP(F4,$BM$3:$BR$7130,3,FALSE))))","v":""},null,null,null,null,null,null,null,null,{"$f":"IF(LEN($F4)<1,\"\",E4)","v":""},{"$f":"IF(LEN($F4)<1,\"\",F4)","v":""},{"$f":"IF(LEN($F4)<1,\"\",G4)","v":""},{"$f":"IF(LEN($F4)<1,\"\",IF(ISBLANK(Checklist!$H$2),\"\",Checklist!$H$2))","v":""},{"$f":"IF(LEN($F4)<1,\"\",IF(ISTEXT(H4),H4,IF(ISTEXT(Checklist!$H$3),Checklist!$H$3,\"NO Grid Ref!!\")))","v":""},{"$f":"IF(LEN($F4)<1,\"\",IF(ISBLANK(Checklist!$H$4),\"NO VC!!\",Checklist!$H$4))","v":""},{"$f":"IF(LEN($F4)<1,\"\",IF(ISBLANK(Checklist!$H$5),\"NO Date!!\",Checklist!$H$5))","v":""},{"$f":"IF(LEN($F4)<1,\"\",IF(ISBLANK(Checklist!$H$6),\"NO Recorder!!\",Checklist!$H$6))","v":""},{"$f":"IF(LEN($F4)<1,\"\",IF(ISTEXT(I4),I4,IF(ISTEXT(Checklist!$H$6),Checklist!$H$6,\"NO Determiner!!\")))","v":""},{"$f":"IF(LEN($F4)<1,\"\",IF(ISTEXT(J4),J4,IF(ISTEXT(Checklist!$H$7),Checklist!$H$7,\"Field record / observation\")))","v":""},{"$f":"IF(LEN($F4)<1,\"\",IF(LEN(K4)<1,\"Not Recorded\",K4))","v":""},{"$f":"IF(LEN($F4)<1,\"\",IF(LEN(L4)<1,\"  --\",L4))","v":""},null,{"$f":"IF(ROW($A4)-ROW($A$3)+1>COUNT($A$3:$A$501),\"\",INDEX(P:P,SMALL($A$3:$A$501,1+ROW($A4)-ROW($A$3))))","v":""},{"$f":"IF(ROW($A4)-ROW($A$3)+1>COUNT($A$3:$A$501),\"\",INDEX(Q:Q,SMALL($A$3:$A$501,1+ROW($A4)-ROW($A$3))))","v":""},{"$f":"IF(ROW($A4)-ROW($A$3)+1>COUNT($A$3:$A$501),\"\",INDEX(R:R,SMALL($A$3:$A$501,1+ROW($A4)-ROW($A$3))))","v":""},{"$f":"IF(ROW($A4)-ROW($A$3)+1>COUNT($A$3:$A$501),\"\",INDEX(S:S,SMALL($A$3:$A$501,1+ROW($A4)-ROW($A$3))))","v":""},{"$f":"IF(ROW($A4)-ROW($A$3)+1>COUNT($A$3:$A$501),\"\",INDEX(T:T,SMALL($A$3:$A$501,1+ROW($A4)-ROW($A$3))))","v":""},{"$f":"IF(ROW($A4)-ROW($A$3)+1>COUNT($A$3:$A$501),\"\",INDEX(U:U,SMALL($A$3:$A$501,1+ROW($A4)-ROW($A$3))))","v":""},{"$f":"IF(ROW($A4)-ROW($A$3)+1>COUNT($A$3:$A$501),\"\",INDEX(V:V,SMALL($A$3:$A$501,1+ROW($A4)-ROW($A$3))))","v":""},{"$f":"IF(ROW($A4)-ROW($A$3)+1>COUNT($A$3:$A$501),\"\",INDEX(W:W,SMALL($A$3:$A$501,1+ROW($A4)-ROW($A$3))))","v":""},{"$f":"IF(ROW($A4)-ROW($A$3)+1>COUNT($A$3:$A$501),\"\",INDEX(X:X,SMALL($A$3:$A$501,1+ROW($A4)-ROW($A$3))))","v":""},{"$f":"IF(ROW($A4)-ROW($A$3)+1>COUNT($A$3:$A$501),\"\",INDEX(Y:Y,SMALL($A$3:$A$501,1+ROW($A4)-ROW($A$3))))","v":""},{"$f":"IF(ROW($A4)-ROW($A$3)+1>COUNT($A$3:$A$501),\"\",INDEX(Z:Z,SMALL($A$3:$A$501,1+ROW($A4)-ROW($A$3))))","v":""},{"$f":"IF(ROW($A4)-ROW($A$3)+1>COUNT($A$3:$A$501),\"\",INDEX(AA:AA,SMALL($A$3:$A$501,1+ROW($A4)-ROW($A$3))))","v":""},null,null,null,null,null,null,null,null,null,null,null,null,null,null,null,null,null,null,null,3,"Acer campestre",null,null,2395,"Abies alba","Mill.","European Silver-fir","Pinaceae",null,2395,{"$f":"CONCATENATE(BM4,\"_\",BL4)","v":"Abies alba_2395"},null,null,null,null,null,null,null,"Abies alba_2395"]
["",null,null,null,"",{"$f":"IF(ISBLANK(B5),IF(ISBLANK(C5),\"\",LEFT(C5,FIND(\"_\",C5,1)-1)),VLOOKUP(B5,$BH$3:$BI$7130,2))","v":""},{"$f":"IF(LEN(F5)<1,\"\",IF(ISBLANK(VLOOKUP(F5,$BM$3:$BR$7116,3,FALSE)),\"\",(VLOOKUP(F5,$BM$3:$BR$7130,3,FALSE))))","v":""},null,null,null,null,null,null,null,null,"","","",{"$f":"IF(LEN($F5)<1,\"\",IF(ISBLANK(Checklist!$H$2),\"\",Checklist!$H$2))","v":""},{"$f":"IF(LEN($F5)<1,\"\",IF(ISTEXT(H5),H5,IF(ISTEXT(Checklist!$H$3),Checklist!$H$3,\"NO Grid Ref!!\")))","v":""},{"$f":"IF(LEN($F5)<1,\"\",IF(ISBLANK(Checklist!$H$4),\"NO VC!!\",Checklist!$H$4))","v":""},{"$f":"IF(LEN($F5)<1,\"\",IF(ISBLANK(Checklist!$H$5),\"NO Date!!\",Checklist!$H$5))","v":""},{"$f":"IF(LEN($F5)<1,\"\",IF(ISBLANK(Checklist!$H$6),\"NO Recorder!!\",Checklist!$H$6))","v":""},{"$f":"IF(LEN($F5)<1,\"\",IF(ISTEXT(I5),I5,IF(ISTEXT(Checklist!$H$6),Checklist!$H$6,\"NO Determiner!!\")))","v":""},{"$f":"IF(LEN($F5)<1,\"\",IF(ISTEXT(J5),J5,IF(ISTEXT(Checklist!$H$7),Checklist!$H$7,\"Field record / observation\")))","v":""},"","",null,"","","","","","","","","","","","",null,null,null,null,null,null,null,null,null,null,null,null,null,null,null,null,null,null,null,4,"Acer platanoides",null,null,"No BRC","Abies amabilis","Douglas ex J. Forbes","Pacific Silver-fir","Pinaceae",null,"No BRC","Abies amabilis_No BRC",null,null,null,null,null,null,null,"Abies amabilis_No BRC"]
["",null,null,null,"",{"$f":"IF(ISBLANK(B6),IF(ISBLANK(C6),\"\",LEFT(C6,FIND(\"_\",C6,1)-1)),VLOOKUP(B6,$BH$3:$BI$7130,2,FALSE))","v":""},"",null,null,null,null,null,null,null,null,"","","",{"$f":"IF(LEN($F6)<1,\"\",IF(ISBLANK(Checklist!$H$2),\"\",Checklist!$H$2))","v":""},{"$f":"IF(LEN($F6)<1,\"\",IF(ISTEXT(H6),H6,IF(ISTEXT(Checklist!$H$3),Checklist!$H$3,\"NO Grid Ref!!\")))","v":""},{"$f":"IF(LEN($F6)<1,\"\",IF(ISBLANK(Checklist!$H$4),\"NO VC!!\",Checklist!$H$4))","v":""},{"$f":"IF(LEN($F6)<1,\"\",IF(ISBLANK(Checklist!$H$5),\"NO Date!!\",Checklist!$H$5))","v":""},{"$f":"IF(LEN($F6)<1,\"\",IF(ISBLANK(Checklist!$H$6),\"NO Recorder!!\",Checklist!$H$6))","v":""},{"$f":"IF(LEN($F6)<1,\"\",IF(ISTEXT(I6),I6,IF(ISTEXT(Checklist!$H$6),Checklist!$H$6,\"NO Determiner!!\")))","v":""},{"$f":"IF(LEN($F6)<1,\"\",IF(ISTEXT(J6),J6,IF(ISTEXT(Checklist!$H$7),Checklist!$H$7,\"Field record / observation\")))","v":""},"","",null,"","","","","","","","","","","","",null,null,null,null,null,null,null,null,null,null,null,null,null,null,null,null,null,null,null,5,"Acer pseudoplatanus",null,null,7926,"Abies cephalonica","Loudon","Greek Fir","Pinaceae",null,7926,"Abies cephalonica_7926",null,null,null,null,null,null,null,"Abies cephalonica_7926"]
["",null,null,null,"","","",null,null,null,null,null,null,null,null,"","","",{"$f":"IF(LEN($F7)<1,\"\",IF(ISBLANK(Checklist!$H$2),\"\",Checklist!$H$2))","v":""},{"$f":"IF(LEN($F7)<1,\"\",IF(ISTEXT(H7),H7,IF(ISTEXT(Checklist!$H$3),Checklist!$H$3,\"NO Grid Ref!!\")))","v":""},{"$f":"IF(LEN($F7)<1,\"\",IF(ISBLANK(Checklist!$H$4),\"NO VC!!\",Checklist!$H$4))","v":""},{"$f":"IF(LEN($F7)<1,\"\",IF(ISBLANK(Checklist!$H$5),\"NO Date!!\",Checklist!$H$5))","v":""},{"$f":"IF(LEN($F7)<1,\"\",IF(ISBLANK(Checklist!$H$6),\"NO Recorder!!\",Checklist!$H$6))","v":""},{"$f":"IF(LEN($F7)<1,\"\",IF(ISTEXT(I7),I7,IF(ISTEXT(Checklist!$H$6),Checklist!$H$6,\"NO Determiner!!\")))","v":""},{"$f":"IF(LEN($F7)<1,\"\",IF(ISTEXT(J7),J7,IF(ISTEXT(Checklist!$H$7),Checklist!$H$7,\"Field record / observation\")))","v":""},"","",null,"","","","","","","","","","","","",null,null,null,null,null,null,null,null,null,null,null,null,null,null,null,null,null,null,null,6,"Orchis anthropophora",null,null,3586,"Abies cilicica","(Antoine & Kotschy) Carrière","Cilician Fir","Pinaceae",null,3586,"Abies cilicica_3586",null,null,null,null,null,null,null,"Abies cilicica_3586"]
["",null,null,null,"","","",null,null,null,null,null,null,null,null,"","","",{"$f":"IF(LEN($F8)<1,\"\",IF(ISBLANK(Checklist!$H$2),\"\",Checklist!$H$2))","v":""},{"$f":"IF(LEN($F8)<1,\"\",IF(ISTEXT(H8),H8,IF(ISTEXT(Checklist!$H$3),Checklist!$H$3,\"NO Grid Ref!!\")))","v":""},{"$f":"IF(LEN($F8)<1,\"\",IF(ISBLANK(Checklist!$H$4),\"NO VC!!\",Checklist!$H$4))","v":""},{"$f":"IF(LEN($F8)<1,\"\",IF(ISBLANK(Checklist!$H$5),\"NO Date!!\",Checklist!$H$5))","v":""},{"$f":"IF(LEN($F8)<1,\"\",IF(ISBLANK(Checklist!$H$6),\"NO Recorder!!\",Checklist!$H$6))","v":""},{"$f":"IF(LEN($F8)<1,\"\",IF(ISTEXT(I8),I8,IF(ISTEXT(Checklist!$H$6),Checklist!$H$6,\"NO Determiner!!\")))","v":""},{"$f":"IF(LEN($F8)<1,\"\",IF(ISTEXT(J8),J8,IF(ISTEXT(Checklist!$H$7),Checklist!$H$7,\"Field record / observation\")))","v":""},"","",null,"","","","","","","","","","","","",null,null,null,null,null,null,null,null,null,null,null,null,null,null,null,null,null,null,null,7,"Achillea millefolium",null,null,3589,"Abies concolor","(Gordon) Lindl. ex Hildebr.","Colorado White-fir","Pinaceae",null,3589,"Abies concolor_3589",null,null,null,null,null,null,null,"Abies concolor_3589"]
["",null,null,null,"","","",null,null,null,null,null,null,null,null,"","","",{"$f":"IF(LEN($F9)<1,\"\",IF(ISBLANK(Checklist!$H$2),\"\",Checklist!$H$2))","v":""},{"$f":"IF(LEN($F9)<1,\"\",IF(ISTEXT(H9),H9,IF(ISTEXT(Checklist!$H$3),Checklist!$H$3,\"NO Grid Ref!!\")))","v":""},{"$f":"IF(LEN($F9)<1,\"\",IF(ISBLANK(Checklist!$H$4),\"NO VC!!\",Checklist!$H$4))","v":""},{"$f":"IF(LEN($F9)<1,\"\",IF(ISBLANK(Checklist!$H$5),\"NO Date!!\",Checklist!$H$5))","v":""},{"$f":"IF(LEN($F9)<1,\"\",IF(ISBLANK(Checklist!$H$6),\"NO Recorder!!\",Checklist!$H$6))","v":""},{"$f":"IF(LEN($F9)<1,\"\",IF(ISTEXT(I9),I9,IF(ISTEXT(Checklist!$H$6),Checklist!$H$6,\"NO Determiner!!\")))","v":""},{"$f":"IF(LEN($F9)<1,\"\",IF(ISTEXT(J9),J9,IF(ISTEXT(Checklist!$H$7),Checklist!$H$7,\"Field record / observation\")))","v":""},"","",null,"","","","","","","","","","","","",null,null,null,null,null,null,null,null,null,null,null,null,null,null,null,null,null,null,null,8,"Achillea nobilis",null,null,3590,"Abies delavayi","Franch.","Delavay's Silver-fir","Pinaceae",null,3590,"Abies delavayi_3590",null,null,null,null,null,null,null,"Abies delavayi_3590"]
["",null,null,null,"","","",null,null,null,null,null,null,null,null,"","","",{"$f":"IF(LEN($F10)<1,\"\",IF(ISBLANK(Checklist!$H$2),\"\",Checklist!$H$2))","v":""},{"$f":"IF(LEN($F10)<1,\"\",IF(ISTEXT(H10),H10,IF(ISTEXT(Checklist!$H$3),Checklist!$H$3,\"NO Grid Ref!!\")))","v":""},{"$f":"IF(LEN($F10)<1,\"\",IF(ISBLANK(Checklist!$H$4),\"NO VC!!\",Checklist!$H$4))","v":""},{"$f":"IF(LEN($F10)<1,\"\",IF(ISBLANK(Checklist!$H$5),\"NO Date!!\",Checklist!$H$5))","v":""},{"$f":"IF(LEN($F10)<1,\"\",IF(ISBLANK(Checklist!$H$6),\"NO Recorder!!\",Checklist!$H$6))","v":""},{"$f":"IF(LEN($F10)<1,\"\",IF(ISTEXT(I10),I10,IF(ISTEXT(Checklist!$H$6),Checklist!$H$6,\"NO Determiner!!\")))","v":""},{"$f":"IF(LEN($F10)<1,\"\",IF(ISTEXT(J10),J10,IF(ISTEXT(Checklist!$H$7),Checklist!$H$7,\"Field record / observation\")))","v":""},"","",null,"","","","","","","","","","","","",null,null,null,null,null,null,null,null,null,null,null,null,null,null,null,null,null,null,null,9,"Achillea ptarmica",null,null,5640,"Abies firma","Siebold & Zucc.","Momi Fir","Pinaceae",null,5640,"Abies firma_5640",null,null,null,null,null,null,null,"Abies firma_5640"]
["",null,null,null,"","","",null,null,null,null,null,null,null,null,"","","",{"$f":"IF(LEN($F11)<1,\"\",IF(ISBLANK(Checklist!$H$2),\"\",Checklist!$H$2))","v":""},{"$f":"IF(LEN($F11)<1,\"\",IF(ISTEXT(H11),H11,IF(ISTEXT(Checklist!$H$3),Checklist!$H$3,\"NO Grid Ref!!\")))","v":""},{"$f":"IF(LEN($F11)<1,\"\",IF(ISBLANK(Checklist!$H$4),\"NO VC!!\",Checklist!$H$4))","v":""},{"$f":"IF(LEN($F11)<1,\"\",IF(ISBLANK(Checklist!$H$5),\"NO Date!!\",Checklist!$H$5))","v":""},{"$f":"IF(LEN($F11)<1,\"\",IF(ISBLANK(Checklist!$H$6),\"NO Recorder!!\",Checklist!$H$6))","v":""},{"$f":"IF(LEN($F11)<1,\"\",IF(ISTEXT(I11),I11,IF(ISTEXT(Checklist!$H$6),Checklist!$H$6,\"NO Determiner!!\")))","v":""},{"$f":"IF(LEN($F11)<1,\"\",IF(ISTEXT(J11),J11,IF(ISTEXT(Checklist!$H$7),Checklist!$H$7,\"Field record / observation\")))","v":""},"","",null,"","","","","","","","","","","","",null,null,null,null,null,null,null,null,null,null,null,null,null,null,null,null,null,null,null,10,"Achillea distans",null,null,"No BRC","Abies fraseri","(Pursh) Poir.","Fraser Fir","Pinaceae",null,"No BRC","Abies fraseri_No BRC",null,null,null,null,null,null,null,"Abies fraseri_No BRC"]
["",null,null,null,"","","",null,null,null,null,null,null,null,null,"","","",{"$f":"IF(LEN($F12)<1,\"\",IF(ISBLANK(Checklist!$H$2),\"\",Checklist!$H$2))","v":""},{"$f":"IF(LEN($F12)<1,\"\",IF(ISTEXT(H12),H12,IF(ISTEXT(Checklist!$H$3),Checklist!$H$3,\"NO Grid Ref!!\")))","v":""},{"$f":"IF(LEN($F12)<1,\"\",IF(ISBLANK(Checklist!$H$4),\"NO VC!!\",Checklist!$H$4))","v":""},{"$f":"IF(LEN($F12)<1,\"\",IF(ISBLANK(Checklist!$H$5),\"NO Date!!\",Checklist!$H$5))","v":""},{"$f":"IF(LEN($F12)<1,\"\",IF(ISBLANK(Checklist!$H$6),\"NO Recorder!!\",Checklist!$H$6))","v":""},{"$f":"IF(LEN($F12)<1,\"\",IF(ISTEXT(I12),I12,IF(ISTEXT(Checklist!$H$6),Checklist!$H$6,\"NO Determiner!!\")))","v":""},{"$f":"IF(LEN($F12)<1,\"\",IF(ISTEXT(J12),J12,IF(ISTEXT(Checklist!$H$7),Checklist!$H$7,\"Field record / observation\")))","v":""},"","",null,"","","","","","","","","","","","",null,null,null,null,null,null,null,null,null,null,null,null,null,null,null,null,null,null,null,11,"Achillea tomentosa",null,null,2396,"Abies grandis","(Douglas ex D. Don) Lindl.","Giant Fir","Pinaceae",null,2396,"Abies grandis_2396",null,null,null,null,null,null,null,"Abies grandis_2396"]
["",null,null,null,"","","",null,null,null,null,null,null,null,null,"","","",{"$f":"IF(LEN($F13)<1,\"\",IF(ISBLANK(Checklist!$H$2),\"\",Checklist!$H$2))","v":""},{"$f":"IF(LEN($F13)<1,\"\",IF(ISTEXT(H13),H13,IF(ISTEXT(Checklist!$H$3),Checklist!$H$3,\"NO Grid Ref!!\")))","v":""},{"$f":"IF(LEN($F13)<1,\"\",IF(ISBLANK(Checklist!$H$4),\"NO VC!!\",Checklist!$H$4))","v":""},{"$f":"IF(LEN($F13)<1,\"\",IF(ISBLANK(Checklist!$H$5),\"NO Date!!\",Checklist!$H$5))","v":""},{"$f":"IF(LEN($F13)<1,\"\",IF(ISBLANK(Checklist!$H$6),\"NO Recorder!!\",Checklist!$H$6))","v":""},{"$f":"IF(LEN($F13)<1,\"\",IF(ISTEXT(I13),I13,IF(ISTEXT(Checklist!$H$6),Checklist!$H$6,\"NO Determiner!!\")))","v":""},{"$f":"IF(LEN($F13)<1,\"\",IF(ISTEXT(J13),J13,IF(ISTEXT(Checklist!$H$7),Checklist!$H$7,\"Field record / observation\")))","v":""},"","",null,"","","","","","","","","","","","",null,null,null,null,null,null,null,null,null,null,null,null,null,null,null,null,null,null,null,12,"Clinopodium acinos",null,null,3596,"Abies homolepis","Siebold & Zucc.","Nikko Fir","Pinaceae",null,3596,"Abies homolepis_3596",null,null,null,null,null,null,null,"Abies homolepis_3596"]
["",null,null,null,"","","",null,null,null,null,null,null,null,null,"","","",{"$f":"IF(LEN($F14)<1,\"\",IF(ISBLANK(Checklist!$H$2),\"\",Checklist!$H$2))","v":""},{"$f":"IF(LEN($F14)<1,\"\",IF(ISTEXT(H14),H14,IF(ISTEXT(Checklist!$H$3),Checklist!$H$3,\"NO Grid Ref!!\")))","v":""},{"$f":"IF(LEN($F14)<1,\"\",IF(ISBLANK(Checklist!$H$4),\"NO VC!!\",Checklist!$H$4))","v":""},{"$f":"IF(LEN($F14)<1,\"\",IF(ISBLANK(Checklist!$H$5),\"NO Date!!\",Checklist!$H$5))","v":""},{"$f":"IF(LEN($F14)<1,\"\",IF(ISBLANK(Checklist!$H$6),\"NO Recorder!!\",Checklist!$H$6))","v":""},{"$f":"IF(LEN($F14)<1,\"\",IF(ISTEXT(I14),I14,IF(ISTEXT(Checklist!$H$6),Checklist!$H$6,\"NO Determiner!!\")))","v":""},{"$f":"IF(LEN($F14)<1,\"\",IF(ISTEXT(J14),J14,IF(ISTEXT(Checklist!$H$7),Checklist!$H$7,\"Field record / observation\")))","v":""},"","",null,"","","","","","","","","","","","",null,null,null,null,null,null,null,null,null,null,null,null,null,null,null,null,null,null,null,13,"Triticum turgidum",null,null,3598,"Abies lasiocarpa","(Hook.) Nutt.","Subalpine Fir","Pinaceae",null,3598,"Abies lasiocarpa_3598",null,null,null,null,null,null,null,"Abies lasiocarpa_3598"]
["",null,null,null,"","","",null,null,null,null,null,null,null,null,{"$f":"IF(LEN($F15)<1,\"\",E15)","v":""},{"$f":"IF(LEN($F15)<1,\"\",F15)","v":""},{"$f":"IF(LEN($F15)<1,\"\",G15)","v":""},{"$f":"IF(LEN($F15)<1,\"\",IF(ISBLANK(Checklist!$H$2),\"\",Checklist!$H$2))","v":""},{"$f":"IF(LEN($F15)<1,\"\",IF(ISTEXT(H15),H15,IF(ISTEXT(Checklist!$H$3),Checklist!$H$3,\"NO Grid Ref!!\")))","v":""},{"$f":"IF(LEN($F15)<1,\"\",IF(ISBLANK(Checklist!$H$4),\"NO VC!!\",Checklist!$H$4))","v":""},{"$f":"IF(LEN($F15)<1,\"\",IF(ISBLANK(Checklist!$H$5),\"NO Date!!\",Checklist!$H$5))","v":""},{"$f":"IF(LEN($F15)<1,\"\",IF(ISBLANK(Checklist!$H$6),\"NO Recorder!!\",Checklist!$H$6))","v":""},{"$f":"IF(LEN($F15)<1,\"\",IF(ISTEXT(I15),I15,IF(ISTEXT(Checklist!$H$6),Checklist!$H$6,\"NO Determiner!!\")))","v":""},{"$f":"IF(LEN($F15)<1,\"\",IF(ISTEXT(J15),J15,IF(ISTEXT(Checklist!$H$7),Checklist!$H$7,\"Field record / observation\")))","v":""},{"$f":"IF(LEN($F15)<1,\"\",IF(LEN(K15)<1,\"Not Recorded\",K15))","v":""},{"$f":"IF(LEN($F15)<1,\"\",IF(LEN(L15)<1,\"  --\",L15))","v":""},null,"","","","","","","","","","","","",null,null,null,null,null,null,null,null,null,null,null,null,null,null,null,null,null,null,null,14,"Aconitum napellus",null,null,7927,"Abies nordmanniana","(Steven) Spach","Caucasian Fir","Pinaceae",null,7927,"Abies nordmanniana_7927",null,null,null,null,null,null,null,"Abies nordmanniana_7927"]
["",null,null,null,"","","",null,null,null,null,null,null,null,null,"","","",{"$f":"IF(LEN($F16)<1,\"\",IF(ISBLANK(Checklist!$H$2),\"\",Checklist!$H$2))","v":""},{"$f":"IF(LEN($F16)<1,\"\",IF(ISTEXT(H16),H16,IF(ISTEXT(Checklist!$H$3),Checklist!$H$3,\"NO Grid Ref!!\")))","v":""},{"$f":"IF(LEN($F16)<1,\"\",IF(ISBLANK(Checklist!$H$4),\"NO VC!!\",Checklist!$H$4))","v":""},{"$f":"IF(LEN($F16)<1,\"\",IF(ISBLANK(Checklist!$H$5),\"NO Date!!\",Checklist!$H$5))","v":""},{"$f":"IF(LEN($F16)<1,\"\",IF(ISBLANK(Checklist!$H$6),\"NO Recorder!!\",Checklist!$H$6))","v":""},{"$f":"IF(LEN($F16)<1,\"\",IF(ISTEXT(I16),I16,IF(ISTEXT(Checklist!$H$6),Checklist!$H$6,\"NO Determiner!!\")))","v":""},{"$f":"IF(LEN($F16)<1,\"\",IF(ISTEXT(J16),J16,IF(ISTEXT(Checklist!$H$7),Checklist!$H$7,\"Field record / observation\")))","v":""},"","",null,"","","","","","","","","","","","",null,null,null,null,null,null,null,null,null,null,null,null,null,null,null,null,null,null,null,14.1,"Aconitum napellus subsp. napellus",null,null,3603,"Abies pinsapo","Boiss.","Spanish Fir","Pinaceae",null,3603,"Abies pinsapo_3603",null,null,null,null,null,null,null,"Abies pinsapo_3603"]
["",null,null,null,"","","",null,null,null,null,null,null,null,null,"","","",{"$f":"IF(LEN($F17)<1,\"\",IF(ISBLANK(Checklist!$H$2),\"\",Checklist!$H$2))","v":""},{"$f":"IF(LEN($F17)<1,\"\",IF(ISTEXT(H17),H17,IF(ISTEXT(Checklist!$H$3),Checklist!$H$3,\"NO Grid Ref!!\")))","v":""},{"$f":"IF(LEN($F17)<1,\"\",IF(ISBLANK(Checklist!$H$4),\"NO VC!!\",Checklist!$H$4))","v":""},{"$f":"IF(LEN($F17)<1,\"\",IF(ISBLANK(Checklist!$H$5),\"NO Date!!\",Checklist!$H$5))","v":""},{"$f":"IF(LEN($F17)<1,\"\",IF(ISBLANK(Checklist!$H$6),\"NO Recorder!!\",Checklist!$H$6))","v":""},{"$f":"IF(LEN($F17)<1,\"\",IF(ISTEXT(I17),I17,IF(ISTEXT(Checklist!$H$6),Checklist!$H$6,\"NO Determiner!!\")))","v":""},{"$f":"IF(LEN($F17)<1,\"\",IF(ISTEXT(J17),J17,IF(ISTEXT(Checklist!$H$7),Checklist!$H$7,\"Field record / observation\")))","v":""},"","",null,"","","","","","","","","","","","",null,null,null,null,null,null,null,null,null,null,null,null,null,null,null,null,null,null,null,14.2,"Aconitum napellus subsp. vulgare",null,null,2397,"Abies procera","Rehder","Noble Fir","Pinaceae",null,2397,"Abies procera_2397",null,null,null,null,null,null,null,"Abies procera_2397"]
["",null,null,null,"","","",null,null,null,null,null,null,null,null,"","","",{"$f":"IF(LEN($F18)<1,\"\",IF(ISBLANK(Checklist!$H$2),\"\",Checklist!$H$2))","v":""},{"$f":"IF(LEN($F18)<1,\"\",IF(ISTEXT(H18),H18,IF(ISTEXT(Checklist!$H$3),Checklist!$H$3,\"NO Grid Ref!!\")))","v":""},{"$f":"IF(LEN($F18)<1,\"\",IF(ISBLANK(Checklist!$H$4),\"NO VC!!\",Checklist!$H$4))","v":""},{"$f":"IF(LEN($F18)<1,\"\",IF(ISBLANK(Checklist!$H$5),\"NO Date!!\",Checklist!$H$5))","v":""},{"$f":"IF(LEN($F18)<1,\"\",IF(ISBLANK(Checklist!$H$6),\"NO Recorder!!\",Checklist!$H$6))","v":""},{"$f":"IF(LEN($F18)<1,\"\",IF(ISTEXT(I18),I18,IF(ISTEXT(Checklist!$H$6),Checklist!$H$6,\"NO Determiner!!\")))","v":""},{"$f":"IF(LEN($F18)<1,\"\",IF(ISTEXT(J18),J18,IF(ISTEXT(Checklist!$H$7),Checklist!$H$7,\"Field record / observation\")))","v":""},"","",null,"","","","","","","","","","","","",null,null,null,null,null,null,null,null,null,null,null,null,null,null,null,null,null,null,null,15,"Acorus calamus",null,null,3609,"Abies veitchii","Lindl.","Veitch's Silver-fir","Pinaceae",null,3609,"Abies veitchii_3609",null,null,null,null,null,null,null,"Abies veitchii_3609"]
["",null,null,null,"","","",null,null,null,null,null,null,null,null,"","","",{"$f":"IF(LEN($F19)<1,\"\",IF(ISBLANK(Checklist!$H$2),\"\",Checklist!$H$2))","v":""},{"$f":"IF(LEN($F19)<1,\"\",IF(ISTEXT(H19),H19,IF(ISTEXT(Checklist!$H$3),Checklist!$H$3,\"NO Grid Ref!!\")))","v":""},{"$f":"IF(LEN($F19)<1,\"\",IF(ISBLANK(Checklist!$H$4),\"NO VC!!\",Checklist!$H$4))","v":""},{"$f":"IF(LEN($F19)<1,\"\",IF(ISBLANK(Checklist!$H$5),\"NO Date!!\",Checklist!$H$5))","v":""},{"$f":"IF(LEN($F19)<1,\"\",IF(ISBLANK(Checklist!$H$6),\"NO Recorder!!\",Checklist!$H$6))","v":""},{"$f":"IF(LEN($F19)<1,\"\",IF(ISTEXT(I19),I19,IF(ISTEXT(Checklist!$H$6),Checklist!$H$6,\"NO Determiner!!\")))","v":""},{"$f":"IF(LEN($F19)<1,\"\",IF(ISTEXT(J19),J19,IF(ISTEXT(Checklist!$H$7),Checklist!$H$7,\"Field record / observation\")))","v":""},"","",null,"","","","","","","","","","","","",null,null,null,null,null,null,null,null,null,null,null,null,null,null,null,null,null,null,null,16,"Actaea spicata",null,null,5700,"Abutilon malvifolium","(Benth.) J.M. Black",null,"Malvaceae",null,5700,"Abutilon malvifolium_5700",null,null,null,null,null,null,null,"Abutilon malvifolium_5700"]
["",null,null,null,"","","",null,null,null,null,null,null,null,null,"","","",{"$f":"IF(LEN($F20)<1,\"\",IF(ISBLANK(Checklist!$H$2),\"\",Checklist!$H$2))","v":""},{"$f":"IF(LEN($F20)<1,\"\",IF(ISTEXT(H20),H20,IF(ISTEXT(Checklist!$H$3),Checklist!$H$3,\"NO Grid Ref!!\")))","v":""},{"$f":"IF(LEN($F20)<1,\"\",IF(ISBLANK(Checklist!$H$4),\"NO VC!!\",Checklist!$H$4))","v":""},{"$f":"IF(LEN($F20)<1,\"\",IF(ISBLANK(Checklist!$H$5),\"NO Date!!\",Checklist!$H$5))","v":""},{"$f":"IF(LEN($F20)<1,\"\",IF(ISBLANK(Checklist!$H$6),\"NO Recorder!!\",Checklist!$H$6))","v":""},{"$f":"IF(LEN($F20)<1,\"\",IF(ISTEXT(I20),I20,IF(ISTEXT(Checklist!$H$6),Checklist!$H$6,\"NO Determiner!!\")))","v":""},{"$f":"IF(LEN($F20)<1,\"\",IF(ISTEXT(J20),J20,IF(ISTEXT(Checklist!$H$7),Checklist!$H$7,\"Field record / observation\")))","v":""},"","",null,"","","","","","","","","","","","",null,null,null,null,null,null,null,null,null,null,null,null,null,null,null,null,null,null,null,17,"Adiantum capillus-veneris",null,null,5701,"Abutilon pictum","(Gillies ex Hook. & Arn.) Walp.","Chinese-lantern","Malvaceae",null,5701,"Abutilon pictum_5701",null,null,null,null,null,null,null,"Abutilon pictum_5701"]
["",null,null,null,"","","",null,null,null,null,null,null,null,null,"","","",{"$f":"IF(LEN($F21)<1,\"\",IF(ISBLANK(Checklist!$H$2),\"\",Checklist!$H$2))","v":""},{"$f":"IF(LEN($F21)<1,\"\",IF(ISTEXT(H21),H21,IF(ISTEXT(Checklist!$H$3),Checklist!$H$3,\"NO Grid Ref!!\")))","v":""},{"$f":"IF(LEN($F21)<1,\"\",IF(ISBLANK(Checklist!$H$4),\"NO VC!!\",Checklist!$H$4))","v":""},{"$f":"IF(LEN($F21)<1,\"\",IF(ISBLANK(Checklist!$H$5),\"NO Date!!\",Checklist!$H$5))","v":""},{"$f":"IF(LEN($F21)<1,\"\",IF(ISBLANK(Checklist!$H$6),\"NO Recorder!!\",Checklist!$H$6))","v":""},{"$f":"IF(LEN($F21)<1,\"\",IF(ISTEXT(I21),I21,IF(ISTEXT(Checklist!$H$6),Checklist!$H$6,\"NO Determiner!!\")))","v":""},{"$f":"IF(LEN($F21)<1,\"\",IF(ISTEXT(J21),J21,IF(ISTEXT(Checklist!$H$7),Checklist!$H$7,\"Field record / observation\")))","v":""},"","",null,"","","","","","","","","","","","",null,null,null,null,null,null,null,null,null,null,null,null,null,null,null,null,null,null,null,18,"Adonis annua",null,null,2418,"Abutilon theophrasti","Medikus","Velvetleaf","Malvaceae",null,2418,"Abutilon theophrasti_2418",null,null,null,null,null,null,null,"Abutilon theophrasti_2418"]
["",null,null,null,"","","",null,null,null,null,null,null,null,null,"","","",{"$f":"IF(LEN($F22)<1,\"\",IF(ISBLANK(Checklist!$H$2),\"\",Checklist!$H$2))","v":""},{"$f":"IF(LEN($F22)<1,\"\",IF(ISTEXT(H22),H22,IF(ISTEXT(Checklist!$H$3),Checklist!$H$3,\"NO Grid Ref!!\")))","v":""},{"$f":"IF(LEN($F22)<1,\"\",IF(ISBLANK(Checklist!$H$4),\"NO VC!!\",Checklist!$H$4))","v":""},{"$f":"IF(LEN($F22)<1,\"\",IF(ISBLANK(Checklist!$H$5),\"NO Date!!\",Checklist!$H$5))","v":""},{"$f":"IF(LEN($F22)<1,\"\",IF(ISBLANK(Checklist!$H$6),\"NO Recorder!!\",Checklist!$H$6))","v":""},{"$f":"IF(LEN($F22)<1,\"\",IF(ISTEXT(I22),I22,IF(ISTEXT(Checklist!$H$6),Checklist!$H$6,\"NO Determiner!!\")))","v":""},{"$f":"IF(LEN($F22)<1,\"\",IF(ISTEXT(J22),J22,IF(ISTEXT(Checklist!$H$7),Checklist!$H$7,\"Field record / observation\")))","v":""},"","",null,"","","","","","","","","","","","",null,null,null,null,null,null,null,null,null,null,null,null,null,null,null,null,null,null,null,19,"Adoxa moschatellina",null,null,"No BRC","Abutilon vitifolium","(Cav.) C. Presl","Grape-leaved Flowering-maple","Malvaceae",null,"No BRC","Abutilon vitifolium_No BRC",null,null,null,null,null,null,null,"Abutilon vitifolium_No BRC"]
["",null,null,null,"","","",null,null,null,null,null,null,null,null,"","","",{"$f":"IF(LEN($F23)<1,\"\",IF(ISBLANK(Checklist!$H$2),\"\",Checklist!$H$2))","v":""},{"$f":"IF(LEN($F23)<1,\"\",IF(ISTEXT(H23),H23,IF(ISTEXT(Checklist!$H$3),Checklist!$H$3,\"NO Grid Ref!!\")))","v":""},{"$f":"IF(LEN($F23)<1,\"\",IF(ISBLANK(Checklist!$H$4),\"NO VC!!\",Checklist!$H$4))","v":""},{"$f":"IF(LEN($F23)<1,\"\",IF(ISBLANK(Checklist!$H$5),\"NO Date!!\",Checklist!$H$5))","v":""},{"$f":"IF(LEN($F23)<1,\"\",IF(ISBLANK(Checklist!$H$6),\"NO Recorder!!\",Checklist!$H$6))","v":""},{"$f":"IF(LEN($F23)<1,\"\",IF(ISTEXT(I23),I23,IF(ISTEXT(Checklist!$H$6),Checklist!$H$6,\"NO Determiner!!\")))","v":""},{"$f":"IF(LEN($F23)<1,\"\",IF(ISTEXT(J23),J23,IF(ISTEXT(Checklist!$H$7),Checklist!$H$7,\"Field record / observation\")))","v":""},"","",null,"","","","","","","","","","","","",null,null,null,null,null,null,null,null,null,null,null,null,null,null,null,null,null,null,null,20,"Aegopodium podagraria",null,null,"No BRC","Acacia dealbata","Link","Silver Wattle","Mimosaceae",null,"No BRC","Acacia dealbata_No BRC",null,null,null,null,null,null,null,"Acacia dealbata_No BRC"]
["",null,null,null,"","","",null,null,null,null,null,null,null,null,"","","",{"$f":"IF(LEN($F24)<1,\"\",IF(ISBLANK(Checklist!$H$2),\"\",Checklist!$H$2))","v":""},{"$f":"IF(LEN($F24)<1,\"\",IF(ISTEXT(H24),H24,IF(ISTEXT(Checklist!$H$3),Checklist!$H$3,\"NO Grid Ref!!\")))","v":""},{"$f":"IF(LEN($F24)<1,\"\",IF(ISBLANK(Checklist!$H$4),\"NO VC!!\",Checklist!$H$4))","v":""},{"$f":"IF(LEN($F24)<1,\"\",IF(ISBLANK(Checklist!$H$5),\"NO Date!!\",Checklist!$H$5))","v":""},{"$f":"IF(LEN($F24)<1,\"\",IF(ISBLANK(Checklist!$H$6),\"NO Recorder!!\",Checklist!$H$6))","v":""},{"$f":"IF(LEN($F24)<1,\"\",IF(ISTEXT(I24),I24,IF(ISTEXT(Checklist!$H$6),Checklist!$H$6,\"NO Determiner!!\")))","v":""},{"$f":"IF(LEN($F24)<1,\"\",IF(ISTEXT(J24),J24,IF(ISTEXT(Checklist!$H$7),Checklist!$H$7,\"Field record / observation\")))","v":""},"","",null,"","","","","","","","","","","","",null,null,null,null,null,null,null,null,null,null,null,null,null,null,null,null,null,null,null,21,"Aethusa cynapium",null,null,5447,"Acacia falciformis","DC.","Hickory Wattle","Mimosaceae",null,5447,"Acacia falciformis_5447",null,null,null,null,null,null,null,"Acacia falciformis_5447"]
["",null,null,null,"","","",null,null,null,null,null,null,null,null,"","","",{"$f":"IF(LEN($F25)<1,\"\",IF(ISBLANK(Checklist!$H$2),\"\",Checklist!$H$2))","v":""},{"$f":"IF(LEN($F25)<1,\"\",IF(ISTEXT(H25),H25,IF(ISTEXT(Checklist!$H$3),Checklist!$H$3,\"NO Grid Ref!!\")))","v":""},{"$f":"IF(LEN($F25)<1,\"\",IF(ISBLANK(Checklist!$H$4),\"NO VC!!\",Checklist!$H$4))","v":""},{"$f":"IF(LEN($F25)<1,\"\",IF(ISBLANK(Checklist!$H$5),\"NO Date!!\",Checklist!$H$5))","v":""},{"$f":"IF(LEN($F25)<1,\"\",IF(ISBLANK(Checklist!$H$6),\"NO Recorder!!\",Checklist!$H$6))","v":""},{"$f":"IF(LEN($F25)<1,\"\",IF(ISTEXT(I25),I25,IF(ISTEXT(Checklist!$H$6),Checklist!$H$6,\"NO Determiner!!\")))","v":""},{"$f":"IF(LEN($F25)<1,\"\",IF(ISTEXT(J25),J25,IF(ISTEXT(Checklist!$H$7),Checklist!$H$7,\"Field record / observation\")))","v":""},"","",null,"","","","","","","","","","","","",null,null,null,null,null,null,null,null,null,null,null,null,null,null,null,null,null,null,null,21.1,"Aethusa cynapium subsp. agrestis",null,null,"No BRC","Acacia longifolia","(Andrews) Willd.","Sydney Golden-wattle","Mimosaceae",null,"No BRC","Acacia longifolia_No BRC",null,null,null,null,null,null,null,"Acacia longifolia_No BRC"]
["",null,null,null,"","","",null,null,null,null,null,null,null,null,"","","",{"$f":"IF(LEN($F26)<1,\"\",IF(ISBLANK(Checklist!$H$2),\"\",Checklist!$H$2))","v":""},{"$f":"IF(LEN($F26)<1,\"\",IF(ISTEXT(H26),H26,IF(ISTEXT(Checklist!$H$3),Checklist!$H$3,\"NO Grid Ref!!\")))","v":""},{"$f":"IF(LEN($F26)<1,\"\",IF(ISBLANK(Checklist!$H$4),\"NO VC!!\",Checklist!$H$4))","v":""},{"$f":"IF(LEN($F26)<1,\"\",IF(ISBLANK(Checklist!$H$5),\"NO Date!!\",Checklist!$H$5))","v":""},{"$f":"IF(LEN($F26)<1,\"\",IF(ISBLANK(Checklist!$H$6),\"NO Recorder!!\",Checklist!$H$6))","v":""},{"$f":"IF(LEN($F26)<1,\"\",IF(ISTEXT(I26),I26,IF(ISTEXT(Checklist!$H$6),Checklist!$H$6,\"NO Determiner!!\")))","v":""},{"$f":"IF(LEN($F26)<1,\"\",IF(ISTEXT(J26),J26,IF(ISTEXT(Checklist!$H$7),Checklist!$H$7,\"Field record / observation\")))","v":""},"","",null,"","","","","","","","","","","","",null,null,null,null,null,null,null,null,null,null,null,null,null,null,null,null,null,null,null,21.2,"Aethusa cynapium subsp. cynapium",null,null,5415,"Acacia melanoxylon","R.Br.","Australian Blackwood","Mimosaceae",null,5415,"Acacia melanoxylon_5415",null,null,null,null,null,null,null,"Acacia melanoxylon_5415"]
["",null,null,null,"","","",null,null,null,null,null,null,null,null,"","","",{"$f":"IF(LEN($F27)<1,\"\",IF(ISBLANK(Checklist!$H$2),\"\",Checklist!$H$2))","v":""},{"$f":"IF(LEN($F27)<1,\"\",IF(ISTEXT(H27),H27,IF(ISTEXT(Checklist!$H$3),Checklist!$H$3,\"NO Grid Ref!!\")))","v":""},{"$f":"IF(LEN($F27)<1,\"\",IF(ISBLANK(Checklist!$H$4),\"NO VC!!\",Checklist!$H$4))","v":""},{"$f":"IF(LEN($F27)<1,\"\",IF(ISBLANK(Checklist!$H$5),\"NO Date!!\",Checklist!$H$5))","v":""},{"$f":"IF(LEN($F27)<1,\"\",IF(ISBLANK(Checklist!$H$6),\"NO Recorder!!\",Checklist!$H$6))","v":""},{"$f":"IF(LEN($F27)<1,\"\",IF(ISTEXT(I27),I27,IF(ISTEXT(Checklist!$H$6),Checklist!$H$6,\"NO Determiner!!\")))","v":""},{"$f":"IF(LEN($F27)<1,\"\",IF(ISTEXT(J27),J27,IF(ISTEXT(Checklist!$H$7),Checklist!$H$7,\"Field record / observation\")))","v":""},"","",null,"","","","","","","","","","","","",null,null,null,null,null,null,null,null,null,null,null,null,null,null,null,null,null,null,null,21.3,"Aethusa cynapium subsp. elata",null,null,5416,"Acacia retinodes",null,null,"Mimosaceae",null,5416,"Acacia retinodes_5416",null,null,null,null,null,null,null,"Acacia retinodes_5416"]
["",null,null,null,"","","",null,null,null,null,null,null,null,null,"","","",{"$f":"IF(LEN($F28)<1,\"\",IF(ISBLANK(Checklist!$H$2),\"\",Checklist!$H$2))","v":""},{"$f":"IF(LEN($F28)<1,\"\",IF(ISTEXT(H28),H28,IF(ISTEXT(Checklist!$H$3),Checklist!$H$3,\"NO Grid Ref!!\")))","v":""},{"$f":"IF(LEN($F28)<1,\"\",IF(ISBLANK(Checklist!$H$4),\"NO VC!!\",Checklist!$H$4))","v":""},{"$f":"IF(LEN($F28)<1,\"\",IF(ISBLANK(Checklist!$H$5),\"NO Date!!\",Checklist!$H$5))","v":""},{"$f":"IF(LEN($F28)<1,\"\",IF(ISBLANK(Checklist!$H$6),\"NO Recorder!!\",Checklist!$H$6))","v":""},{"$f":"IF(LEN($F28)<1,\"\",IF(ISTEXT(I28),I28,IF(ISTEXT(Checklist!$H$6),Checklist!$H$6,\"NO Determiner!!\")))","v":""},{"$f":"IF(LEN($F28)<1,\"\",IF(ISTEXT(J28),J28,IF(ISTEXT(Checklist!$H$7),Checklist!$H$7,\"Field record / observation\")))","v":""},"","",null,"","","","","","","","","","","","",null,null,null,null,null,null,null,null,null,null,null,null,null,null,null,null,null,null,null,22,"Agrimonia eupatoria",null,null,"No BRC","Acacia saligna","(Labill.) H.L. Wendl.","Blue-leaf Wattle","Mimosaceae",null,"No BRC","Acacia saligna_No BRC",null,null,null,null,null,null,null,"Acacia saligna_No BRC"]
["",null,null,null,"","","",null,null,null,null,null,null,null,null,"","","",{"$f":"IF(LEN($F29)<1,\"\",IF(ISBLANK(Checklist!$H$2),\"\",Checklist!$H$2))","v":""},{"$f":"IF(LEN($F29)<1,\"\",IF(ISTEXT(H29),H29,IF(ISTEXT(Checklist!$H$3),Checklist!$H$3,\"NO Grid Ref!!\")))","v":""},{"$f":"IF(LEN($F29)<1,\"\",IF(ISBLANK(Checklist!$H$4),\"NO VC!!\",Checklist!$H$4))","v":""},{"$f":"IF(LEN($F29)<1,\"\",IF(ISBLANK(Checklist!$H$5),\"NO Date!!\",Checklist!$H$5))","v":""},{"$f":"IF(LEN($F29)<1,\"\",IF(ISBLANK(Checklist!$H$6),\"NO Recorder!!\",Checklist!$H$6))","v":""},{"$f":"IF(LEN($F29)<1,\"\",IF(ISTEXT(I29),I29,IF(ISTEXT(Checklist!$H$6),Checklist!$H$6,\"NO Determiner!!\")))","v":""},{"$f":"IF(LEN($F29)<1,\"\",IF(ISTEXT(J29),J29,IF(ISTEXT(Checklist!$H$7),Checklist!$H$7,\"Field record / observation\")))","v":""},"","",null,"","","","","","","","","","","","",null,null,null,null,null,null,null,null,null,null,null,null,null,null,null,null,null,null,null,23,"Agrimonia procera",null,null,"No BRC","Acacia verticillata","(L'Her.) Willd.","Prickly Moses","Mimosaceae",null,"No BRC","Acacia verticillata_No BRC",null,null,null,null,null,null,null,"Acacia verticillata_No BRC"]
["",null,null,null,"","","",null,null,null,null,null,null,null,null,"","","",{"$f":"IF(LEN($F30)<1,\"\",IF(ISBLANK(Checklist!$H$2),\"\",Checklist!$H$2))","v":""},{"$f":"IF(LEN($F30)<1,\"\",IF(ISTEXT(H30),H30,IF(ISTEXT(Checklist!$H$3),Checklist!$H$3,\"NO Grid Ref!!\")))","v":""},{"$f":"IF(LEN($F30)<1,\"\",IF(ISBLANK(Checklist!$H$4),\"NO VC!!\",Checklist!$H$4))","v":""},{"$f":"IF(LEN($F30)<1,\"\",IF(ISBLANK(Checklist!$H$5),\"NO Date!!\",Checklist!$H$5))","v":""},{"$f":"IF(LEN($F30)<1,\"\",IF(ISBLANK(Checklist!$H$6),\"NO Recorder!!\",Checklist!$H$6))","v":""},{"$f":"IF(LEN($F30)<1,\"\",IF(ISTEXT(I30),I30,IF(ISTEXT(Checklist!$H$6),Checklist!$H$6,\"NO Determiner!!\")))","v":""},{"$f":"IF(LEN($F30)<1,\"\",IF(ISTEXT(J30),J30,IF(ISTEXT(Checklist!$H$7),Checklist!$H$7,\"Field record / observation\")))","v":""},"","",null,"","","","","","","","","","","","",null,null,null,null,null,null,null,null,null,null,null,null,null,null,null,null,null,null,null,24,"Aremonia agrimonioides",null,null,2528,"Acaena anserinifolia","(Forster & G.Forster) Druce","Bronze Pirri-pirri-bur","Rosaceae",null,2528,"Acaena anserinifolia_2528",null,null,null,null,null,null,null,"Acaena anserinifolia_2528"]
["",null,null,null,"","","",null,null,null,null,null,null,null,null,"","","",{"$f":"IF(LEN($F31)<1,\"\",IF(ISBLANK(Checklist!$H$2),\"\",Checklist!$H$2))","v":""},{"$f":"IF(LEN($F31)<1,\"\",IF(ISTEXT(H31),H31,IF(ISTEXT(Checklist!$H$3),Checklist!$H$3,\"NO Grid Ref!!\")))","v":""},{"$f":"IF(LEN($F31)<1,\"\",IF(ISBLANK(Checklist!$H$4),\"NO VC!!\",Checklist!$H$4))","v":""},{"$f":"IF(LEN($F31)<1,\"\",IF(ISBLANK(Checklist!$H$5),\"NO Date!!\",Checklist!$H$5))","v":""},{"$f":"IF(LEN($F31)<1,\"\",IF(ISBLANK(Checklist!$H$6),\"NO Recorder!!\",Checklist!$H$6))","v":""},{"$f":"IF(LEN($F31)<1,\"\",IF(ISTEXT(I31),I31,IF(ISTEXT(Checklist!$H$6),Checklist!$H$6,\"NO Determiner!!\")))","v":""},{"$f":"IF(LEN($F31)<1,\"\",IF(ISTEXT(J31),J31,IF(ISTEXT(Checklist!$H$7),Checklist!$H$7,\"Field record / observation\")))","v":""},"","",null,"","","","","","","","","","","","",null,null,null,null,null,null,null,null,null,null,null,null,null,null,null,null,null,null,null,25,"X Agropogon lutosus",null,null,4325,"Acaena anserinifolia x inermis",null,null,"Rosaceae",null,4325,"Acaena anserinifolia x inermis_4325",null,null,null,null,null,null,null,"Acaena anserinifolia x inermis_4325"]
["",null,null,null,"","","",null,null,null,null,null,null,null,null,"","","",{"$f":"IF(LEN($F32)<1,\"\",IF(ISBLANK(Checklist!$H$2),\"\",Checklist!$H$2))","v":""},{"$f":"IF(LEN($F32)<1,\"\",IF(ISTEXT(H32),H32,IF(ISTEXT(Checklist!$H$3),Checklist!$H$3,\"NO Grid Ref!!\")))","v":""},{"$f":"IF(LEN($F32)<1,\"\",IF(ISBLANK(Checklist!$H$4),\"NO VC!!\",Checklist!$H$4))","v":""},{"$f":"IF(LEN($F32)<1,\"\",IF(ISBLANK(Checklist!$H$5),\"NO Date!!\",Checklist!$H$5))","v":""},{"$f":"IF(LEN($F32)<1,\"\",IF(ISBLANK(Checklist!$H$6),\"NO Recorder!!\",Checklist!$H$6))","v":""},{"$f":"IF(LEN($F32)<1,\"\",IF(ISTEXT(I32),I32,IF(ISTEXT(Checklist!$H$6),Checklist!$H$6,\"NO Determiner!!\")))","v":""},{"$f":"IF(LEN($F32)<1,\"\",IF(ISTEXT(J32),J32,IF(ISTEXT(Checklist!$H$7),Checklist!$H$7,\"Field record / observation\")))","v":""},"","",null,"","","","","","","","","","","","",null,null,null,null,null,null,null,null,null,null,null,null,null,null,null,null,null,null,null,26,"Elymus caninus var. caninus",null,null,7928,"Acaena caesiiglauca","(Bitter) Bergmans","Glaucous Pirri-pirri-bur","Rosaceae",null,7928,"Acaena caesiiglauca_7928",null,null,null,null,null,null,null,"Acaena caesiiglauca_7928"]
["",null,null,null,"","","",null,null,null,null,null,null,null,null,"","","",{"$f":"IF(LEN($F33)<1,\"\",IF(ISBLANK(Checklist!$H$2),\"\",Checklist!$H$2))","v":""},{"$f":"IF(LEN($F33)<1,\"\",IF(ISTEXT(H33),H33,IF(ISTEXT(Checklist!$H$3),Checklist!$H$3,\"NO Grid Ref!!\")))","v":""},{"$f":"IF(LEN($F33)<1,\"\",IF(ISBLANK(Checklist!$H$4),\"NO VC!!\",Checklist!$H$4))","v":""},{"$f":"IF(LEN($F33)<1,\"\",IF(ISBLANK(Checklist!$H$5),\"NO Date!!\",Checklist!$H$5))","v":""},{"$f":"IF(LEN($F33)<1,\"\",IF(ISBLANK(Checklist!$H$6),\"NO Recorder!!\",Checklist!$H$6))","v":""},{"$f":"IF(LEN($F33)<1,\"\",IF(ISTEXT(I33),I33,IF(ISTEXT(Checklist!$H$6),Checklist!$H$6,\"NO Determiner!!\")))","v":""},{"$f":"IF(LEN($F33)<1,\"\",IF(ISTEXT(J33),J33,IF(ISTEXT(Checklist!$H$7),Checklist!$H$7,\"Field record / observation\")))","v":""},"","",null,"","","","","","","","","","","","",null,null,null,null,null,null,null,null,null,null,null,null,null,null,null,null,null,null,null,27,"Elymus caninus var. donianus",null,null,2530,"Acaena inermis","Hook.f.","Spineless Acaena","Rosaceae",null,2530,"Acaena inermis_2530",null,null,null,null,null,null,null,"Acaena inermis_2530"]
["",null,null,null,"","","",null,null,null,null,null,null,null,null,"","","",{"$f":"IF(LEN($F34)<1,\"\",IF(ISBLANK(Checklist!$H$2),\"\",Checklist!$H$2))","v":""},{"$f":"IF(LEN($F34)<1,\"\",IF(ISTEXT(H34),H34,IF(ISTEXT(Checklist!$H$3),Checklist!$H$3,\"NO Grid Ref!!\")))","v":""},{"$f":"IF(LEN($F34)<1,\"\",IF(ISBLANK(Checklist!$H$4),\"NO VC!!\",Checklist!$H$4))","v":""},{"$f":"IF(LEN($F34)<1,\"\",IF(ISBLANK(Checklist!$H$5),\"NO Date!!\",Checklist!$H$5))","v":""},{"$f":"IF(LEN($F34)<1,\"\",IF(ISBLANK(Checklist!$H$6),\"NO Recorder!!\",Checklist!$H$6))","v":""},{"$f":"IF(LEN($F34)<1,\"\",IF(ISTEXT(I34),I34,IF(ISTEXT(Checklist!$H$6),Checklist!$H$6,\"NO Determiner!!\")))","v":""},{"$f":"IF(LEN($F34)<1,\"\",IF(ISTEXT(J34),J34,IF(ISTEXT(Checklist!$H$7),Checklist!$H$7,\"Field record / observation\")))","v":""},"","",null,"","","","","","","","","","","","",null,null,null,null,null,null,null,null,null,null,null,null,null,null,null,null,null,null,null,28,"Elytrigia juncea",null,null,2525,"Acaena magellanica","(Lam.) Vahl",null,"Rosaceae",null,2525,"Acaena magellanica_2525",null,null,null,null,null,null,null,"Acaena magellanica_2525"]
["",null,null,null,"","","",null,null,null,null,null,null,null,null,"","","",{"$f":"IF(LEN($F35)<1,\"\",IF(ISBLANK(Checklist!$H$2),\"\",Checklist!$H$2))","v":""},{"$f":"IF(LEN($F35)<1,\"\",IF(ISTEXT(H35),H35,IF(ISTEXT(Checklist!$H$3),Checklist!$H$3,\"NO Grid Ref!!\")))","v":""},{"$f":"IF(LEN($F35)<1,\"\",IF(ISBLANK(Checklist!$H$4),\"NO VC!!\",Checklist!$H$4))","v":""},{"$f":"IF(LEN($F35)<1,\"\",IF(ISBLANK(Checklist!$H$5),\"NO Date!!\",Checklist!$H$5))","v":""},{"$f":"IF(LEN($F35)<1,\"\",IF(ISBLANK(Checklist!$H$6),\"NO Recorder!!\",Checklist!$H$6))","v":""},{"$f":"IF(LEN($F35)<1,\"\",IF(ISTEXT(I35),I35,IF(ISTEXT(Checklist!$H$6),Checklist!$H$6,\"NO Determiner!!\")))","v":""},{"$f":"IF(LEN($F35)<1,\"\",IF(ISTEXT(J35),J35,IF(ISTEXT(Checklist!$H$7),Checklist!$H$7,\"Field record / observation\")))","v":""},"","",null,"","","","","","","","","","","","",null,null,null,null,null,null,null,null,null,null,null,null,null,null,null,null,null,null,null,28.1,"Elytrigia juncea subsp. boreoatlantica",null,null,2527,"Acaena novae-zelandiae","Kirk","Pirri-pirri-bur","Rosaceae",null,2527,"Acaena novae-zelandiae_2527",null,null,null,null,null,null,null,"Acaena novae-zelandiae_2527"]
["",null,null,null,"","","",null,null,null,null,null,null,null,null,"","","",{"$f":"IF(LEN($F36)<1,\"\",IF(ISBLANK(Checklist!$H$2),\"\",Checklist!$H$2))","v":""},{"$f":"IF(LEN($F36)<1,\"\",IF(ISTEXT(H36),H36,IF(ISTEXT(Checklist!$H$3),Checklist!$H$3,\"NO Grid Ref!!\")))","v":""},{"$f":"IF(LEN($F36)<1,\"\",IF(ISBLANK(Checklist!$H$4),\"NO VC!!\",Checklist!$H$4))","v":""},{"$f":"IF(LEN($F36)<1,\"\",IF(ISBLANK(Checklist!$H$5),\"NO Date!!\",Checklist!$H$5))","v":""},{"$f":"IF(LEN($F36)<1,\"\",IF(ISBLANK(Checklist!$H$6),\"NO Recorder!!\",Checklist!$H$6))","v":""},{"$f":"IF(LEN($F36)<1,\"\",IF(ISTEXT(I36),I36,IF(ISTEXT(Checklist!$H$6),Checklist!$H$6,\"NO Determiner!!\")))","v":""},{"$f":"IF(LEN($F36)<1,\"\",IF(ISTEXT(J36),J36,IF(ISTEXT(Checklist!$H$7),Checklist!$H$7,\"Field record / observation\")))","v":""},"","",null,"","","","","","","","","","","","",null,null,null,null,null,null,null,null,null,null,null,null,null,null,null,null,null,null,null,29,"Elytrigia x acuta nothosubsp. obtusiuscula",null,null,2526,"Acaena ovalifolia","Ruiz Lopez & Pavon","Two-spined Acaena","Rosaceae",null,2526,"Acaena ovalifolia_2526",null,null,null,null,null,null,null,"Acaena ovalifolia_2526"]
["",null,null,null,"","","",null,null,null,null,null,null,null,null,"","","",{"$f":"IF(LEN($F37)<1,\"\",IF(ISBLANK(Checklist!$H$2),\"\",Checklist!$H$2))","v":""},{"$f":"IF(LEN($F37)<1,\"\",IF(ISTEXT(H37),H37,IF(ISTEXT(Checklist!$H$3),Checklist!$H$3,\"NO Grid Ref!!\")))","v":""},{"$f":"IF(LEN($F37)<1,\"\",IF(ISBLANK(Checklist!$H$4),\"NO VC!!\",Checklist!$H$4))","v":""},{"$f":"IF(LEN($F37)<1,\"\",IF(ISBLANK(Checklist!$H$5),\"NO Date!!\",Checklist!$H$5))","v":""},{"$f":"IF(LEN($F37)<1,\"\",IF(ISBLANK(Checklist!$H$6),\"NO Recorder!!\",Checklist!$H$6))","v":""},{"$f":"IF(LEN($F37)<1,\"\",IF(ISTEXT(I37),I37,IF(ISTEXT(Checklist!$H$6),Checklist!$H$6,\"NO Determiner!!\")))","v":""},{"$f":"IF(LEN($F37)<1,\"\",IF(ISTEXT(J37),J37,IF(ISTEXT(Checklist!$H$7),Checklist!$H$7,\"Field record / observation\")))","v":""},"","",null,"","","","","","","","","","","","",null,null,null,null,null,null,null,null,null,null,null,null,null,null,null,null,null,null,null,30,"Elytrigia x laxa",null,null,5705,"Acaena ovina","A. Cunn.","Sheep's-bur","Rosaceae",null,5705,"Acaena ovina_5705",null,null,null,null,null,null,null,"Acaena ovina_5705"]
["",null,null,null,"","","",null,null,null,null,null,null,null,null,"","","",{"$f":"IF(LEN($F38)<1,\"\",IF(ISBLANK(Checklist!$H$2),\"\",Checklist!$H$2))","v":""},{"$f":"IF(LEN($F38)<1,\"\",IF(ISTEXT(H38),H38,IF(ISTEXT(Checklist!$H$3),Checklist!$H$3,\"NO Grid Ref!!\")))","v":""},{"$f":"IF(LEN($F38)<1,\"\",IF(ISBLANK(Checklist!$H$4),\"NO VC!!\",Checklist!$H$4))","v":""},{"$f":"IF(LEN($F38)<1,\"\",IF(ISBLANK(Checklist!$H$5),\"NO Date!!\",Checklist!$H$5))","v":""},{"$f":"IF(LEN($F38)<1,\"\",IF(ISBLANK(Checklist!$H$6),\"NO Recorder!!\",Checklist!$H$6))","v":""},{"$f":"IF(LEN($F38)<1,\"\",IF(ISTEXT(I38),I38,IF(ISTEXT(Checklist!$H$6),Checklist!$H$6,\"NO Determiner!!\")))","v":""},{"$f":"IF(LEN($F38)<1,\"\",IF(ISTEXT(J38),J38,IF(ISTEXT(Checklist!$H$7),Checklist!$H$7,\"Field record / observation\")))","v":""},"","",null,"","","","","","","","","","","","",null,null,null,null,null,null,null,null,null,null,null,null,null,null,null,null,null,null,null,32,"Elytrigia atherica",null,null,"No BRC","Acaena sp.",null,null,"Rosaceae",null,"No BRC","Acaena sp._No BRC",null,null,null,null,null,null,null,"Acaena sp._No BRC"]
["",null,null,null,"","","",null,null,null,null,null,null,null,null,"","","",{"$f":"IF(LEN($F39)<1,\"\",IF(ISBLANK(Checklist!$H$2),\"\",Checklist!$H$2))","v":""},{"$f":"IF(LEN($F39)<1,\"\",IF(ISTEXT(H39),H39,IF(ISTEXT(Checklist!$H$3),Checklist!$H$3,\"NO Grid Ref!!\")))","v":""},{"$f":"IF(LEN($F39)<1,\"\",IF(ISBLANK(Checklist!$H$4),\"NO VC!!\",Checklist!$H$4))","v":""},{"$f":"IF(LEN($F39)<1,\"\",IF(ISBLANK(Checklist!$H$5),\"NO Date!!\",Checklist!$H$5))","v":""},{"$f":"IF(LEN($F39)<1,\"\",IF(ISBLANK(Checklist!$H$6),\"NO Recorder!!\",Checklist!$H$6))","v":""},{"$f":"IF(LEN($F39)<1,\"\",IF(ISTEXT(I39),I39,IF(ISTEXT(Checklist!$H$6),Checklist!$H$6,\"NO Determiner!!\")))","v":""},{"$f":"IF(LEN($F39)<1,\"\",IF(ISTEXT(J39),J39,IF(ISTEXT(Checklist!$H$7),Checklist!$H$7,\"Field record / observation\")))","v":""},"","",null,"","","","","","","","","","","","",null,null,null,null,null,null,null,null,null,null,null,null,null,null,null,null,null,null,null,32.1,"Elytrigia atherica var. atherica",null,null,5710,"Acanthospermum australe","(Loefl.) Kuntze","Spiny-bur","Asteraceae",null,5710,"Acanthospermum australe_5710",null,null,null,null,null,null,null,"Acanthospermum australe_5710"]
["",null,null,null,"","","",null,null,null,null,null,null,null,null,"","","",{"$f":"IF(LEN($F40)<1,\"\",IF(ISBLANK(Checklist!$H$2),\"\",Checklist!$H$2))","v":""},{"$f":"IF(LEN($F40)<1,\"\",IF(ISTEXT(H40),H40,IF(ISTEXT(Checklist!$H$3),Checklist!$H$3,\"NO Grid Ref!!\")))","v":""},{"$f":"IF(LEN($F40)<1,\"\",IF(ISBLANK(Checklist!$H$4),\"NO VC!!\",Checklist!$H$4))","v":""},{"$f":"IF(LEN($F40)<1,\"\",IF(ISBLANK(Checklist!$H$5),\"NO Date!!\",Checklist!$H$5))","v":""},{"$f":"IF(LEN($F40)<1,\"\",IF(ISBLANK(Checklist!$H$6),\"NO Recorder!!\",Checklist!$H$6))","v":""},{"$f":"IF(LEN($F40)<1,\"\",IF(ISTEXT(I40),I40,IF(ISTEXT(Checklist!$H$6),Checklist!$H$6,\"NO Determiner!!\")))","v":""},{"$f":"IF(LEN($F40)<1,\"\",IF(ISTEXT(J40),J40,IF(ISTEXT(Checklist!$H$7),Checklist!$H$7,\"Field record / observation\")))","v":""},"","",null,"","","","","","","","","","","","",null,null,null,null,null,null,null,null,null,null,null,null,null,null,null,null,null,null,null,32.200000000000003,"Elytrigia atherica var. setigera",null,null,2,"Acanthus mollis","Linnaeus","Bear's-breech","Acanthaceae",null,2,"Acanthus mollis_2",null,null,null,null,null,null,null,"Acanthus mollis_2"]
["",null,null,null,"","","",null,null,null,null,null,null,null,null,"","","",{"$f":"IF(LEN($F41)<1,\"\",IF(ISBLANK(Checklist!$H$2),\"\",Checklist!$H$2))","v":""},{"$f":"IF(LEN($F41)<1,\"\",IF(ISTEXT(H41),H41,IF(ISTEXT(Checklist!$H$3),Checklist!$H$3,\"NO Grid Ref!!\")))","v":""},{"$f":"IF(LEN($F41)<1,\"\",IF(ISBLANK(Checklist!$H$4),\"NO VC!!\",Checklist!$H$4))","v":""},{"$f":"IF(LEN($F41)<1,\"\",IF(ISBLANK(Checklist!$H$5),\"NO Date!!\",Checklist!$H$5))","v":""},{"$f":"IF(LEN($F41)<1,\"\",IF(ISBLANK(Checklist!$H$6),\"NO Recorder!!\",Checklist!$H$6))","v":""},{"$f":"IF(LEN($F41)<1,\"\",IF(ISTEXT(I41),I41,IF(ISTEXT(Checklist!$H$6),Checklist!$H$6,\"NO Determiner!!\")))","v":""},{"$f":"IF(LEN($F41)<1,\"\",IF(ISTEXT(J41),J41,IF(ISTEXT(Checklist!$H$7),Checklist!$H$7,\"Field record / observation\")))","v":""},"","",null,"","","","","","","","","","","","",null,null,null,null,null,null,null,null,null,null,null,null,null,null,null,null,null,null,null,33,"Elytrigia repens agg.",null,null,7131,"Acanthus spinosus","Linnaeus","Spiny Bear's-breech","Acanthaceae",null,7131,"Acanthus spinosus_7131",null,null,null,null,null,null,null,"Acanthus spinosus_7131"]
["",null,null,null,"","","",null,null,null,null,null,null,null,null,"","","",{"$f":"IF(LEN($F42)<1,\"\",IF(ISBLANK(Checklist!$H$2),\"\",Checklist!$H$2))","v":""},{"$f":"IF(LEN($F42)<1,\"\",IF(ISTEXT(H42),H42,IF(ISTEXT(Checklist!$H$3),Checklist!$H$3,\"NO Grid Ref!!\")))","v":""},{"$f":"IF(LEN($F42)<1,\"\",IF(ISBLANK(Checklist!$H$4),\"NO VC!!\",Checklist!$H$4))","v":""},{"$f":"IF(LEN($F42)<1,\"\",IF(ISBLANK(Checklist!$H$5),\"NO Date!!\",Checklist!$H$5))","v":""},{"$f":"IF(LEN($F42)<1,\"\",IF(ISBLANK(Checklist!$H$6),\"NO Recorder!!\",Checklist!$H$6))","v":""},{"$f":"IF(LEN($F42)<1,\"\",IF(ISTEXT(I42),I42,IF(ISTEXT(Checklist!$H$6),Checklist!$H$6,\"NO Determiner!!\")))","v":""},{"$f":"IF(LEN($F42)<1,\"\",IF(ISTEXT(J42),J42,IF(ISTEXT(Checklist!$H$7),Checklist!$H$7,\"Field record / observation\")))","v":""},"","",null,"","","","","","","","","","","","",null,null,null,null,null,null,null,null,null,null,null,null,null,null,null,null,null,null,null,33.1,"Elytrigia campestris subsp. maritima",null,null,3,"Acer campestre","Linnaeus","Field Maple","Aceraceae",null,3,"Acer campestre_3",null,null,null,null,null,null,null,"Acer campestre_3"]
["",null,null,null,"","","",null,null,null,null,null,null,null,null,"","","",{"$f":"IF(LEN($F43)<1,\"\",IF(ISBLANK(Checklist!$H$2),\"\",Checklist!$H$2))","v":""},{"$f":"IF(LEN($F43)<1,\"\",IF(ISTEXT(H43),H43,IF(ISTEXT(Checklist!$H$3),Checklist!$H$3,\"NO Grid Ref!!\")))","v":""},{"$f":"IF(LEN($F43)<1,\"\",IF(ISBLANK(Checklist!$H$4),\"NO VC!!\",Checklist!$H$4))","v":""},{"$f":"IF(LEN($F43)<1,\"\",IF(ISBLANK(Checklist!$H$5),\"NO Date!!\",Checklist!$H$5))","v":""},{"$f":"IF(LEN($F43)<1,\"\",IF(ISBLANK(Checklist!$H$6),\"NO Recorder!!\",Checklist!$H$6))","v":""},{"$f":"IF(LEN($F43)<1,\"\",IF(ISTEXT(I43),I43,IF(ISTEXT(Checklist!$H$6),Checklist!$H$6,\"NO Determiner!!\")))","v":""},{"$f":"IF(LEN($F43)<1,\"\",IF(ISTEXT(J43),J43,IF(ISTEXT(Checklist!$H$7),Checklist!$H$7,\"Field record / observation\")))","v":""},"","",null,"","","","","","","","","","","","",null,null,null,null,null,null,null,null,null,null,null,null,null,null,null,null,null,null,null,33.200000000000003,"Elytrigia repens",null,null,7132,"Acer cappadocicum","Gled.","Cappadocian Maple","Aceraceae",null,7132,"Acer cappadocicum_7132",null,null,null,null,null,null,null,"Acer cappadocicum_7132"]
["",null,null,null,"","","",null,null,null,null,null,null,null,null,"","","",{"$f":"IF(LEN($F44)<1,\"\",IF(ISBLANK(Checklist!$H$2),\"\",Checklist!$H$2))","v":""},{"$f":"IF(LEN($F44)<1,\"\",IF(ISTEXT(H44),H44,IF(ISTEXT(Checklist!$H$3),Checklist!$H$3,\"NO Grid Ref!!\")))","v":""},{"$f":"IF(LEN($F44)<1,\"\",IF(ISBLANK(Checklist!$H$4),\"NO VC!!\",Checklist!$H$4))","v":""},{"$f":"IF(LEN($F44)<1,\"\",IF(ISBLANK(Checklist!$H$5),\"NO Date!!\",Checklist!$H$5))","v":""},{"$f":"IF(LEN($F44)<1,\"\",IF(ISBLANK(Checklist!$H$6),\"NO Recorder!!\",Checklist!$H$6))","v":""},{"$f":"IF(LEN($F44)<1,\"\",IF(ISTEXT(I44),I44,IF(ISTEXT(Checklist!$H$6),Checklist!$H$6,\"NO Determiner!!\")))","v":""},{"$f":"IF(LEN($F44)<1,\"\",IF(ISTEXT(J44),J44,IF(ISTEXT(Checklist!$H$7),Checklist!$H$7,\"Field record / observation\")))","v":""},"","",null,"","","","","","","","","","","","",null,null,null,null,null,null,null,null,null,null,null,null,null,null,null,null,null,null,null,33.299999999999997,"Elytrigia repens f. aristata",null,null,5712,"Acer heldreichii","Orph. ex Boiss.","Heldrich's Maple","Aceraceae",null,5712,"Acer heldreichii_5712",null,null,null,null,null,null,null,"Acer heldreichii_5712"]
["",null,null,null,"","","",null,null,null,null,null,null,null,null,"","","",{"$f":"IF(LEN($F45)<1,\"\",IF(ISBLANK(Checklist!$H$2),\"\",Checklist!$H$2))","v":""},{"$f":"IF(LEN($F45)<1,\"\",IF(ISTEXT(H45),H45,IF(ISTEXT(Checklist!$H$3),Checklist!$H$3,\"NO Grid Ref!!\")))","v":""},{"$f":"IF(LEN($F45)<1,\"\",IF(ISBLANK(Checklist!$H$4),\"NO VC!!\",Checklist!$H$4))","v":""},{"$f":"IF(LEN($F45)<1,\"\",IF(ISBLANK(Checklist!$H$5),\"NO Date!!\",Checklist!$H$5))","v":""},{"$f":"IF(LEN($F45)<1,\"\",IF(ISBLANK(Checklist!$H$6),\"NO Recorder!!\",Checklist!$H$6))","v":""},{"$f":"IF(LEN($F45)<1,\"\",IF(ISTEXT(I45),I45,IF(ISTEXT(Checklist!$H$6),Checklist!$H$6,\"NO Determiner!!\")))","v":""},{"$f":"IF(LEN($F45)<1,\"\",IF(ISTEXT(J45),J45,IF(ISTEXT(Checklist!$H$7),Checklist!$H$7,\"Field record / observation\")))","v":""},"","",null,"","","","","","","","","","","","",null,null,null,null,null,null,null,null,null,null,null,null,null,null,null,null,null,null,null,33.4,"Elytrigia repens f. repens",null,null,4134,"Acer japonicum","Thunb.","Downy Japanese-maple","Aceraceae",null,4134,"Acer japonicum_4134",null,null,null,null,null,null,null,"Acer japonicum_4134"]
["",null,null,null,"","","",null,null,null,null,null,null,null,null,"","","",{"$f":"IF(LEN($F46)<1,\"\",IF(ISBLANK(Checklist!$H$2),\"\",Checklist!$H$2))","v":""},{"$f":"IF(LEN($F46)<1,\"\",IF(ISTEXT(H46),H46,IF(ISTEXT(Checklist!$H$3),Checklist!$H$3,\"NO Grid Ref!!\")))","v":""},{"$f":"IF(LEN($F46)<1,\"\",IF(ISBLANK(Checklist!$H$4),\"NO VC!!\",Checklist!$H$4))","v":""},{"$f":"IF(LEN($F46)<1,\"\",IF(ISBLANK(Checklist!$H$5),\"NO Date!!\",Checklist!$H$5))","v":""},{"$f":"IF(LEN($F46)<1,\"\",IF(ISBLANK(Checklist!$H$6),\"NO Recorder!!\",Checklist!$H$6))","v":""},{"$f":"IF(LEN($F46)<1,\"\",IF(ISTEXT(I46),I46,IF(ISTEXT(Checklist!$H$6),Checklist!$H$6,\"NO Determiner!!\")))","v":""},{"$f":"IF(LEN($F46)<1,\"\",IF(ISTEXT(J46),J46,IF(ISTEXT(Checklist!$H$7),Checklist!$H$7,\"Field record / observation\")))","v":""},"","",null,"","","","","","","","","","","","",null,null,null,null,null,null,null,null,null,null,null,null,null,null,null,null,null,null,null,34,"Agrostemma githago",null,null,4085,"Acer macrophyllum","Pursh","Oregon Maple","Aceraceae",null,4085,"Acer macrophyllum_4085",null,null,null,null,null,null,null,"Acer macrophyllum_4085"]
["",null,null,null,"","","",null,null,null,null,null,null,null,null,"","","",{"$f":"IF(LEN($F47)<1,\"\",IF(ISBLANK(Checklist!$H$2),\"\",Checklist!$H$2))","v":""},{"$f":"IF(LEN($F47)<1,\"\",IF(ISTEXT(H47),H47,IF(ISTEXT(Checklist!$H$3),Checklist!$H$3,\"NO Grid Ref!!\")))","v":""},{"$f":"IF(LEN($F47)<1,\"\",IF(ISBLANK(Checklist!$H$4),\"NO VC!!\",Checklist!$H$4))","v":""},{"$f":"IF(LEN($F47)<1,\"\",IF(ISBLANK(Checklist!$H$5),\"NO Date!!\",Checklist!$H$5))","v":""},{"$f":"IF(LEN($F47)<1,\"\",IF(ISBLANK(Checklist!$H$6),\"NO Recorder!!\",Checklist!$H$6))","v":""},{"$f":"IF(LEN($F47)<1,\"\",IF(ISTEXT(I47),I47,IF(ISTEXT(Checklist!$H$6),Checklist!$H$6,\"NO Determiner!!\")))","v":""},{"$f":"IF(LEN($F47)<1,\"\",IF(ISTEXT(J47),J47,IF(ISTEXT(Checklist!$H$7),Checklist!$H$7,\"Field record / observation\")))","v":""},"","",null,"","","","","","","","","","","","",null,null,null,null,null,null,null,null,null,null,null,null,null,null,null,null,null,null,null,35,"Agrostis canina sens. lat.",null,null,7929,"Acer mono","Maxim.",null,"Aceraceae",null,7929,"Acer mono_7929",null,null,null,null,null,null,null,"Acer mono_7929"]
["",null,null,null,"","","",null,null,null,null,null,null,null,null,"","","",{"$f":"IF(LEN($F48)<1,\"\",IF(ISBLANK(Checklist!$H$2),\"\",Checklist!$H$2))","v":""},{"$f":"IF(LEN($F48)<1,\"\",IF(ISTEXT(H48),H48,IF(ISTEXT(Checklist!$H$3),Checklist!$H$3,\"NO Grid Ref!!\")))","v":""},{"$f":"IF(LEN($F48)<1,\"\",IF(ISBLANK(Checklist!$H$4),\"NO VC!!\",Checklist!$H$4))","v":""},{"$f":"IF(LEN($F48)<1,\"\",IF(ISBLANK(Checklist!$H$5),\"NO Date!!\",Checklist!$H$5))","v":""},{"$f":"IF(LEN($F48)<1,\"\",IF(ISBLANK(Checklist!$H$6),\"NO Recorder!!\",Checklist!$H$6))","v":""},{"$f":"IF(LEN($F48)<1,\"\",IF(ISTEXT(I48),I48,IF(ISTEXT(Checklist!$H$6),Checklist!$H$6,\"NO Determiner!!\")))","v":""},{"$f":"IF(LEN($F48)<1,\"\",IF(ISTEXT(J48),J48,IF(ISTEXT(Checklist!$H$7),Checklist!$H$7,\"Field record / observation\")))","v":""},"","",null,"","","","","","","","","","","","",null,null,null,null,null,null,null,null,null,null,null,null,null,null,null,null,null,null,null,35.1,"Agrostis vinealis",null,null,5713,"Acer monspessulanum","L.","Montpellier Maple","Aceraceae",null,5713,"Acer monspessulanum_5713",null,null,null,null,null,null,null,"Acer monspessulanum_5713"]
["",null,null,null,"","","",null,null,null,null,null,null,null,null,"","","",{"$f":"IF(LEN($F49)<1,\"\",IF(ISBLANK(Checklist!$H$2),\"\",Checklist!$H$2))","v":""},{"$f":"IF(LEN($F49)<1,\"\",IF(ISTEXT(H49),H49,IF(ISTEXT(Checklist!$H$3),Checklist!$H$3,\"NO Grid Ref!!\")))","v":""},{"$f":"IF(LEN($F49)<1,\"\",IF(ISBLANK(Checklist!$H$4),\"NO VC!!\",Checklist!$H$4))","v":""},{"$f":"IF(LEN($F49)<1,\"\",IF(ISBLANK(Checklist!$H$5),\"NO Date!!\",Checklist!$H$5))","v":""},{"$f":"IF(LEN($F49)<1,\"\",IF(ISBLANK(Checklist!$H$6),\"NO Recorder!!\",Checklist!$H$6))","v":""},{"$f":"IF(LEN($F49)<1,\"\",IF(ISTEXT(I49),I49,IF(ISTEXT(Checklist!$H$6),Checklist!$H$6,\"NO Determiner!!\")))","v":""},{"$f":"IF(LEN($F49)<1,\"\",IF(ISTEXT(J49),J49,IF(ISTEXT(Checklist!$H$7),Checklist!$H$7,\"Field record / observation\")))","v":""},"","",null,"","","","","","","","","","","","",null,null,null,null,null,null,null,null,null,null,null,null,null,null,null,null,null,null,null,35.200000000000003,"Agrostis canina",null,null,7133,"Acer negundo","Linnaeus","Ashleaf Maple","Aceraceae",null,7133,"Acer negundo_7133",null,null,null,null,null,null,null,"Acer negundo_7133"]
["",null,null,null,"","","",null,null,null,null,null,null,null,null,"","","",{"$f":"IF(LEN($F50)<1,\"\",IF(ISBLANK(Checklist!$H$2),\"\",Checklist!$H$2))","v":""},{"$f":"IF(LEN($F50)<1,\"\",IF(ISTEXT(H50),H50,IF(ISTEXT(Checklist!$H$3),Checklist!$H$3,\"NO Grid Ref!!\")))","v":""},{"$f":"IF(LEN($F50)<1,\"\",IF(ISBLANK(Checklist!$H$4),\"NO VC!!\",Checklist!$H$4))","v":""},{"$f":"IF(LEN($F50)<1,\"\",IF(ISBLANK(Checklist!$H$5),\"NO Date!!\",Checklist!$H$5))","v":""},{"$f":"IF(LEN($F50)<1,\"\",IF(ISBLANK(Checklist!$H$6),\"NO Recorder!!\",Checklist!$H$6))","v":""},{"$f":"IF(LEN($F50)<1,\"\",IF(ISTEXT(I50),I50,IF(ISTEXT(Checklist!$H$6),Checklist!$H$6,\"NO Determiner!!\")))","v":""},{"$f":"IF(LEN($F50)<1,\"\",IF(ISTEXT(J50),J50,IF(ISTEXT(Checklist!$H$7),Checklist!$H$7,\"Field record / observation\")))","v":""},"","",null,"","","","","","","","","","","","",null,null,null,null,null,null,null,null,null,null,null,null,null,null,null,null,null,null,null,36,"Agrostis gigantea",null,null,4046,"Acer palmatum","Thunb.","Smooth Japanese-maple","Aceraceae",null,4046,"Acer palmatum_4046",null,null,null,null,null,null,null,"Acer palmatum_4046"]
["",null,null,null,"","","",null,null,null,null,null,null,null,null,"","","",{"$f":"IF(LEN($F51)<1,\"\",IF(ISBLANK(Checklist!$H$2),\"\",Checklist!$H$2))","v":""},{"$f":"IF(LEN($F51)<1,\"\",IF(ISTEXT(H51),H51,IF(ISTEXT(Checklist!$H$3),Checklist!$H$3,\"NO Grid Ref!!\")))","v":""},{"$f":"IF(LEN($F51)<1,\"\",IF(ISBLANK(Checklist!$H$4),\"NO VC!!\",Checklist!$H$4))","v":""},{"$f":"IF(LEN($F51)<1,\"\",IF(ISBLANK(Checklist!$H$5),\"NO Date!!\",Checklist!$H$5))","v":""},{"$f":"IF(LEN($F51)<1,\"\",IF(ISBLANK(Checklist!$H$6),\"NO Recorder!!\",Checklist!$H$6))","v":""},{"$f":"IF(LEN($F51)<1,\"\",IF(ISTEXT(I51),I51,IF(ISTEXT(Checklist!$H$6),Checklist!$H$6,\"NO Determiner!!\")))","v":""},{"$f":"IF(LEN($F51)<1,\"\",IF(ISTEXT(J51),J51,IF(ISTEXT(Checklist!$H$7),Checklist!$H$7,\"Field record / observation\")))","v":""},"","",null,"","","","","","","","","","","","",null,null,null,null,null,null,null,null,null,null,null,null,null,null,null,null,null,null,null,37,"Polypogon viridis",null,null,4,"Acer platanoides","Linnaeus","Norway Maple","Aceraceae",null,4,"Acer platanoides_4",null,null,null,null,null,null,null,"Acer platanoides_4"]
["",null,null,null,"","","",null,null,null,null,null,null,null,null,"","","",{"$f":"IF(LEN($F52)<1,\"\",IF(ISBLANK(Checklist!$H$2),\"\",Checklist!$H$2))","v":""},{"$f":"IF(LEN($F52)<1,\"\",IF(ISTEXT(H52),H52,IF(ISTEXT(Checklist!$H$3),Checklist!$H$3,\"NO Grid Ref!!\")))","v":""},{"$f":"IF(LEN($F52)<1,\"\",IF(ISBLANK(Checklist!$H$4),\"NO VC!!\",Checklist!$H$4))","v":""},{"$f":"IF(LEN($F52)<1,\"\",IF(ISBLANK(Checklist!$H$5),\"NO Date!!\",Checklist!$H$5))","v":""},{"$f":"IF(LEN($F52)<1,\"\",IF(ISBLANK(Checklist!$H$6),\"NO Recorder!!\",Checklist!$H$6))","v":""},{"$f":"IF(LEN($F52)<1,\"\",IF(ISTEXT(I52),I52,IF(ISTEXT(Checklist!$H$6),Checklist!$H$6,\"NO Determiner!!\")))","v":""},{"$f":"IF(LEN($F52)<1,\"\",IF(ISTEXT(J52),J52,IF(ISTEXT(Checklist!$H$7),Checklist!$H$7,\"Field record / observation\")))","v":""},"","",null,"","","","","","","","","","","","",null,null,null,null,null,null,null,null,null,null,null,null,null,null,null,null,null,null,null,38,"Agrostis curtisii",null,null,5,"Acer pseudoplatanus","Linnaeus","Sycamore","Aceraceae",null,5,"Acer pseudoplatanus_5",null,null,null,null,null,null,null,"Acer pseudoplatanus_5"]
["",null,null,null,"","","",null,null,null,null,null,null,null,null,"","","",{"$f":"IF(LEN($F53)<1,\"\",IF(ISBLANK(Checklist!$H$2),\"\",Checklist!$H$2))","v":""},{"$f":"IF(LEN($F53)<1,\"\",IF(ISTEXT(H53),H53,IF(ISTEXT(Checklist!$H$3),Checklist!$H$3,\"NO Grid Ref!!\")))","v":""},{"$f":"IF(LEN($F53)<1,\"\",IF(ISBLANK(Checklist!$H$4),\"NO VC!!\",Checklist!$H$4))","v":""},{"$f":"IF(LEN($F53)<1,\"\",IF(ISBLANK(Checklist!$H$5),\"NO Date!!\",Checklist!$H$5))","v":""},{"$f":"IF(LEN($F53)<1,\"\",IF(ISBLANK(Checklist!$H$6),\"NO Recorder!!\",Checklist!$H$6))","v":""},{"$f":"IF(LEN($F53)<1,\"\",IF(ISTEXT(I53),I53,IF(ISTEXT(Checklist!$H$6),Checklist!$H$6,\"NO Determiner!!\")))","v":""},{"$f":"IF(LEN($F53)<1,\"\",IF(ISTEXT(J53),J53,IF(ISTEXT(Checklist!$H$7),Checklist!$H$7,\"Field record / observation\")))","v":""},"","",null,"","","","","","","","","","","","",null,null,null,null,null,null,null,null,null,null,null,null,null,null,null,null,null,null,null,39,"Agrostis stolonifera",null,null,5714,"Acer rubrum","L.","Red Maple","Aceraceae",null,5714,"Acer rubrum_5714",null,null,null,null,null,null,null,"Acer rubrum_5714"]
["",null,null,null,"","","",null,null,null,null,null,null,null,null,"","","",{"$f":"IF(LEN($F54)<1,\"\",IF(ISBLANK(Checklist!$H$2),\"\",Checklist!$H$2))","v":""},{"$f":"IF(LEN($F54)<1,\"\",IF(ISTEXT(H54),H54,IF(ISTEXT(Checklist!$H$3),Checklist!$H$3,\"NO Grid Ref!!\")))","v":""},{"$f":"IF(LEN($F54)<1,\"\",IF(ISBLANK(Checklist!$H$4),\"NO VC!!\",Checklist!$H$4))","v":""},{"$f":"IF(LEN($F54)<1,\"\",IF(ISBLANK(Checklist!$H$5),\"NO Date!!\",Checklist!$H$5))","v":""},{"$f":"IF(LEN($F54)<1,\"\",IF(ISBLANK(Checklist!$H$6),\"NO Recorder!!\",Checklist!$H$6))","v":""},{"$f":"IF(LEN($F54)<1,\"\",IF(ISTEXT(I54),I54,IF(ISTEXT(Checklist!$H$6),Checklist!$H$6,\"NO Determiner!!\")))","v":""},{"$f":"IF(LEN($F54)<1,\"\",IF(ISTEXT(J54),J54,IF(ISTEXT(Checklist!$H$7),Checklist!$H$7,\"Field record / observation\")))","v":""},"","",null,"","","","","","","","","","","","",null,null,null,null,null,null,null,null,null,null,null,null,null,null,null,null,null,null,null,40,"Agrostis capillaris",null,null,5715,"Acer rufinerve","Siebold & Zucc.","Grey-budded Snake-bark-maple","Aceraceae",null,5715,"Acer rufinerve_5715",null,null,null,null,null,null,null,"Acer rufinerve_5715"]
["",null,null,null,"","","",null,null,null,null,null,null,null,null,"","","",{"$f":"IF(LEN($F55)<1,\"\",IF(ISBLANK(Checklist!$H$2),\"\",Checklist!$H$2))","v":""},{"$f":"IF(LEN($F55)<1,\"\",IF(ISTEXT(H55),H55,IF(ISTEXT(Checklist!$H$3),Checklist!$H$3,\"NO Grid Ref!!\")))","v":""},{"$f":"IF(LEN($F55)<1,\"\",IF(ISBLANK(Checklist!$H$4),\"NO VC!!\",Checklist!$H$4))","v":""},{"$f":"IF(LEN($F55)<1,\"\",IF(ISBLANK(Checklist!$H$5),\"NO Date!!\",Checklist!$H$5))","v":""},{"$f":"IF(LEN($F55)<1,\"\",IF(ISBLANK(Checklist!$H$6),\"NO Recorder!!\",Checklist!$H$6))","v":""},{"$f":"IF(LEN($F55)<1,\"\",IF(ISTEXT(I55),I55,IF(ISTEXT(Checklist!$H$6),Checklist!$H$6,\"NO Determiner!!\")))","v":""},{"$f":"IF(LEN($F55)<1,\"\",IF(ISTEXT(J55),J55,IF(ISTEXT(Checklist!$H$7),Checklist!$H$7,\"Field record / observation\")))","v":""},"","",null,"","","","","","","","","","","","",null,null,null,null,null,null,null,null,null,null,null,null,null,null,null,null,null,null,null,41,"Aira caryophyllea",null,null,5387,"Acer saccharinum","Linnaeus","Silver Maple","Aceraceae",null,5387,"Acer saccharinum_5387",null,null,null,null,null,null,null,"Acer saccharinum_5387"]
["",null,null,null,"","","",null,null,null,null,null,null,null,null,"","","",{"$f":"IF(LEN($F56)<1,\"\",IF(ISBLANK(Checklist!$H$2),\"\",Checklist!$H$2))","v":""},{"$f":"IF(LEN($F56)<1,\"\",IF(ISTEXT(H56),H56,IF(ISTEXT(Checklist!$H$3),Checklist!$H$3,\"NO Grid Ref!!\")))","v":""},{"$f":"IF(LEN($F56)<1,\"\",IF(ISBLANK(Checklist!$H$4),\"NO VC!!\",Checklist!$H$4))","v":""},{"$f":"IF(LEN($F56)<1,\"\",IF(ISBLANK(Checklist!$H$5),\"NO Date!!\",Checklist!$H$5))","v":""},{"$f":"IF(LEN($F56)<1,\"\",IF(ISBLANK(Checklist!$H$6),\"NO Recorder!!\",Checklist!$H$6))","v":""},{"$f":"IF(LEN($F56)<1,\"\",IF(ISTEXT(I56),I56,IF(ISTEXT(Checklist!$H$6),Checklist!$H$6,\"NO Determiner!!\")))","v":""},{"$f":"IF(LEN($F56)<1,\"\",IF(ISTEXT(J56),J56,IF(ISTEXT(Checklist!$H$7),Checklist!$H$7,\"Field record / observation\")))","v":""},"","",null,"","","","","","","","","","","","",null,null,null,null,null,null,null,null,null,null,null,null,null,null,null,null,null,null,null,41.1,"Aira caryophyllea subsp. caryophyllea",null,null,5716,"Acer saccharum","Marshall","Sugar Maple","Aceraceae",null,5716,"Acer saccharum_5716",null,null,null,null,null,null,null,"Acer saccharum_5716"]
["",null,null,null,"","","",null,null,null,null,null,null,null,null,"","","",{"$f":"IF(LEN($F57)<1,\"\",IF(ISBLANK(Checklist!$H$2),\"\",Checklist!$H$2))","v":""},{"$f":"IF(LEN($F57)<1,\"\",IF(ISTEXT(H57),H57,IF(ISTEXT(Checklist!$H$3),Checklist!$H$3,\"NO Grid Ref!!\")))","v":""},{"$f":"IF(LEN($F57)<1,\"\",IF(ISBLANK(Checklist!$H$4),\"NO VC!!\",Checklist!$H$4))","v":""},{"$f":"IF(LEN($F57)<1,\"\",IF(ISBLANK(Checklist!$H$5),\"NO Date!!\",Checklist!$H$5))","v":""},{"$f":"IF(LEN($F57)<1,\"\",IF(ISBLANK(Checklist!$H$6),\"NO Recorder!!\",Checklist!$H$6))","v":""},{"$f":"IF(LEN($F57)<1,\"\",IF(ISTEXT(I57),I57,IF(ISTEXT(Checklist!$H$6),Checklist!$H$6,\"NO Determiner!!\")))","v":""},{"$f":"IF(LEN($F57)<1,\"\",IF(ISTEXT(J57),J57,IF(ISTEXT(Checklist!$H$7),Checklist!$H$7,\"Field record / observation\")))","v":""},"","",null,"","","","","","","","","","","","",null,null,null,null,null,null,null,null,null,null,null,null,null,null,null,null,null,null,null,41.2,"Aira caryophyllea subsp. multiculmis",null,null,"No BRC","Acer sp.",null,"a maple","Aceraceae",null,"No BRC","Acer sp._No BRC",null,null,null,null,null,null,null,"Acer sp._No BRC"]
["",null,null,null,"","","",null,null,null,null,null,null,null,null,"","","",{"$f":"IF(LEN($F58)<1,\"\",IF(ISBLANK(Checklist!$H$2),\"\",Checklist!$H$2))","v":""},{"$f":"IF(LEN($F58)<1,\"\",IF(ISTEXT(H58),H58,IF(ISTEXT(Checklist!$H$3),Checklist!$H$3,\"NO Grid Ref!!\")))","v":""},{"$f":"IF(LEN($F58)<1,\"\",IF(ISBLANK(Checklist!$H$4),\"NO VC!!\",Checklist!$H$4))","v":""},{"$f":"IF(LEN($F58)<1,\"\",IF(ISBLANK(Checklist!$H$5),\"NO Date!!\",Checklist!$H$5))","v":""},{"$f":"IF(LEN($F58)<1,\"\",IF(ISBLANK(Checklist!$H$6),\"NO Recorder!!\",Checklist!$H$6))","v":""},{"$f":"IF(LEN($F58)<1,\"\",IF(ISTEXT(I58),I58,IF(ISTEXT(Checklist!$H$6),Checklist!$H$6,\"NO Determiner!!\")))","v":""},{"$f":"IF(LEN($F58)<1,\"\",IF(ISTEXT(J58),J58,IF(ISTEXT(Checklist!$H$7),Checklist!$H$7,\"Field record / observation\")))","v":""},"","",null,"","","","","","","","","","","","",null,null,null,null,null,null,null,null,null,null,null,null,null,null,null,null,null,null,null,42,"Aira praecox",null,null,7930,"Acer tataricum","Linnaeus","Tartar Maple","Aceraceae",null,7930,"Acer tataricum_7930",null,null,null,null,null,null,null,"Acer tataricum_7930"]
["",null,null,null,"","","",null,null,null,null,null,null,null,null,"","","",{"$f":"IF(LEN($F59)<1,\"\",IF(ISBLANK(Checklist!$H$2),\"\",Checklist!$H$2))","v":""},{"$f":"IF(LEN($F59)<1,\"\",IF(ISTEXT(H59),H59,IF(ISTEXT(Checklist!$H$3),Checklist!$H$3,\"NO Grid Ref!!\")))","v":""},{"$f":"IF(LEN($F59)<1,\"\",IF(ISBLANK(Checklist!$H$4),\"NO VC!!\",Checklist!$H$4))","v":""},{"$f":"IF(LEN($F59)<1,\"\",IF(ISBLANK(Checklist!$H$5),\"NO Date!!\",Checklist!$H$5))","v":""},{"$f":"IF(LEN($F59)<1,\"\",IF(ISBLANK(Checklist!$H$6),\"NO Recorder!!\",Checklist!$H$6))","v":""},{"$f":"IF(LEN($F59)<1,\"\",IF(ISTEXT(I59),I59,IF(ISTEXT(Checklist!$H$6),Checklist!$H$6,\"NO Determiner!!\")))","v":""},{"$f":"IF(LEN($F59)<1,\"\",IF(ISTEXT(J59),J59,IF(ISTEXT(Checklist!$H$7),Checklist!$H$7,\"Field record / observation\")))","v":""},"","",null,"","","","","","","","","","","","",null,null,null,null,null,null,null,null,null,null,null,null,null,null,null,null,null,null,null,43,"Ajuga chamaepitys",null,null,5717,"Acer truncatum","Bunge","Shantung Maple","Aceraceae",null,5717,"Acer truncatum_5717",null,null,null,null,null,null,null,"Acer truncatum_5717"]
["",null,null,null,"","","",null,null,null,null,null,null,null,null,"","","",{"$f":"IF(LEN($F60)<1,\"\",IF(ISBLANK(Checklist!$H$2),\"\",Checklist!$H$2))","v":""},{"$f":"IF(LEN($F60)<1,\"\",IF(ISTEXT(H60),H60,IF(ISTEXT(Checklist!$H$3),Checklist!$H$3,\"NO Grid Ref!!\")))","v":""},{"$f":"IF(LEN($F60)<1,\"\",IF(ISBLANK(Checklist!$H$4),\"NO VC!!\",Checklist!$H$4))","v":""},{"$f":"IF(LEN($F60)<1,\"\",IF(ISBLANK(Checklist!$H$5),\"NO Date!!\",Checklist!$H$5))","v":""},{"$f":"IF(LEN($F60)<1,\"\",IF(ISBLANK(Checklist!$H$6),\"NO Recorder!!\",Checklist!$H$6))","v":""},{"$f":"IF(LEN($F60)<1,\"\",IF(ISTEXT(I60),I60,IF(ISTEXT(Checklist!$H$6),Checklist!$H$6,\"NO Determiner!!\")))","v":""},{"$f":"IF(LEN($F60)<1,\"\",IF(ISTEXT(J60),J60,IF(ISTEXT(Checklist!$H$7),Checklist!$H$7,\"Field record / observation\")))","v":""},"","",null,"","","","","","","","","","","","",null,null,null,null,null,null,null,null,null,null,null,null,null,null,null,null,null,null,null,44,"Ajuga genevensis",null,null,4074,"Achillea ageratum","L.","Sweet Yarrow","Asteraceae",null,4074,"Achillea ageratum_4074",null,null,null,null,null,null,null,"Achillea ageratum_4074"]
["",null,null,null,"","","",null,null,null,null,null,null,null,null,"","","",{"$f":"IF(LEN($F61)<1,\"\",IF(ISBLANK(Checklist!$H$2),\"\",Checklist!$H$2))","v":""},{"$f":"IF(LEN($F61)<1,\"\",IF(ISTEXT(H61),H61,IF(ISTEXT(Checklist!$H$3),Checklist!$H$3,\"NO Grid Ref!!\")))","v":""},{"$f":"IF(LEN($F61)<1,\"\",IF(ISBLANK(Checklist!$H$4),\"NO VC!!\",Checklist!$H$4))","v":""},{"$f":"IF(LEN($F61)<1,\"\",IF(ISBLANK(Checklist!$H$5),\"NO Date!!\",Checklist!$H$5))","v":""},{"$f":"IF(LEN($F61)<1,\"\",IF(ISBLANK(Checklist!$H$6),\"NO Recorder!!\",Checklist!$H$6))","v":""},{"$f":"IF(LEN($F61)<1,\"\",IF(ISTEXT(I61),I61,IF(ISTEXT(Checklist!$H$6),Checklist!$H$6,\"NO Determiner!!\")))","v":""},{"$f":"IF(LEN($F61)<1,\"\",IF(ISTEXT(J61),J61,IF(ISTEXT(Checklist!$H$7),Checklist!$H$7,\"Field record / observation\")))","v":""},"","",null,"","","","","","","","","","","","",null,null,null,null,null,null,null,null,null,null,null,null,null,null,null,null,null,null,null,45,"Ajuga pyramidalis",null,null,5721,"Achillea cretica","L.","Chamomile-leaved Lavender-cotton","Asteraceae",null,5721,"Achillea cretica_5721",null,null,null,null,null,null,null,"Achillea cretica_5721"]
["",null,null,null,"","","",null,null,null,null,null,null,null,null,"","","",{"$f":"IF(LEN($F62)<1,\"\",IF(ISBLANK(Checklist!$H$2),\"\",Checklist!$H$2))","v":""},{"$f":"IF(LEN($F62)<1,\"\",IF(ISTEXT(H62),H62,IF(ISTEXT(Checklist!$H$3),Checklist!$H$3,\"NO Grid Ref!!\")))","v":""},{"$f":"IF(LEN($F62)<1,\"\",IF(ISBLANK(Checklist!$H$4),\"NO VC!!\",Checklist!$H$4))","v":""},{"$f":"IF(LEN($F62)<1,\"\",IF(ISBLANK(Checklist!$H$5),\"NO Date!!\",Checklist!$H$5))","v":""},{"$f":"IF(LEN($F62)<1,\"\",IF(ISBLANK(Checklist!$H$6),\"NO Recorder!!\",Checklist!$H$6))","v":""},{"$f":"IF(LEN($F62)<1,\"\",IF(ISTEXT(I62),I62,IF(ISTEXT(Checklist!$H$6),Checklist!$H$6,\"NO Determiner!!\")))","v":""},{"$f":"IF(LEN($F62)<1,\"\",IF(ISTEXT(J62),J62,IF(ISTEXT(Checklist!$H$7),Checklist!$H$7,\"Field record / observation\")))","v":""},"","",null,"","","","","","","","","","","","",null,null,null,null,null,null,null,null,null,null,null,null,null,null,null,null,null,null,null,46,"Ajuga reptans",null,null,5652,"Achillea decolorans","Schrad.","Serrated Yarrow","Asteraceae",null,5652,"Achillea decolorans_5652",null,null,null,null,null,null,null,"Achillea decolorans_5652"]
["",null,null,null,"","","",null,null,null,null,null,null,null,null,"","","",{"$f":"IF(LEN($F63)<1,\"\",IF(ISBLANK(Checklist!$H$2),\"\",Checklist!$H$2))","v":""},{"$f":"IF(LEN($F63)<1,\"\",IF(ISTEXT(H63),H63,IF(ISTEXT(Checklist!$H$3),Checklist!$H$3,\"NO Grid Ref!!\")))","v":""},{"$f":"IF(LEN($F63)<1,\"\",IF(ISBLANK(Checklist!$H$4),\"NO VC!!\",Checklist!$H$4))","v":""},{"$f":"IF(LEN($F63)<1,\"\",IF(ISBLANK(Checklist!$H$5),\"NO Date!!\",Checklist!$H$5))","v":""},{"$f":"IF(LEN($F63)<1,\"\",IF(ISBLANK(Checklist!$H$6),\"NO Recorder!!\",Checklist!$H$6))","v":""},{"$f":"IF(LEN($F63)<1,\"\",IF(ISTEXT(I63),I63,IF(ISTEXT(Checklist!$H$6),Checklist!$H$6,\"NO Determiner!!\")))","v":""},{"$f":"IF(LEN($F63)<1,\"\",IF(ISTEXT(J63),J63,IF(ISTEXT(Checklist!$H$7),Checklist!$H$7,\"Field record / observation\")))","v":""},"","",null,"","","","","","","","","","","","",null,null,null,null,null,null,null,null,null,null,null,null,null,null,null,null,null,null,null,47,"Alchemilla acutiloba",null,null,10,"Achillea distans","Waldst. & Kit. ex Willd.","Tall Yarrow","Asteraceae",null,10,"Achillea distans_10",null,null,null,null,null,null,null,"Achillea distans_10"]
["",null,null,null,"","","",null,null,null,null,null,null,null,null,"","","",{"$f":"IF(LEN($F64)<1,\"\",IF(ISBLANK(Checklist!$H$2),\"\",Checklist!$H$2))","v":""},{"$f":"IF(LEN($F64)<1,\"\",IF(ISTEXT(H64),H64,IF(ISTEXT(Checklist!$H$3),Checklist!$H$3,\"NO Grid Ref!!\")))","v":""},{"$f":"IF(LEN($F64)<1,\"\",IF(ISBLANK(Checklist!$H$4),\"NO VC!!\",Checklist!$H$4))","v":""},{"$f":"IF(LEN($F64)<1,\"\",IF(ISBLANK(Checklist!$H$5),\"NO Date!!\",Checklist!$H$5))","v":""},{"$f":"IF(LEN($F64)<1,\"\",IF(ISBLANK(Checklist!$H$6),\"NO Recorder!!\",Checklist!$H$6))","v":""},{"$f":"IF(LEN($F64)<1,\"\",IF(ISTEXT(I64),I64,IF(ISTEXT(Checklist!$H$6),Checklist!$H$6,\"NO Determiner!!\")))","v":""},{"$f":"IF(LEN($F64)<1,\"\",IF(ISTEXT(J64),J64,IF(ISTEXT(Checklist!$H$7),Checklist!$H$7,\"Field record / observation\")))","v":""},"","",null,"","","","","","","","","","","","",null,null,null,null,null,null,null,null,null,null,null,null,null,null,null,null,null,null,null,48,"Alchemilla alpina",null,null,7931,"Achillea filipendulina","Lam.","Fern-leaf Yarrow","Asteraceae",null,7931,"Achillea filipendulina_7931",null,null,null,null,null,null,null,"Achillea filipendulina_7931"]
["",null,null,null,"","","",null,null,null,null,null,null,null,null,"","","",{"$f":"IF(LEN($F65)<1,\"\",IF(ISBLANK(Checklist!$H$2),\"\",Checklist!$H$2))","v":""},{"$f":"IF(LEN($F65)<1,\"\",IF(ISTEXT(H65),H65,IF(ISTEXT(Checklist!$H$3),Checklist!$H$3,\"NO Grid Ref!!\")))","v":""},{"$f":"IF(LEN($F65)<1,\"\",IF(ISBLANK(Checklist!$H$4),\"NO VC!!\",Checklist!$H$4))","v":""},{"$f":"IF(LEN($F65)<1,\"\",IF(ISBLANK(Checklist!$H$5),\"NO Date!!\",Checklist!$H$5))","v":""},{"$f":"IF(LEN($F65)<1,\"\",IF(ISBLANK(Checklist!$H$6),\"NO Recorder!!\",Checklist!$H$6))","v":""},{"$f":"IF(LEN($F65)<1,\"\",IF(ISTEXT(I65),I65,IF(ISTEXT(Checklist!$H$6),Checklist!$H$6,\"NO Determiner!!\")))","v":""},{"$f":"IF(LEN($F65)<1,\"\",IF(ISTEXT(J65),J65,IF(ISTEXT(Checklist!$H$7),Checklist!$H$7,\"Field record / observation\")))","v":""},"","",null,"","","","","","","","","","","","",null,null,null,null,null,null,null,null,null,null,null,null,null,null,null,null,null,null,null,49,"Alchemilla conjuncta",null,null,7932,"Achillea grandifolia","Friv.",null,"Asteraceae",null,7932,"Achillea grandifolia_7932",null,null,null,null,null,null,null,"Achillea grandifolia_7932"]
["",null,null,null,"","","",null,null,null,null,null,null,null,null,"","","",{"$f":"IF(LEN($F66)<1,\"\",IF(ISBLANK(Checklist!$H$2),\"\",Checklist!$H$2))","v":""},{"$f":"IF(LEN($F66)<1,\"\",IF(ISTEXT(H66),H66,IF(ISTEXT(Checklist!$H$3),Checklist!$H$3,\"NO Grid Ref!!\")))","v":""},{"$f":"IF(LEN($F66)<1,\"\",IF(ISBLANK(Checklist!$H$4),\"NO VC!!\",Checklist!$H$4))","v":""},{"$f":"IF(LEN($F66)<1,\"\",IF(ISBLANK(Checklist!$H$5),\"NO Date!!\",Checklist!$H$5))","v":""},{"$f":"IF(LEN($F66)<1,\"\",IF(ISBLANK(Checklist!$H$6),\"NO Recorder!!\",Checklist!$H$6))","v":""},{"$f":"IF(LEN($F66)<1,\"\",IF(ISTEXT(I66),I66,IF(ISTEXT(Checklist!$H$6),Checklist!$H$6,\"NO Determiner!!\")))","v":""},{"$f":"IF(LEN($F66)<1,\"\",IF(ISTEXT(J66),J66,IF(ISTEXT(Checklist!$H$7),Checklist!$H$7,\"Field record / observation\")))","v":""},"","",null,"","","","","","","","","","","","",null,null,null,null,null,null,null,null,null,null,null,null,null,null,null,null,null,null,null,50,"Alchemilla filicaulis subsp. filicaulis",null,null,7134,"Achillea ligustica","All.","Southern Yarrow","Asteraceae",null,7134,"Achillea ligustica_7134",null,null,null,null,null,null,null,"Achillea ligustica_7134"]
["",null,null,null,{"$f":"IF(ISBLANK(B67),IF(ISBLANK(C67),\"\",IF(RIGHT(C67,LEN(C67)-FIND(\"_\",C67,1))=\"No BRC\",\"No BRC\",RIGHT(C67,LEN(C67)-FIND(\"_\",C67,1))*1)),B67)","v":""},"","",null,null,null,null,null,null,null,null,"","","",{"$f":"IF(LEN($F67)<1,\"\",IF(ISBLANK(Checklist!$H$2),\"\",Checklist!$H$2))","v":""},{"$f":"IF(LEN($F67)<1,\"\",IF(ISTEXT(H67),H67,IF(ISTEXT(Checklist!$H$3),Checklist!$H$3,\"NO Grid Ref!!\")))","v":""},{"$f":"IF(LEN($F67)<1,\"\",IF(ISBLANK(Checklist!$H$4),\"NO VC!!\",Checklist!$H$4))","v":""},{"$f":"IF(LEN($F67)<1,\"\",IF(ISBLANK(Checklist!$H$5),\"NO Date!!\",Checklist!$H$5))","v":""},{"$f":"IF(LEN($F67)<1,\"\",IF(ISBLANK(Checklist!$H$6),\"NO Recorder!!\",Checklist!$H$6))","v":""},{"$f":"IF(LEN($F67)<1,\"\",IF(ISTEXT(I67),I67,IF(ISTEXT(Checklist!$H$6),Checklist!$H$6,\"NO Determiner!!\")))","v":""},{"$f":"IF(LEN($F67)<1,\"\",IF(ISTEXT(J67),J67,IF(ISTEXT(Checklist!$H$7),Checklist!$H$7,\"Field record / observation\")))","v":""},"","",null,"","","","","","","","","","","","",null,null,null,null,null,null,null,null,null,null,null,null,null,null,null,null,null,null,null,51,"Alchemilla glabra",null,null,1412,"Achillea maritima","(L.) Ehrhend. & Y.P. Guo","Cottonweed","Asteraceae","Extinct",1412,"Achillea maritima_1412",null,null,null,null,null,null,null,"Achillea maritima_1412"]
[{"$f":"IF(F68=\"\",\"\",ROW())","v":""},null,null,null,"","","",null,null,null,null,null,null,null,null,"","","",{"$f":"IF(LEN($F68)<1,\"\",IF(ISBLANK(Checklist!$H$2),\"\",Checklist!$H$2))","v":""},{"$f":"IF(LEN($F68)<1,\"\",IF(ISTEXT(H68),H68,IF(ISTEXT(Checklist!$H$3),Checklist!$H$3,\"NO Grid Ref!!\")))","v":""},{"$f":"IF(LEN($F68)<1,\"\",IF(ISBLANK(Checklist!$H$4),\"NO VC!!\",Checklist!$H$4))","v":""},{"$f":"IF(LEN($F68)<1,\"\",IF(ISBLANK(Checklist!$H$5),\"NO Date!!\",Checklist!$H$5))","v":""},{"$f":"IF(LEN($F68)<1,\"\",IF(ISBLANK(Checklist!$H$6),\"NO Recorder!!\",Checklist!$H$6))","v":""},{"$f":"IF(LEN($F68)<1,\"\",IF(ISTEXT(I68),I68,IF(ISTEXT(Checklist!$H$6),Checklist!$H$6,\"NO Determiner!!\")))","v":""},{"$f":"IF(LEN($F68)<1,\"\",IF(ISTEXT(J68),J68,IF(ISTEXT(Checklist!$H$7),Checklist!$H$7,\"Field record / observation\")))","v":""},"","",null,{"$f":"IF(ROW($A68)-ROW($A$3)+1>COUNT($A$3:$A$501),\"\",INDEX(P:P,SMALL($A$3:$A$501,1+ROW($A68)-ROW($A$3))))","v":""},{"$f":"IF(ROW($A68)-ROW($A$3)+1>COUNT($A$3:$A$501),\"\",INDEX(Q:Q,SMALL($A$3:$A$501,1+ROW($A68)-ROW($A$3))))","v":""},{"$f":"IF(ROW($A68)-ROW($A$3)+1>COUNT($A$3:$A$501),\"\",INDEX(R:R,SMALL($A$3:$A$501,1+ROW($A68)-ROW($A$3))))","v":""},{"$f":"IF(ROW($A68)-ROW($A$3)+1>COUNT($A$3:$A$501),\"\",INDEX(S:S,SMALL($A$3:$A$501,1+ROW($A68)-ROW($A$3))))","v":""},{"$f":"IF(ROW($A68)-ROW($A$3)+1>COUNT($A$3:$A$501),\"\",INDEX(T:T,SMALL($A$3:$A$501,1+ROW($A68)-ROW($A$3))))","v":""},{"$f":"IF(ROW($A68)-ROW($A$3)+1>COUNT($A$3:$A$501),\"\",INDEX(U:U,SMALL($A$3:$A$501,1+ROW($A68)-ROW($A$3))))","v":""},{"$f":"IF(ROW($A68)-ROW($A$3)+1>COUNT($A$3:$A$501),\"\",INDEX(V:V,SMALL($A$3:$A$501,1+ROW($A68)-ROW($A$3))))","v":""},{"$f":"IF(ROW($A68)-ROW($A$3)+1>COUNT($A$3:$A$501),\"\",INDEX(W:W,SMALL($A$3:$A$501,1+ROW($A68)-ROW($A$3))))","v":""},{"$f":"IF(ROW($A68)-ROW($A$3)+1>COUNT($A$3:$A$501),\"\",INDEX(X:X,SMALL($A$3:$A$501,1+ROW($A68)-ROW($A$3))))","v":""},{"$f":"IF(ROW($A68)-ROW($A$3)+1>COUNT($A$3:$A$501),\"\",INDEX(Y:Y,SMALL($A$3:$A$501,1+ROW($A68)-ROW($A$3))))","v":""},{"$f":"IF(ROW($A68)-ROW($A$3)+1>COUNT($A$3:$A$501),\"\",INDEX(Z:Z,SMALL($A$3:$A$501,1+ROW($A68)-ROW($A$3))))","v":""},{"$f":"IF(ROW($A68)-ROW($A$3)+1>COUNT($A$3:$A$501),\"\",INDEX(AA:AA,SMALL($A$3:$A$501,1+ROW($A68)-ROW($A$3))))","v":""},null,null,null,null,null,null,null,null,null,null,null,null,null,null,null,null,null,null,null,52,"Alchemilla glomerulans",null,null,7,"Achillea millefolium","Linnaeus","Yarrow","Asteraceae",null,7,{"$f":"CONCATENATE(BM68,\"_\",BL68)","v":"Achillea millefolium_7"},null,null,null,null,null,null,null,"Achillea millefolium_7"]
["",null,null,null,"","",{"$f":"IF(LEN(F69)<1,\"\",IF(ISBLANK(VLOOKUP(F69,$BM$3:$BR$7116,3,FALSE)),\"\",(VLOOKUP(F69,$BM$3:$BR$7130,3,FALSE))))","v":""},null,null,null,null,null,null,null,null,"","","",{"$f":"IF(LEN($F69)<1,\"\",IF(ISBLANK(Checklist!$H$2),\"\",Checklist!$H$2))","v":""},{"$f":"IF(LEN($F69)<1,\"\",IF(ISTEXT(H69),H69,IF(ISTEXT(Checklist!$H$3),Checklist!$H$3,\"NO Grid Ref!!\")))","v":""},{"$f":"IF(LEN($F69)<1,\"\",IF(ISBLANK(Checklist!$H$4),\"NO VC!!\",Checklist!$H$4))","v":""},{"$f":"IF(LEN($F69)<1,\"\",IF(ISBLANK(Checklist!$H$5),\"NO Date!!\",Checklist!$H$5))","v":""},{"$f":"IF(LEN($F69)<1,\"\",IF(ISBLANK(Checklist!$H$6),\"NO Recorder!!\",Checklist!$H$6))","v":""},{"$f":"IF(LEN($F69)<1,\"\",IF(ISTEXT(I69),I69,IF(ISTEXT(Checklist!$H$6),Checklist!$H$6,\"NO Determiner!!\")))","v":""},{"$f":"IF(LEN($F69)<1,\"\",IF(ISTEXT(J69),J69,IF(ISTEXT(Checklist!$H$7),Checklist!$H$7,\"Field record / observation\")))","v":""},"","",null,"","","","","","","","","","","","",null,null,null,null,null,null,null,null,null,null,null,null,null,null,null,null,null,null,null,53,"Alchemilla minima",null,null,8,"Achillea nobilis","Linnaeus",null,"Asteraceae",null,8,"Achillea nobilis_8",null,null,null,null,null,null,null,"Achillea nobilis_8"]
["",null,null,null,"",{"$f":"IF(ISBLANK(B70),IF(ISBLANK(C70),\"\",LEFT(C70,FIND(\"_\",C70,1)-1)),VLOOKUP(B70,$BH$3:$BI$7130,2,FALSE))","v":""},"",null,null,null,null,null,null,null,null,"","","",{"$f":"IF(LEN($F70)<1,\"\",IF(ISBLANK(Checklist!$H$2),\"\",Checklist!$H$2))","v":""},{"$f":"IF(LEN($F70)<1,\"\",IF(ISTEXT(H70),H70,IF(ISTEXT(Checklist!$H$3),Checklist!$H$3,\"NO Grid Ref!!\")))","v":""},{"$f":"IF(LEN($F70)<1,\"\",IF(ISBLANK(Checklist!$H$4),\"NO VC!!\",Checklist!$H$4))","v":""},{"$f":"IF(LEN($F70)<1,\"\",IF(ISBLANK(Checklist!$H$5),\"NO Date!!\",Checklist!$H$5))","v":""},{"$f":"IF(LEN($F70)<1,\"\",IF(ISBLANK(Checklist!$H$6),\"NO Recorder!!\",Checklist!$H$6))","v":""},{"$f":"IF(LEN($F70)<1,\"\",IF(ISTEXT(I70),I70,IF(ISTEXT(Checklist!$H$6),Checklist!$H$6,\"NO Determiner!!\")))","v":""},{"$f":"IF(LEN($F70)<1,\"\",IF(ISTEXT(J70),J70,IF(ISTEXT(Checklist!$H$7),Checklist!$H$7,\"Field record / observation\")))","v":""},"","",null,"","","","","","","","","","","","",null,null,null,null,null,null,null,null,null,null,null,null,null,null,null,null,null,null,null,54,"Alchemilla glaucescens",null,null,9,"Achillea ptarmica","Linnaeus","Sneezewort","Asteraceae",null,9,"Achillea ptarmica_9",null,null,null,null,null,null,null,"Achillea ptarmica_9"]
["",null,null,null,"","","",null,null,null,null,null,null,null,null,"","","",{"$f":"IF(LEN($F71)<1,\"\",IF(ISBLANK(Checklist!$H$2),\"\",Checklist!$H$2))","v":""},{"$f":"IF(LEN($F71)<1,\"\",IF(ISTEXT(H71),H71,IF(ISTEXT(Checklist!$H$3),Checklist!$H$3,\"NO Grid Ref!!\")))","v":""},{"$f":"IF(LEN($F71)<1,\"\",IF(ISBLANK(Checklist!$H$4),\"NO VC!!\",Checklist!$H$4))","v":""},{"$f":"IF(LEN($F71)<1,\"\",IF(ISBLANK(Checklist!$H$5),\"NO Date!!\",Checklist!$H$5))","v":""},{"$f":"IF(LEN($F71)<1,\"\",IF(ISBLANK(Checklist!$H$6),\"NO Recorder!!\",Checklist!$H$6))","v":""},{"$f":"IF(LEN($F71)<1,\"\",IF(ISTEXT(I71),I71,IF(ISTEXT(Checklist!$H$6),Checklist!$H$6,\"NO Determiner!!\")))","v":""},{"$f":"IF(LEN($F71)<1,\"\",IF(ISTEXT(J71),J71,IF(ISTEXT(Checklist!$H$7),Checklist!$H$7,\"Field record / observation\")))","v":""},"","",null,"","","","","","","","","","","","",null,null,null,null,null,null,null,null,null,null,null,null,null,null,null,null,null,null,null,55,"Alchemilla monticola",null,null,11,"Achillea tomentosa","Linnaeus","Yellow Milfoil","Asteraceae",null,11,"Achillea tomentosa_11",null,null,null,null,null,null,null,"Achillea tomentosa_11"]
["",null,null,null,"","","",null,null,null,null,null,null,null,null,"","","",{"$f":"IF(LEN($F72)<1,\"\",IF(ISBLANK(Checklist!$H$2),\"\",Checklist!$H$2))","v":""},{"$f":"IF(LEN($F72)<1,\"\",IF(ISTEXT(H72),H72,IF(ISTEXT(Checklist!$H$3),Checklist!$H$3,\"NO Grid Ref!!\")))","v":""},{"$f":"IF(LEN($F72)<1,\"\",IF(ISBLANK(Checklist!$H$4),\"NO VC!!\",Checklist!$H$4))","v":""},{"$f":"IF(LEN($F72)<1,\"\",IF(ISBLANK(Checklist!$H$5),\"NO Date!!\",Checklist!$H$5))","v":""},{"$f":"IF(LEN($F72)<1,\"\",IF(ISBLANK(Checklist!$H$6),\"NO Recorder!!\",Checklist!$H$6))","v":""},{"$f":"IF(LEN($F72)<1,\"\",IF(ISTEXT(I72),I72,IF(ISTEXT(Checklist!$H$6),Checklist!$H$6,\"NO Determiner!!\")))","v":""},{"$f":"IF(LEN($F72)<1,\"\",IF(ISTEXT(J72),J72,IF(ISTEXT(Checklist!$H$7),Checklist!$H$7,\"Field record / observation\")))","v":""},"","",null,"","","","","","","","","","","","",null,null,null,null,null,null,null,null,null,null,null,null,null,null,null,null,null,null,null,56,"Alchemilla subcrenata",null,null,5726,"Achyranthes aspera","L.","Chaff-flower","Amaranthaceae",null,5726,"Achyranthes aspera_5726",null,null,null,null,null,null,null,"Achyranthes aspera_5726"]
["",null,null,null,"","","",null,null,null,null,null,null,null,null,"","","",{"$f":"IF(LEN($F73)<1,\"\",IF(ISBLANK(Checklist!$H$2),\"\",Checklist!$H$2))","v":""},{"$f":"IF(LEN($F73)<1,\"\",IF(ISTEXT(H73),H73,IF(ISTEXT(Checklist!$H$3),Checklist!$H$3,\"NO Grid Ref!!\")))","v":""},{"$f":"IF(LEN($F73)<1,\"\",IF(ISBLANK(Checklist!$H$4),\"NO VC!!\",Checklist!$H$4))","v":""},{"$f":"IF(LEN($F73)<1,\"\",IF(ISBLANK(Checklist!$H$5),\"NO Date!!\",Checklist!$H$5))","v":""},{"$f":"IF(LEN($F73)<1,\"\",IF(ISBLANK(Checklist!$H$6),\"NO Recorder!!\",Checklist!$H$6))","v":""},{"$f":"IF(LEN($F73)<1,\"\",IF(ISTEXT(I73),I73,IF(ISTEXT(Checklist!$H$6),Checklist!$H$6,\"NO Determiner!!\")))","v":""},{"$f":"IF(LEN($F73)<1,\"\",IF(ISTEXT(J73),J73,IF(ISTEXT(Checklist!$H$7),Checklist!$H$7,\"Field record / observation\")))","v":""},"","",null,"","","","","","","","","","","","",null,null,null,null,null,null,null,null,null,null,null,null,null,null,null,null,null,null,null,57,"Alchemilla filicaulis subsp. vestita",null,null,5727,"Aconitum angustifolium","Bernh.","Narrow-leaved Monk's-hood","Ranunculaceae",null,5727,"Aconitum angustifolium_5727",null,null,null,null,null,null,null,"Aconitum angustifolium_5727"]
["",null,null,null,"","","",null,null,null,null,null,null,null,null,"","","",{"$f":"IF(LEN($F74)<1,\"\",IF(ISBLANK(Checklist!$H$2),\"\",Checklist!$H$2))","v":""},{"$f":"IF(LEN($F74)<1,\"\",IF(ISTEXT(H74),H74,IF(ISTEXT(Checklist!$H$3),Checklist!$H$3,\"NO Grid Ref!!\")))","v":""},{"$f":"IF(LEN($F74)<1,\"\",IF(ISBLANK(Checklist!$H$4),\"NO VC!!\",Checklist!$H$4))","v":""},{"$f":"IF(LEN($F74)<1,\"\",IF(ISBLANK(Checklist!$H$5),\"NO Date!!\",Checklist!$H$5))","v":""},{"$f":"IF(LEN($F74)<1,\"\",IF(ISBLANK(Checklist!$H$6),\"NO Recorder!!\",Checklist!$H$6))","v":""},{"$f":"IF(LEN($F74)<1,\"\",IF(ISTEXT(I74),I74,IF(ISTEXT(Checklist!$H$6),Checklist!$H$6,\"NO Determiner!!\")))","v":""},{"$f":"IF(LEN($F74)<1,\"\",IF(ISTEXT(J74),J74,IF(ISTEXT(Checklist!$H$7),Checklist!$H$7,\"Field record / observation\")))","v":""},"","",null,"","","","","","","","","","","","",null,null,null,null,null,null,null,null,null,null,null,null,null,null,null,null,null,null,null,58,"Alchemilla vulgaris agg.",null,null,5728,"Aconitum carmichaelii","Debeaux","Carmichael's Monk's-hood","Ranunculaceae",null,5728,"Aconitum carmichaelii_5728",null,null,null,null,null,null,null,"Aconitum carmichaelii_5728"]
["",null,null,null,"","","",null,null,null,null,null,null,null,null,"","","",{"$f":"IF(LEN($F75)<1,\"\",IF(ISBLANK(Checklist!$H$2),\"\",Checklist!$H$2))","v":""},{"$f":"IF(LEN($F75)<1,\"\",IF(ISTEXT(H75),H75,IF(ISTEXT(Checklist!$H$3),Checklist!$H$3,\"NO Grid Ref!!\")))","v":""},{"$f":"IF(LEN($F75)<1,\"\",IF(ISBLANK(Checklist!$H$4),\"NO VC!!\",Checklist!$H$4))","v":""},{"$f":"IF(LEN($F75)<1,\"\",IF(ISBLANK(Checklist!$H$5),\"NO Date!!\",Checklist!$H$5))","v":""},{"$f":"IF(LEN($F75)<1,\"\",IF(ISBLANK(Checklist!$H$6),\"NO Recorder!!\",Checklist!$H$6))","v":""},{"$f":"IF(LEN($F75)<1,\"\",IF(ISTEXT(I75),I75,IF(ISTEXT(Checklist!$H$6),Checklist!$H$6,\"NO Determiner!!\")))","v":""},{"$f":"IF(LEN($F75)<1,\"\",IF(ISTEXT(J75),J75,IF(ISTEXT(Checklist!$H$7),Checklist!$H$7,\"Field record / observation\")))","v":""},"","",null,"","","","","","","","","","","","",null,null,null,null,null,null,null,null,null,null,null,null,null,null,null,null,null,null,null,59,"Alchemilla wichurae",null,null,7933,"Aconitum compactum","(Reichb.) Gayer",null,"Ranunculaceae",null,7933,"Aconitum compactum_7933",null,null,null,null,null,null,null,"Aconitum compactum_7933"]
["",null,null,null,"","","",null,null,null,null,null,null,null,null,"","","",{"$f":"IF(LEN($F76)<1,\"\",IF(ISBLANK(Checklist!$H$2),\"\",Checklist!$H$2))","v":""},{"$f":"IF(LEN($F76)<1,\"\",IF(ISTEXT(H76),H76,IF(ISTEXT(Checklist!$H$3),Checklist!$H$3,\"NO Grid Ref!!\")))","v":""},{"$f":"IF(LEN($F76)<1,\"\",IF(ISBLANK(Checklist!$H$4),\"NO VC!!\",Checklist!$H$4))","v":""},{"$f":"IF(LEN($F76)<1,\"\",IF(ISBLANK(Checklist!$H$5),\"NO Date!!\",Checklist!$H$5))","v":""},{"$f":"IF(LEN($F76)<1,\"\",IF(ISBLANK(Checklist!$H$6),\"NO Recorder!!\",Checklist!$H$6))","v":""},{"$f":"IF(LEN($F76)<1,\"\",IF(ISTEXT(I76),I76,IF(ISTEXT(Checklist!$H$6),Checklist!$H$6,\"NO Determiner!!\")))","v":""},{"$f":"IF(LEN($F76)<1,\"\",IF(ISTEXT(J76),J76,IF(ISTEXT(Checklist!$H$7),Checklist!$H$7,\"Field record / observation\")))","v":""},"","",null,"","","","","","","","","","","","",null,null,null,null,null,null,null,null,null,null,null,null,null,null,null,null,null,null,null,60,"Alchemilla xanthochlora",null,null,7135,"Aconitum lycoctonum","(Richb.) Nyman","Wolf's-bane","Ranunculaceae",null,7135,"Aconitum lycoctonum_7135",null,null,null,null,null,null,null,"Aconitum lycoctonum_7135"]
["",null,null,null,"","","",null,null,null,null,null,null,null,null,"","","",{"$f":"IF(LEN($F77)<1,\"\",IF(ISBLANK(Checklist!$H$2),\"\",Checklist!$H$2))","v":""},{"$f":"IF(LEN($F77)<1,\"\",IF(ISTEXT(H77),H77,IF(ISTEXT(Checklist!$H$3),Checklist!$H$3,\"NO Grid Ref!!\")))","v":""},{"$f":"IF(LEN($F77)<1,\"\",IF(ISBLANK(Checklist!$H$4),\"NO VC!!\",Checklist!$H$4))","v":""},{"$f":"IF(LEN($F77)<1,\"\",IF(ISBLANK(Checklist!$H$5),\"NO Date!!\",Checklist!$H$5))","v":""},{"$f":"IF(LEN($F77)<1,\"\",IF(ISBLANK(Checklist!$H$6),\"NO Recorder!!\",Checklist!$H$6))","v":""},{"$f":"IF(LEN($F77)<1,\"\",IF(ISTEXT(I77),I77,IF(ISTEXT(Checklist!$H$6),Checklist!$H$6,\"NO Determiner!!\")))","v":""},{"$f":"IF(LEN($F77)<1,\"\",IF(ISTEXT(J77),J77,IF(ISTEXT(Checklist!$H$7),Checklist!$H$7,\"Field record / observation\")))","v":""},"","",null,"","","","","","","","","","","","",null,null,null,null,null,null,null,null,null,null,null,null,null,null,null,null,null,null,null,61,"Alisma gramineum",null,null,14,"Aconitum napellus","L.","Monk's-hood","Ranunculaceae",null,14,"Aconitum napellus_14",null,null,null,null,null,null,null,"Aconitum napellus_14"]
["",null,null,null,"","","",null,null,null,null,null,null,null,null,"","","",{"$f":"IF(LEN($F78)<1,\"\",IF(ISBLANK(Checklist!$H$2),\"\",Checklist!$H$2))","v":""},{"$f":"IF(LEN($F78)<1,\"\",IF(ISTEXT(H78),H78,IF(ISTEXT(Checklist!$H$3),Checklist!$H$3,\"NO Grid Ref!!\")))","v":""},{"$f":"IF(LEN($F78)<1,\"\",IF(ISBLANK(Checklist!$H$4),\"NO VC!!\",Checklist!$H$4))","v":""},{"$f":"IF(LEN($F78)<1,\"\",IF(ISBLANK(Checklist!$H$5),\"NO Date!!\",Checklist!$H$5))","v":""},{"$f":"IF(LEN($F78)<1,\"\",IF(ISBLANK(Checklist!$H$6),\"NO Recorder!!\",Checklist!$H$6))","v":""},{"$f":"IF(LEN($F78)<1,\"\",IF(ISTEXT(I78),I78,IF(ISTEXT(Checklist!$H$6),Checklist!$H$6,\"NO Determiner!!\")))","v":""},{"$f":"IF(LEN($F78)<1,\"\",IF(ISTEXT(J78),J78,IF(ISTEXT(Checklist!$H$7),Checklist!$H$7,\"Field record / observation\")))","v":""},"","",null,"","","","","","","","","","","","",null,null,null,null,null,null,null,null,null,null,null,null,null,null,null,null,null,null,null,61.1,"Alisma gramineum subsp. gramineum",null,null,3305,"Aconitum napellus sens. lat.",null,"Monk's-hood","Ranunculaceae",null,3305,"Aconitum napellus sens. lat._3305",null,null,null,null,null,null,null,"Aconitum napellus sens. lat._3305"]
["",null,null,null,"","","",null,null,null,null,null,null,null,null,{"$f":"IF(LEN($F79)<1,\"\",E79)","v":""},{"$f":"IF(LEN($F79)<1,\"\",F79)","v":""},{"$f":"IF(LEN($F79)<1,\"\",G79)","v":""},{"$f":"IF(LEN($F79)<1,\"\",IF(ISBLANK(Checklist!$H$2),\"\",Checklist!$H$2))","v":""},{"$f":"IF(LEN($F79)<1,\"\",IF(ISTEXT(H79),H79,IF(ISTEXT(Checklist!$H$3),Checklist!$H$3,\"NO Grid Ref!!\")))","v":""},{"$f":"IF(LEN($F79)<1,\"\",IF(ISBLANK(Checklist!$H$4),\"NO VC!!\",Checklist!$H$4))","v":""},{"$f":"IF(LEN($F79)<1,\"\",IF(ISBLANK(Checklist!$H$5),\"NO Date!!\",Checklist!$H$5))","v":""},{"$f":"IF(LEN($F79)<1,\"\",IF(ISBLANK(Checklist!$H$6),\"NO Recorder!!\",Checklist!$H$6))","v":""},{"$f":"IF(LEN($F79)<1,\"\",IF(ISTEXT(I79),I79,IF(ISTEXT(Checklist!$H$6),Checklist!$H$6,\"NO Determiner!!\")))","v":""},{"$f":"IF(LEN($F79)<1,\"\",IF(ISTEXT(J79),J79,IF(ISTEXT(Checklist!$H$7),Checklist!$H$7,\"Field record / observation\")))","v":""},{"$f":"IF(LEN($F79)<1,\"\",IF(LEN(K79)<1,\"Not Recorded\",K79))","v":""},{"$f":"IF(LEN($F79)<1,\"\",IF(LEN(L79)<1,\"  --\",L79))","v":""},null,"","","","","","","","","","","","",null,null,null,null,null,null,null,null,null,null,null,null,null,null,null,null,null,null,null,61.2,"Alisma gramineum subsp. wahlenbergii",null,null,14.1,"Aconitum napellus subsp. napellus",null,"Monk's-hood","Ranunculaceae","Nationally Scarce",14.1,"Aconitum napellus subsp. napellus_14.1",null,null,null,null,null,null,null,"Aconitum napellus subsp. napellus_14.1"]
["",null,null,null,"","","",null,null,null,null,null,null,null,null,"","","",{"$f":"IF(LEN($F80)<1,\"\",IF(ISBLANK(Checklist!$H$2),\"\",Checklist!$H$2))","v":""},{"$f":"IF(LEN($F80)<1,\"\",IF(ISTEXT(H80),H80,IF(ISTEXT(Checklist!$H$3),Checklist!$H$3,\"NO Grid Ref!!\")))","v":""},{"$f":"IF(LEN($F80)<1,\"\",IF(ISBLANK(Checklist!$H$4),\"NO VC!!\",Checklist!$H$4))","v":""},{"$f":"IF(LEN($F80)<1,\"\",IF(ISBLANK(Checklist!$H$5),\"NO Date!!\",Checklist!$H$5))","v":""},{"$f":"IF(LEN($F80)<1,\"\",IF(ISBLANK(Checklist!$H$6),\"NO Recorder!!\",Checklist!$H$6))","v":""},{"$f":"IF(LEN($F80)<1,\"\",IF(ISTEXT(I80),I80,IF(ISTEXT(Checklist!$H$6),Checklist!$H$6,\"NO Determiner!!\")))","v":""},{"$f":"IF(LEN($F80)<1,\"\",IF(ISTEXT(J80),J80,IF(ISTEXT(Checklist!$H$7),Checklist!$H$7,\"Field record / observation\")))","v":""},"","",null,"","","","","","","","","","","","",null,null,null,null,null,null,null,null,null,null,null,null,null,null,null,null,null,null,null,62,"Alisma lanceolatum",null,null,14.2,"Aconitum napellus subsp. vulgare","(DC) Rouy & Foucaud","Monk's-hood","Ranunculaceae",null,14.2,"Aconitum napellus subsp. vulgare_14.2",null,null,null,null,null,null,null,"Aconitum napellus subsp. vulgare_14.2"]
["",null,null,null,"","","",null,null,null,null,null,null,null,null,"","","",{"$f":"IF(LEN($F81)<1,\"\",IF(ISBLANK(Checklist!$H$2),\"\",Checklist!$H$2))","v":""},{"$f":"IF(LEN($F81)<1,\"\",IF(ISTEXT(H81),H81,IF(ISTEXT(Checklist!$H$3),Checklist!$H$3,\"NO Grid Ref!!\")))","v":""},{"$f":"IF(LEN($F81)<1,\"\",IF(ISBLANK(Checklist!$H$4),\"NO VC!!\",Checklist!$H$4))","v":""},{"$f":"IF(LEN($F81)<1,\"\",IF(ISBLANK(Checklist!$H$5),\"NO Date!!\",Checklist!$H$5))","v":""},{"$f":"IF(LEN($F81)<1,\"\",IF(ISBLANK(Checklist!$H$6),\"NO Recorder!!\",Checklist!$H$6))","v":""},{"$f":"IF(LEN($F81)<1,\"\",IF(ISTEXT(I81),I81,IF(ISTEXT(Checklist!$H$6),Checklist!$H$6,\"NO Determiner!!\")))","v":""},{"$f":"IF(LEN($F81)<1,\"\",IF(ISTEXT(J81),J81,IF(ISTEXT(Checklist!$H$7),Checklist!$H$7,\"Field record / observation\")))","v":""},"","",null,"","","","","","","","","","","","",null,null,null,null,null,null,null,null,null,null,null,null,null,null,null,null,null,null,null,63,"Alisma plantago-aquatica",null,null,2985,"Aconitum x stoerkianum","Rchb.","A. napellus x variegatum","Ranunculaceae",null,2985,"Aconitum x stoerkianum_2985",null,null,null,null,null,null,null,"Aconitum x stoerkianum_2985"]
["",null,null,null,"","","",null,null,null,null,null,null,null,null,"","","",{"$f":"IF(LEN($F82)<1,\"\",IF(ISBLANK(Checklist!$H$2),\"\",Checklist!$H$2))","v":""},{"$f":"IF(LEN($F82)<1,\"\",IF(ISTEXT(H82),H82,IF(ISTEXT(Checklist!$H$3),Checklist!$H$3,\"NO Grid Ref!!\")))","v":""},{"$f":"IF(LEN($F82)<1,\"\",IF(ISBLANK(Checklist!$H$4),\"NO VC!!\",Checklist!$H$4))","v":""},{"$f":"IF(LEN($F82)<1,\"\",IF(ISBLANK(Checklist!$H$5),\"NO Date!!\",Checklist!$H$5))","v":""},{"$f":"IF(LEN($F82)<1,\"\",IF(ISBLANK(Checklist!$H$6),\"NO Recorder!!\",Checklist!$H$6))","v":""},{"$f":"IF(LEN($F82)<1,\"\",IF(ISTEXT(I82),I82,IF(ISTEXT(Checklist!$H$6),Checklist!$H$6,\"NO Determiner!!\")))","v":""},{"$f":"IF(LEN($F82)<1,\"\",IF(ISTEXT(J82),J82,IF(ISTEXT(Checklist!$H$7),Checklist!$H$7,\"Field record / observation\")))","v":""},"","",null,"","","","","","","","","","","","",null,null,null,null,null,null,null,null,null,null,null,null,null,null,null,null,null,null,null,64,"Alliaria petiolata",null,null,15,"Acorus calamus","Linnaeus","Sweet-flag","Araceae",null,15,"Acorus calamus_15",null,null,null,null,null,null,null,"Acorus calamus_15"]
["",null,null,null,"","","",null,null,null,null,null,null,null,null,"","","",{"$f":"IF(LEN($F83)<1,\"\",IF(ISBLANK(Checklist!$H$2),\"\",Checklist!$H$2))","v":""},{"$f":"IF(LEN($F83)<1,\"\",IF(ISTEXT(H83),H83,IF(ISTEXT(Checklist!$H$3),Checklist!$H$3,\"NO Grid Ref!!\")))","v":""},{"$f":"IF(LEN($F83)<1,\"\",IF(ISBLANK(Checklist!$H$4),\"NO VC!!\",Checklist!$H$4))","v":""},{"$f":"IF(LEN($F83)<1,\"\",IF(ISBLANK(Checklist!$H$5),\"NO Date!!\",Checklist!$H$5))","v":""},{"$f":"IF(LEN($F83)<1,\"\",IF(ISBLANK(Checklist!$H$6),\"NO Recorder!!\",Checklist!$H$6))","v":""},{"$f":"IF(LEN($F83)<1,\"\",IF(ISTEXT(I83),I83,IF(ISTEXT(Checklist!$H$6),Checklist!$H$6,\"NO Determiner!!\")))","v":""},{"$f":"IF(LEN($F83)<1,\"\",IF(ISTEXT(J83),J83,IF(ISTEXT(Checklist!$H$7),Checklist!$H$7,\"Field record / observation\")))","v":""},"","",null,"","","","","","","","","","","","",null,null,null,null,null,null,null,null,null,null,null,null,null,null,null,null,null,null,null,65,"Allium ampeloprasum var. ampeloprasum",null,null,4517,"Acorus gramineus","Aiton","Slender Sweet-flag","Araceae",null,4517,"Acorus gramineus_4517",null,null,null,null,null,null,null,"Acorus gramineus_4517"]
["",null,null,null,"","","",null,null,null,null,null,null,null,null,"","","",{"$f":"IF(LEN($F84)<1,\"\",IF(ISBLANK(Checklist!$H$2),\"\",Checklist!$H$2))","v":""},{"$f":"IF(LEN($F84)<1,\"\",IF(ISTEXT(H84),H84,IF(ISTEXT(Checklist!$H$3),Checklist!$H$3,\"NO Grid Ref!!\")))","v":""},{"$f":"IF(LEN($F84)<1,\"\",IF(ISBLANK(Checklist!$H$4),\"NO VC!!\",Checklist!$H$4))","v":""},{"$f":"IF(LEN($F84)<1,\"\",IF(ISBLANK(Checklist!$H$5),\"NO Date!!\",Checklist!$H$5))","v":""},{"$f":"IF(LEN($F84)<1,\"\",IF(ISBLANK(Checklist!$H$6),\"NO Recorder!!\",Checklist!$H$6))","v":""},{"$f":"IF(LEN($F84)<1,\"\",IF(ISTEXT(I84),I84,IF(ISTEXT(Checklist!$H$6),Checklist!$H$6,\"NO Determiner!!\")))","v":""},{"$f":"IF(LEN($F84)<1,\"\",IF(ISTEXT(J84),J84,IF(ISTEXT(Checklist!$H$7),Checklist!$H$7,\"Field record / observation\")))","v":""},"","",null,"","","","","","","","","","","","",null,null,null,null,null,null,null,null,null,null,null,null,null,null,null,null,null,null,null,66,"Allium ampeloprasum var. babingtonii",null,null,7136,"Acroptilon repens","(Linnaeus) DC.","Russian Knapweed","Asteraceae",null,7136,"Acroptilon repens_7136",null,null,null,null,null,null,null,"Acroptilon repens_7136"]
["",null,null,null,"","","",null,null,null,null,null,null,null,null,"","","",{"$f":"IF(LEN($F85)<1,\"\",IF(ISBLANK(Checklist!$H$2),\"\",Checklist!$H$2))","v":""},{"$f":"IF(LEN($F85)<1,\"\",IF(ISTEXT(H85),H85,IF(ISTEXT(Checklist!$H$3),Checklist!$H$3,\"NO Grid Ref!!\")))","v":""},{"$f":"IF(LEN($F85)<1,\"\",IF(ISBLANK(Checklist!$H$4),\"NO VC!!\",Checklist!$H$4))","v":""},{"$f":"IF(LEN($F85)<1,\"\",IF(ISBLANK(Checklist!$H$5),\"NO Date!!\",Checklist!$H$5))","v":""},{"$f":"IF(LEN($F85)<1,\"\",IF(ISBLANK(Checklist!$H$6),\"NO Recorder!!\",Checklist!$H$6))","v":""},{"$f":"IF(LEN($F85)<1,\"\",IF(ISTEXT(I85),I85,IF(ISTEXT(Checklist!$H$6),Checklist!$H$6,\"NO Determiner!!\")))","v":""},{"$f":"IF(LEN($F85)<1,\"\",IF(ISTEXT(J85),J85,IF(ISTEXT(Checklist!$H$7),Checklist!$H$7,\"Field record / observation\")))","v":""},"","",null,"","","","","","","","","","","","",null,null,null,null,null,null,null,null,null,null,null,null,null,null,null,null,null,null,null,67,"Allium carinatum",null,null,5730,"Actaea erythrocarpa","Fisch.","European Baneberry","Ranunculaceae",null,5730,"Actaea erythrocarpa_5730",null,null,null,null,null,null,null,"Actaea erythrocarpa_5730"]
["",null,null,null,"","","",null,null,null,null,null,null,null,null,"","","",{"$f":"IF(LEN($F86)<1,\"\",IF(ISBLANK(Checklist!$H$2),\"\",Checklist!$H$2))","v":""},{"$f":"IF(LEN($F86)<1,\"\",IF(ISTEXT(H86),H86,IF(ISTEXT(Checklist!$H$3),Checklist!$H$3,\"NO Grid Ref!!\")))","v":""},{"$f":"IF(LEN($F86)<1,\"\",IF(ISBLANK(Checklist!$H$4),\"NO VC!!\",Checklist!$H$4))","v":""},{"$f":"IF(LEN($F86)<1,\"\",IF(ISBLANK(Checklist!$H$5),\"NO Date!!\",Checklist!$H$5))","v":""},{"$f":"IF(LEN($F86)<1,\"\",IF(ISBLANK(Checklist!$H$6),\"NO Recorder!!\",Checklist!$H$6))","v":""},{"$f":"IF(LEN($F86)<1,\"\",IF(ISTEXT(I86),I86,IF(ISTEXT(Checklist!$H$6),Checklist!$H$6,\"NO Determiner!!\")))","v":""},{"$f":"IF(LEN($F86)<1,\"\",IF(ISTEXT(J86),J86,IF(ISTEXT(Checklist!$H$7),Checklist!$H$7,\"Field record / observation\")))","v":""},"","",null,"","","","","","","","","","","","",null,null,null,null,null,null,null,null,null,null,null,null,null,null,null,null,null,null,null,68,"Allium oleraceum",null,null,16,"Actaea spicata","L.","Baneberry","Ranunculaceae","Nationally Scarce",16,"Actaea spicata_16",null,null,null,null,null,null,null,"Actaea spicata_16"]
["",null,null,null,"","","",null,null,null,null,null,null,null,null,"","","",{"$f":"IF(LEN($F87)<1,\"\",IF(ISBLANK(Checklist!$H$2),\"\",Checklist!$H$2))","v":""},{"$f":"IF(LEN($F87)<1,\"\",IF(ISTEXT(H87),H87,IF(ISTEXT(Checklist!$H$3),Checklist!$H$3,\"NO Grid Ref!!\")))","v":""},{"$f":"IF(LEN($F87)<1,\"\",IF(ISBLANK(Checklist!$H$4),\"NO VC!!\",Checklist!$H$4))","v":""},{"$f":"IF(LEN($F87)<1,\"\",IF(ISBLANK(Checklist!$H$5),\"NO Date!!\",Checklist!$H$5))","v":""},{"$f":"IF(LEN($F87)<1,\"\",IF(ISBLANK(Checklist!$H$6),\"NO Recorder!!\",Checklist!$H$6))","v":""},{"$f":"IF(LEN($F87)<1,\"\",IF(ISTEXT(I87),I87,IF(ISTEXT(Checklist!$H$6),Checklist!$H$6,\"NO Determiner!!\")))","v":""},{"$f":"IF(LEN($F87)<1,\"\",IF(ISTEXT(J87),J87,IF(ISTEXT(Checklist!$H$7),Checklist!$H$7,\"Field record / observation\")))","v":""},"","",null,"","","","","","","","","","","","",null,null,null,null,null,null,null,null,null,null,null,null,null,null,null,null,null,null,null,69,"Allium paradoxum",null,null,"No BRC","Actinidia deliciosa","(A.Chev.) C.F.Liang. & A.R.Ferguson","Kiwifruit","Actinidiaceae",null,"No BRC","Actinidia deliciosa_No BRC",null,null,null,null,null,null,null,"Actinidia deliciosa_No BRC"]
["",null,null,null,"","","",null,null,null,null,null,null,null,null,"","","",{"$f":"IF(LEN($F88)<1,\"\",IF(ISBLANK(Checklist!$H$2),\"\",Checklist!$H$2))","v":""},{"$f":"IF(LEN($F88)<1,\"\",IF(ISTEXT(H88),H88,IF(ISTEXT(Checklist!$H$3),Checklist!$H$3,\"NO Grid Ref!!\")))","v":""},{"$f":"IF(LEN($F88)<1,\"\",IF(ISBLANK(Checklist!$H$4),\"NO VC!!\",Checklist!$H$4))","v":""},{"$f":"IF(LEN($F88)<1,\"\",IF(ISBLANK(Checklist!$H$5),\"NO Date!!\",Checklist!$H$5))","v":""},{"$f":"IF(LEN($F88)<1,\"\",IF(ISBLANK(Checklist!$H$6),\"NO Recorder!!\",Checklist!$H$6))","v":""},{"$f":"IF(LEN($F88)<1,\"\",IF(ISTEXT(I88),I88,IF(ISTEXT(Checklist!$H$6),Checklist!$H$6,\"NO Determiner!!\")))","v":""},{"$f":"IF(LEN($F88)<1,\"\",IF(ISTEXT(J88),J88,IF(ISTEXT(Checklist!$H$7),Checklist!$H$7,\"Field record / observation\")))","v":""},"","",null,"","","","","","","","","","","","",null,null,null,null,null,null,null,null,null,null,null,null,null,null,null,null,null,null,null,70,"Allium roseum",null,null,5731,"Adenocarpus complicatus","(L.) J. Gay",null,"Fabaceae",null,5731,"Adenocarpus complicatus_5731",null,null,null,null,null,null,null,"Adenocarpus complicatus_5731"]
["",null,null,null,"","","",null,null,null,null,null,null,null,null,"","","",{"$f":"IF(LEN($F89)<1,\"\",IF(ISBLANK(Checklist!$H$2),\"\",Checklist!$H$2))","v":""},{"$f":"IF(LEN($F89)<1,\"\",IF(ISTEXT(H89),H89,IF(ISTEXT(Checklist!$H$3),Checklist!$H$3,\"NO Grid Ref!!\")))","v":""},{"$f":"IF(LEN($F89)<1,\"\",IF(ISBLANK(Checklist!$H$4),\"NO VC!!\",Checklist!$H$4))","v":""},{"$f":"IF(LEN($F89)<1,\"\",IF(ISBLANK(Checklist!$H$5),\"NO Date!!\",Checklist!$H$5))","v":""},{"$f":"IF(LEN($F89)<1,\"\",IF(ISBLANK(Checklist!$H$6),\"NO Recorder!!\",Checklist!$H$6))","v":""},{"$f":"IF(LEN($F89)<1,\"\",IF(ISTEXT(I89),I89,IF(ISTEXT(Checklist!$H$6),Checklist!$H$6,\"NO Determiner!!\")))","v":""},{"$f":"IF(LEN($F89)<1,\"\",IF(ISTEXT(J89),J89,IF(ISTEXT(Checklist!$H$7),Checklist!$H$7,\"Field record / observation\")))","v":""},"","",null,"","","","","","","","","","","","",null,null,null,null,null,null,null,null,null,null,null,null,null,null,null,null,null,null,null,70.099999999999994,"Allium roseum var. bulbiferum",null,null,17,"Adiantum capillus-veneris","L.","Maidenhair Fern","Adiantaceae","Nationally Scarce",17,"Adiantum capillus-veneris_17",null,null,null,null,null,null,null,"Adiantum capillus-veneris_17"]
["",null,null,null,"","","",null,null,null,null,null,null,null,null,"","","",{"$f":"IF(LEN($F90)<1,\"\",IF(ISBLANK(Checklist!$H$2),\"\",Checklist!$H$2))","v":""},{"$f":"IF(LEN($F90)<1,\"\",IF(ISTEXT(H90),H90,IF(ISTEXT(Checklist!$H$3),Checklist!$H$3,\"NO Grid Ref!!\")))","v":""},{"$f":"IF(LEN($F90)<1,\"\",IF(ISBLANK(Checklist!$H$4),\"NO VC!!\",Checklist!$H$4))","v":""},{"$f":"IF(LEN($F90)<1,\"\",IF(ISBLANK(Checklist!$H$5),\"NO Date!!\",Checklist!$H$5))","v":""},{"$f":"IF(LEN($F90)<1,\"\",IF(ISBLANK(Checklist!$H$6),\"NO Recorder!!\",Checklist!$H$6))","v":""},{"$f":"IF(LEN($F90)<1,\"\",IF(ISTEXT(I90),I90,IF(ISTEXT(Checklist!$H$6),Checklist!$H$6,\"NO Determiner!!\")))","v":""},{"$f":"IF(LEN($F90)<1,\"\",IF(ISTEXT(J90),J90,IF(ISTEXT(Checklist!$H$7),Checklist!$H$7,\"Field record / observation\")))","v":""},"","",null,"","","","","","","","","","","","",null,null,null,null,null,null,null,null,null,null,null,null,null,null,null,null,null,null,null,70.2,"Allium roseum var. roseum",null,null,5732,"Adiantum pedatum","L.","American Maidenhair-fern","Adiantaceae",null,5732,"Adiantum pedatum_5732",null,null,null,null,null,null,null,"Adiantum pedatum_5732"]
["",null,null,null,"","","",null,null,null,null,null,null,null,null,"","","",{"$f":"IF(LEN($F91)<1,\"\",IF(ISBLANK(Checklist!$H$2),\"\",Checklist!$H$2))","v":""},{"$f":"IF(LEN($F91)<1,\"\",IF(ISTEXT(H91),H91,IF(ISTEXT(Checklist!$H$3),Checklist!$H$3,\"NO Grid Ref!!\")))","v":""},{"$f":"IF(LEN($F91)<1,\"\",IF(ISBLANK(Checklist!$H$4),\"NO VC!!\",Checklist!$H$4))","v":""},{"$f":"IF(LEN($F91)<1,\"\",IF(ISBLANK(Checklist!$H$5),\"NO Date!!\",Checklist!$H$5))","v":""},{"$f":"IF(LEN($F91)<1,\"\",IF(ISBLANK(Checklist!$H$6),\"NO Recorder!!\",Checklist!$H$6))","v":""},{"$f":"IF(LEN($F91)<1,\"\",IF(ISTEXT(I91),I91,IF(ISTEXT(Checklist!$H$6),Checklist!$H$6,\"NO Determiner!!\")))","v":""},{"$f":"IF(LEN($F91)<1,\"\",IF(ISTEXT(J91),J91,IF(ISTEXT(Checklist!$H$7),Checklist!$H$7,\"Field record / observation\")))","v":""},"","",null,"","","","","","","","","","","","",null,null,null,null,null,null,null,null,null,null,null,null,null,null,null,null,null,null,null,71,"Allium scorodoprasum",null,null,"No BRC","Adiantum raddianum","C. Presl.","Delta Maidenhair","Adiantaceae",null,"No BRC","Adiantum raddianum_No BRC",null,null,null,null,null,null,null,"Adiantum raddianum_No BRC"]
["",null,null,null,"","","",null,null,null,null,null,null,null,null,"","","",{"$f":"IF(LEN($F92)<1,\"\",IF(ISBLANK(Checklist!$H$2),\"\",Checklist!$H$2))","v":""},{"$f":"IF(LEN($F92)<1,\"\",IF(ISTEXT(H92),H92,IF(ISTEXT(Checklist!$H$3),Checklist!$H$3,\"NO Grid Ref!!\")))","v":""},{"$f":"IF(LEN($F92)<1,\"\",IF(ISBLANK(Checklist!$H$4),\"NO VC!!\",Checklist!$H$4))","v":""},{"$f":"IF(LEN($F92)<1,\"\",IF(ISBLANK(Checklist!$H$5),\"NO Date!!\",Checklist!$H$5))","v":""},{"$f":"IF(LEN($F92)<1,\"\",IF(ISBLANK(Checklist!$H$6),\"NO Recorder!!\",Checklist!$H$6))","v":""},{"$f":"IF(LEN($F92)<1,\"\",IF(ISTEXT(I92),I92,IF(ISTEXT(Checklist!$H$6),Checklist!$H$6,\"NO Determiner!!\")))","v":""},{"$f":"IF(LEN($F92)<1,\"\",IF(ISTEXT(J92),J92,IF(ISTEXT(Checklist!$H$7),Checklist!$H$7,\"Field record / observation\")))","v":""},"","",null,"","","","","","","","","","","","",null,null,null,null,null,null,null,null,null,null,null,null,null,null,null,null,null,null,null,72,"Allium schoenoprasum",null,null,"No BRC","Adiantum sp.",null,null,"Adiantaceae",null,"No BRC","Adiantum sp._No BRC",null,null,null,null,null,null,null,"Adiantum sp._No BRC"]
["",null,null,null,"","","",null,null,null,null,null,null,null,null,"","","",{"$f":"IF(LEN($F93)<1,\"\",IF(ISBLANK(Checklist!$H$2),\"\",Checklist!$H$2))","v":""},{"$f":"IF(LEN($F93)<1,\"\",IF(ISTEXT(H93),H93,IF(ISTEXT(Checklist!$H$3),Checklist!$H$3,\"NO Grid Ref!!\")))","v":""},{"$f":"IF(LEN($F93)<1,\"\",IF(ISBLANK(Checklist!$H$4),\"NO VC!!\",Checklist!$H$4))","v":""},{"$f":"IF(LEN($F93)<1,\"\",IF(ISBLANK(Checklist!$H$5),\"NO Date!!\",Checklist!$H$5))","v":""},{"$f":"IF(LEN($F93)<1,\"\",IF(ISBLANK(Checklist!$H$6),\"NO Recorder!!\",Checklist!$H$6))","v":""},{"$f":"IF(LEN($F93)<1,\"\",IF(ISTEXT(I93),I93,IF(ISTEXT(Checklist!$H$6),Checklist!$H$6,\"NO Determiner!!\")))","v":""},{"$f":"IF(LEN($F93)<1,\"\",IF(ISTEXT(J93),J93,IF(ISTEXT(Checklist!$H$7),Checklist!$H$7,\"Field record / observation\")))","v":""},"","",null,"","","","","","","","","","","","",null,null,null,null,null,null,null,null,null,null,null,null,null,null,null,null,null,null,null,73,"Allium sphaerocephalon",null,null,5733,"Adonis aestivalis","L.","Summer Pheasant's-eye","Ranunculaceae",null,5733,"Adonis aestivalis_5733",null,null,null,null,null,null,null,"Adonis aestivalis_5733"]
["",null,null,null,"","","",null,null,null,null,null,null,null,null,"","","",{"$f":"IF(LEN($F94)<1,\"\",IF(ISBLANK(Checklist!$H$2),\"\",Checklist!$H$2))","v":""},{"$f":"IF(LEN($F94)<1,\"\",IF(ISTEXT(H94),H94,IF(ISTEXT(Checklist!$H$3),Checklist!$H$3,\"NO Grid Ref!!\")))","v":""},{"$f":"IF(LEN($F94)<1,\"\",IF(ISBLANK(Checklist!$H$4),\"NO VC!!\",Checklist!$H$4))","v":""},{"$f":"IF(LEN($F94)<1,\"\",IF(ISBLANK(Checklist!$H$5),\"NO Date!!\",Checklist!$H$5))","v":""},{"$f":"IF(LEN($F94)<1,\"\",IF(ISBLANK(Checklist!$H$6),\"NO Recorder!!\",Checklist!$H$6))","v":""},{"$f":"IF(LEN($F94)<1,\"\",IF(ISTEXT(I94),I94,IF(ISTEXT(Checklist!$H$6),Checklist!$H$6,\"NO Determiner!!\")))","v":""},{"$f":"IF(LEN($F94)<1,\"\",IF(ISTEXT(J94),J94,IF(ISTEXT(Checklist!$H$7),Checklist!$H$7,\"Field record / observation\")))","v":""},"","",null,"","","","","","","","","","","","",null,null,null,null,null,null,null,null,null,null,null,null,null,null,null,null,null,null,null,74,"Allium triquetrum",null,null,18,"Adonis annua","L.","Pheasant's-eye","Ranunculaceae","Endangered",18,"Adonis annua_18",null,null,null,null,null,null,null,"Adonis annua_18"]
["",null,null,null,"","","",null,null,null,null,null,null,null,null,"","","",{"$f":"IF(LEN($F95)<1,\"\",IF(ISBLANK(Checklist!$H$2),\"\",Checklist!$H$2))","v":""},{"$f":"IF(LEN($F95)<1,\"\",IF(ISTEXT(H95),H95,IF(ISTEXT(Checklist!$H$3),Checklist!$H$3,\"NO Grid Ref!!\")))","v":""},{"$f":"IF(LEN($F95)<1,\"\",IF(ISBLANK(Checklist!$H$4),\"NO VC!!\",Checklist!$H$4))","v":""},{"$f":"IF(LEN($F95)<1,\"\",IF(ISBLANK(Checklist!$H$5),\"NO Date!!\",Checklist!$H$5))","v":""},{"$f":"IF(LEN($F95)<1,\"\",IF(ISBLANK(Checklist!$H$6),\"NO Recorder!!\",Checklist!$H$6))","v":""},{"$f":"IF(LEN($F95)<1,\"\",IF(ISTEXT(I95),I95,IF(ISTEXT(Checklist!$H$6),Checklist!$H$6,\"NO Determiner!!\")))","v":""},{"$f":"IF(LEN($F95)<1,\"\",IF(ISTEXT(J95),J95,IF(ISTEXT(Checklist!$H$7),Checklist!$H$7,\"Field record / observation\")))","v":""},"","",null,"","","","","","","","","","","","",null,null,null,null,null,null,null,null,null,null,null,null,null,null,null,null,null,null,null,75,"Allium ursinum",null,null,5734,"Adonis flammea","Jacq.","Large Pheasant's-eye","Ranunculaceae",null,5734,"Adonis flammea_5734",null,null,null,null,null,null,null,"Adonis flammea_5734"]
["",null,null,null,"","","",null,null,null,null,null,null,null,null,"","","",{"$f":"IF(LEN($F96)<1,\"\",IF(ISBLANK(Checklist!$H$2),\"\",Checklist!$H$2))","v":""},{"$f":"IF(LEN($F96)<1,\"\",IF(ISTEXT(H96),H96,IF(ISTEXT(Checklist!$H$3),Checklist!$H$3,\"NO Grid Ref!!\")))","v":""},{"$f":"IF(LEN($F96)<1,\"\",IF(ISBLANK(Checklist!$H$4),\"NO VC!!\",Checklist!$H$4))","v":""},{"$f":"IF(LEN($F96)<1,\"\",IF(ISBLANK(Checklist!$H$5),\"NO Date!!\",Checklist!$H$5))","v":""},{"$f":"IF(LEN($F96)<1,\"\",IF(ISBLANK(Checklist!$H$6),\"NO Recorder!!\",Checklist!$H$6))","v":""},{"$f":"IF(LEN($F96)<1,\"\",IF(ISTEXT(I96),I96,IF(ISTEXT(Checklist!$H$6),Checklist!$H$6,\"NO Determiner!!\")))","v":""},{"$f":"IF(LEN($F96)<1,\"\",IF(ISTEXT(J96),J96,IF(ISTEXT(Checklist!$H$7),Checklist!$H$7,\"Field record / observation\")))","v":""},"","",null,"","","","","","","","","","","","",null,null,null,null,null,null,null,null,null,null,null,null,null,null,null,null,null,null,null,76,"Allium vineale",null,null,19,"Adoxa moschatellina","L.","Moschatel","Adoxaceae",null,19,"Adoxa moschatellina_19",null,null,null,null,null,null,null,"Adoxa moschatellina_19"]
["",null,null,null,"","","",null,null,null,null,null,null,null,null,"","","",{"$f":"IF(LEN($F97)<1,\"\",IF(ISBLANK(Checklist!$H$2),\"\",Checklist!$H$2))","v":""},{"$f":"IF(LEN($F97)<1,\"\",IF(ISTEXT(H97),H97,IF(ISTEXT(Checklist!$H$3),Checklist!$H$3,\"NO Grid Ref!!\")))","v":""},{"$f":"IF(LEN($F97)<1,\"\",IF(ISBLANK(Checklist!$H$4),\"NO VC!!\",Checklist!$H$4))","v":""},{"$f":"IF(LEN($F97)<1,\"\",IF(ISBLANK(Checklist!$H$5),\"NO Date!!\",Checklist!$H$5))","v":""},{"$f":"IF(LEN($F97)<1,\"\",IF(ISBLANK(Checklist!$H$6),\"NO Recorder!!\",Checklist!$H$6))","v":""},{"$f":"IF(LEN($F97)<1,\"\",IF(ISTEXT(I97),I97,IF(ISTEXT(Checklist!$H$6),Checklist!$H$6,\"NO Determiner!!\")))","v":""},{"$f":"IF(LEN($F97)<1,\"\",IF(ISTEXT(J97),J97,IF(ISTEXT(Checklist!$H$7),Checklist!$H$7,\"Field record / observation\")))","v":""},"","",null,"","","","","","","","","","","","",null,null,null,null,null,null,null,null,null,null,null,null,null,null,null,null,null,null,null,76.099999999999994,"Allium vineale var. vineale",null,null,4196,"Aegilops cylindrica","Host","Jointed Goatgrass","Poaceae",null,4196,"Aegilops cylindrica_4196",null,null,null,null,null,null,null,"Aegilops cylindrica_4196"]
["",null,null,null,"","","",null,null,null,null,null,null,null,null,"","","",{"$f":"IF(LEN($F98)<1,\"\",IF(ISBLANK(Checklist!$H$2),\"\",Checklist!$H$2))","v":""},{"$f":"IF(LEN($F98)<1,\"\",IF(ISTEXT(H98),H98,IF(ISTEXT(Checklist!$H$3),Checklist!$H$3,\"NO Grid Ref!!\")))","v":""},{"$f":"IF(LEN($F98)<1,\"\",IF(ISBLANK(Checklist!$H$4),\"NO VC!!\",Checklist!$H$4))","v":""},{"$f":"IF(LEN($F98)<1,\"\",IF(ISBLANK(Checklist!$H$5),\"NO Date!!\",Checklist!$H$5))","v":""},{"$f":"IF(LEN($F98)<1,\"\",IF(ISBLANK(Checklist!$H$6),\"NO Recorder!!\",Checklist!$H$6))","v":""},{"$f":"IF(LEN($F98)<1,\"\",IF(ISTEXT(I98),I98,IF(ISTEXT(Checklist!$H$6),Checklist!$H$6,\"NO Determiner!!\")))","v":""},{"$f":"IF(LEN($F98)<1,\"\",IF(ISTEXT(J98),J98,IF(ISTEXT(Checklist!$H$7),Checklist!$H$7,\"Field record / observation\")))","v":""},"","",null,"","","","","","","","","","","","",null,null,null,null,null,null,null,null,null,null,null,null,null,null,null,null,null,null,null,76.2,"Allium vineale var. capsuliferum",null,null,20,"Aegopodium podagraria","L.","Ground-elder","Apiaceae",null,20,"Aegopodium podagraria_20",null,null,null,null,null,null,null,"Aegopodium podagraria_20"]
["",null,null,null,"","","",null,null,null,null,null,null,null,null,"","","",{"$f":"IF(LEN($F99)<1,\"\",IF(ISBLANK(Checklist!$H$2),\"\",Checklist!$H$2))","v":""},{"$f":"IF(LEN($F99)<1,\"\",IF(ISTEXT(H99),H99,IF(ISTEXT(Checklist!$H$3),Checklist!$H$3,\"NO Grid Ref!!\")))","v":""},{"$f":"IF(LEN($F99)<1,\"\",IF(ISBLANK(Checklist!$H$4),\"NO VC!!\",Checklist!$H$4))","v":""},{"$f":"IF(LEN($F99)<1,\"\",IF(ISBLANK(Checklist!$H$5),\"NO Date!!\",Checklist!$H$5))","v":""},{"$f":"IF(LEN($F99)<1,\"\",IF(ISBLANK(Checklist!$H$6),\"NO Recorder!!\",Checklist!$H$6))","v":""},{"$f":"IF(LEN($F99)<1,\"\",IF(ISTEXT(I99),I99,IF(ISTEXT(Checklist!$H$6),Checklist!$H$6,\"NO Determiner!!\")))","v":""},{"$f":"IF(LEN($F99)<1,\"\",IF(ISTEXT(J99),J99,IF(ISTEXT(Checklist!$H$7),Checklist!$H$7,\"Field record / observation\")))","v":""},"","",null,"","","","","","","","","","","","",null,null,null,null,null,null,null,null,null,null,null,null,null,null,null,null,null,null,null,76.3,"Allium vineale var. compactum",null,null,7934,"Aeonium arboreum","(L.) Webb & Berthel.","Tree Aeonium","Crassulaceae",null,7934,"Aeonium arboreum_7934",null,null,null,null,null,null,null,"Aeonium arboreum_7934"]
["",null,null,null,"","","",null,null,null,null,null,null,null,null,"","","",{"$f":"IF(LEN($F100)<1,\"\",IF(ISBLANK(Checklist!$H$2),\"\",Checklist!$H$2))","v":""},{"$f":"IF(LEN($F100)<1,\"\",IF(ISTEXT(H100),H100,IF(ISTEXT(Checklist!$H$3),Checklist!$H$3,\"NO Grid Ref!!\")))","v":""},{"$f":"IF(LEN($F100)<1,\"\",IF(ISBLANK(Checklist!$H$4),\"NO VC!!\",Checklist!$H$4))","v":""},{"$f":"IF(LEN($F100)<1,\"\",IF(ISBLANK(Checklist!$H$5),\"NO Date!!\",Checklist!$H$5))","v":""},{"$f":"IF(LEN($F100)<1,\"\",IF(ISBLANK(Checklist!$H$6),\"NO Recorder!!\",Checklist!$H$6))","v":""},{"$f":"IF(LEN($F100)<1,\"\",IF(ISTEXT(I100),I100,IF(ISTEXT(Checklist!$H$6),Checklist!$H$6,\"NO Determiner!!\")))","v":""},{"$f":"IF(LEN($F100)<1,\"\",IF(ISTEXT(J100),J100,IF(ISTEXT(Checklist!$H$7),Checklist!$H$7,\"Field record / observation\")))","v":""},"","",null,"","","","","","","","","","","","",null,null,null,null,null,null,null,null,null,null,null,null,null,null,null,null,null,null,null,77,"Alnus glutinosa",null,null,7137,"Aeonium cuneatum","Webb & Berth.","Aeonium","Crassulaceae",null,7137,"Aeonium cuneatum_7137",null,null,null,null,null,null,null,"Aeonium cuneatum_7137"]
["",null,null,null,"","","",null,null,null,null,null,null,null,null,"","","",{"$f":"IF(LEN($F101)<1,\"\",IF(ISBLANK(Checklist!$H$2),\"\",Checklist!$H$2))","v":""},{"$f":"IF(LEN($F101)<1,\"\",IF(ISTEXT(H101),H101,IF(ISTEXT(Checklist!$H$3),Checklist!$H$3,\"NO Grid Ref!!\")))","v":""},{"$f":"IF(LEN($F101)<1,\"\",IF(ISBLANK(Checklist!$H$4),\"NO VC!!\",Checklist!$H$4))","v":""},{"$f":"IF(LEN($F101)<1,\"\",IF(ISBLANK(Checklist!$H$5),\"NO Date!!\",Checklist!$H$5))","v":""},{"$f":"IF(LEN($F101)<1,\"\",IF(ISBLANK(Checklist!$H$6),\"NO Recorder!!\",Checklist!$H$6))","v":""},{"$f":"IF(LEN($F101)<1,\"\",IF(ISTEXT(I101),I101,IF(ISTEXT(Checklist!$H$6),Checklist!$H$6,\"NO Determiner!!\")))","v":""},{"$f":"IF(LEN($F101)<1,\"\",IF(ISTEXT(J101),J101,IF(ISTEXT(Checklist!$H$7),Checklist!$H$7,\"Field record / observation\")))","v":""},"","",null,"","","","","","","","","","","","",null,null,null,null,null,null,null,null,null,null,null,null,null,null,null,null,null,null,null,78,"Alnus incana",null,null,2420,"Aesculus carnea","J. Zeyh.","Red Horse-chestnut","Hippocastanaceae",null,2420,"Aesculus carnea_2420",null,null,null,null,null,null,null,"Aesculus carnea_2420"]
["",null,null,null,"","","",null,null,null,null,null,null,null,null,"","","",{"$f":"IF(LEN($F102)<1,\"\",IF(ISBLANK(Checklist!$H$2),\"\",Checklist!$H$2))","v":""},{"$f":"IF(LEN($F102)<1,\"\",IF(ISTEXT(H102),H102,IF(ISTEXT(Checklist!$H$3),Checklist!$H$3,\"NO Grid Ref!!\")))","v":""},{"$f":"IF(LEN($F102)<1,\"\",IF(ISBLANK(Checklist!$H$4),\"NO VC!!\",Checklist!$H$4))","v":""},{"$f":"IF(LEN($F102)<1,\"\",IF(ISBLANK(Checklist!$H$5),\"NO Date!!\",Checklist!$H$5))","v":""},{"$f":"IF(LEN($F102)<1,\"\",IF(ISBLANK(Checklist!$H$6),\"NO Recorder!!\",Checklist!$H$6))","v":""},{"$f":"IF(LEN($F102)<1,\"\",IF(ISTEXT(I102),I102,IF(ISTEXT(Checklist!$H$6),Checklist!$H$6,\"NO Determiner!!\")))","v":""},{"$f":"IF(LEN($F102)<1,\"\",IF(ISTEXT(J102),J102,IF(ISTEXT(Checklist!$H$7),Checklist!$H$7,\"Field record / observation\")))","v":""},"","",null,"","","","","","","","","","","","",null,null,null,null,null,null,null,null,null,null,null,null,null,null,null,null,null,null,null,79,"Alopecurus aequalis",null,null,4180,"Aesculus flava","Sol.","Yellow Buckeye","Hippocastanaceae",null,4180,"Aesculus flava_4180",null,null,null,null,null,null,null,"Aesculus flava_4180"]
["",null,null,null,"","","",null,null,null,null,null,null,null,null,"","","",{"$f":"IF(LEN($F103)<1,\"\",IF(ISBLANK(Checklist!$H$2),\"\",Checklist!$H$2))","v":""},{"$f":"IF(LEN($F103)<1,\"\",IF(ISTEXT(H103),H103,IF(ISTEXT(Checklist!$H$3),Checklist!$H$3,\"NO Grid Ref!!\")))","v":""},{"$f":"IF(LEN($F103)<1,\"\",IF(ISBLANK(Checklist!$H$4),\"NO VC!!\",Checklist!$H$4))","v":""},{"$f":"IF(LEN($F103)<1,\"\",IF(ISBLANK(Checklist!$H$5),\"NO Date!!\",Checklist!$H$5))","v":""},{"$f":"IF(LEN($F103)<1,\"\",IF(ISBLANK(Checklist!$H$6),\"NO Recorder!!\",Checklist!$H$6))","v":""},{"$f":"IF(LEN($F103)<1,\"\",IF(ISTEXT(I103),I103,IF(ISTEXT(Checklist!$H$6),Checklist!$H$6,\"NO Determiner!!\")))","v":""},{"$f":"IF(LEN($F103)<1,\"\",IF(ISTEXT(J103),J103,IF(ISTEXT(Checklist!$H$7),Checklist!$H$7,\"Field record / observation\")))","v":""},"","",null,"","","","","","","","","","","","",null,null,null,null,null,null,null,null,null,null,null,null,null,null,null,null,null,null,null,80,"Alopecurus magellanicus",null,null,2241,"Aesculus hippocastanum","Linnaeus","Horse-chestnut","Hippocastanaceae",null,2241,"Aesculus hippocastanum_2241",null,null,null,null,null,null,null,"Aesculus hippocastanum_2241"]
["",null,null,null,"","","",null,null,null,null,null,null,null,null,"","","",{"$f":"IF(LEN($F104)<1,\"\",IF(ISBLANK(Checklist!$H$2),\"\",Checklist!$H$2))","v":""},{"$f":"IF(LEN($F104)<1,\"\",IF(ISTEXT(H104),H104,IF(ISTEXT(Checklist!$H$3),Checklist!$H$3,\"NO Grid Ref!!\")))","v":""},{"$f":"IF(LEN($F104)<1,\"\",IF(ISBLANK(Checklist!$H$4),\"NO VC!!\",Checklist!$H$4))","v":""},{"$f":"IF(LEN($F104)<1,\"\",IF(ISBLANK(Checklist!$H$5),\"NO Date!!\",Checklist!$H$5))","v":""},{"$f":"IF(LEN($F104)<1,\"\",IF(ISBLANK(Checklist!$H$6),\"NO Recorder!!\",Checklist!$H$6))","v":""},{"$f":"IF(LEN($F104)<1,\"\",IF(ISTEXT(I104),I104,IF(ISTEXT(Checklist!$H$6),Checklist!$H$6,\"NO Determiner!!\")))","v":""},{"$f":"IF(LEN($F104)<1,\"\",IF(ISTEXT(J104),J104,IF(ISTEXT(Checklist!$H$7),Checklist!$H$7,\"Field record / observation\")))","v":""},"","",null,"","","","","","","","","","","","",null,null,null,null,null,null,null,null,null,null,null,null,null,null,null,null,null,null,null,81,"Alopecurus bulbosus",null,null,7903,"Aesculus hippocastanum x pavia","Linnaeus",null,"Hippocastanaceae",null,7903,"Aesculus hippocastanum x pavia_7903",null,null,null,null,null,null,null,"Aesculus hippocastanum x pavia_7903"]
["",null,null,null,"","","",null,null,null,null,null,null,null,null,"","","",{"$f":"IF(LEN($F105)<1,\"\",IF(ISBLANK(Checklist!$H$2),\"\",Checklist!$H$2))","v":""},{"$f":"IF(LEN($F105)<1,\"\",IF(ISTEXT(H105),H105,IF(ISTEXT(Checklist!$H$3),Checklist!$H$3,\"NO Grid Ref!!\")))","v":""},{"$f":"IF(LEN($F105)<1,\"\",IF(ISBLANK(Checklist!$H$4),\"NO VC!!\",Checklist!$H$4))","v":""},{"$f":"IF(LEN($F105)<1,\"\",IF(ISBLANK(Checklist!$H$5),\"NO Date!!\",Checklist!$H$5))","v":""},{"$f":"IF(LEN($F105)<1,\"\",IF(ISBLANK(Checklist!$H$6),\"NO Recorder!!\",Checklist!$H$6))","v":""},{"$f":"IF(LEN($F105)<1,\"\",IF(ISTEXT(I105),I105,IF(ISTEXT(Checklist!$H$6),Checklist!$H$6,\"NO Determiner!!\")))","v":""},{"$f":"IF(LEN($F105)<1,\"\",IF(ISTEXT(J105),J105,IF(ISTEXT(Checklist!$H$7),Checklist!$H$7,\"Field record / observation\")))","v":""},"","",null,"","","","","","","","","","","","",null,null,null,null,null,null,null,null,null,null,null,null,null,null,null,null,null,null,null,82,"Alopecurus geniculatus",null,null,3316,"Aesculus indica","(Wallich ex Cambess.) Hook.","Indian Horse-chestnut","Hippocastanaceae",null,3316,"Aesculus indica_3316",null,null,null,null,null,null,null,"Aesculus indica_3316"]
["",null,null,null,"","","",null,null,null,null,null,null,null,null,"","","",{"$f":"IF(LEN($F106)<1,\"\",IF(ISBLANK(Checklist!$H$2),\"\",Checklist!$H$2))","v":""},{"$f":"IF(LEN($F106)<1,\"\",IF(ISTEXT(H106),H106,IF(ISTEXT(Checklist!$H$3),Checklist!$H$3,\"NO Grid Ref!!\")))","v":""},{"$f":"IF(LEN($F106)<1,\"\",IF(ISBLANK(Checklist!$H$4),\"NO VC!!\",Checklist!$H$4))","v":""},{"$f":"IF(LEN($F106)<1,\"\",IF(ISBLANK(Checklist!$H$5),\"NO Date!!\",Checklist!$H$5))","v":""},{"$f":"IF(LEN($F106)<1,\"\",IF(ISBLANK(Checklist!$H$6),\"NO Recorder!!\",Checklist!$H$6))","v":""},{"$f":"IF(LEN($F106)<1,\"\",IF(ISTEXT(I106),I106,IF(ISTEXT(Checklist!$H$6),Checklist!$H$6,\"NO Determiner!!\")))","v":""},{"$f":"IF(LEN($F106)<1,\"\",IF(ISTEXT(J106),J106,IF(ISTEXT(Checklist!$H$7),Checklist!$H$7,\"Field record / observation\")))","v":""},"","",null,"","","","","","","","","","","","",null,null,null,null,null,null,null,null,null,null,null,null,null,null,null,null,null,null,null,83,"Alopecurus x brachystylus",null,null,5747,"Aesculus parviflora","Walter","Bottlebrush Buckeye","Hippocastanaceae",null,5747,"Aesculus parviflora_5747",null,null,null,null,null,null,null,"Aesculus parviflora_5747"]
["",null,null,null,"","","",null,null,null,null,null,null,null,null,"","","",{"$f":"IF(LEN($F107)<1,\"\",IF(ISBLANK(Checklist!$H$2),\"\",Checklist!$H$2))","v":""},{"$f":"IF(LEN($F107)<1,\"\",IF(ISTEXT(H107),H107,IF(ISTEXT(Checklist!$H$3),Checklist!$H$3,\"NO Grid Ref!!\")))","v":""},{"$f":"IF(LEN($F107)<1,\"\",IF(ISBLANK(Checklist!$H$4),\"NO VC!!\",Checklist!$H$4))","v":""},{"$f":"IF(LEN($F107)<1,\"\",IF(ISBLANK(Checklist!$H$5),\"NO Date!!\",Checklist!$H$5))","v":""},{"$f":"IF(LEN($F107)<1,\"\",IF(ISBLANK(Checklist!$H$6),\"NO Recorder!!\",Checklist!$H$6))","v":""},{"$f":"IF(LEN($F107)<1,\"\",IF(ISTEXT(I107),I107,IF(ISTEXT(Checklist!$H$6),Checklist!$H$6,\"NO Determiner!!\")))","v":""},{"$f":"IF(LEN($F107)<1,\"\",IF(ISTEXT(J107),J107,IF(ISTEXT(Checklist!$H$7),Checklist!$H$7,\"Field record / observation\")))","v":""},"","",null,"","","","","","","","","","","","",null,null,null,null,null,null,null,null,null,null,null,null,null,null,null,null,null,null,null,84,"Alopecurus myosuroides",null,null,7138,"Aetheorhiza bulbosa","(Linnaeus) Cass.","Tuberous Hawk's-beard","Asteraceae",null,7138,"Aetheorhiza bulbosa_7138",null,null,null,null,null,null,null,"Aetheorhiza bulbosa_7138"]
["",null,null,null,"","","",null,null,null,null,null,null,null,null,"","","",{"$f":"IF(LEN($F108)<1,\"\",IF(ISBLANK(Checklist!$H$2),\"\",Checklist!$H$2))","v":""},{"$f":"IF(LEN($F108)<1,\"\",IF(ISTEXT(H108),H108,IF(ISTEXT(Checklist!$H$3),Checklist!$H$3,\"NO Grid Ref!!\")))","v":""},{"$f":"IF(LEN($F108)<1,\"\",IF(ISBLANK(Checklist!$H$4),\"NO VC!!\",Checklist!$H$4))","v":""},{"$f":"IF(LEN($F108)<1,\"\",IF(ISBLANK(Checklist!$H$5),\"NO Date!!\",Checklist!$H$5))","v":""},{"$f":"IF(LEN($F108)<1,\"\",IF(ISBLANK(Checklist!$H$6),\"NO Recorder!!\",Checklist!$H$6))","v":""},{"$f":"IF(LEN($F108)<1,\"\",IF(ISTEXT(I108),I108,IF(ISTEXT(Checklist!$H$6),Checklist!$H$6,\"NO Determiner!!\")))","v":""},{"$f":"IF(LEN($F108)<1,\"\",IF(ISTEXT(J108),J108,IF(ISTEXT(Checklist!$H$7),Checklist!$H$7,\"Field record / observation\")))","v":""},"","",null,"","","","","","","","","","","","",null,null,null,null,null,null,null,null,null,null,null,null,null,null,null,null,null,null,null,85,"Alopecurus pratensis",null,null,5748,"Aethionema grandiflorum","Boiss. & Hohen.","Persian Candytuft","Brassicaceae",null,5748,"Aethionema grandiflorum_5748",null,null,null,null,null,null,null,"Aethionema grandiflorum_5748"]
["",null,null,null,"","","",null,null,null,null,null,null,null,null,"","","",{"$f":"IF(LEN($F109)<1,\"\",IF(ISBLANK(Checklist!$H$2),\"\",Checklist!$H$2))","v":""},{"$f":"IF(LEN($F109)<1,\"\",IF(ISTEXT(H109),H109,IF(ISTEXT(Checklist!$H$3),Checklist!$H$3,\"NO Grid Ref!!\")))","v":""},{"$f":"IF(LEN($F109)<1,\"\",IF(ISBLANK(Checklist!$H$4),\"NO VC!!\",Checklist!$H$4))","v":""},{"$f":"IF(LEN($F109)<1,\"\",IF(ISBLANK(Checklist!$H$5),\"NO Date!!\",Checklist!$H$5))","v":""},{"$f":"IF(LEN($F109)<1,\"\",IF(ISBLANK(Checklist!$H$6),\"NO Recorder!!\",Checklist!$H$6))","v":""},{"$f":"IF(LEN($F109)<1,\"\",IF(ISTEXT(I109),I109,IF(ISTEXT(Checklist!$H$6),Checklist!$H$6,\"NO Determiner!!\")))","v":""},{"$f":"IF(LEN($F109)<1,\"\",IF(ISTEXT(J109),J109,IF(ISTEXT(Checklist!$H$7),Checklist!$H$7,\"Field record / observation\")))","v":""},"","",null,"","","","","","","","","","","","",null,null,null,null,null,null,null,null,null,null,null,null,null,null,null,null,null,null,null,86,"Malva setigera",null,null,5749,"Aethionema saxatile","(L.) R. Br.","Burnt Candytuft","Brassicaceae",null,5749,"Aethionema saxatile_5749",null,null,null,null,null,null,null,"Aethionema saxatile_5749"]
["",null,null,null,"","","",null,null,null,null,null,null,null,null,"","","",{"$f":"IF(LEN($F110)<1,\"\",IF(ISBLANK(Checklist!$H$2),\"\",Checklist!$H$2))","v":""},{"$f":"IF(LEN($F110)<1,\"\",IF(ISTEXT(H110),H110,IF(ISTEXT(Checklist!$H$3),Checklist!$H$3,\"NO Grid Ref!!\")))","v":""},{"$f":"IF(LEN($F110)<1,\"\",IF(ISBLANK(Checklist!$H$4),\"NO VC!!\",Checklist!$H$4))","v":""},{"$f":"IF(LEN($F110)<1,\"\",IF(ISBLANK(Checklist!$H$5),\"NO Date!!\",Checklist!$H$5))","v":""},{"$f":"IF(LEN($F110)<1,\"\",IF(ISBLANK(Checklist!$H$6),\"NO Recorder!!\",Checklist!$H$6))","v":""},{"$f":"IF(LEN($F110)<1,\"\",IF(ISTEXT(I110),I110,IF(ISTEXT(Checklist!$H$6),Checklist!$H$6,\"NO Determiner!!\")))","v":""},{"$f":"IF(LEN($F110)<1,\"\",IF(ISTEXT(J110),J110,IF(ISTEXT(Checklist!$H$7),Checklist!$H$7,\"Field record / observation\")))","v":""},"","",null,"","","","","","","","","","","","",null,null,null,null,null,null,null,null,null,null,null,null,null,null,null,null,null,null,null,87,"Althaea officinalis",null,null,21,"Aethusa cynapium","Linnaeus","Fool's Parsley","Apiaceae",null,21,"Aethusa cynapium_21",null,null,null,null,null,null,null,"Aethusa cynapium_21"]
["",null,null,null,"","","",null,null,null,null,null,null,null,null,"","","",{"$f":"IF(LEN($F111)<1,\"\",IF(ISBLANK(Checklist!$H$2),\"\",Checklist!$H$2))","v":""},{"$f":"IF(LEN($F111)<1,\"\",IF(ISTEXT(H111),H111,IF(ISTEXT(Checklist!$H$3),Checklist!$H$3,\"NO Grid Ref!!\")))","v":""},{"$f":"IF(LEN($F111)<1,\"\",IF(ISBLANK(Checklist!$H$4),\"NO VC!!\",Checklist!$H$4))","v":""},{"$f":"IF(LEN($F111)<1,\"\",IF(ISBLANK(Checklist!$H$5),\"NO Date!!\",Checklist!$H$5))","v":""},{"$f":"IF(LEN($F111)<1,\"\",IF(ISBLANK(Checklist!$H$6),\"NO Recorder!!\",Checklist!$H$6))","v":""},{"$f":"IF(LEN($F111)<1,\"\",IF(ISTEXT(I111),I111,IF(ISTEXT(Checklist!$H$6),Checklist!$H$6,\"NO Determiner!!\")))","v":""},{"$f":"IF(LEN($F111)<1,\"\",IF(ISTEXT(J111),J111,IF(ISTEXT(Checklist!$H$7),Checklist!$H$7,\"Field record / observation\")))","v":""},"","",null,"","","","","","","","","","","","",null,null,null,null,null,null,null,null,null,null,null,null,null,null,null,null,null,null,null,88,"Alcea rosea",null,null,21.1,"Aethusa cynapium subsp. agrestis","(Wallr.) Dostál","Fool's Parsley","Apiaceae",null,21.1,"Aethusa cynapium subsp. agrestis_21.1",null,null,null,null,null,null,null,"Aethusa cynapium subsp. agrestis_21.1"]
["",null,null,null,"","","",null,null,null,null,null,null,null,null,"","","",{"$f":"IF(LEN($F112)<1,\"\",IF(ISBLANK(Checklist!$H$2),\"\",Checklist!$H$2))","v":""},{"$f":"IF(LEN($F112)<1,\"\",IF(ISTEXT(H112),H112,IF(ISTEXT(Checklist!$H$3),Checklist!$H$3,\"NO Grid Ref!!\")))","v":""},{"$f":"IF(LEN($F112)<1,\"\",IF(ISBLANK(Checklist!$H$4),\"NO VC!!\",Checklist!$H$4))","v":""},{"$f":"IF(LEN($F112)<1,\"\",IF(ISBLANK(Checklist!$H$5),\"NO Date!!\",Checklist!$H$5))","v":""},{"$f":"IF(LEN($F112)<1,\"\",IF(ISBLANK(Checklist!$H$6),\"NO Recorder!!\",Checklist!$H$6))","v":""},{"$f":"IF(LEN($F112)<1,\"\",IF(ISTEXT(I112),I112,IF(ISTEXT(Checklist!$H$6),Checklist!$H$6,\"NO Determiner!!\")))","v":""},{"$f":"IF(LEN($F112)<1,\"\",IF(ISTEXT(J112),J112,IF(ISTEXT(Checklist!$H$7),Checklist!$H$7,\"Field record / observation\")))","v":""},"","",null,"","","","","","","","","","","","",null,null,null,null,null,null,null,null,null,null,null,null,null,null,null,null,null,null,null,89,"Alyssum alyssoides",null,null,21.2,"Aethusa cynapium subsp. cynapium","Linnaeus","Fool's Parsley","Apiaceae",null,21.2,"Aethusa cynapium subsp. cynapium_21.2",null,null,null,null,null,null,null,"Aethusa cynapium subsp. cynapium_21.2"]
["",null,null,null,"","","",null,null,null,null,null,null,null,null,"","","",{"$f":"IF(LEN($F113)<1,\"\",IF(ISBLANK(Checklist!$H$2),\"\",Checklist!$H$2))","v":""},{"$f":"IF(LEN($F113)<1,\"\",IF(ISTEXT(H113),H113,IF(ISTEXT(Checklist!$H$3),Checklist!$H$3,\"NO Grid Ref!!\")))","v":""},{"$f":"IF(LEN($F113)<1,\"\",IF(ISBLANK(Checklist!$H$4),\"NO VC!!\",Checklist!$H$4))","v":""},{"$f":"IF(LEN($F113)<1,\"\",IF(ISBLANK(Checklist!$H$5),\"NO Date!!\",Checklist!$H$5))","v":""},{"$f":"IF(LEN($F113)<1,\"\",IF(ISBLANK(Checklist!$H$6),\"NO Recorder!!\",Checklist!$H$6))","v":""},{"$f":"IF(LEN($F113)<1,\"\",IF(ISTEXT(I113),I113,IF(ISTEXT(Checklist!$H$6),Checklist!$H$6,\"NO Determiner!!\")))","v":""},{"$f":"IF(LEN($F113)<1,\"\",IF(ISTEXT(J113),J113,IF(ISTEXT(Checklist!$H$7),Checklist!$H$7,\"Field record / observation\")))","v":""},"","",null,"","","","","","","","","","","","",null,null,null,null,null,null,null,null,null,null,null,null,null,null,null,null,null,null,null,90,"Amaranthus albus",null,null,21.3,"Aethusa cynapium subsp. elata","(Friedl. ex Fisch.) Schübl. & Martens",null,"Apiaceae",null,21.3,"Aethusa cynapium subsp. elata_21.3",null,null,null,null,null,null,null,"Aethusa cynapium subsp. elata_21.3"]
["",null,null,null,"","","",null,null,null,null,null,null,null,null,"","","",{"$f":"IF(LEN($F114)<1,\"\",IF(ISBLANK(Checklist!$H$2),\"\",Checklist!$H$2))","v":""},{"$f":"IF(LEN($F114)<1,\"\",IF(ISTEXT(H114),H114,IF(ISTEXT(Checklist!$H$3),Checklist!$H$3,\"NO Grid Ref!!\")))","v":""},{"$f":"IF(LEN($F114)<1,\"\",IF(ISBLANK(Checklist!$H$4),\"NO VC!!\",Checklist!$H$4))","v":""},{"$f":"IF(LEN($F114)<1,\"\",IF(ISBLANK(Checklist!$H$5),\"NO Date!!\",Checklist!$H$5))","v":""},{"$f":"IF(LEN($F114)<1,\"\",IF(ISBLANK(Checklist!$H$6),\"NO Recorder!!\",Checklist!$H$6))","v":""},{"$f":"IF(LEN($F114)<1,\"\",IF(ISTEXT(I114),I114,IF(ISTEXT(Checklist!$H$6),Checklist!$H$6,\"NO Determiner!!\")))","v":""},{"$f":"IF(LEN($F114)<1,\"\",IF(ISTEXT(J114),J114,IF(ISTEXT(Checklist!$H$7),Checklist!$H$7,\"Field record / observation\")))","v":""},"","",null,"","","","","","","","","","","","",null,null,null,null,null,null,null,null,null,null,null,null,null,null,null,null,null,null,null,91,"Amaranthus hybridus",null,null,5417,"Agapanthus praecox","Willd.","African Lily","Liliaceae",null,5417,"Agapanthus praecox_5417",null,null,null,null,null,null,null,"Agapanthus praecox_5417"]
["",null,null,null,"","","",null,null,null,null,null,null,null,null,"","","",{"$f":"IF(LEN($F115)<1,\"\",IF(ISBLANK(Checklist!$H$2),\"\",Checklist!$H$2))","v":""},{"$f":"IF(LEN($F115)<1,\"\",IF(ISTEXT(H115),H115,IF(ISTEXT(Checklist!$H$3),Checklist!$H$3,\"NO Grid Ref!!\")))","v":""},{"$f":"IF(LEN($F115)<1,\"\",IF(ISBLANK(Checklist!$H$4),\"NO VC!!\",Checklist!$H$4))","v":""},{"$f":"IF(LEN($F115)<1,\"\",IF(ISBLANK(Checklist!$H$5),\"NO Date!!\",Checklist!$H$5))","v":""},{"$f":"IF(LEN($F115)<1,\"\",IF(ISBLANK(Checklist!$H$6),\"NO Recorder!!\",Checklist!$H$6))","v":""},{"$f":"IF(LEN($F115)<1,\"\",IF(ISTEXT(I115),I115,IF(ISTEXT(Checklist!$H$6),Checklist!$H$6,\"NO Determiner!!\")))","v":""},{"$f":"IF(LEN($F115)<1,\"\",IF(ISTEXT(J115),J115,IF(ISTEXT(Checklist!$H$7),Checklist!$H$7,\"Field record / observation\")))","v":""},"","",null,"","","","","","","","","","","","",null,null,null,null,null,null,null,null,null,null,null,null,null,null,null,null,null,null,null,92,"Amaranthus retroflexus",null,null,"No BRC","Agastache rugosa","(Fisch. & Mey.) O. Kuntze","Korean Mint","Lamiaceae",null,"No BRC","Agastache rugosa_No BRC",null,null,null,null,null,null,null,"Agastache rugosa_No BRC"]
["",null,null,null,"","","",null,null,null,null,null,null,null,null,"","","",{"$f":"IF(LEN($F116)<1,\"\",IF(ISBLANK(Checklist!$H$2),\"\",Checklist!$H$2))","v":""},{"$f":"IF(LEN($F116)<1,\"\",IF(ISTEXT(H116),H116,IF(ISTEXT(Checklist!$H$3),Checklist!$H$3,\"NO Grid Ref!!\")))","v":""},{"$f":"IF(LEN($F116)<1,\"\",IF(ISBLANK(Checklist!$H$4),\"NO VC!!\",Checklist!$H$4))","v":""},{"$f":"IF(LEN($F116)<1,\"\",IF(ISBLANK(Checklist!$H$5),\"NO Date!!\",Checklist!$H$5))","v":""},{"$f":"IF(LEN($F116)<1,\"\",IF(ISBLANK(Checklist!$H$6),\"NO Recorder!!\",Checklist!$H$6))","v":""},{"$f":"IF(LEN($F116)<1,\"\",IF(ISTEXT(I116),I116,IF(ISTEXT(Checklist!$H$6),Checklist!$H$6,\"NO Determiner!!\")))","v":""},{"$f":"IF(LEN($F116)<1,\"\",IF(ISTEXT(J116),J116,IF(ISTEXT(Checklist!$H$7),Checklist!$H$7,\"Field record / observation\")))","v":""},"","",null,"","","","","","","","","","","","",null,null,null,null,null,null,null,null,null,null,null,null,null,null,null,null,null,null,null,93,"Ambrosia artemisiifolia",null,null,7139,"Agave americana","Linnaeus","Centuryplant","Agavaceae",null,7139,"Agave americana_7139",null,null,null,null,null,null,null,"Agave americana_7139"]
["",null,null,null,"","","",null,null,null,null,null,null,null,null,"","","",{"$f":"IF(LEN($F117)<1,\"\",IF(ISBLANK(Checklist!$H$2),\"\",Checklist!$H$2))","v":""},{"$f":"IF(LEN($F117)<1,\"\",IF(ISTEXT(H117),H117,IF(ISTEXT(Checklist!$H$3),Checklist!$H$3,\"NO Grid Ref!!\")))","v":""},{"$f":"IF(LEN($F117)<1,\"\",IF(ISBLANK(Checklist!$H$4),\"NO VC!!\",Checklist!$H$4))","v":""},{"$f":"IF(LEN($F117)<1,\"\",IF(ISBLANK(Checklist!$H$5),\"NO Date!!\",Checklist!$H$5))","v":""},{"$f":"IF(LEN($F117)<1,\"\",IF(ISBLANK(Checklist!$H$6),\"NO Recorder!!\",Checklist!$H$6))","v":""},{"$f":"IF(LEN($F117)<1,\"\",IF(ISTEXT(I117),I117,IF(ISTEXT(Checklist!$H$6),Checklist!$H$6,\"NO Determiner!!\")))","v":""},{"$f":"IF(LEN($F117)<1,\"\",IF(ISTEXT(J117),J117,IF(ISTEXT(Checklist!$H$7),Checklist!$H$7,\"Field record / observation\")))","v":""},"","",null,"","","","","","","","","","","","",null,null,null,null,null,null,null,null,null,null,null,null,null,null,null,null,null,null,null,94,"Amelanchier lamarckii",null,null,7935,"Ageratum houstonianum","Miller","Flossflower","Asteraceae",null,7935,"Ageratum houstonianum_7935",null,null,null,null,null,null,null,"Ageratum houstonianum_7935"]
["",null,null,null,"","","",null,null,null,null,null,null,null,null,"","","",{"$f":"IF(LEN($F118)<1,\"\",IF(ISBLANK(Checklist!$H$2),\"\",Checklist!$H$2))","v":""},{"$f":"IF(LEN($F118)<1,\"\",IF(ISTEXT(H118),H118,IF(ISTEXT(Checklist!$H$3),Checklist!$H$3,\"NO Grid Ref!!\")))","v":""},{"$f":"IF(LEN($F118)<1,\"\",IF(ISBLANK(Checklist!$H$4),\"NO VC!!\",Checklist!$H$4))","v":""},{"$f":"IF(LEN($F118)<1,\"\",IF(ISBLANK(Checklist!$H$5),\"NO Date!!\",Checklist!$H$5))","v":""},{"$f":"IF(LEN($F118)<1,\"\",IF(ISBLANK(Checklist!$H$6),\"NO Recorder!!\",Checklist!$H$6))","v":""},{"$f":"IF(LEN($F118)<1,\"\",IF(ISTEXT(I118),I118,IF(ISTEXT(Checklist!$H$6),Checklist!$H$6,\"NO Determiner!!\")))","v":""},{"$f":"IF(LEN($F118)<1,\"\",IF(ISTEXT(J118),J118,IF(ISTEXT(Checklist!$H$7),Checklist!$H$7,\"Field record / observation\")))","v":""},"","",null,"","","","","","","","","","","","",null,null,null,null,null,null,null,null,null,null,null,null,null,null,null,null,null,null,null,95,"Ammi majus",null,null,22,"Agrimonia eupatoria","Linnaeus","Agrimony","Rosaceae",null,22,"Agrimonia eupatoria_22",null,null,null,null,null,null,null,"Agrimonia eupatoria_22"]
["",null,null,null,"","","",null,null,null,null,null,null,null,null,"","","",{"$f":"IF(LEN($F119)<1,\"\",IF(ISBLANK(Checklist!$H$2),\"\",Checklist!$H$2))","v":""},{"$f":"IF(LEN($F119)<1,\"\",IF(ISTEXT(H119),H119,IF(ISTEXT(Checklist!$H$3),Checklist!$H$3,\"NO Grid Ref!!\")))","v":""},{"$f":"IF(LEN($F119)<1,\"\",IF(ISBLANK(Checklist!$H$4),\"NO VC!!\",Checklist!$H$4))","v":""},{"$f":"IF(LEN($F119)<1,\"\",IF(ISBLANK(Checklist!$H$5),\"NO Date!!\",Checklist!$H$5))","v":""},{"$f":"IF(LEN($F119)<1,\"\",IF(ISBLANK(Checklist!$H$6),\"NO Recorder!!\",Checklist!$H$6))","v":""},{"$f":"IF(LEN($F119)<1,\"\",IF(ISTEXT(I119),I119,IF(ISTEXT(Checklist!$H$6),Checklist!$H$6,\"NO Determiner!!\")))","v":""},{"$f":"IF(LEN($F119)<1,\"\",IF(ISTEXT(J119),J119,IF(ISTEXT(Checklist!$H$7),Checklist!$H$7,\"Field record / observation\")))","v":""},"","",null,"","","","","","","","","","","","",null,null,null,null,null,null,null,null,null,null,null,null,null,null,null,null,null,null,null,96,"X Calammophila baltica",null,null,23,"Agrimonia procera","Wallr.","Fragrant Agrimony","Rosaceae",null,23,"Agrimonia procera_23",null,null,null,null,null,null,null,"Agrimonia procera_23"]
["",null,null,null,"","","",null,null,null,null,null,null,null,null,"","","",{"$f":"IF(LEN($F120)<1,\"\",IF(ISBLANK(Checklist!$H$2),\"\",Checklist!$H$2))","v":""},{"$f":"IF(LEN($F120)<1,\"\",IF(ISTEXT(H120),H120,IF(ISTEXT(Checklist!$H$3),Checklist!$H$3,\"NO Grid Ref!!\")))","v":""},{"$f":"IF(LEN($F120)<1,\"\",IF(ISBLANK(Checklist!$H$4),\"NO VC!!\",Checklist!$H$4))","v":""},{"$f":"IF(LEN($F120)<1,\"\",IF(ISBLANK(Checklist!$H$5),\"NO Date!!\",Checklist!$H$5))","v":""},{"$f":"IF(LEN($F120)<1,\"\",IF(ISBLANK(Checklist!$H$6),\"NO Recorder!!\",Checklist!$H$6))","v":""},{"$f":"IF(LEN($F120)<1,\"\",IF(ISTEXT(I120),I120,IF(ISTEXT(Checklist!$H$6),Checklist!$H$6,\"NO Determiner!!\")))","v":""},{"$f":"IF(LEN($F120)<1,\"\",IF(ISTEXT(J120),J120,IF(ISTEXT(Checklist!$H$7),Checklist!$H$7,\"Field record / observation\")))","v":""},"","",null,"","","","","","","","","","","","",null,null,null,null,null,null,null,null,null,null,null,null,null,null,null,null,null,null,null,97,"Ammophila arenaria",null,null,2710,"Agrimonia x wirtgenii","Asch. & Graebner","A. eupatoria x procera","Rosaceae",null,2710,"Agrimonia x wirtgenii_2710",null,null,null,null,null,null,null,"Agrimonia x wirtgenii_2710"]
["",null,null,null,"","","",null,null,null,null,null,null,null,null,"","","",{"$f":"IF(LEN($F121)<1,\"\",IF(ISBLANK(Checklist!$H$2),\"\",Checklist!$H$2))","v":""},{"$f":"IF(LEN($F121)<1,\"\",IF(ISTEXT(H121),H121,IF(ISTEXT(Checklist!$H$3),Checklist!$H$3,\"NO Grid Ref!!\")))","v":""},{"$f":"IF(LEN($F121)<1,\"\",IF(ISBLANK(Checklist!$H$4),\"NO VC!!\",Checklist!$H$4))","v":""},{"$f":"IF(LEN($F121)<1,\"\",IF(ISBLANK(Checklist!$H$5),\"NO Date!!\",Checklist!$H$5))","v":""},{"$f":"IF(LEN($F121)<1,\"\",IF(ISBLANK(Checklist!$H$6),\"NO Recorder!!\",Checklist!$H$6))","v":""},{"$f":"IF(LEN($F121)<1,\"\",IF(ISTEXT(I121),I121,IF(ISTEXT(Checklist!$H$6),Checklist!$H$6,\"NO Determiner!!\")))","v":""},{"$f":"IF(LEN($F121)<1,\"\",IF(ISTEXT(J121),J121,IF(ISTEXT(Checklist!$H$7),Checklist!$H$7,\"Field record / observation\")))","v":""},"","",null,"","","","","","","","","","","","",null,null,null,null,null,null,null,null,null,null,null,null,null,null,null,null,null,null,null,98,"Anacamptis pyramidalis",null,null,3303,"Agropyron cristatum","(L.)Gaertn.",null,"Poaceae",null,3303,"Agropyron cristatum_3303",null,null,null,null,null,null,null,"Agropyron cristatum_3303"]
["",null,null,null,"","","",null,null,null,null,null,null,null,null,"","","",{"$f":"IF(LEN($F122)<1,\"\",IF(ISBLANK(Checklist!$H$2),\"\",Checklist!$H$2))","v":""},{"$f":"IF(LEN($F122)<1,\"\",IF(ISTEXT(H122),H122,IF(ISTEXT(Checklist!$H$3),Checklist!$H$3,\"NO Grid Ref!!\")))","v":""},{"$f":"IF(LEN($F122)<1,\"\",IF(ISBLANK(Checklist!$H$4),\"NO VC!!\",Checklist!$H$4))","v":""},{"$f":"IF(LEN($F122)<1,\"\",IF(ISBLANK(Checklist!$H$5),\"NO Date!!\",Checklist!$H$5))","v":""},{"$f":"IF(LEN($F122)<1,\"\",IF(ISBLANK(Checklist!$H$6),\"NO Recorder!!\",Checklist!$H$6))","v":""},{"$f":"IF(LEN($F122)<1,\"\",IF(ISTEXT(I122),I122,IF(ISTEXT(Checklist!$H$6),Checklist!$H$6,\"NO Determiner!!\")))","v":""},{"$f":"IF(LEN($F122)<1,\"\",IF(ISTEXT(J122),J122,IF(ISTEXT(Checklist!$H$7),Checklist!$H$7,\"Field record / observation\")))","v":""},"","",null,"","","","","","","","","","","","",null,null,null,null,null,null,null,null,null,null,null,null,null,null,null,null,null,null,null,99,"Anagallis arvensis",null,null,34,"Agrostemma githago","L.","Corncockle","Caryophyllaceae",null,34,"Agrostemma githago_34",null,null,null,null,null,null,null,"Agrostemma githago_34"]
["",null,null,null,"","","",null,null,null,null,null,null,null,null,"","","",{"$f":"IF(LEN($F123)<1,\"\",IF(ISBLANK(Checklist!$H$2),\"\",Checklist!$H$2))","v":""},{"$f":"IF(LEN($F123)<1,\"\",IF(ISTEXT(H123),H123,IF(ISTEXT(Checklist!$H$3),Checklist!$H$3,\"NO Grid Ref!!\")))","v":""},{"$f":"IF(LEN($F123)<1,\"\",IF(ISBLANK(Checklist!$H$4),\"NO VC!!\",Checklist!$H$4))","v":""},{"$f":"IF(LEN($F123)<1,\"\",IF(ISBLANK(Checklist!$H$5),\"NO Date!!\",Checklist!$H$5))","v":""},{"$f":"IF(LEN($F123)<1,\"\",IF(ISBLANK(Checklist!$H$6),\"NO Recorder!!\",Checklist!$H$6))","v":""},{"$f":"IF(LEN($F123)<1,\"\",IF(ISTEXT(I123),I123,IF(ISTEXT(Checklist!$H$6),Checklist!$H$6,\"NO Determiner!!\")))","v":""},{"$f":"IF(LEN($F123)<1,\"\",IF(ISTEXT(J123),J123,IF(ISTEXT(Checklist!$H$7),Checklist!$H$7,\"Field record / observation\")))","v":""},"","",null,"","","","","","","","","","","","",null,null,null,null,null,null,null,null,null,null,null,null,null,null,null,null,null,null,null,99.1,"Anagallis arvensis subsp. arvensis f. arvensis",null,null,7140,"Agrostis avenacea","J.Gmelin","Blown-grass","Poaceae",null,7140,"Agrostis avenacea_7140",null,null,null,null,null,null,null,"Agrostis avenacea_7140"]
["",null,null,null,"","","",null,null,null,null,null,null,null,null,"","","",{"$f":"IF(LEN($F124)<1,\"\",IF(ISBLANK(Checklist!$H$2),\"\",Checklist!$H$2))","v":""},{"$f":"IF(LEN($F124)<1,\"\",IF(ISTEXT(H124),H124,IF(ISTEXT(Checklist!$H$3),Checklist!$H$3,\"NO Grid Ref!!\")))","v":""},{"$f":"IF(LEN($F124)<1,\"\",IF(ISBLANK(Checklist!$H$4),\"NO VC!!\",Checklist!$H$4))","v":""},{"$f":"IF(LEN($F124)<1,\"\",IF(ISBLANK(Checklist!$H$5),\"NO Date!!\",Checklist!$H$5))","v":""},{"$f":"IF(LEN($F124)<1,\"\",IF(ISBLANK(Checklist!$H$6),\"NO Recorder!!\",Checklist!$H$6))","v":""},{"$f":"IF(LEN($F124)<1,\"\",IF(ISTEXT(I124),I124,IF(ISTEXT(Checklist!$H$6),Checklist!$H$6,\"NO Determiner!!\")))","v":""},{"$f":"IF(LEN($F124)<1,\"\",IF(ISTEXT(J124),J124,IF(ISTEXT(Checklist!$H$7),Checklist!$H$7,\"Field record / observation\")))","v":""},"","",null,"","","","","","","","","","","","",null,null,null,null,null,null,null,null,null,null,null,null,null,null,null,null,null,null,null,99.2,"Anagallis arvensis subsp. foemina",null,null,35.200000000000003,"Agrostis canina","Linnaeus","Velvet Bent","Poaceae",null,35.200000000000003,"Agrostis canina_35.2",null,null,null,null,null,null,null,"Agrostis canina_35.2"]
["",null,null,null,"","","",null,null,null,null,null,null,null,null,"","","",{"$f":"IF(LEN($F125)<1,\"\",IF(ISBLANK(Checklist!$H$2),\"\",Checklist!$H$2))","v":""},{"$f":"IF(LEN($F125)<1,\"\",IF(ISTEXT(H125),H125,IF(ISTEXT(Checklist!$H$3),Checklist!$H$3,\"NO Grid Ref!!\")))","v":""},{"$f":"IF(LEN($F125)<1,\"\",IF(ISBLANK(Checklist!$H$4),\"NO VC!!\",Checklist!$H$4))","v":""},{"$f":"IF(LEN($F125)<1,\"\",IF(ISBLANK(Checklist!$H$5),\"NO Date!!\",Checklist!$H$5))","v":""},{"$f":"IF(LEN($F125)<1,\"\",IF(ISBLANK(Checklist!$H$6),\"NO Recorder!!\",Checklist!$H$6))","v":""},{"$f":"IF(LEN($F125)<1,\"\",IF(ISTEXT(I125),I125,IF(ISTEXT(Checklist!$H$6),Checklist!$H$6,\"NO Determiner!!\")))","v":""},{"$f":"IF(LEN($F125)<1,\"\",IF(ISTEXT(J125),J125,IF(ISTEXT(Checklist!$H$7),Checklist!$H$7,\"Field record / observation\")))","v":""},"","",null,"","","","","","","","","","","","",null,null,null,null,null,null,null,null,null,null,null,null,null,null,null,null,null,null,null,99.3,"Anagallis arvensis subsp. arvensis f. azurea",null,null,35,"Agrostis canina sens. lat.","Linnaeus","Velvet Bent","Poaceae",null,35,"Agrostis canina sens. lat._35",null,null,null,null,null,null,null,"Agrostis canina sens. lat._35"]
["",null,null,null,"","","",null,null,null,null,null,null,null,null,"","","",{"$f":"IF(LEN($F126)<1,\"\",IF(ISBLANK(Checklist!$H$2),\"\",Checklist!$H$2))","v":""},{"$f":"IF(LEN($F126)<1,\"\",IF(ISTEXT(H126),H126,IF(ISTEXT(Checklist!$H$3),Checklist!$H$3,\"NO Grid Ref!!\")))","v":""},{"$f":"IF(LEN($F126)<1,\"\",IF(ISBLANK(Checklist!$H$4),\"NO VC!!\",Checklist!$H$4))","v":""},{"$f":"IF(LEN($F126)<1,\"\",IF(ISBLANK(Checklist!$H$5),\"NO Date!!\",Checklist!$H$5))","v":""},{"$f":"IF(LEN($F126)<1,\"\",IF(ISBLANK(Checklist!$H$6),\"NO Recorder!!\",Checklist!$H$6))","v":""},{"$f":"IF(LEN($F126)<1,\"\",IF(ISTEXT(I126),I126,IF(ISTEXT(Checklist!$H$6),Checklist!$H$6,\"NO Determiner!!\")))","v":""},{"$f":"IF(LEN($F126)<1,\"\",IF(ISTEXT(J126),J126,IF(ISTEXT(Checklist!$H$7),Checklist!$H$7,\"Field record / observation\")))","v":""},"","",null,"","","","","","","","","","","","",null,null,null,null,null,null,null,null,null,null,null,null,null,null,null,null,null,null,null,99.4,"Anagallis arvensis subsp. arvensis f. carnea",null,null,40,"Agrostis capillaris","Linnaeus","Common Bent","Poaceae",null,40,"Agrostis capillaris_40",null,null,null,null,null,null,null,"Agrostis capillaris_40"]
["",null,null,null,"","","",null,null,null,null,null,null,null,null,"","","",{"$f":"IF(LEN($F127)<1,\"\",IF(ISBLANK(Checklist!$H$2),\"\",Checklist!$H$2))","v":""},{"$f":"IF(LEN($F127)<1,\"\",IF(ISTEXT(H127),H127,IF(ISTEXT(Checklist!$H$3),Checklist!$H$3,\"NO Grid Ref!!\")))","v":""},{"$f":"IF(LEN($F127)<1,\"\",IF(ISBLANK(Checklist!$H$4),\"NO VC!!\",Checklist!$H$4))","v":""},{"$f":"IF(LEN($F127)<1,\"\",IF(ISBLANK(Checklist!$H$5),\"NO Date!!\",Checklist!$H$5))","v":""},{"$f":"IF(LEN($F127)<1,\"\",IF(ISBLANK(Checklist!$H$6),\"NO Recorder!!\",Checklist!$H$6))","v":""},{"$f":"IF(LEN($F127)<1,\"\",IF(ISTEXT(I127),I127,IF(ISTEXT(Checklist!$H$6),Checklist!$H$6,\"NO Determiner!!\")))","v":""},{"$f":"IF(LEN($F127)<1,\"\",IF(ISTEXT(J127),J127,IF(ISTEXT(Checklist!$H$7),Checklist!$H$7,\"Field record / observation\")))","v":""},"","",null,"","","","","","","","","","","","",null,null,null,null,null,null,null,null,null,null,null,null,null,null,null,null,null,null,null,99.5,"Anagallis arvensis subsp. arvensis f. lilacina",null,null,"No BRC","Agrostis capillaris x canina",null,null,"Poaceae",null,"No BRC","Agrostis capillaris x canina_No BRC",null,null,null,null,null,null,null,"Agrostis capillaris x canina_No BRC"]
["",null,null,null,"","","",null,null,null,null,null,null,null,null,"","","",{"$f":"IF(LEN($F128)<1,\"\",IF(ISBLANK(Checklist!$H$2),\"\",Checklist!$H$2))","v":""},{"$f":"IF(LEN($F128)<1,\"\",IF(ISTEXT(H128),H128,IF(ISTEXT(Checklist!$H$3),Checklist!$H$3,\"NO Grid Ref!!\")))","v":""},{"$f":"IF(LEN($F128)<1,\"\",IF(ISBLANK(Checklist!$H$4),\"NO VC!!\",Checklist!$H$4))","v":""},{"$f":"IF(LEN($F128)<1,\"\",IF(ISBLANK(Checklist!$H$5),\"NO Date!!\",Checklist!$H$5))","v":""},{"$f":"IF(LEN($F128)<1,\"\",IF(ISBLANK(Checklist!$H$6),\"NO Recorder!!\",Checklist!$H$6))","v":""},{"$f":"IF(LEN($F128)<1,\"\",IF(ISTEXT(I128),I128,IF(ISTEXT(Checklist!$H$6),Checklist!$H$6,\"NO Determiner!!\")))","v":""},{"$f":"IF(LEN($F128)<1,\"\",IF(ISTEXT(J128),J128,IF(ISTEXT(Checklist!$H$7),Checklist!$H$7,\"Field record / observation\")))","v":""},"","",null,"","","","","","","","","","","","",null,null,null,null,null,null,null,null,null,null,null,null,null,null,null,null,null,null,null,99.6,"Anagallis arvensis subsp. arvensis f. pallida",null,null,2914,"Agrostis capillaris x vinealis","Asch. & Grabner",null,"Poaceae",null,2914,"Agrostis capillaris x vinealis_2914",null,null,null,null,null,null,null,"Agrostis capillaris x vinealis_2914"]
["",null,null,null,"","","",null,null,null,null,null,null,null,null,"","","",{"$f":"IF(LEN($F129)<1,\"\",IF(ISBLANK(Checklist!$H$2),\"\",Checklist!$H$2))","v":""},{"$f":"IF(LEN($F129)<1,\"\",IF(ISTEXT(H129),H129,IF(ISTEXT(Checklist!$H$3),Checklist!$H$3,\"NO Grid Ref!!\")))","v":""},{"$f":"IF(LEN($F129)<1,\"\",IF(ISBLANK(Checklist!$H$4),\"NO VC!!\",Checklist!$H$4))","v":""},{"$f":"IF(LEN($F129)<1,\"\",IF(ISBLANK(Checklist!$H$5),\"NO Date!!\",Checklist!$H$5))","v":""},{"$f":"IF(LEN($F129)<1,\"\",IF(ISBLANK(Checklist!$H$6),\"NO Recorder!!\",Checklist!$H$6))","v":""},{"$f":"IF(LEN($F129)<1,\"\",IF(ISTEXT(I129),I129,IF(ISTEXT(Checklist!$H$6),Checklist!$H$6,\"NO Determiner!!\")))","v":""},{"$f":"IF(LEN($F129)<1,\"\",IF(ISTEXT(J129),J129,IF(ISTEXT(Checklist!$H$7),Checklist!$H$7,\"Field record / observation\")))","v":""},"","",null,"","","","","","","","","","","","",null,null,null,null,null,null,null,null,null,null,null,null,null,null,null,null,null,null,null,99.7,"Anagallis arvensis subsp. arvensis f. viridiflora",null,null,7141,"Agrostis castellana","Boiss. & Reuter","Highland Bent","Poaceae",null,7141,"Agrostis castellana_7141",null,null,null,null,null,null,null,"Agrostis castellana_7141"]
["",null,null,null,"","","",null,null,null,null,null,null,null,null,"","","",{"$f":"IF(LEN($F130)<1,\"\",IF(ISBLANK(Checklist!$H$2),\"\",Checklist!$H$2))","v":""},{"$f":"IF(LEN($F130)<1,\"\",IF(ISTEXT(H130),H130,IF(ISTEXT(Checklist!$H$3),Checklist!$H$3,\"NO Grid Ref!!\")))","v":""},{"$f":"IF(LEN($F130)<1,\"\",IF(ISBLANK(Checklist!$H$4),\"NO VC!!\",Checklist!$H$4))","v":""},{"$f":"IF(LEN($F130)<1,\"\",IF(ISBLANK(Checklist!$H$5),\"NO Date!!\",Checklist!$H$5))","v":""},{"$f":"IF(LEN($F130)<1,\"\",IF(ISBLANK(Checklist!$H$6),\"NO Recorder!!\",Checklist!$H$6))","v":""},{"$f":"IF(LEN($F130)<1,\"\",IF(ISTEXT(I130),I130,IF(ISTEXT(Checklist!$H$6),Checklist!$H$6,\"NO Determiner!!\")))","v":""},{"$f":"IF(LEN($F130)<1,\"\",IF(ISTEXT(J130),J130,IF(ISTEXT(Checklist!$H$7),Checklist!$H$7,\"Field record / observation\")))","v":""},"","",null,"","","","","","","","","","","","",null,null,null,null,null,null,null,null,null,null,null,null,null,null,null,null,null,null,null,99.8,"Anagallis arvensis subsp. arvensis",null,null,38,"Agrostis curtisii","Kerguélen","Bristle Bent","Poaceae",null,38,"Agrostis curtisii_38",null,null,null,null,null,null,null,"Agrostis curtisii_38"]
["",null,null,null,{"$f":"IF(ISBLANK(B131),IF(ISBLANK(C131),\"\",IF(RIGHT(C131,LEN(C131)-FIND(\"_\",C131,1))=\"No BRC\",\"No BRC\",RIGHT(C131,LEN(C131)-FIND(\"_\",C131,1))*1)),B131)","v":""},"","",null,null,null,null,null,null,null,null,"","","",{"$f":"IF(LEN($F131)<1,\"\",IF(ISBLANK(Checklist!$H$2),\"\",Checklist!$H$2))","v":""},{"$f":"IF(LEN($F131)<1,\"\",IF(ISTEXT(H131),H131,IF(ISTEXT(Checklist!$H$3),Checklist!$H$3,\"NO Grid Ref!!\")))","v":""},{"$f":"IF(LEN($F131)<1,\"\",IF(ISBLANK(Checklist!$H$4),\"NO VC!!\",Checklist!$H$4))","v":""},{"$f":"IF(LEN($F131)<1,\"\",IF(ISBLANK(Checklist!$H$5),\"NO Date!!\",Checklist!$H$5))","v":""},{"$f":"IF(LEN($F131)<1,\"\",IF(ISBLANK(Checklist!$H$6),\"NO Recorder!!\",Checklist!$H$6))","v":""},{"$f":"IF(LEN($F131)<1,\"\",IF(ISTEXT(I131),I131,IF(ISTEXT(Checklist!$H$6),Checklist!$H$6,\"NO Determiner!!\")))","v":""},{"$f":"IF(LEN($F131)<1,\"\",IF(ISTEXT(J131),J131,IF(ISTEXT(Checklist!$H$7),Checklist!$H$7,\"Field record / observation\")))","v":""},"","",null,"","","","","","","","","","","","",null,null,null,null,null,null,null,null,null,null,null,null,null,null,null,null,null,null,null,100,"Anagallis tenella",null,null,5759,"Agrostis exarata","Trin.","Spike Bent","Poaceae",null,5759,"Agrostis exarata_5759",null,null,null,null,null,null,null,"Agrostis exarata_5759"]
[{"$f":"IF(F132=\"\",\"\",ROW())","v":""},null,null,null,"","","",null,null,null,null,null,null,null,null,"","","",{"$f":"IF(LEN($F132)<1,\"\",IF(ISBLANK(Checklist!$H$2),\"\",Checklist!$H$2))","v":""},{"$f":"IF(LEN($F132)<1,\"\",IF(ISTEXT(H132),H132,IF(ISTEXT(Checklist!$H$3),Checklist!$H$3,\"NO Grid Ref!!\")))","v":""},{"$f":"IF(LEN($F132)<1,\"\",IF(ISBLANK(Checklist!$H$4),\"NO VC!!\",Checklist!$H$4))","v":""},{"$f":"IF(LEN($F132)<1,\"\",IF(ISBLANK(Checklist!$H$5),\"NO Date!!\",Checklist!$H$5))","v":""},{"$f":"IF(LEN($F132)<1,\"\",IF(ISBLANK(Checklist!$H$6),\"NO Recorder!!\",Checklist!$H$6))","v":""},{"$f":"IF(LEN($F132)<1,\"\",IF(ISTEXT(I132),I132,IF(ISTEXT(Checklist!$H$6),Checklist!$H$6,\"NO Determiner!!\")))","v":""},{"$f":"IF(LEN($F132)<1,\"\",IF(ISTEXT(J132),J132,IF(ISTEXT(Checklist!$H$7),Checklist!$H$7,\"Field record / observation\")))","v":""},"","",null,{"$f":"IF(ROW($A132)-ROW($A$3)+1>COUNT($A$3:$A$501),\"\",INDEX(P:P,SMALL($A$3:$A$501,1+ROW($A132)-ROW($A$3))))","v":""},{"$f":"IF(ROW($A132)-ROW($A$3)+1>COUNT($A$3:$A$501),\"\",INDEX(Q:Q,SMALL($A$3:$A$501,1+ROW($A132)-ROW($A$3))))","v":""},{"$f":"IF(ROW($A132)-ROW($A$3)+1>COUNT($A$3:$A$501),\"\",INDEX(R:R,SMALL($A$3:$A$501,1+ROW($A132)-ROW($A$3))))","v":""},{"$f":"IF(ROW($A132)-ROW($A$3)+1>COUNT($A$3:$A$501),\"\",INDEX(S:S,SMALL($A$3:$A$501,1+ROW($A132)-ROW($A$3))))","v":""},{"$f":"IF(ROW($A132)-ROW($A$3)+1>COUNT($A$3:$A$501),\"\",INDEX(T:T,SMALL($A$3:$A$501,1+ROW($A132)-ROW($A$3))))","v":""},{"$f":"IF(ROW($A132)-ROW($A$3)+1>COUNT($A$3:$A$501),\"\",INDEX(U:U,SMALL($A$3:$A$501,1+ROW($A132)-ROW($A$3))))","v":""},{"$f":"IF(ROW($A132)-ROW($A$3)+1>COUNT($A$3:$A$501),\"\",INDEX(V:V,SMALL($A$3:$A$501,1+ROW($A132)-ROW($A$3))))","v":""},{"$f":"IF(ROW($A132)-ROW($A$3)+1>COUNT($A$3:$A$501),\"\",INDEX(W:W,SMALL($A$3:$A$501,1+ROW($A132)-ROW($A$3))))","v":""},{"$f":"IF(ROW($A132)-ROW($A$3)+1>COUNT($A$3:$A$501),\"\",INDEX(X:X,SMALL($A$3:$A$501,1+ROW($A132)-ROW($A$3))))","v":""},{"$f":"IF(ROW($A132)-ROW($A$3)+1>COUNT($A$3:$A$501),\"\",INDEX(Y:Y,SMALL($A$3:$A$501,1+ROW($A132)-ROW($A$3))))","v":""},{"$f":"IF(ROW($A132)-ROW($A$3)+1>COUNT($A$3:$A$501),\"\",INDEX(Z:Z,SMALL($A$3:$A$501,1+ROW($A132)-ROW($A$3))))","v":""},{"$f":"IF(ROW($A132)-ROW($A$3)+1>COUNT($A$3:$A$501),\"\",INDEX(AA:AA,SMALL($A$3:$A$501,1+ROW($A132)-ROW($A$3))))","v":""},null,null,null,null,null,null,null,null,null,null,null,null,null,null,null,null,null,null,null,101,"Anaphalis margaritacea",null,null,36,"Agrostis gigantea","Roth","Black Bent","Poaceae",null,36,{"$f":"CONCATENATE(BM132,\"_\",BL132)","v":"Agrostis gigantea_36"},null,null,null,null,null,null,null,"Agrostis gigantea_36"]
["",null,null,null,"","",{"$f":"IF(LEN(F133)<1,\"\",IF(ISBLANK(VLOOKUP(F133,$BM$3:$BR$7116,3,FALSE)),\"\",(VLOOKUP(F133,$BM$3:$BR$7130,3,FALSE))))","v":""},null,null,null,null,null,null,null,null,"","","",{"$f":"IF(LEN($F133)<1,\"\",IF(ISBLANK(Checklist!$H$2),\"\",Checklist!$H$2))","v":""},{"$f":"IF(LEN($F133)<1,\"\",IF(ISTEXT(H133),H133,IF(ISTEXT(Checklist!$H$3),Checklist!$H$3,\"NO Grid Ref!!\")))","v":""},{"$f":"IF(LEN($F133)<1,\"\",IF(ISBLANK(Checklist!$H$4),\"NO VC!!\",Checklist!$H$4))","v":""},{"$f":"IF(LEN($F133)<1,\"\",IF(ISBLANK(Checklist!$H$5),\"NO Date!!\",Checklist!$H$5))","v":""},{"$f":"IF(LEN($F133)<1,\"\",IF(ISBLANK(Checklist!$H$6),\"NO Recorder!!\",Checklist!$H$6))","v":""},{"$f":"IF(LEN($F133)<1,\"\",IF(ISTEXT(I133),I133,IF(ISTEXT(Checklist!$H$6),Checklist!$H$6,\"NO Determiner!!\")))","v":""},{"$f":"IF(LEN($F133)<1,\"\",IF(ISTEXT(J133),J133,IF(ISTEXT(Checklist!$H$7),Checklist!$H$7,\"Field record / observation\")))","v":""},"","",null,"","","","","","","","","","","","",null,null,null,null,null,null,null,null,null,null,null,null,null,null,null,null,null,null,null,102,"Anchusa officinalis",null,null,2917,"Agrostis gigantea x stolonifera",null,null,"Poaceae",null,2917,"Agrostis gigantea x stolonifera_2917",null,null,null,null,null,null,null,"Agrostis gigantea x stolonifera_2917"]
["",null,null,null,"",{"$f":"IF(ISBLANK(B134),IF(ISBLANK(C134),\"\",LEFT(C134,FIND(\"_\",C134,1)-1)),VLOOKUP(B134,$BH$3:$BI$7130,2,FALSE))","v":""},"",null,null,null,null,null,null,null,null,"","","",{"$f":"IF(LEN($F134)<1,\"\",IF(ISBLANK(Checklist!$H$2),\"\",Checklist!$H$2))","v":""},{"$f":"IF(LEN($F134)<1,\"\",IF(ISTEXT(H134),H134,IF(ISTEXT(Checklist!$H$3),Checklist!$H$3,\"NO Grid Ref!!\")))","v":""},{"$f":"IF(LEN($F134)<1,\"\",IF(ISBLANK(Checklist!$H$4),\"NO VC!!\",Checklist!$H$4))","v":""},{"$f":"IF(LEN($F134)<1,\"\",IF(ISBLANK(Checklist!$H$5),\"NO Date!!\",Checklist!$H$5))","v":""},{"$f":"IF(LEN($F134)<1,\"\",IF(ISBLANK(Checklist!$H$6),\"NO Recorder!!\",Checklist!$H$6))","v":""},{"$f":"IF(LEN($F134)<1,\"\",IF(ISTEXT(I134),I134,IF(ISTEXT(Checklist!$H$6),Checklist!$H$6,\"NO Determiner!!\")))","v":""},{"$f":"IF(LEN($F134)<1,\"\",IF(ISTEXT(J134),J134,IF(ISTEXT(Checklist!$H$7),Checklist!$H$7,\"Field record / observation\")))","v":""},"","",null,"","","","","","","","","","","","",null,null,null,null,null,null,null,null,null,null,null,null,null,null,null,null,null,null,null,103,"Andromeda polifolia",null,null,3022,"Agrostis hyemalis","(Walter) Britton, Sterns & Pogg.","Small Bent","Poaceae",null,3022,"Agrostis hyemalis_3022",null,null,null,null,null,null,null,"Agrostis hyemalis_3022"]
["",null,null,null,"","","",null,null,null,null,null,null,null,null,"","","",{"$f":"IF(LEN($F135)<1,\"\",IF(ISBLANK(Checklist!$H$2),\"\",Checklist!$H$2))","v":""},{"$f":"IF(LEN($F135)<1,\"\",IF(ISTEXT(H135),H135,IF(ISTEXT(Checklist!$H$3),Checklist!$H$3,\"NO Grid Ref!!\")))","v":""},{"$f":"IF(LEN($F135)<1,\"\",IF(ISBLANK(Checklist!$H$4),\"NO VC!!\",Checklist!$H$4))","v":""},{"$f":"IF(LEN($F135)<1,\"\",IF(ISBLANK(Checklist!$H$5),\"NO Date!!\",Checklist!$H$5))","v":""},{"$f":"IF(LEN($F135)<1,\"\",IF(ISBLANK(Checklist!$H$6),\"NO Recorder!!\",Checklist!$H$6))","v":""},{"$f":"IF(LEN($F135)<1,\"\",IF(ISTEXT(I135),I135,IF(ISTEXT(Checklist!$H$6),Checklist!$H$6,\"NO Determiner!!\")))","v":""},{"$f":"IF(LEN($F135)<1,\"\",IF(ISTEXT(J135),J135,IF(ISTEXT(Checklist!$H$7),Checklist!$H$7,\"Field record / observation\")))","v":""},"","",null,"","","","","","","","","","","","",null,null,null,null,null,null,null,null,null,null,null,null,null,null,null,null,null,null,null,104,"Anemone apennina",null,null,3013,"Agrostis lachnantha",null,"African Bent","Poaceae",null,3013,"Agrostis lachnantha_3013",null,null,null,null,null,null,null,"Agrostis lachnantha_3013"]
["",null,null,null,"","","",null,null,null,null,null,null,null,null,"","","",{"$f":"IF(LEN($F136)<1,\"\",IF(ISBLANK(Checklist!$H$2),\"\",Checklist!$H$2))","v":""},{"$f":"IF(LEN($F136)<1,\"\",IF(ISTEXT(H136),H136,IF(ISTEXT(Checklist!$H$3),Checklist!$H$3,\"NO Grid Ref!!\")))","v":""},{"$f":"IF(LEN($F136)<1,\"\",IF(ISBLANK(Checklist!$H$4),\"NO VC!!\",Checklist!$H$4))","v":""},{"$f":"IF(LEN($F136)<1,\"\",IF(ISBLANK(Checklist!$H$5),\"NO Date!!\",Checklist!$H$5))","v":""},{"$f":"IF(LEN($F136)<1,\"\",IF(ISBLANK(Checklist!$H$6),\"NO Recorder!!\",Checklist!$H$6))","v":""},{"$f":"IF(LEN($F136)<1,\"\",IF(ISTEXT(I136),I136,IF(ISTEXT(Checklist!$H$6),Checklist!$H$6,\"NO Determiner!!\")))","v":""},{"$f":"IF(LEN($F136)<1,\"\",IF(ISTEXT(J136),J136,IF(ISTEXT(Checklist!$H$7),Checklist!$H$7,\"Field record / observation\")))","v":""},"","",null,"","","","","","","","","","","","",null,null,null,null,null,null,null,null,null,null,null,null,null,null,null,null,null,null,null,105,"Anemone nemorosa",null,null,4371,"Agrostis scabra","Willd.","Rough Bent","Poaceae",null,4371,"Agrostis scabra_4371",null,null,null,null,null,null,null,"Agrostis scabra_4371"]
["",null,null,null,"","","",null,null,null,null,null,null,null,null,"","","",{"$f":"IF(LEN($F137)<1,\"\",IF(ISBLANK(Checklist!$H$2),\"\",Checklist!$H$2))","v":""},{"$f":"IF(LEN($F137)<1,\"\",IF(ISTEXT(H137),H137,IF(ISTEXT(Checklist!$H$3),Checklist!$H$3,\"NO Grid Ref!!\")))","v":""},{"$f":"IF(LEN($F137)<1,\"\",IF(ISBLANK(Checklist!$H$4),\"NO VC!!\",Checklist!$H$4))","v":""},{"$f":"IF(LEN($F137)<1,\"\",IF(ISBLANK(Checklist!$H$5),\"NO Date!!\",Checklist!$H$5))","v":""},{"$f":"IF(LEN($F137)<1,\"\",IF(ISBLANK(Checklist!$H$6),\"NO Recorder!!\",Checklist!$H$6))","v":""},{"$f":"IF(LEN($F137)<1,\"\",IF(ISTEXT(I137),I137,IF(ISTEXT(Checklist!$H$6),Checklist!$H$6,\"NO Determiner!!\")))","v":""},{"$f":"IF(LEN($F137)<1,\"\",IF(ISTEXT(J137),J137,IF(ISTEXT(Checklist!$H$7),Checklist!$H$7,\"Field record / observation\")))","v":""},"","",null,"","","","","","","","","","","","",null,null,null,null,null,null,null,null,null,null,null,null,null,null,null,null,null,null,null,106,"Pulsatilla vulgaris",null,null,"No BRC","Agrostis sp.",null,null,"Poaceae",null,"No BRC","Agrostis sp._No BRC",null,null,null,null,null,null,null,"Agrostis sp._No BRC"]
["",null,null,null,"","","",null,null,null,null,null,null,null,null,"","","",{"$f":"IF(LEN($F138)<1,\"\",IF(ISBLANK(Checklist!$H$2),\"\",Checklist!$H$2))","v":""},{"$f":"IF(LEN($F138)<1,\"\",IF(ISTEXT(H138),H138,IF(ISTEXT(Checklist!$H$3),Checklist!$H$3,\"NO Grid Ref!!\")))","v":""},{"$f":"IF(LEN($F138)<1,\"\",IF(ISBLANK(Checklist!$H$4),\"NO VC!!\",Checklist!$H$4))","v":""},{"$f":"IF(LEN($F138)<1,\"\",IF(ISBLANK(Checklist!$H$5),\"NO Date!!\",Checklist!$H$5))","v":""},{"$f":"IF(LEN($F138)<1,\"\",IF(ISBLANK(Checklist!$H$6),\"NO Recorder!!\",Checklist!$H$6))","v":""},{"$f":"IF(LEN($F138)<1,\"\",IF(ISTEXT(I138),I138,IF(ISTEXT(Checklist!$H$6),Checklist!$H$6,\"NO Determiner!!\")))","v":""},{"$f":"IF(LEN($F138)<1,\"\",IF(ISTEXT(J138),J138,IF(ISTEXT(Checklist!$H$7),Checklist!$H$7,\"Field record / observation\")))","v":""},"","",null,"","","","","","","","","","","","",null,null,null,null,null,null,null,null,null,null,null,null,null,null,null,null,null,null,null,107,"Anemone ranunculoides",null,null,39,"Agrostis stolonifera","L.","Creeping Bent","Poaceae",null,39,"Agrostis stolonifera_39",null,null,null,null,null,null,null,"Agrostis stolonifera_39"]
["",null,null,null,"","","",null,null,null,null,null,null,null,null,"","","",{"$f":"IF(LEN($F139)<1,\"\",IF(ISBLANK(Checklist!$H$2),\"\",Checklist!$H$2))","v":""},{"$f":"IF(LEN($F139)<1,\"\",IF(ISTEXT(H139),H139,IF(ISTEXT(Checklist!$H$3),Checklist!$H$3,\"NO Grid Ref!!\")))","v":""},{"$f":"IF(LEN($F139)<1,\"\",IF(ISBLANK(Checklist!$H$4),\"NO VC!!\",Checklist!$H$4))","v":""},{"$f":"IF(LEN($F139)<1,\"\",IF(ISBLANK(Checklist!$H$5),\"NO Date!!\",Checklist!$H$5))","v":""},{"$f":"IF(LEN($F139)<1,\"\",IF(ISBLANK(Checklist!$H$6),\"NO Recorder!!\",Checklist!$H$6))","v":""},{"$f":"IF(LEN($F139)<1,\"\",IF(ISTEXT(I139),I139,IF(ISTEXT(Checklist!$H$6),Checklist!$H$6,\"NO Determiner!!\")))","v":""},{"$f":"IF(LEN($F139)<1,\"\",IF(ISTEXT(J139),J139,IF(ISTEXT(Checklist!$H$7),Checklist!$H$7,\"Field record / observation\")))","v":""},"","",null,"","","","","","","","","","","","",null,null,null,null,null,null,null,null,null,null,null,null,null,null,null,null,null,null,null,108,"Angelica archangelica",null,null,7142,"Agrostis stolonifera x vinealis",null,null,"Poaceae",null,7142,"Agrostis stolonifera x vinealis_7142",null,null,null,null,null,null,null,"Agrostis stolonifera x vinealis_7142"]
["",null,null,null,"","","",null,null,null,null,null,null,null,null,"","","",{"$f":"IF(LEN($F140)<1,\"\",IF(ISBLANK(Checklist!$H$2),\"\",Checklist!$H$2))","v":""},{"$f":"IF(LEN($F140)<1,\"\",IF(ISTEXT(H140),H140,IF(ISTEXT(Checklist!$H$3),Checklist!$H$3,\"NO Grid Ref!!\")))","v":""},{"$f":"IF(LEN($F140)<1,\"\",IF(ISBLANK(Checklist!$H$4),\"NO VC!!\",Checklist!$H$4))","v":""},{"$f":"IF(LEN($F140)<1,\"\",IF(ISBLANK(Checklist!$H$5),\"NO Date!!\",Checklist!$H$5))","v":""},{"$f":"IF(LEN($F140)<1,\"\",IF(ISBLANK(Checklist!$H$6),\"NO Recorder!!\",Checklist!$H$6))","v":""},{"$f":"IF(LEN($F140)<1,\"\",IF(ISTEXT(I140),I140,IF(ISTEXT(Checklist!$H$6),Checklist!$H$6,\"NO Determiner!!\")))","v":""},{"$f":"IF(LEN($F140)<1,\"\",IF(ISTEXT(J140),J140,IF(ISTEXT(Checklist!$H$7),Checklist!$H$7,\"Field record / observation\")))","v":""},"","",null,"","","","","","","","","","","","",null,null,null,null,null,null,null,null,null,null,null,null,null,null,null,null,null,null,null,109,"Angelica sylvestris",null,null,35.1,"Agrostis vinealis","Schreber","Brown Bent","Poaceae",null,35.1,"Agrostis vinealis_35.1",null,null,null,null,null,null,null,"Agrostis vinealis_35.1"]
["",null,null,null,"","","",null,null,null,null,null,null,null,null,"","","",{"$f":"IF(LEN($F141)<1,\"\",IF(ISBLANK(Checklist!$H$2),\"\",Checklist!$H$2))","v":""},{"$f":"IF(LEN($F141)<1,\"\",IF(ISTEXT(H141),H141,IF(ISTEXT(Checklist!$H$3),Checklist!$H$3,\"NO Grid Ref!!\")))","v":""},{"$f":"IF(LEN($F141)<1,\"\",IF(ISBLANK(Checklist!$H$4),\"NO VC!!\",Checklist!$H$4))","v":""},{"$f":"IF(LEN($F141)<1,\"\",IF(ISBLANK(Checklist!$H$5),\"NO Date!!\",Checklist!$H$5))","v":""},{"$f":"IF(LEN($F141)<1,\"\",IF(ISBLANK(Checklist!$H$6),\"NO Recorder!!\",Checklist!$H$6))","v":""},{"$f":"IF(LEN($F141)<1,\"\",IF(ISTEXT(I141),I141,IF(ISTEXT(Checklist!$H$6),Checklist!$H$6,\"NO Determiner!!\")))","v":""},{"$f":"IF(LEN($F141)<1,\"\",IF(ISTEXT(J141),J141,IF(ISTEXT(Checklist!$H$7),Checklist!$H$7,\"Field record / observation\")))","v":""},"","",null,"","","","","","","","","","","","",null,null,null,null,null,null,null,null,null,null,null,null,null,null,null,null,null,null,null,110,"Anisantha diandra",null,null,2915,"Agrostis x bjoerkmanii","Widen","A. capillaris x gigantea","Poaceae",null,2915,"Agrostis x bjoerkmanii_2915",null,null,null,null,null,null,null,"Agrostis x bjoerkmanii_2915"]
["",null,null,null,"","","",null,null,null,null,null,null,null,null,"","","",{"$f":"IF(LEN($F142)<1,\"\",IF(ISBLANK(Checklist!$H$2),\"\",Checklist!$H$2))","v":""},{"$f":"IF(LEN($F142)<1,\"\",IF(ISTEXT(H142),H142,IF(ISTEXT(Checklist!$H$3),Checklist!$H$3,\"NO Grid Ref!!\")))","v":""},{"$f":"IF(LEN($F142)<1,\"\",IF(ISBLANK(Checklist!$H$4),\"NO VC!!\",Checklist!$H$4))","v":""},{"$f":"IF(LEN($F142)<1,\"\",IF(ISBLANK(Checklist!$H$5),\"NO Date!!\",Checklist!$H$5))","v":""},{"$f":"IF(LEN($F142)<1,\"\",IF(ISBLANK(Checklist!$H$6),\"NO Recorder!!\",Checklist!$H$6))","v":""},{"$f":"IF(LEN($F142)<1,\"\",IF(ISTEXT(I142),I142,IF(ISTEXT(Checklist!$H$6),Checklist!$H$6,\"NO Determiner!!\")))","v":""},{"$f":"IF(LEN($F142)<1,\"\",IF(ISTEXT(J142),J142,IF(ISTEXT(Checklist!$H$7),Checklist!$H$7,\"Field record / observation\")))","v":""},"","",null,"","","","","","","","","","","","",null,null,null,null,null,null,null,null,null,null,null,null,null,null,null,null,null,null,null,111,"Anisantha madritensis",null,null,7143,"Agrostis x fouilladeana","Lambinon & Verloove","A. capillaris x castellana","Poaceae",null,7143,"Agrostis x fouilladeana_7143",null,null,null,null,null,null,null,"Agrostis x fouilladeana_7143"]
["",null,null,null,"","","",null,null,null,null,null,null,null,null,{"$f":"IF(LEN($F143)<1,\"\",E143)","v":""},{"$f":"IF(LEN($F143)<1,\"\",F143)","v":""},{"$f":"IF(LEN($F143)<1,\"\",G143)","v":""},{"$f":"IF(LEN($F143)<1,\"\",IF(ISBLANK(Checklist!$H$2),\"\",Checklist!$H$2))","v":""},{"$f":"IF(LEN($F143)<1,\"\",IF(ISTEXT(H143),H143,IF(ISTEXT(Checklist!$H$3),Checklist!$H$3,\"NO Grid Ref!!\")))","v":""},{"$f":"IF(LEN($F143)<1,\"\",IF(ISBLANK(Checklist!$H$4),\"NO VC!!\",Checklist!$H$4))","v":""},{"$f":"IF(LEN($F143)<1,\"\",IF(ISBLANK(Checklist!$H$5),\"NO Date!!\",Checklist!$H$5))","v":""},{"$f":"IF(LEN($F143)<1,\"\",IF(ISBLANK(Checklist!$H$6),\"NO Recorder!!\",Checklist!$H$6))","v":""},{"$f":"IF(LEN($F143)<1,\"\",IF(ISTEXT(I143),I143,IF(ISTEXT(Checklist!$H$6),Checklist!$H$6,\"NO Determiner!!\")))","v":""},{"$f":"IF(LEN($F143)<1,\"\",IF(ISTEXT(J143),J143,IF(ISTEXT(Checklist!$H$7),Checklist!$H$7,\"Field record / observation\")))","v":""},{"$f":"IF(LEN($F143)<1,\"\",IF(LEN(K143)<1,\"Not Recorded\",K143))","v":""},{"$f":"IF(LEN($F143)<1,\"\",IF(LEN(L143)<1,\"  --\",L143))","v":""},null,"","","","","","","","","","","","",null,null,null,null,null,null,null,null,null,null,null,null,null,null,null,null,null,null,null,112,"Anisantha rigida",null,null,2916,"Agrostis x murbeckii","Fouill. ex P.Fourn","A. capillaris x stolonifera","Poaceae",null,2916,"Agrostis x murbeckii_2916",null,null,null,null,null,null,null,"Agrostis x murbeckii_2916"]
["",null,null,null,"","","",null,null,null,null,null,null,null,null,"","","",{"$f":"IF(LEN($F144)<1,\"\",IF(ISBLANK(Checklist!$H$2),\"\",Checklist!$H$2))","v":""},{"$f":"IF(LEN($F144)<1,\"\",IF(ISTEXT(H144),H144,IF(ISTEXT(Checklist!$H$3),Checklist!$H$3,\"NO Grid Ref!!\")))","v":""},{"$f":"IF(LEN($F144)<1,\"\",IF(ISBLANK(Checklist!$H$4),\"NO VC!!\",Checklist!$H$4))","v":""},{"$f":"IF(LEN($F144)<1,\"\",IF(ISBLANK(Checklist!$H$5),\"NO Date!!\",Checklist!$H$5))","v":""},{"$f":"IF(LEN($F144)<1,\"\",IF(ISBLANK(Checklist!$H$6),\"NO Recorder!!\",Checklist!$H$6))","v":""},{"$f":"IF(LEN($F144)<1,\"\",IF(ISTEXT(I144),I144,IF(ISTEXT(Checklist!$H$6),Checklist!$H$6,\"NO Determiner!!\")))","v":""},{"$f":"IF(LEN($F144)<1,\"\",IF(ISTEXT(J144),J144,IF(ISTEXT(Checklist!$H$7),Checklist!$H$7,\"Field record / observation\")))","v":""},"","",null,"","","","","","","","","","","","",null,null,null,null,null,null,null,null,null,null,null,null,null,null,null,null,null,null,null,113,"Anisantha sterilis",null,null,"No BRC","Aichryson laxum","(Haw.) Bramwell","Canary Island Stonecrop","Crassulaceae",null,"No BRC","Aichryson laxum_No BRC",null,null,null,null,null,null,null,"Aichryson laxum_No BRC"]
["",null,null,null,"","","",null,null,null,null,null,null,null,null,"","","",{"$f":"IF(LEN($F145)<1,\"\",IF(ISBLANK(Checklist!$H$2),\"\",Checklist!$H$2))","v":""},{"$f":"IF(LEN($F145)<1,\"\",IF(ISTEXT(H145),H145,IF(ISTEXT(Checklist!$H$3),Checklist!$H$3,\"NO Grid Ref!!\")))","v":""},{"$f":"IF(LEN($F145)<1,\"\",IF(ISBLANK(Checklist!$H$4),\"NO VC!!\",Checklist!$H$4))","v":""},{"$f":"IF(LEN($F145)<1,\"\",IF(ISBLANK(Checklist!$H$5),\"NO Date!!\",Checklist!$H$5))","v":""},{"$f":"IF(LEN($F145)<1,\"\",IF(ISBLANK(Checklist!$H$6),\"NO Recorder!!\",Checklist!$H$6))","v":""},{"$f":"IF(LEN($F145)<1,\"\",IF(ISTEXT(I145),I145,IF(ISTEXT(Checklist!$H$6),Checklist!$H$6,\"NO Determiner!!\")))","v":""},{"$f":"IF(LEN($F145)<1,\"\",IF(ISTEXT(J145),J145,IF(ISTEXT(Checklist!$H$7),Checklist!$H$7,\"Field record / observation\")))","v":""},"","",null,"","","","","","","","","","","","",null,null,null,null,null,null,null,null,null,null,null,null,null,null,null,null,null,null,null,114,"Anisantha tectorum",null,null,4411,"Ailanthus altissima","(Miller) Swingle","Tree-of-heaven","Simaroubaceae",null,4411,"Ailanthus altissima_4411",null,null,null,null,null,null,null,"Ailanthus altissima_4411"]
["",null,null,null,"","","",null,null,null,null,null,null,null,null,"","","",{"$f":"IF(LEN($F146)<1,\"\",IF(ISBLANK(Checklist!$H$2),\"\",Checklist!$H$2))","v":""},{"$f":"IF(LEN($F146)<1,\"\",IF(ISTEXT(H146),H146,IF(ISTEXT(Checklist!$H$3),Checklist!$H$3,\"NO Grid Ref!!\")))","v":""},{"$f":"IF(LEN($F146)<1,\"\",IF(ISBLANK(Checklist!$H$4),\"NO VC!!\",Checklist!$H$4))","v":""},{"$f":"IF(LEN($F146)<1,\"\",IF(ISBLANK(Checklist!$H$5),\"NO Date!!\",Checklist!$H$5))","v":""},{"$f":"IF(LEN($F146)<1,\"\",IF(ISBLANK(Checklist!$H$6),\"NO Recorder!!\",Checklist!$H$6))","v":""},{"$f":"IF(LEN($F146)<1,\"\",IF(ISTEXT(I146),I146,IF(ISTEXT(Checklist!$H$6),Checklist!$H$6,\"NO Determiner!!\")))","v":""},{"$f":"IF(LEN($F146)<1,\"\",IF(ISTEXT(J146),J146,IF(ISTEXT(Checklist!$H$7),Checklist!$H$7,\"Field record / observation\")))","v":""},"","",null,"","","","","","","","","","","","",null,null,null,null,null,null,null,null,null,null,null,null,null,null,null,null,null,null,null,115,"Anogramma leptophylla",null,null,41,"Aira caryophyllea","Linnaeus","Silver Hair-grass","Poaceae",null,41,"Aira caryophyllea_41",null,null,null,null,null,null,null,"Aira caryophyllea_41"]
["",null,null,null,"","","",null,null,null,null,null,null,null,null,"","","",{"$f":"IF(LEN($F147)<1,\"\",IF(ISBLANK(Checklist!$H$2),\"\",Checklist!$H$2))","v":""},{"$f":"IF(LEN($F147)<1,\"\",IF(ISTEXT(H147),H147,IF(ISTEXT(Checklist!$H$3),Checklist!$H$3,\"NO Grid Ref!!\")))","v":""},{"$f":"IF(LEN($F147)<1,\"\",IF(ISBLANK(Checklist!$H$4),\"NO VC!!\",Checklist!$H$4))","v":""},{"$f":"IF(LEN($F147)<1,\"\",IF(ISBLANK(Checklist!$H$5),\"NO Date!!\",Checklist!$H$5))","v":""},{"$f":"IF(LEN($F147)<1,\"\",IF(ISBLANK(Checklist!$H$6),\"NO Recorder!!\",Checklist!$H$6))","v":""},{"$f":"IF(LEN($F147)<1,\"\",IF(ISTEXT(I147),I147,IF(ISTEXT(Checklist!$H$6),Checklist!$H$6,\"NO Determiner!!\")))","v":""},{"$f":"IF(LEN($F147)<1,\"\",IF(ISTEXT(J147),J147,IF(ISTEXT(Checklist!$H$7),Checklist!$H$7,\"Field record / observation\")))","v":""},"","",null,"","","","","","","","","","","","",null,null,null,null,null,null,null,null,null,null,null,null,null,null,null,null,null,null,null,116,"Antennaria dioica",null,null,41.1,"Aira caryophyllea subsp. caryophyllea",null,null,"Poaceae",null,41.1,"Aira caryophyllea subsp. caryophyllea_41.1",null,null,null,null,null,null,null,"Aira caryophyllea subsp. caryophyllea_41.1"]
["",null,null,null,"","","",null,null,null,null,null,null,null,null,"","","",{"$f":"IF(LEN($F148)<1,\"\",IF(ISBLANK(Checklist!$H$2),\"\",Checklist!$H$2))","v":""},{"$f":"IF(LEN($F148)<1,\"\",IF(ISTEXT(H148),H148,IF(ISTEXT(Checklist!$H$3),Checklist!$H$3,\"NO Grid Ref!!\")))","v":""},{"$f":"IF(LEN($F148)<1,\"\",IF(ISBLANK(Checklist!$H$4),\"NO VC!!\",Checklist!$H$4))","v":""},{"$f":"IF(LEN($F148)<1,\"\",IF(ISBLANK(Checklist!$H$5),\"NO Date!!\",Checklist!$H$5))","v":""},{"$f":"IF(LEN($F148)<1,\"\",IF(ISBLANK(Checklist!$H$6),\"NO Recorder!!\",Checklist!$H$6))","v":""},{"$f":"IF(LEN($F148)<1,\"\",IF(ISTEXT(I148),I148,IF(ISTEXT(Checklist!$H$6),Checklist!$H$6,\"NO Determiner!!\")))","v":""},{"$f":"IF(LEN($F148)<1,\"\",IF(ISTEXT(J148),J148,IF(ISTEXT(Checklist!$H$7),Checklist!$H$7,\"Field record / observation\")))","v":""},"","",null,"","","","","","","","","","","","",null,null,null,null,null,null,null,null,null,null,null,null,null,null,null,null,null,null,null,117,"Anthemis arvensis",null,null,41.2,"Aira caryophyllea subsp. multiculmis",null,null,"Poaceae",null,41.2,"Aira caryophyllea subsp. multiculmis_41.2",null,null,null,null,null,null,null,"Aira caryophyllea subsp. multiculmis_41.2"]
["",null,null,null,"","","",null,null,null,null,null,null,null,null,"","","",{"$f":"IF(LEN($F149)<1,\"\",IF(ISBLANK(Checklist!$H$2),\"\",Checklist!$H$2))","v":""},{"$f":"IF(LEN($F149)<1,\"\",IF(ISTEXT(H149),H149,IF(ISTEXT(Checklist!$H$3),Checklist!$H$3,\"NO Grid Ref!!\")))","v":""},{"$f":"IF(LEN($F149)<1,\"\",IF(ISBLANK(Checklist!$H$4),\"NO VC!!\",Checklist!$H$4))","v":""},{"$f":"IF(LEN($F149)<1,\"\",IF(ISBLANK(Checklist!$H$5),\"NO Date!!\",Checklist!$H$5))","v":""},{"$f":"IF(LEN($F149)<1,\"\",IF(ISBLANK(Checklist!$H$6),\"NO Recorder!!\",Checklist!$H$6))","v":""},{"$f":"IF(LEN($F149)<1,\"\",IF(ISTEXT(I149),I149,IF(ISTEXT(Checklist!$H$6),Checklist!$H$6,\"NO Determiner!!\")))","v":""},{"$f":"IF(LEN($F149)<1,\"\",IF(ISTEXT(J149),J149,IF(ISTEXT(Checklist!$H$7),Checklist!$H$7,\"Field record / observation\")))","v":""},"","",null,"","","","","","","","","","","","",null,null,null,null,null,null,null,null,null,null,null,null,null,null,null,null,null,null,null,118,"Anthemis cotula",null,null,5765,"Aira elegantissima","Schur","Delicate Hair-grass","Poaceae",null,5765,"Aira elegantissima_5765",null,null,null,null,null,null,null,"Aira elegantissima_5765"]
["",null,null,null,"","","",null,null,null,null,null,null,null,null,"","","",{"$f":"IF(LEN($F150)<1,\"\",IF(ISBLANK(Checklist!$H$2),\"\",Checklist!$H$2))","v":""},{"$f":"IF(LEN($F150)<1,\"\",IF(ISTEXT(H150),H150,IF(ISTEXT(Checklist!$H$3),Checklist!$H$3,\"NO Grid Ref!!\")))","v":""},{"$f":"IF(LEN($F150)<1,\"\",IF(ISBLANK(Checklist!$H$4),\"NO VC!!\",Checklist!$H$4))","v":""},{"$f":"IF(LEN($F150)<1,\"\",IF(ISBLANK(Checklist!$H$5),\"NO Date!!\",Checklist!$H$5))","v":""},{"$f":"IF(LEN($F150)<1,\"\",IF(ISBLANK(Checklist!$H$6),\"NO Recorder!!\",Checklist!$H$6))","v":""},{"$f":"IF(LEN($F150)<1,\"\",IF(ISTEXT(I150),I150,IF(ISTEXT(Checklist!$H$6),Checklist!$H$6,\"NO Determiner!!\")))","v":""},{"$f":"IF(LEN($F150)<1,\"\",IF(ISTEXT(J150),J150,IF(ISTEXT(Checklist!$H$7),Checklist!$H$7,\"Field record / observation\")))","v":""},"","",null,"","","","","","","","","","","","",null,null,null,null,null,null,null,null,null,null,null,null,null,null,null,null,null,null,null,119,"Chamaemelum nobile",null,null,42,"Aira praecox","L.","Early Hair-grass","Poaceae",null,42,"Aira praecox_42",null,null,null,null,null,null,null,"Aira praecox_42"]
["",null,null,null,"","","",null,null,null,null,null,null,null,null,"","","",{"$f":"IF(LEN($F151)<1,\"\",IF(ISBLANK(Checklist!$H$2),\"\",Checklist!$H$2))","v":""},{"$f":"IF(LEN($F151)<1,\"\",IF(ISTEXT(H151),H151,IF(ISTEXT(Checklist!$H$3),Checklist!$H$3,\"NO Grid Ref!!\")))","v":""},{"$f":"IF(LEN($F151)<1,\"\",IF(ISBLANK(Checklist!$H$4),\"NO VC!!\",Checklist!$H$4))","v":""},{"$f":"IF(LEN($F151)<1,\"\",IF(ISBLANK(Checklist!$H$5),\"NO Date!!\",Checklist!$H$5))","v":""},{"$f":"IF(LEN($F151)<1,\"\",IF(ISBLANK(Checklist!$H$6),\"NO Recorder!!\",Checklist!$H$6))","v":""},{"$f":"IF(LEN($F151)<1,\"\",IF(ISTEXT(I151),I151,IF(ISTEXT(Checklist!$H$6),Checklist!$H$6,\"NO Determiner!!\")))","v":""},{"$f":"IF(LEN($F151)<1,\"\",IF(ISTEXT(J151),J151,IF(ISTEXT(Checklist!$H$7),Checklist!$H$7,\"Field record / observation\")))","v":""},"","",null,"","","","","","","","","","","","",null,null,null,null,null,null,null,null,null,null,null,null,null,null,null,null,null,null,null,120,"Anthemis tinctoria",null,null,43,"Ajuga chamaepitys","L.","Ground-pine","Lamiaceae","Endangered",43,"Ajuga chamaepitys_43",null,null,null,null,null,null,null,"Ajuga chamaepitys_43"]
["",null,null,null,"","","",null,null,null,null,null,null,null,null,"","","",{"$f":"IF(LEN($F152)<1,\"\",IF(ISBLANK(Checklist!$H$2),\"\",Checklist!$H$2))","v":""},{"$f":"IF(LEN($F152)<1,\"\",IF(ISTEXT(H152),H152,IF(ISTEXT(Checklist!$H$3),Checklist!$H$3,\"NO Grid Ref!!\")))","v":""},{"$f":"IF(LEN($F152)<1,\"\",IF(ISBLANK(Checklist!$H$4),\"NO VC!!\",Checklist!$H$4))","v":""},{"$f":"IF(LEN($F152)<1,\"\",IF(ISBLANK(Checklist!$H$5),\"NO Date!!\",Checklist!$H$5))","v":""},{"$f":"IF(LEN($F152)<1,\"\",IF(ISBLANK(Checklist!$H$6),\"NO Recorder!!\",Checklist!$H$6))","v":""},{"$f":"IF(LEN($F152)<1,\"\",IF(ISTEXT(I152),I152,IF(ISTEXT(Checklist!$H$6),Checklist!$H$6,\"NO Determiner!!\")))","v":""},{"$f":"IF(LEN($F152)<1,\"\",IF(ISTEXT(J152),J152,IF(ISTEXT(Checklist!$H$7),Checklist!$H$7,\"Field record / observation\")))","v":""},"","",null,"","","","","","","","","","","","",null,null,null,null,null,null,null,null,null,null,null,null,null,null,null,null,null,null,null,121,"Anthoxanthum odoratum",null,null,44,"Ajuga genevensis","L.","Cornish Bugle","Lamiaceae",null,44,"Ajuga genevensis_44",null,null,null,null,null,null,null,"Ajuga genevensis_44"]
["",null,null,null,"","","",null,null,null,null,null,null,null,null,"","","",{"$f":"IF(LEN($F153)<1,\"\",IF(ISBLANK(Checklist!$H$2),\"\",Checklist!$H$2))","v":""},{"$f":"IF(LEN($F153)<1,\"\",IF(ISTEXT(H153),H153,IF(ISTEXT(Checklist!$H$3),Checklist!$H$3,\"NO Grid Ref!!\")))","v":""},{"$f":"IF(LEN($F153)<1,\"\",IF(ISBLANK(Checklist!$H$4),\"NO VC!!\",Checklist!$H$4))","v":""},{"$f":"IF(LEN($F153)<1,\"\",IF(ISBLANK(Checklist!$H$5),\"NO Date!!\",Checklist!$H$5))","v":""},{"$f":"IF(LEN($F153)<1,\"\",IF(ISBLANK(Checklist!$H$6),\"NO Recorder!!\",Checklist!$H$6))","v":""},{"$f":"IF(LEN($F153)<1,\"\",IF(ISTEXT(I153),I153,IF(ISTEXT(Checklist!$H$6),Checklist!$H$6,\"NO Determiner!!\")))","v":""},{"$f":"IF(LEN($F153)<1,\"\",IF(ISTEXT(J153),J153,IF(ISTEXT(Checklist!$H$7),Checklist!$H$7,\"Field record / observation\")))","v":""},"","",null,"","","","","","","","","","","","",null,null,null,null,null,null,null,null,null,null,null,null,null,null,null,null,null,null,null,122,"Anthoxanthum aristatum",null,null,45,"Ajuga pyramidalis","L.","Pyramidal Bugle","Lamiaceae","Vulnerable",45,"Ajuga pyramidalis_45",null,null,null,null,null,null,null,"Ajuga pyramidalis_45"]
["",null,null,null,"","","",null,null,null,null,null,null,null,null,"","","",{"$f":"IF(LEN($F154)<1,\"\",IF(ISBLANK(Checklist!$H$2),\"\",Checklist!$H$2))","v":""},{"$f":"IF(LEN($F154)<1,\"\",IF(ISTEXT(H154),H154,IF(ISTEXT(Checklist!$H$3),Checklist!$H$3,\"NO Grid Ref!!\")))","v":""},{"$f":"IF(LEN($F154)<1,\"\",IF(ISBLANK(Checklist!$H$4),\"NO VC!!\",Checklist!$H$4))","v":""},{"$f":"IF(LEN($F154)<1,\"\",IF(ISBLANK(Checklist!$H$5),\"NO Date!!\",Checklist!$H$5))","v":""},{"$f":"IF(LEN($F154)<1,\"\",IF(ISBLANK(Checklist!$H$6),\"NO Recorder!!\",Checklist!$H$6))","v":""},{"$f":"IF(LEN($F154)<1,\"\",IF(ISTEXT(I154),I154,IF(ISTEXT(Checklist!$H$6),Checklist!$H$6,\"NO Determiner!!\")))","v":""},{"$f":"IF(LEN($F154)<1,\"\",IF(ISTEXT(J154),J154,IF(ISTEXT(Checklist!$H$7),Checklist!$H$7,\"Field record / observation\")))","v":""},"","",null,"","","","","","","","","","","","",null,null,null,null,null,null,null,null,null,null,null,null,null,null,null,null,null,null,null,123,"Anthriscus caucalis",null,null,46,"Ajuga reptans","Linnaeus","Bugle","Lamiaceae",null,46,"Ajuga reptans_46",null,null,null,null,null,null,null,"Ajuga reptans_46"]
["",null,null,null,"","","",null,null,null,null,null,null,null,null,"","","",{"$f":"IF(LEN($F155)<1,\"\",IF(ISBLANK(Checklist!$H$2),\"\",Checklist!$H$2))","v":""},{"$f":"IF(LEN($F155)<1,\"\",IF(ISTEXT(H155),H155,IF(ISTEXT(Checklist!$H$3),Checklist!$H$3,\"NO Grid Ref!!\")))","v":""},{"$f":"IF(LEN($F155)<1,\"\",IF(ISBLANK(Checklist!$H$4),\"NO VC!!\",Checklist!$H$4))","v":""},{"$f":"IF(LEN($F155)<1,\"\",IF(ISBLANK(Checklist!$H$5),\"NO Date!!\",Checklist!$H$5))","v":""},{"$f":"IF(LEN($F155)<1,\"\",IF(ISBLANK(Checklist!$H$6),\"NO Recorder!!\",Checklist!$H$6))","v":""},{"$f":"IF(LEN($F155)<1,\"\",IF(ISTEXT(I155),I155,IF(ISTEXT(Checklist!$H$6),Checklist!$H$6,\"NO Determiner!!\")))","v":""},{"$f":"IF(LEN($F155)<1,\"\",IF(ISTEXT(J155),J155,IF(ISTEXT(Checklist!$H$7),Checklist!$H$7,\"Field record / observation\")))","v":""},"","",null,"","","","","","","","","","","","",null,null,null,null,null,null,null,null,null,null,null,null,null,null,null,null,null,null,null,124,"Anthriscus cerefolium",null,null,2819,"Ajuga x pseudopyramidalis","Schur","A. pyramidalis x reptans","Lamiaceae","Vulnerable",2819,"Ajuga x pseudopyramidalis_2819",null,null,null,null,null,null,null,"Ajuga x pseudopyramidalis_2819"]
["",null,null,null,"","","",null,null,null,null,null,null,null,null,"","","",{"$f":"IF(LEN($F156)<1,\"\",IF(ISBLANK(Checklist!$H$2),\"\",Checklist!$H$2))","v":""},{"$f":"IF(LEN($F156)<1,\"\",IF(ISTEXT(H156),H156,IF(ISTEXT(Checklist!$H$3),Checklist!$H$3,\"NO Grid Ref!!\")))","v":""},{"$f":"IF(LEN($F156)<1,\"\",IF(ISBLANK(Checklist!$H$4),\"NO VC!!\",Checklist!$H$4))","v":""},{"$f":"IF(LEN($F156)<1,\"\",IF(ISBLANK(Checklist!$H$5),\"NO Date!!\",Checklist!$H$5))","v":""},{"$f":"IF(LEN($F156)<1,\"\",IF(ISBLANK(Checklist!$H$6),\"NO Recorder!!\",Checklist!$H$6))","v":""},{"$f":"IF(LEN($F156)<1,\"\",IF(ISTEXT(I156),I156,IF(ISTEXT(Checklist!$H$6),Checklist!$H$6,\"NO Determiner!!\")))","v":""},{"$f":"IF(LEN($F156)<1,\"\",IF(ISTEXT(J156),J156,IF(ISTEXT(Checklist!$H$7),Checklist!$H$7,\"Field record / observation\")))","v":""},"","",null,"","","","","","","","","","","","",null,null,null,null,null,null,null,null,null,null,null,null,null,null,null,null,null,null,null,125,"Anthriscus sylvestris",null,null,5768,"Akebia quinata","(Houtt.) Decne.","Five-leaf Akebia","Lardizabalaceae",null,5768,"Akebia quinata_5768",null,null,null,null,null,null,null,"Akebia quinata_5768"]
["",null,null,null,"","","",null,null,null,null,null,null,null,null,"","","",{"$f":"IF(LEN($F157)<1,\"\",IF(ISBLANK(Checklist!$H$2),\"\",Checklist!$H$2))","v":""},{"$f":"IF(LEN($F157)<1,\"\",IF(ISTEXT(H157),H157,IF(ISTEXT(Checklist!$H$3),Checklist!$H$3,\"NO Grid Ref!!\")))","v":""},{"$f":"IF(LEN($F157)<1,\"\",IF(ISBLANK(Checklist!$H$4),\"NO VC!!\",Checklist!$H$4))","v":""},{"$f":"IF(LEN($F157)<1,\"\",IF(ISBLANK(Checklist!$H$5),\"NO Date!!\",Checklist!$H$5))","v":""},{"$f":"IF(LEN($F157)<1,\"\",IF(ISBLANK(Checklist!$H$6),\"NO Recorder!!\",Checklist!$H$6))","v":""},{"$f":"IF(LEN($F157)<1,\"\",IF(ISTEXT(I157),I157,IF(ISTEXT(Checklist!$H$6),Checklist!$H$6,\"NO Determiner!!\")))","v":""},{"$f":"IF(LEN($F157)<1,\"\",IF(ISTEXT(J157),J157,IF(ISTEXT(Checklist!$H$7),Checklist!$H$7,\"Field record / observation\")))","v":""},"","",null,"","","","","","","","","","","","",null,null,null,null,null,null,null,null,null,null,null,null,null,null,null,null,null,null,null,126,"Anthyllis vulneraria",null,null,7936,"Albizia lophantha","Benth.",null,"Mimosaceae",null,7936,"Albizia lophantha_7936",null,null,null,null,null,null,null,"Albizia lophantha_7936"]
["",null,null,null,"","","",null,null,null,null,null,null,null,null,"","","",{"$f":"IF(LEN($F158)<1,\"\",IF(ISBLANK(Checklist!$H$2),\"\",Checklist!$H$2))","v":""},{"$f":"IF(LEN($F158)<1,\"\",IF(ISTEXT(H158),H158,IF(ISTEXT(Checklist!$H$3),Checklist!$H$3,\"NO Grid Ref!!\")))","v":""},{"$f":"IF(LEN($F158)<1,\"\",IF(ISBLANK(Checklist!$H$4),\"NO VC!!\",Checklist!$H$4))","v":""},{"$f":"IF(LEN($F158)<1,\"\",IF(ISBLANK(Checklist!$H$5),\"NO Date!!\",Checklist!$H$5))","v":""},{"$f":"IF(LEN($F158)<1,\"\",IF(ISBLANK(Checklist!$H$6),\"NO Recorder!!\",Checklist!$H$6))","v":""},{"$f":"IF(LEN($F158)<1,\"\",IF(ISTEXT(I158),I158,IF(ISTEXT(Checklist!$H$6),Checklist!$H$6,\"NO Determiner!!\")))","v":""},{"$f":"IF(LEN($F158)<1,\"\",IF(ISTEXT(J158),J158,IF(ISTEXT(Checklist!$H$7),Checklist!$H$7,\"Field record / observation\")))","v":""},"","",null,"","","","","","","","","","","","",null,null,null,null,null,null,null,null,null,null,null,null,null,null,null,null,null,null,null,126.1,"Anthyllis vulneraria subsp. corbierei",null,null,88,"Alcea rosea","Linnaeus","Hollyhock","Malvaceae",null,88,"Alcea rosea_88",null,null,null,null,null,null,null,"Alcea rosea_88"]
["",null,null,null,"","","",null,null,null,null,null,null,null,null,"","","",{"$f":"IF(LEN($F159)<1,\"\",IF(ISBLANK(Checklist!$H$2),\"\",Checklist!$H$2))","v":""},{"$f":"IF(LEN($F159)<1,\"\",IF(ISTEXT(H159),H159,IF(ISTEXT(Checklist!$H$3),Checklist!$H$3,\"NO Grid Ref!!\")))","v":""},{"$f":"IF(LEN($F159)<1,\"\",IF(ISBLANK(Checklist!$H$4),\"NO VC!!\",Checklist!$H$4))","v":""},{"$f":"IF(LEN($F159)<1,\"\",IF(ISBLANK(Checklist!$H$5),\"NO Date!!\",Checklist!$H$5))","v":""},{"$f":"IF(LEN($F159)<1,\"\",IF(ISBLANK(Checklist!$H$6),\"NO Recorder!!\",Checklist!$H$6))","v":""},{"$f":"IF(LEN($F159)<1,\"\",IF(ISTEXT(I159),I159,IF(ISTEXT(Checklist!$H$6),Checklist!$H$6,\"NO Determiner!!\")))","v":""},{"$f":"IF(LEN($F159)<1,\"\",IF(ISTEXT(J159),J159,IF(ISTEXT(Checklist!$H$7),Checklist!$H$7,\"Field record / observation\")))","v":""},"","",null,"","","","","","","","","","","","",null,null,null,null,null,null,null,null,null,null,null,null,null,null,null,null,null,null,null,126.2,"Anthyllis vulneraria subsp. lapponica",null,null,47,"Alchemilla acutiloba","Opiz",null,"Rosaceae","Vulnerable",47,"Alchemilla acutiloba_47",null,null,null,null,null,null,null,"Alchemilla acutiloba_47"]
["",null,null,null,"","","",null,null,null,null,null,null,null,null,"","","",{"$f":"IF(LEN($F160)<1,\"\",IF(ISBLANK(Checklist!$H$2),\"\",Checklist!$H$2))","v":""},{"$f":"IF(LEN($F160)<1,\"\",IF(ISTEXT(H160),H160,IF(ISTEXT(Checklist!$H$3),Checklist!$H$3,\"NO Grid Ref!!\")))","v":""},{"$f":"IF(LEN($F160)<1,\"\",IF(ISBLANK(Checklist!$H$4),\"NO VC!!\",Checklist!$H$4))","v":""},{"$f":"IF(LEN($F160)<1,\"\",IF(ISBLANK(Checklist!$H$5),\"NO Date!!\",Checklist!$H$5))","v":""},{"$f":"IF(LEN($F160)<1,\"\",IF(ISBLANK(Checklist!$H$6),\"NO Recorder!!\",Checklist!$H$6))","v":""},{"$f":"IF(LEN($F160)<1,\"\",IF(ISTEXT(I160),I160,IF(ISTEXT(Checklist!$H$6),Checklist!$H$6,\"NO Determiner!!\")))","v":""},{"$f":"IF(LEN($F160)<1,\"\",IF(ISTEXT(J160),J160,IF(ISTEXT(Checklist!$H$7),Checklist!$H$7,\"Field record / observation\")))","v":""},"","",null,"","","","","","","","","","","","",null,null,null,null,null,null,null,null,null,null,null,null,null,null,null,null,null,null,null,126.3,"Anthyllis vulneraria subsp. carpatica",null,null,48,"Alchemilla alpina","L.","Alpine Lady's-mantle","Rosaceae",null,48,"Alchemilla alpina_48",null,null,null,null,null,null,null,"Alchemilla alpina_48"]
["",null,null,null,"","","",null,null,null,null,null,null,null,null,"","","",{"$f":"IF(LEN($F161)<1,\"\",IF(ISBLANK(Checklist!$H$2),\"\",Checklist!$H$2))","v":""},{"$f":"IF(LEN($F161)<1,\"\",IF(ISTEXT(H161),H161,IF(ISTEXT(Checklist!$H$3),Checklist!$H$3,\"NO Grid Ref!!\")))","v":""},{"$f":"IF(LEN($F161)<1,\"\",IF(ISBLANK(Checklist!$H$4),\"NO VC!!\",Checklist!$H$4))","v":""},{"$f":"IF(LEN($F161)<1,\"\",IF(ISBLANK(Checklist!$H$5),\"NO Date!!\",Checklist!$H$5))","v":""},{"$f":"IF(LEN($F161)<1,\"\",IF(ISBLANK(Checklist!$H$6),\"NO Recorder!!\",Checklist!$H$6))","v":""},{"$f":"IF(LEN($F161)<1,\"\",IF(ISTEXT(I161),I161,IF(ISTEXT(Checklist!$H$6),Checklist!$H$6,\"NO Determiner!!\")))","v":""},{"$f":"IF(LEN($F161)<1,\"\",IF(ISTEXT(J161),J161,IF(ISTEXT(Checklist!$H$7),Checklist!$H$7,\"Field record / observation\")))","v":""},"","",null,"","","","","","","","","","","","",null,null,null,null,null,null,null,null,null,null,null,null,null,null,null,null,null,null,null,126.4,"Anthyllis vulneraria subsp. vulneraria",null,null,49,"Alchemilla conjuncta","Bab.","Silver Lady's-mantle","Rosaceae",null,49,"Alchemilla conjuncta_49",null,null,null,null,null,null,null,"Alchemilla conjuncta_49"]
["",null,null,null,"","","",null,null,null,null,null,null,null,null,"","","",{"$f":"IF(LEN($F162)<1,\"\",IF(ISBLANK(Checklist!$H$2),\"\",Checklist!$H$2))","v":""},{"$f":"IF(LEN($F162)<1,\"\",IF(ISTEXT(H162),H162,IF(ISTEXT(Checklist!$H$3),Checklist!$H$3,\"NO Grid Ref!!\")))","v":""},{"$f":"IF(LEN($F162)<1,\"\",IF(ISBLANK(Checklist!$H$4),\"NO VC!!\",Checklist!$H$4))","v":""},{"$f":"IF(LEN($F162)<1,\"\",IF(ISBLANK(Checklist!$H$5),\"NO Date!!\",Checklist!$H$5))","v":""},{"$f":"IF(LEN($F162)<1,\"\",IF(ISBLANK(Checklist!$H$6),\"NO Recorder!!\",Checklist!$H$6))","v":""},{"$f":"IF(LEN($F162)<1,\"\",IF(ISTEXT(I162),I162,IF(ISTEXT(Checklist!$H$6),Checklist!$H$6,\"NO Determiner!!\")))","v":""},{"$f":"IF(LEN($F162)<1,\"\",IF(ISTEXT(J162),J162,IF(ISTEXT(Checklist!$H$7),Checklist!$H$7,\"Field record / observation\")))","v":""},"","",null,"","","","","","","","","","","","",null,null,null,null,null,null,null,null,null,null,null,null,null,null,null,null,null,null,null,126.5,"Anthyllis vulneraria subsp. polyphylla",null,null,4480,"Alchemilla filicaulis","Buser","Hairy Lady's-mantle","Rosaceae",null,4480,"Alchemilla filicaulis_4480",null,null,null,null,null,null,null,"Alchemilla filicaulis_4480"]
["",null,null,null,"","","",null,null,null,null,null,null,null,null,"","","",{"$f":"IF(LEN($F163)<1,\"\",IF(ISBLANK(Checklist!$H$2),\"\",Checklist!$H$2))","v":""},{"$f":"IF(LEN($F163)<1,\"\",IF(ISTEXT(H163),H163,IF(ISTEXT(Checklist!$H$3),Checklist!$H$3,\"NO Grid Ref!!\")))","v":""},{"$f":"IF(LEN($F163)<1,\"\",IF(ISBLANK(Checklist!$H$4),\"NO VC!!\",Checklist!$H$4))","v":""},{"$f":"IF(LEN($F163)<1,\"\",IF(ISBLANK(Checklist!$H$5),\"NO Date!!\",Checklist!$H$5))","v":""},{"$f":"IF(LEN($F163)<1,\"\",IF(ISBLANK(Checklist!$H$6),\"NO Recorder!!\",Checklist!$H$6))","v":""},{"$f":"IF(LEN($F163)<1,\"\",IF(ISTEXT(I163),I163,IF(ISTEXT(Checklist!$H$6),Checklist!$H$6,\"NO Determiner!!\")))","v":""},{"$f":"IF(LEN($F163)<1,\"\",IF(ISTEXT(J163),J163,IF(ISTEXT(Checklist!$H$7),Checklist!$H$7,\"Field record / observation\")))","v":""},"","",null,"","","","","","","","","","","","",null,null,null,null,null,null,null,null,null,null,null,null,null,null,null,null,null,null,null,126.6,"Anthyllis vulneraria subsp. vulneraria var. vulneraria",null,null,50,"Alchemilla filicaulis subsp. filicaulis","Jacquet",null,"Rosaceae",null,50,"Alchemilla filicaulis subsp. filicaulis_50",null,null,null,null,null,null,null,"Alchemilla filicaulis subsp. filicaulis_50"]
["",null,null,null,"","","",null,null,null,null,null,null,null,null,"","","",{"$f":"IF(LEN($F164)<1,\"\",IF(ISBLANK(Checklist!$H$2),\"\",Checklist!$H$2))","v":""},{"$f":"IF(LEN($F164)<1,\"\",IF(ISTEXT(H164),H164,IF(ISTEXT(Checklist!$H$3),Checklist!$H$3,\"NO Grid Ref!!\")))","v":""},{"$f":"IF(LEN($F164)<1,\"\",IF(ISBLANK(Checklist!$H$4),\"NO VC!!\",Checklist!$H$4))","v":""},{"$f":"IF(LEN($F164)<1,\"\",IF(ISBLANK(Checklist!$H$5),\"NO Date!!\",Checklist!$H$5))","v":""},{"$f":"IF(LEN($F164)<1,\"\",IF(ISBLANK(Checklist!$H$6),\"NO Recorder!!\",Checklist!$H$6))","v":""},{"$f":"IF(LEN($F164)<1,\"\",IF(ISTEXT(I164),I164,IF(ISTEXT(Checklist!$H$6),Checklist!$H$6,\"NO Determiner!!\")))","v":""},{"$f":"IF(LEN($F164)<1,\"\",IF(ISTEXT(J164),J164,IF(ISTEXT(Checklist!$H$7),Checklist!$H$7,\"Field record / observation\")))","v":""},"","",null,"","","","","","","","","","","","",null,null,null,null,null,null,null,null,null,null,null,null,null,null,null,null,null,null,null,126.7,"Anthyllis vulneraria subsp. vulneraria var. langei",null,null,57,"Alchemilla filicaulis subsp. vestita","(Buser) M.E. Bradshaw","Common Lady's mantle","Rosaceae",null,57,"Alchemilla filicaulis subsp. vestita_57",null,null,null,null,null,null,null,"Alchemilla filicaulis subsp. vestita_57"]
["",null,null,null,"","","",null,null,null,null,null,null,null,null,"","","",{"$f":"IF(LEN($F165)<1,\"\",IF(ISBLANK(Checklist!$H$2),\"\",Checklist!$H$2))","v":""},{"$f":"IF(LEN($F165)<1,\"\",IF(ISTEXT(H165),H165,IF(ISTEXT(Checklist!$H$3),Checklist!$H$3,\"NO Grid Ref!!\")))","v":""},{"$f":"IF(LEN($F165)<1,\"\",IF(ISBLANK(Checklist!$H$4),\"NO VC!!\",Checklist!$H$4))","v":""},{"$f":"IF(LEN($F165)<1,\"\",IF(ISBLANK(Checklist!$H$5),\"NO Date!!\",Checklist!$H$5))","v":""},{"$f":"IF(LEN($F165)<1,\"\",IF(ISBLANK(Checklist!$H$6),\"NO Recorder!!\",Checklist!$H$6))","v":""},{"$f":"IF(LEN($F165)<1,\"\",IF(ISTEXT(I165),I165,IF(ISTEXT(Checklist!$H$6),Checklist!$H$6,\"NO Determiner!!\")))","v":""},{"$f":"IF(LEN($F165)<1,\"\",IF(ISTEXT(J165),J165,IF(ISTEXT(Checklist!$H$7),Checklist!$H$7,\"Field record / observation\")))","v":""},"","",null,"","","","","","","","","","","","",null,null,null,null,null,null,null,null,null,null,null,null,null,null,null,null,null,null,null,126.8,"Anthyllis vulneraria subsp. vulneraria var. coccinea",null,null,51,"Alchemilla glabra","Neygenf.","Smooth Lady's-mantle","Rosaceae",null,51,"Alchemilla glabra_51",null,null,null,null,null,null,null,"Alchemilla glabra_51"]
["",null,null,null,"","","",null,null,null,null,null,null,null,null,"","","",{"$f":"IF(LEN($F166)<1,\"\",IF(ISBLANK(Checklist!$H$2),\"\",Checklist!$H$2))","v":""},{"$f":"IF(LEN($F166)<1,\"\",IF(ISTEXT(H166),H166,IF(ISTEXT(Checklist!$H$3),Checklist!$H$3,\"NO Grid Ref!!\")))","v":""},{"$f":"IF(LEN($F166)<1,\"\",IF(ISBLANK(Checklist!$H$4),\"NO VC!!\",Checklist!$H$4))","v":""},{"$f":"IF(LEN($F166)<1,\"\",IF(ISBLANK(Checklist!$H$5),\"NO Date!!\",Checklist!$H$5))","v":""},{"$f":"IF(LEN($F166)<1,\"\",IF(ISBLANK(Checklist!$H$6),\"NO Recorder!!\",Checklist!$H$6))","v":""},{"$f":"IF(LEN($F166)<1,\"\",IF(ISTEXT(I166),I166,IF(ISTEXT(Checklist!$H$6),Checklist!$H$6,\"NO Determiner!!\")))","v":""},{"$f":"IF(LEN($F166)<1,\"\",IF(ISTEXT(J166),J166,IF(ISTEXT(Checklist!$H$7),Checklist!$H$7,\"Field record / observation\")))","v":""},"","",null,"","","","","","","","","","","","",null,null,null,null,null,null,null,null,null,null,null,null,null,null,null,null,null,null,null,127,"Antirrhinum majus",null,null,54,"Alchemilla glaucescens","Wallr.",null,"Rosaceae","Nationally Scarce",54,"Alchemilla glaucescens_54",null,null,null,null,null,null,null,"Alchemilla glaucescens_54"]
["",null,null,null,"","","",null,null,null,null,null,null,null,null,"","","",{"$f":"IF(LEN($F167)<1,\"\",IF(ISBLANK(Checklist!$H$2),\"\",Checklist!$H$2))","v":""},{"$f":"IF(LEN($F167)<1,\"\",IF(ISTEXT(H167),H167,IF(ISTEXT(Checklist!$H$3),Checklist!$H$3,\"NO Grid Ref!!\")))","v":""},{"$f":"IF(LEN($F167)<1,\"\",IF(ISBLANK(Checklist!$H$4),\"NO VC!!\",Checklist!$H$4))","v":""},{"$f":"IF(LEN($F167)<1,\"\",IF(ISBLANK(Checklist!$H$5),\"NO Date!!\",Checklist!$H$5))","v":""},{"$f":"IF(LEN($F167)<1,\"\",IF(ISBLANK(Checklist!$H$6),\"NO Recorder!!\",Checklist!$H$6))","v":""},{"$f":"IF(LEN($F167)<1,\"\",IF(ISTEXT(I167),I167,IF(ISTEXT(Checklist!$H$6),Checklist!$H$6,\"NO Determiner!!\")))","v":""},{"$f":"IF(LEN($F167)<1,\"\",IF(ISTEXT(J167),J167,IF(ISTEXT(Checklist!$H$7),Checklist!$H$7,\"Field record / observation\")))","v":""},"","",null,"","","","","","","","","","","","",null,null,null,null,null,null,null,null,null,null,null,null,null,null,null,null,null,null,null,128,"Misopates orontium",null,null,52,"Alchemilla glomerulans","Buser",null,"Rosaceae","Vulnerable",52,"Alchemilla glomerulans_52",null,null,null,null,null,null,null,"Alchemilla glomerulans_52"]
["",null,null,null,"","","",null,null,null,null,null,null,null,null,"","","",{"$f":"IF(LEN($F168)<1,\"\",IF(ISBLANK(Checklist!$H$2),\"\",Checklist!$H$2))","v":""},{"$f":"IF(LEN($F168)<1,\"\",IF(ISTEXT(H168),H168,IF(ISTEXT(Checklist!$H$3),Checklist!$H$3,\"NO Grid Ref!!\")))","v":""},{"$f":"IF(LEN($F168)<1,\"\",IF(ISBLANK(Checklist!$H$4),\"NO VC!!\",Checklist!$H$4))","v":""},{"$f":"IF(LEN($F168)<1,\"\",IF(ISBLANK(Checklist!$H$5),\"NO Date!!\",Checklist!$H$5))","v":""},{"$f":"IF(LEN($F168)<1,\"\",IF(ISBLANK(Checklist!$H$6),\"NO Recorder!!\",Checklist!$H$6))","v":""},{"$f":"IF(LEN($F168)<1,\"\",IF(ISTEXT(I168),I168,IF(ISTEXT(Checklist!$H$6),Checklist!$H$6,\"NO Determiner!!\")))","v":""},{"$f":"IF(LEN($F168)<1,\"\",IF(ISTEXT(J168),J168,IF(ISTEXT(Checklist!$H$7),Checklist!$H$7,\"Field record / observation\")))","v":""},"","",null,"","","","","","","","","","","","",null,null,null,null,null,null,null,null,null,null,null,null,null,null,null,null,null,null,null,129,"Apera interrupta",null,null,2552,"Alchemilla micans","Buser",null,"Rosaceae","Endangered",2552,"Alchemilla micans_2552",null,null,null,null,null,null,null,"Alchemilla micans_2552"]
["",null,null,null,"","","",null,null,null,null,null,null,null,null,"","","",{"$f":"IF(LEN($F169)<1,\"\",IF(ISBLANK(Checklist!$H$2),\"\",Checklist!$H$2))","v":""},{"$f":"IF(LEN($F169)<1,\"\",IF(ISTEXT(H169),H169,IF(ISTEXT(Checklist!$H$3),Checklist!$H$3,\"NO Grid Ref!!\")))","v":""},{"$f":"IF(LEN($F169)<1,\"\",IF(ISBLANK(Checklist!$H$4),\"NO VC!!\",Checklist!$H$4))","v":""},{"$f":"IF(LEN($F169)<1,\"\",IF(ISBLANK(Checklist!$H$5),\"NO Date!!\",Checklist!$H$5))","v":""},{"$f":"IF(LEN($F169)<1,\"\",IF(ISBLANK(Checklist!$H$6),\"NO Recorder!!\",Checklist!$H$6))","v":""},{"$f":"IF(LEN($F169)<1,\"\",IF(ISTEXT(I169),I169,IF(ISTEXT(Checklist!$H$6),Checklist!$H$6,\"NO Determiner!!\")))","v":""},{"$f":"IF(LEN($F169)<1,\"\",IF(ISTEXT(J169),J169,IF(ISTEXT(Checklist!$H$7),Checklist!$H$7,\"Field record / observation\")))","v":""},"","",null,"","","","","","","","","","","","",null,null,null,null,null,null,null,null,null,null,null,null,null,null,null,null,null,null,null,130,"Apera spica-venti",null,null,53,"Alchemilla minima","Walters",null,"Rosaceae","BAP",53,"Alchemilla minima_53",null,null,null,null,null,null,null,"Alchemilla minima_53"]
["",null,null,null,"","","",null,null,null,null,null,null,null,null,"","","",{"$f":"IF(LEN($F170)<1,\"\",IF(ISBLANK(Checklist!$H$2),\"\",Checklist!$H$2))","v":""},{"$f":"IF(LEN($F170)<1,\"\",IF(ISTEXT(H170),H170,IF(ISTEXT(Checklist!$H$3),Checklist!$H$3,\"NO Grid Ref!!\")))","v":""},{"$f":"IF(LEN($F170)<1,\"\",IF(ISBLANK(Checklist!$H$4),\"NO VC!!\",Checklist!$H$4))","v":""},{"$f":"IF(LEN($F170)<1,\"\",IF(ISBLANK(Checklist!$H$5),\"NO Date!!\",Checklist!$H$5))","v":""},{"$f":"IF(LEN($F170)<1,\"\",IF(ISBLANK(Checklist!$H$6),\"NO Recorder!!\",Checklist!$H$6))","v":""},{"$f":"IF(LEN($F170)<1,\"\",IF(ISTEXT(I170),I170,IF(ISTEXT(Checklist!$H$6),Checklist!$H$6,\"NO Determiner!!\")))","v":""},{"$f":"IF(LEN($F170)<1,\"\",IF(ISTEXT(J170),J170,IF(ISTEXT(Checklist!$H$7),Checklist!$H$7,\"Field record / observation\")))","v":""},"","",null,"","","","","","","","","","","","",null,null,null,null,null,null,null,null,null,null,null,null,null,null,null,null,null,null,null,131,"Aphanes arvensis agg.",null,null,2255,"Alchemilla mollis","(Buser) Rothm.","Garden Lady's-mantle","Rosaceae",null,2255,"Alchemilla mollis_2255",null,null,null,null,null,null,null,"Alchemilla mollis_2255"]
["",null,null,null,"","","",null,null,null,null,null,null,null,null,"","","",{"$f":"IF(LEN($F171)<1,\"\",IF(ISBLANK(Checklist!$H$2),\"\",Checklist!$H$2))","v":""},{"$f":"IF(LEN($F171)<1,\"\",IF(ISTEXT(H171),H171,IF(ISTEXT(Checklist!$H$3),Checklist!$H$3,\"NO Grid Ref!!\")))","v":""},{"$f":"IF(LEN($F171)<1,\"\",IF(ISBLANK(Checklist!$H$4),\"NO VC!!\",Checklist!$H$4))","v":""},{"$f":"IF(LEN($F171)<1,\"\",IF(ISBLANK(Checklist!$H$5),\"NO Date!!\",Checklist!$H$5))","v":""},{"$f":"IF(LEN($F171)<1,\"\",IF(ISBLANK(Checklist!$H$6),\"NO Recorder!!\",Checklist!$H$6))","v":""},{"$f":"IF(LEN($F171)<1,\"\",IF(ISTEXT(I171),I171,IF(ISTEXT(Checklist!$H$6),Checklist!$H$6,\"NO Determiner!!\")))","v":""},{"$f":"IF(LEN($F171)<1,\"\",IF(ISTEXT(J171),J171,IF(ISTEXT(Checklist!$H$7),Checklist!$H$7,\"Field record / observation\")))","v":""},"","",null,"","","","","","","","","","","","",null,null,null,null,null,null,null,null,null,null,null,null,null,null,null,null,null,null,null,132,"Aphanes arvensis",null,null,55,"Alchemilla monticola","Opiz",null,"Rosaceae","Endangered",55,"Alchemilla monticola_55",null,null,null,null,null,null,null,"Alchemilla monticola_55"]
["",null,null,null,"","","",null,null,null,null,null,null,null,null,"","","",{"$f":"IF(LEN($F172)<1,\"\",IF(ISBLANK(Checklist!$H$2),\"\",Checklist!$H$2))","v":""},{"$f":"IF(LEN($F172)<1,\"\",IF(ISTEXT(H172),H172,IF(ISTEXT(Checklist!$H$3),Checklist!$H$3,\"NO Grid Ref!!\")))","v":""},{"$f":"IF(LEN($F172)<1,\"\",IF(ISBLANK(Checklist!$H$4),\"NO VC!!\",Checklist!$H$4))","v":""},{"$f":"IF(LEN($F172)<1,\"\",IF(ISBLANK(Checklist!$H$5),\"NO Date!!\",Checklist!$H$5))","v":""},{"$f":"IF(LEN($F172)<1,\"\",IF(ISBLANK(Checklist!$H$6),\"NO Recorder!!\",Checklist!$H$6))","v":""},{"$f":"IF(LEN($F172)<1,\"\",IF(ISTEXT(I172),I172,IF(ISTEXT(Checklist!$H$6),Checklist!$H$6,\"NO Determiner!!\")))","v":""},{"$f":"IF(LEN($F172)<1,\"\",IF(ISTEXT(J172),J172,IF(ISTEXT(Checklist!$H$7),Checklist!$H$7,\"Field record / observation\")))","v":""},"","",null,"","","","","","","","","","","","",null,null,null,null,null,null,null,null,null,null,null,null,null,null,null,null,null,null,null,133,"Aphanes australis",null,null,56,"Alchemilla subcrenata","Buser",null,"Rosaceae","Endangered",56,"Alchemilla subcrenata_56",null,null,null,null,null,null,null,"Alchemilla subcrenata_56"]
["",null,null,null,"","","",null,null,null,null,null,null,null,null,"","","",{"$f":"IF(LEN($F173)<1,\"\",IF(ISBLANK(Checklist!$H$2),\"\",Checklist!$H$2))","v":""},{"$f":"IF(LEN($F173)<1,\"\",IF(ISTEXT(H173),H173,IF(ISTEXT(Checklist!$H$3),Checklist!$H$3,\"NO Grid Ref!!\")))","v":""},{"$f":"IF(LEN($F173)<1,\"\",IF(ISBLANK(Checklist!$H$4),\"NO VC!!\",Checklist!$H$4))","v":""},{"$f":"IF(LEN($F173)<1,\"\",IF(ISBLANK(Checklist!$H$5),\"NO Date!!\",Checklist!$H$5))","v":""},{"$f":"IF(LEN($F173)<1,\"\",IF(ISBLANK(Checklist!$H$6),\"NO Recorder!!\",Checklist!$H$6))","v":""},{"$f":"IF(LEN($F173)<1,\"\",IF(ISTEXT(I173),I173,IF(ISTEXT(Checklist!$H$6),Checklist!$H$6,\"NO Determiner!!\")))","v":""},{"$f":"IF(LEN($F173)<1,\"\",IF(ISTEXT(J173),J173,IF(ISTEXT(Checklist!$H$7),Checklist!$H$7,\"Field record / observation\")))","v":""},"","",null,"","","","","","","","","","","","",null,null,null,null,null,null,null,null,null,null,null,null,null,null,null,null,null,null,null,134,"Apium graveolens",null,null,2275,"Alchemilla tytthantha","Juz.",null,"Rosaceae",null,2275,"Alchemilla tytthantha_2275",null,null,null,null,null,null,null,"Alchemilla tytthantha_2275"]
["",null,null,null,"","","",null,null,null,null,null,null,null,null,"","","",{"$f":"IF(LEN($F174)<1,\"\",IF(ISBLANK(Checklist!$H$2),\"\",Checklist!$H$2))","v":""},{"$f":"IF(LEN($F174)<1,\"\",IF(ISTEXT(H174),H174,IF(ISTEXT(Checklist!$H$3),Checklist!$H$3,\"NO Grid Ref!!\")))","v":""},{"$f":"IF(LEN($F174)<1,\"\",IF(ISBLANK(Checklist!$H$4),\"NO VC!!\",Checklist!$H$4))","v":""},{"$f":"IF(LEN($F174)<1,\"\",IF(ISBLANK(Checklist!$H$5),\"NO Date!!\",Checklist!$H$5))","v":""},{"$f":"IF(LEN($F174)<1,\"\",IF(ISBLANK(Checklist!$H$6),\"NO Recorder!!\",Checklist!$H$6))","v":""},{"$f":"IF(LEN($F174)<1,\"\",IF(ISTEXT(I174),I174,IF(ISTEXT(Checklist!$H$6),Checklist!$H$6,\"NO Determiner!!\")))","v":""},{"$f":"IF(LEN($F174)<1,\"\",IF(ISTEXT(J174),J174,IF(ISTEXT(Checklist!$H$7),Checklist!$H$7,\"Field record / observation\")))","v":""},"","",null,"","","","","","","","","","","","",null,null,null,null,null,null,null,null,null,null,null,null,null,null,null,null,null,null,null,134.1,"Apium graveolens var. dulce",null,null,58,"Alchemilla vulgaris agg.",null,null,"Rosaceae",null,58,"Alchemilla vulgaris agg._58",null,null,null,null,null,null,null,"Alchemilla vulgaris agg._58"]
["",null,null,null,"","","",null,null,null,null,null,null,null,null,"","","",{"$f":"IF(LEN($F175)<1,\"\",IF(ISBLANK(Checklist!$H$2),\"\",Checklist!$H$2))","v":""},{"$f":"IF(LEN($F175)<1,\"\",IF(ISTEXT(H175),H175,IF(ISTEXT(Checklist!$H$3),Checklist!$H$3,\"NO Grid Ref!!\")))","v":""},{"$f":"IF(LEN($F175)<1,\"\",IF(ISBLANK(Checklist!$H$4),\"NO VC!!\",Checklist!$H$4))","v":""},{"$f":"IF(LEN($F175)<1,\"\",IF(ISBLANK(Checklist!$H$5),\"NO Date!!\",Checklist!$H$5))","v":""},{"$f":"IF(LEN($F175)<1,\"\",IF(ISBLANK(Checklist!$H$6),\"NO Recorder!!\",Checklist!$H$6))","v":""},{"$f":"IF(LEN($F175)<1,\"\",IF(ISTEXT(I175),I175,IF(ISTEXT(Checklist!$H$6),Checklist!$H$6,\"NO Determiner!!\")))","v":""},{"$f":"IF(LEN($F175)<1,\"\",IF(ISTEXT(J175),J175,IF(ISTEXT(Checklist!$H$7),Checklist!$H$7,\"Field record / observation\")))","v":""},"","",null,"","","","","","","","","","","","",null,null,null,null,null,null,null,null,null,null,null,null,null,null,null,null,null,null,null,134.19999999999999,"Apium graveolens var. rapaceum",null,null,59,"Alchemilla wichurae","(Buser) Stefansson",null,"Rosaceae","Endangered",59,"Alchemilla wichurae_59",null,null,null,null,null,null,null,"Alchemilla wichurae_59"]
["",null,null,null,"","","",null,null,null,null,null,null,null,null,"","","",{"$f":"IF(LEN($F176)<1,\"\",IF(ISBLANK(Checklist!$H$2),\"\",Checklist!$H$2))","v":""},{"$f":"IF(LEN($F176)<1,\"\",IF(ISTEXT(H176),H176,IF(ISTEXT(Checklist!$H$3),Checklist!$H$3,\"NO Grid Ref!!\")))","v":""},{"$f":"IF(LEN($F176)<1,\"\",IF(ISBLANK(Checklist!$H$4),\"NO VC!!\",Checklist!$H$4))","v":""},{"$f":"IF(LEN($F176)<1,\"\",IF(ISBLANK(Checklist!$H$5),\"NO Date!!\",Checklist!$H$5))","v":""},{"$f":"IF(LEN($F176)<1,\"\",IF(ISBLANK(Checklist!$H$6),\"NO Recorder!!\",Checklist!$H$6))","v":""},{"$f":"IF(LEN($F176)<1,\"\",IF(ISTEXT(I176),I176,IF(ISTEXT(Checklist!$H$6),Checklist!$H$6,\"NO Determiner!!\")))","v":""},{"$f":"IF(LEN($F176)<1,\"\",IF(ISTEXT(J176),J176,IF(ISTEXT(Checklist!$H$7),Checklist!$H$7,\"Field record / observation\")))","v":""},"","",null,"","","","","","","","","","","","",null,null,null,null,null,null,null,null,null,null,null,null,null,null,null,null,null,null,null,135,"Apium inundatum",null,null,60,"Alchemilla xanthochlora","Rothm.","Intermediate Lady's-mantle","Rosaceae",null,60,"Alchemilla xanthochlora_60",null,null,null,null,null,null,null,"Alchemilla xanthochlora_60"]
["",null,null,null,"","","",null,null,null,null,null,null,null,null,"","","",{"$f":"IF(LEN($F177)<1,\"\",IF(ISBLANK(Checklist!$H$2),\"\",Checklist!$H$2))","v":""},{"$f":"IF(LEN($F177)<1,\"\",IF(ISTEXT(H177),H177,IF(ISTEXT(Checklist!$H$3),Checklist!$H$3,\"NO Grid Ref!!\")))","v":""},{"$f":"IF(LEN($F177)<1,\"\",IF(ISBLANK(Checklist!$H$4),\"NO VC!!\",Checklist!$H$4))","v":""},{"$f":"IF(LEN($F177)<1,\"\",IF(ISBLANK(Checklist!$H$5),\"NO Date!!\",Checklist!$H$5))","v":""},{"$f":"IF(LEN($F177)<1,\"\",IF(ISBLANK(Checklist!$H$6),\"NO Recorder!!\",Checklist!$H$6))","v":""},{"$f":"IF(LEN($F177)<1,\"\",IF(ISTEXT(I177),I177,IF(ISTEXT(Checklist!$H$6),Checklist!$H$6,\"NO Determiner!!\")))","v":""},{"$f":"IF(LEN($F177)<1,\"\",IF(ISTEXT(J177),J177,IF(ISTEXT(Checklist!$H$7),Checklist!$H$7,\"Field record / observation\")))","v":""},"","",null,"","","","","","","","","","","","",null,null,null,null,null,null,null,null,null,null,null,null,null,null,null,null,null,null,null,136,"Apium x moorei",null,null,61,"Alisma gramineum","Lej.","Ribbon-leaved Water-plantain","Alismataceae","Critically endangered",61,"Alisma gramineum_61",null,null,null,null,null,null,null,"Alisma gramineum_61"]
["",null,null,null,"","","",null,null,null,null,null,null,null,null,"","","",{"$f":"IF(LEN($F178)<1,\"\",IF(ISBLANK(Checklist!$H$2),\"\",Checklist!$H$2))","v":""},{"$f":"IF(LEN($F178)<1,\"\",IF(ISTEXT(H178),H178,IF(ISTEXT(Checklist!$H$3),Checklist!$H$3,\"NO Grid Ref!!\")))","v":""},{"$f":"IF(LEN($F178)<1,\"\",IF(ISBLANK(Checklist!$H$4),\"NO VC!!\",Checklist!$H$4))","v":""},{"$f":"IF(LEN($F178)<1,\"\",IF(ISBLANK(Checklist!$H$5),\"NO Date!!\",Checklist!$H$5))","v":""},{"$f":"IF(LEN($F178)<1,\"\",IF(ISBLANK(Checklist!$H$6),\"NO Recorder!!\",Checklist!$H$6))","v":""},{"$f":"IF(LEN($F178)<1,\"\",IF(ISTEXT(I178),I178,IF(ISTEXT(Checklist!$H$6),Checklist!$H$6,\"NO Determiner!!\")))","v":""},{"$f":"IF(LEN($F178)<1,\"\",IF(ISTEXT(J178),J178,IF(ISTEXT(Checklist!$H$7),Checklist!$H$7,\"Field record / observation\")))","v":""},"","",null,"","","","","","","","","","","","",null,null,null,null,null,null,null,null,null,null,null,null,null,null,null,null,null,null,null,137,"Apium nodiflorum",null,null,61.1,"Alisma gramineum subsp. gramineum",null,null,"Alismataceae","Critically endangered",61.1,"Alisma gramineum subsp. gramineum_61.1",null,null,null,null,null,null,null,"Alisma gramineum subsp. gramineum_61.1"]
["",null,null,null,"","","",null,null,null,null,null,null,null,null,"","","",{"$f":"IF(LEN($F179)<1,\"\",IF(ISBLANK(Checklist!$H$2),\"\",Checklist!$H$2))","v":""},{"$f":"IF(LEN($F179)<1,\"\",IF(ISTEXT(H179),H179,IF(ISTEXT(Checklist!$H$3),Checklist!$H$3,\"NO Grid Ref!!\")))","v":""},{"$f":"IF(LEN($F179)<1,\"\",IF(ISBLANK(Checklist!$H$4),\"NO VC!!\",Checklist!$H$4))","v":""},{"$f":"IF(LEN($F179)<1,\"\",IF(ISBLANK(Checklist!$H$5),\"NO Date!!\",Checklist!$H$5))","v":""},{"$f":"IF(LEN($F179)<1,\"\",IF(ISBLANK(Checklist!$H$6),\"NO Recorder!!\",Checklist!$H$6))","v":""},{"$f":"IF(LEN($F179)<1,\"\",IF(ISTEXT(I179),I179,IF(ISTEXT(Checklist!$H$6),Checklist!$H$6,\"NO Determiner!!\")))","v":""},{"$f":"IF(LEN($F179)<1,\"\",IF(ISTEXT(J179),J179,IF(ISTEXT(Checklist!$H$7),Checklist!$H$7,\"Field record / observation\")))","v":""},"","",null,"","","","","","","","","","","","",null,null,null,null,null,null,null,null,null,null,null,null,null,null,null,null,null,null,null,138,"Apium repens",null,null,61.2,"Alisma gramineum subsp. wahlenbergii",null,null,"Alismataceae","Critically endangered",61.2,"Alisma gramineum subsp. wahlenbergii_61.2",null,null,null,null,null,null,null,"Alisma gramineum subsp. wahlenbergii_61.2"]
["",null,null,null,"","","",null,null,null,null,null,null,null,null,"","","",{"$f":"IF(LEN($F180)<1,\"\",IF(ISBLANK(Checklist!$H$2),\"\",Checklist!$H$2))","v":""},{"$f":"IF(LEN($F180)<1,\"\",IF(ISTEXT(H180),H180,IF(ISTEXT(Checklist!$H$3),Checklist!$H$3,\"NO Grid Ref!!\")))","v":""},{"$f":"IF(LEN($F180)<1,\"\",IF(ISBLANK(Checklist!$H$4),\"NO VC!!\",Checklist!$H$4))","v":""},{"$f":"IF(LEN($F180)<1,\"\",IF(ISBLANK(Checklist!$H$5),\"NO Date!!\",Checklist!$H$5))","v":""},{"$f":"IF(LEN($F180)<1,\"\",IF(ISBLANK(Checklist!$H$6),\"NO Recorder!!\",Checklist!$H$6))","v":""},{"$f":"IF(LEN($F180)<1,\"\",IF(ISTEXT(I180),I180,IF(ISTEXT(Checklist!$H$6),Checklist!$H$6,\"NO Determiner!!\")))","v":""},{"$f":"IF(LEN($F180)<1,\"\",IF(ISTEXT(J180),J180,IF(ISTEXT(Checklist!$H$7),Checklist!$H$7,\"Field record / observation\")))","v":""},"","",null,"","","","","","","","","","","","",null,null,null,null,null,null,null,null,null,null,null,null,null,null,null,null,null,null,null,139,"Aponogeton distachyos",null,null,62,"Alisma lanceolatum","With.","Narrow-leaved Water-plantain","Alismataceae",null,62,"Alisma lanceolatum_62",null,null,null,null,null,null,null,"Alisma lanceolatum_62"]
["",null,null,null,"","","",null,null,null,null,null,null,null,null,"","","",{"$f":"IF(LEN($F181)<1,\"\",IF(ISBLANK(Checklist!$H$2),\"\",Checklist!$H$2))","v":""},{"$f":"IF(LEN($F181)<1,\"\",IF(ISTEXT(H181),H181,IF(ISTEXT(Checklist!$H$3),Checklist!$H$3,\"NO Grid Ref!!\")))","v":""},{"$f":"IF(LEN($F181)<1,\"\",IF(ISBLANK(Checklist!$H$4),\"NO VC!!\",Checklist!$H$4))","v":""},{"$f":"IF(LEN($F181)<1,\"\",IF(ISBLANK(Checklist!$H$5),\"NO Date!!\",Checklist!$H$5))","v":""},{"$f":"IF(LEN($F181)<1,\"\",IF(ISBLANK(Checklist!$H$6),\"NO Recorder!!\",Checklist!$H$6))","v":""},{"$f":"IF(LEN($F181)<1,\"\",IF(ISTEXT(I181),I181,IF(ISTEXT(Checklist!$H$6),Checklist!$H$6,\"NO Determiner!!\")))","v":""},{"$f":"IF(LEN($F181)<1,\"\",IF(ISTEXT(J181),J181,IF(ISTEXT(Checklist!$H$7),Checklist!$H$7,\"Field record / observation\")))","v":""},"","",null,"","","","","","","","","","","","",null,null,null,null,null,null,null,null,null,null,null,null,null,null,null,null,null,null,null,140,"Aquilegia pyrenaica",null,null,63,"Alisma plantago-aquatica","L.","Water-plantain","Alismataceae",null,63,"Alisma plantago-aquatica_63",null,null,null,null,null,null,null,"Alisma plantago-aquatica_63"]
["",null,null,null,"","","",null,null,null,null,null,null,null,null,"","","",{"$f":"IF(LEN($F182)<1,\"\",IF(ISBLANK(Checklist!$H$2),\"\",Checklist!$H$2))","v":""},{"$f":"IF(LEN($F182)<1,\"\",IF(ISTEXT(H182),H182,IF(ISTEXT(Checklist!$H$3),Checklist!$H$3,\"NO Grid Ref!!\")))","v":""},{"$f":"IF(LEN($F182)<1,\"\",IF(ISBLANK(Checklist!$H$4),\"NO VC!!\",Checklist!$H$4))","v":""},{"$f":"IF(LEN($F182)<1,\"\",IF(ISBLANK(Checklist!$H$5),\"NO Date!!\",Checklist!$H$5))","v":""},{"$f":"IF(LEN($F182)<1,\"\",IF(ISBLANK(Checklist!$H$6),\"NO Recorder!!\",Checklist!$H$6))","v":""},{"$f":"IF(LEN($F182)<1,\"\",IF(ISTEXT(I182),I182,IF(ISTEXT(Checklist!$H$6),Checklist!$H$6,\"NO Determiner!!\")))","v":""},{"$f":"IF(LEN($F182)<1,\"\",IF(ISTEXT(J182),J182,IF(ISTEXT(Checklist!$H$7),Checklist!$H$7,\"Field record / observation\")))","v":""},"","",null,"","","","","","","","","","","","",null,null,null,null,null,null,null,null,null,null,null,null,null,null,null,null,null,null,null,141,"Aquilegia vulgaris",null,null,2840,"Alisma x rhicnocarpum","Schotsman","A. lanceolatum x plantago-aquatica","Alismataceae",null,2840,"Alisma x rhicnocarpum_2840",null,null,null,null,null,null,null,"Alisma x rhicnocarpum_2840"]
["",null,null,null,"","","",null,null,null,null,null,null,null,null,"","","",{"$f":"IF(LEN($F183)<1,\"\",IF(ISBLANK(Checklist!$H$2),\"\",Checklist!$H$2))","v":""},{"$f":"IF(LEN($F183)<1,\"\",IF(ISTEXT(H183),H183,IF(ISTEXT(Checklist!$H$3),Checklist!$H$3,\"NO Grid Ref!!\")))","v":""},{"$f":"IF(LEN($F183)<1,\"\",IF(ISBLANK(Checklist!$H$4),\"NO VC!!\",Checklist!$H$4))","v":""},{"$f":"IF(LEN($F183)<1,\"\",IF(ISBLANK(Checklist!$H$5),\"NO Date!!\",Checklist!$H$5))","v":""},{"$f":"IF(LEN($F183)<1,\"\",IF(ISBLANK(Checklist!$H$6),\"NO Recorder!!\",Checklist!$H$6))","v":""},{"$f":"IF(LEN($F183)<1,\"\",IF(ISTEXT(I183),I183,IF(ISTEXT(Checklist!$H$6),Checklist!$H$6,\"NO Determiner!!\")))","v":""},{"$f":"IF(LEN($F183)<1,\"\",IF(ISTEXT(J183),J183,IF(ISTEXT(Checklist!$H$7),Checklist!$H$7,\"Field record / observation\")))","v":""},"","",null,"","","","","","","","","","","","",null,null,null,null,null,null,null,null,null,null,null,null,null,null,null,null,null,null,null,142,"Arabidopsis thaliana",null,null,64,"Alliaria petiolata","(M.Bieb.) Cavara & Grande","Garlic Mustard","Brassicaceae",null,64,"Alliaria petiolata_64",null,null,null,null,null,null,null,"Alliaria petiolata_64"]
["",null,null,null,"","","",null,null,null,null,null,null,null,null,"","","",{"$f":"IF(LEN($F184)<1,\"\",IF(ISBLANK(Checklist!$H$2),\"\",Checklist!$H$2))","v":""},{"$f":"IF(LEN($F184)<1,\"\",IF(ISTEXT(H184),H184,IF(ISTEXT(Checklist!$H$3),Checklist!$H$3,\"NO Grid Ref!!\")))","v":""},{"$f":"IF(LEN($F184)<1,\"\",IF(ISBLANK(Checklist!$H$4),\"NO VC!!\",Checklist!$H$4))","v":""},{"$f":"IF(LEN($F184)<1,\"\",IF(ISBLANK(Checklist!$H$5),\"NO Date!!\",Checklist!$H$5))","v":""},{"$f":"IF(LEN($F184)<1,\"\",IF(ISBLANK(Checklist!$H$6),\"NO Recorder!!\",Checklist!$H$6))","v":""},{"$f":"IF(LEN($F184)<1,\"\",IF(ISTEXT(I184),I184,IF(ISTEXT(Checklist!$H$6),Checklist!$H$6,\"NO Determiner!!\")))","v":""},{"$f":"IF(LEN($F184)<1,\"\",IF(ISTEXT(J184),J184,IF(ISTEXT(Checklist!$H$7),Checklist!$H$7,\"Field record / observation\")))","v":""},"","",null,"","","","","","","","","","","","",null,null,null,null,null,null,null,null,null,null,null,null,null,null,null,null,null,null,null,143,"Arabis alpina",null,null,8283,"Allium ampeloprasum","L.","Wild Leek","Liliaceae","Nationally Scarce",8283,"Allium ampeloprasum_8283",null,null,null,null,null,null,null,"Allium ampeloprasum_8283"]
["",null,null,null,"","","",null,null,null,null,null,null,null,null,"","","",{"$f":"IF(LEN($F185)<1,\"\",IF(ISBLANK(Checklist!$H$2),\"\",Checklist!$H$2))","v":""},{"$f":"IF(LEN($F185)<1,\"\",IF(ISTEXT(H185),H185,IF(ISTEXT(Checklist!$H$3),Checklist!$H$3,\"NO Grid Ref!!\")))","v":""},{"$f":"IF(LEN($F185)<1,\"\",IF(ISBLANK(Checklist!$H$4),\"NO VC!!\",Checklist!$H$4))","v":""},{"$f":"IF(LEN($F185)<1,\"\",IF(ISBLANK(Checklist!$H$5),\"NO Date!!\",Checklist!$H$5))","v":""},{"$f":"IF(LEN($F185)<1,\"\",IF(ISBLANK(Checklist!$H$6),\"NO Recorder!!\",Checklist!$H$6))","v":""},{"$f":"IF(LEN($F185)<1,\"\",IF(ISTEXT(I185),I185,IF(ISTEXT(Checklist!$H$6),Checklist!$H$6,\"NO Determiner!!\")))","v":""},{"$f":"IF(LEN($F185)<1,\"\",IF(ISTEXT(J185),J185,IF(ISTEXT(Checklist!$H$7),Checklist!$H$7,\"Field record / observation\")))","v":""},"","",null,"","","","","","","","","","","","",null,null,null,null,null,null,null,null,null,null,null,null,null,null,null,null,null,null,null,145,"Arabis caucasica",null,null,65,"Allium ampeloprasum var. ampeloprasum",null,null,"Liliaceae","Nationally Scarce",65,"Allium ampeloprasum var. ampeloprasum_65",null,null,null,null,null,null,null,"Allium ampeloprasum var. ampeloprasum_65"]
["",null,null,null,"","","",null,null,null,null,null,null,null,null,"","","",{"$f":"IF(LEN($F186)<1,\"\",IF(ISBLANK(Checklist!$H$2),\"\",Checklist!$H$2))","v":""},{"$f":"IF(LEN($F186)<1,\"\",IF(ISTEXT(H186),H186,IF(ISTEXT(Checklist!$H$3),Checklist!$H$3,\"NO Grid Ref!!\")))","v":""},{"$f":"IF(LEN($F186)<1,\"\",IF(ISBLANK(Checklist!$H$4),\"NO VC!!\",Checklist!$H$4))","v":""},{"$f":"IF(LEN($F186)<1,\"\",IF(ISBLANK(Checklist!$H$5),\"NO Date!!\",Checklist!$H$5))","v":""},{"$f":"IF(LEN($F186)<1,\"\",IF(ISBLANK(Checklist!$H$6),\"NO Recorder!!\",Checklist!$H$6))","v":""},{"$f":"IF(LEN($F186)<1,\"\",IF(ISTEXT(I186),I186,IF(ISTEXT(Checklist!$H$6),Checklist!$H$6,\"NO Determiner!!\")))","v":""},{"$f":"IF(LEN($F186)<1,\"\",IF(ISTEXT(J186),J186,IF(ISTEXT(Checklist!$H$7),Checklist!$H$7,\"Field record / observation\")))","v":""},"","",null,"","","","","","","","","","","","",null,null,null,null,null,null,null,null,null,null,null,null,null,null,null,null,null,null,null,146,"Arabis hirsuta",null,null,66,"Allium ampeloprasum var. babingtonii",null,null,"Liliaceae","Nationally Scarce",66,"Allium ampeloprasum var. babingtonii_66",null,null,null,null,null,null,null,"Allium ampeloprasum var. babingtonii_66"]
["",null,null,null,"","","",null,null,null,null,null,null,null,null,"","","",{"$f":"IF(LEN($F187)<1,\"\",IF(ISBLANK(Checklist!$H$2),\"\",Checklist!$H$2))","v":""},{"$f":"IF(LEN($F187)<1,\"\",IF(ISTEXT(H187),H187,IF(ISTEXT(Checklist!$H$3),Checklist!$H$3,\"NO Grid Ref!!\")))","v":""},{"$f":"IF(LEN($F187)<1,\"\",IF(ISBLANK(Checklist!$H$4),\"NO VC!!\",Checklist!$H$4))","v":""},{"$f":"IF(LEN($F187)<1,\"\",IF(ISBLANK(Checklist!$H$5),\"NO Date!!\",Checklist!$H$5))","v":""},{"$f":"IF(LEN($F187)<1,\"\",IF(ISBLANK(Checklist!$H$6),\"NO Recorder!!\",Checklist!$H$6))","v":""},{"$f":"IF(LEN($F187)<1,\"\",IF(ISTEXT(I187),I187,IF(ISTEXT(Checklist!$H$6),Checklist!$H$6,\"NO Determiner!!\")))","v":""},{"$f":"IF(LEN($F187)<1,\"\",IF(ISTEXT(J187),J187,IF(ISTEXT(Checklist!$H$7),Checklist!$H$7,\"Field record / observation\")))","v":""},"","",null,"","","","","","","","","","","","",null,null,null,null,null,null,null,null,null,null,null,null,null,null,null,null,null,null,null,147,"Arabis scabra",null,null,67,"Allium carinatum","Linnaeus","Keeled Garlic","Liliaceae",null,67,"Allium carinatum_67",null,null,null,null,null,null,null,"Allium carinatum_67"]
["",null,null,null,"","","",null,null,null,null,null,null,null,null,"","","",{"$f":"IF(LEN($F188)<1,\"\",IF(ISBLANK(Checklist!$H$2),\"\",Checklist!$H$2))","v":""},{"$f":"IF(LEN($F188)<1,\"\",IF(ISTEXT(H188),H188,IF(ISTEXT(Checklist!$H$3),Checklist!$H$3,\"NO Grid Ref!!\")))","v":""},{"$f":"IF(LEN($F188)<1,\"\",IF(ISBLANK(Checklist!$H$4),\"NO VC!!\",Checklist!$H$4))","v":""},{"$f":"IF(LEN($F188)<1,\"\",IF(ISBLANK(Checklist!$H$5),\"NO Date!!\",Checklist!$H$5))","v":""},{"$f":"IF(LEN($F188)<1,\"\",IF(ISBLANK(Checklist!$H$6),\"NO Recorder!!\",Checklist!$H$6))","v":""},{"$f":"IF(LEN($F188)<1,\"\",IF(ISTEXT(I188),I188,IF(ISTEXT(Checklist!$H$6),Checklist!$H$6,\"NO Determiner!!\")))","v":""},{"$f":"IF(LEN($F188)<1,\"\",IF(ISTEXT(J188),J188,IF(ISTEXT(Checklist!$H$7),Checklist!$H$7,\"Field record / observation\")))","v":""},"","",null,"","","","","","","","","","","","",null,null,null,null,null,null,null,null,null,null,null,null,null,null,null,null,null,null,null,148,"Pseudoturritis turrita",null,null,9184,"Allium cepa","Linnaeus","Onion","Liliaceae",null,9184,"Allium cepa_9184",null,null,null,null,null,null,null,"Allium cepa_9184"]
["",null,null,null,"","","",null,null,null,null,null,null,null,null,"","","",{"$f":"IF(LEN($F189)<1,\"\",IF(ISBLANK(Checklist!$H$2),\"\",Checklist!$H$2))","v":""},{"$f":"IF(LEN($F189)<1,\"\",IF(ISTEXT(H189),H189,IF(ISTEXT(Checklist!$H$3),Checklist!$H$3,\"NO Grid Ref!!\")))","v":""},{"$f":"IF(LEN($F189)<1,\"\",IF(ISBLANK(Checklist!$H$4),\"NO VC!!\",Checklist!$H$4))","v":""},{"$f":"IF(LEN($F189)<1,\"\",IF(ISBLANK(Checklist!$H$5),\"NO Date!!\",Checklist!$H$5))","v":""},{"$f":"IF(LEN($F189)<1,\"\",IF(ISBLANK(Checklist!$H$6),\"NO Recorder!!\",Checklist!$H$6))","v":""},{"$f":"IF(LEN($F189)<1,\"\",IF(ISTEXT(I189),I189,IF(ISTEXT(Checklist!$H$6),Checklist!$H$6,\"NO Determiner!!\")))","v":""},{"$f":"IF(LEN($F189)<1,\"\",IF(ISTEXT(J189),J189,IF(ISTEXT(Checklist!$H$7),Checklist!$H$7,\"Field record / observation\")))","v":""},"","",null,"","","","","","","","","","","","",null,null,null,null,null,null,null,null,null,null,null,null,null,null,null,null,null,null,null,149,"Arbutus unedo",null,null,7144,"Allium moly","Linnaeus","Yellow Garlic","Liliaceae",null,7144,"Allium moly_7144",null,null,null,null,null,null,null,"Allium moly_7144"]
["",null,null,null,"","","",null,null,null,null,null,null,null,null,"","","",{"$f":"IF(LEN($F190)<1,\"\",IF(ISBLANK(Checklist!$H$2),\"\",Checklist!$H$2))","v":""},{"$f":"IF(LEN($F190)<1,\"\",IF(ISTEXT(H190),H190,IF(ISTEXT(Checklist!$H$3),Checklist!$H$3,\"NO Grid Ref!!\")))","v":""},{"$f":"IF(LEN($F190)<1,\"\",IF(ISBLANK(Checklist!$H$4),\"NO VC!!\",Checklist!$H$4))","v":""},{"$f":"IF(LEN($F190)<1,\"\",IF(ISBLANK(Checklist!$H$5),\"NO Date!!\",Checklist!$H$5))","v":""},{"$f":"IF(LEN($F190)<1,\"\",IF(ISBLANK(Checklist!$H$6),\"NO Recorder!!\",Checklist!$H$6))","v":""},{"$f":"IF(LEN($F190)<1,\"\",IF(ISTEXT(I190),I190,IF(ISTEXT(Checklist!$H$6),Checklist!$H$6,\"NO Determiner!!\")))","v":""},{"$f":"IF(LEN($F190)<1,\"\",IF(ISTEXT(J190),J190,IF(ISTEXT(Checklist!$H$7),Checklist!$H$7,\"Field record / observation\")))","v":""},"","",null,"","","","","","","","","","","","",null,null,null,null,null,null,null,null,null,null,null,null,null,null,null,null,null,null,null,150,"Arctium sp.",null,null,4414,"Allium neapolitanum","Cirillo","Neapolitan Garlic","Liliaceae",null,4414,"Allium neapolitanum_4414",null,null,null,null,null,null,null,"Allium neapolitanum_4414"]
["",null,null,null,"","","",null,null,null,null,null,null,null,null,"","","",{"$f":"IF(LEN($F191)<1,\"\",IF(ISBLANK(Checklist!$H$2),\"\",Checklist!$H$2))","v":""},{"$f":"IF(LEN($F191)<1,\"\",IF(ISTEXT(H191),H191,IF(ISTEXT(Checklist!$H$3),Checklist!$H$3,\"NO Grid Ref!!\")))","v":""},{"$f":"IF(LEN($F191)<1,\"\",IF(ISBLANK(Checklist!$H$4),\"NO VC!!\",Checklist!$H$4))","v":""},{"$f":"IF(LEN($F191)<1,\"\",IF(ISBLANK(Checklist!$H$5),\"NO Date!!\",Checklist!$H$5))","v":""},{"$f":"IF(LEN($F191)<1,\"\",IF(ISBLANK(Checklist!$H$6),\"NO Recorder!!\",Checklist!$H$6))","v":""},{"$f":"IF(LEN($F191)<1,\"\",IF(ISTEXT(I191),I191,IF(ISTEXT(Checklist!$H$6),Checklist!$H$6,\"NO Determiner!!\")))","v":""},{"$f":"IF(LEN($F191)<1,\"\",IF(ISTEXT(J191),J191,IF(ISTEXT(Checklist!$H$7),Checklist!$H$7,\"Field record / observation\")))","v":""},"","",null,"","","","","","","","","","","","",null,null,null,null,null,null,null,null,null,null,null,null,null,null,null,null,null,null,null,151,"Arctium lappa",null,null,7145,"Allium nigrum","L.","Broad-leaved Leek","Liliaceae",null,7145,"Allium nigrum_7145",null,null,null,null,null,null,null,"Allium nigrum_7145"]
["",null,null,null,"","","",null,null,null,null,null,null,null,null,"","","",{"$f":"IF(LEN($F192)<1,\"\",IF(ISBLANK(Checklist!$H$2),\"\",Checklist!$H$2))","v":""},{"$f":"IF(LEN($F192)<1,\"\",IF(ISTEXT(H192),H192,IF(ISTEXT(Checklist!$H$3),Checklist!$H$3,\"NO Grid Ref!!\")))","v":""},{"$f":"IF(LEN($F192)<1,\"\",IF(ISBLANK(Checklist!$H$4),\"NO VC!!\",Checklist!$H$4))","v":""},{"$f":"IF(LEN($F192)<1,\"\",IF(ISBLANK(Checklist!$H$5),\"NO Date!!\",Checklist!$H$5))","v":""},{"$f":"IF(LEN($F192)<1,\"\",IF(ISBLANK(Checklist!$H$6),\"NO Recorder!!\",Checklist!$H$6))","v":""},{"$f":"IF(LEN($F192)<1,\"\",IF(ISTEXT(I192),I192,IF(ISTEXT(Checklist!$H$6),Checklist!$H$6,\"NO Determiner!!\")))","v":""},{"$f":"IF(LEN($F192)<1,\"\",IF(ISTEXT(J192),J192,IF(ISTEXT(Checklist!$H$7),Checklist!$H$7,\"Field record / observation\")))","v":""},"","",null,"","","","","","","","","","","","",null,null,null,null,null,null,null,null,null,null,null,null,null,null,null,null,null,null,null,152,"Arctium minus subsp. minus",null,null,68,"Allium oleraceum","L.","Field Garlic","Liliaceae","Vulnerable",68,"Allium oleraceum_68",null,null,null,null,null,null,null,"Allium oleraceum_68"]
["",null,null,null,"","","",null,null,null,null,null,null,null,null,"","","",{"$f":"IF(LEN($F193)<1,\"\",IF(ISBLANK(Checklist!$H$2),\"\",Checklist!$H$2))","v":""},{"$f":"IF(LEN($F193)<1,\"\",IF(ISTEXT(H193),H193,IF(ISTEXT(Checklist!$H$3),Checklist!$H$3,\"NO Grid Ref!!\")))","v":""},{"$f":"IF(LEN($F193)<1,\"\",IF(ISBLANK(Checklist!$H$4),\"NO VC!!\",Checklist!$H$4))","v":""},{"$f":"IF(LEN($F193)<1,\"\",IF(ISBLANK(Checklist!$H$5),\"NO Date!!\",Checklist!$H$5))","v":""},{"$f":"IF(LEN($F193)<1,\"\",IF(ISBLANK(Checklist!$H$6),\"NO Recorder!!\",Checklist!$H$6))","v":""},{"$f":"IF(LEN($F193)<1,\"\",IF(ISTEXT(I193),I193,IF(ISTEXT(Checklist!$H$6),Checklist!$H$6,\"NO Determiner!!\")))","v":""},{"$f":"IF(LEN($F193)<1,\"\",IF(ISTEXT(J193),J193,IF(ISTEXT(Checklist!$H$7),Checklist!$H$7,\"Field record / observation\")))","v":""},"","",null,"","","","","","","","","","","","",null,null,null,null,null,null,null,null,null,null,null,null,null,null,null,null,null,null,null,153,"Arctium nemorosum",null,null,"No BRC","Allium oreophilum","C.A. Mey.","Pink Lily-leek","Pinaceae",null,"No BRC","Allium oreophilum_No BRC",null,null,null,null,null,null,null,"Allium oreophilum_No BRC"]
["",null,null,null,"","","",null,null,null,null,null,null,null,null,"","","",{"$f":"IF(LEN($F194)<1,\"\",IF(ISBLANK(Checklist!$H$2),\"\",Checklist!$H$2))","v":""},{"$f":"IF(LEN($F194)<1,\"\",IF(ISTEXT(H194),H194,IF(ISTEXT(Checklist!$H$3),Checklist!$H$3,\"NO Grid Ref!!\")))","v":""},{"$f":"IF(LEN($F194)<1,\"\",IF(ISBLANK(Checklist!$H$4),\"NO VC!!\",Checklist!$H$4))","v":""},{"$f":"IF(LEN($F194)<1,\"\",IF(ISBLANK(Checklist!$H$5),\"NO Date!!\",Checklist!$H$5))","v":""},{"$f":"IF(LEN($F194)<1,\"\",IF(ISBLANK(Checklist!$H$6),\"NO Recorder!!\",Checklist!$H$6))","v":""},{"$f":"IF(LEN($F194)<1,\"\",IF(ISTEXT(I194),I194,IF(ISTEXT(Checklist!$H$6),Checklist!$H$6,\"NO Determiner!!\")))","v":""},{"$f":"IF(LEN($F194)<1,\"\",IF(ISTEXT(J194),J194,IF(ISTEXT(Checklist!$H$7),Checklist!$H$7,\"Field record / observation\")))","v":""},"","",null,"","","","","","","","","","","","",null,null,null,null,null,null,null,null,null,null,null,null,null,null,null,null,null,null,null,154,"Arctium minus subsp. pubens",null,null,"No BRC","Allium paniculatum subsp. fuscum","(Waldst. & Kit.) Arcang.","Pale Garlic","Liliaceae",null,"No BRC","Allium paniculatum subsp. fuscum_No BRC",null,null,null,null,null,null,null,"Allium paniculatum subsp. fuscum_No BRC"]
["",null,null,null,{"$f":"IF(ISBLANK(B195),IF(ISBLANK(C195),\"\",IF(RIGHT(C195,LEN(C195)-FIND(\"_\",C195,1))=\"No BRC\",\"No BRC\",RIGHT(C195,LEN(C195)-FIND(\"_\",C195,1))*1)),B195)","v":""},"","",null,null,null,null,null,null,null,null,"","","",{"$f":"IF(LEN($F195)<1,\"\",IF(ISBLANK(Checklist!$H$2),\"\",Checklist!$H$2))","v":""},{"$f":"IF(LEN($F195)<1,\"\",IF(ISTEXT(H195),H195,IF(ISTEXT(Checklist!$H$3),Checklist!$H$3,\"NO Grid Ref!!\")))","v":""},{"$f":"IF(LEN($F195)<1,\"\",IF(ISBLANK(Checklist!$H$4),\"NO VC!!\",Checklist!$H$4))","v":""},{"$f":"IF(LEN($F195)<1,\"\",IF(ISBLANK(Checklist!$H$5),\"NO Date!!\",Checklist!$H$5))","v":""},{"$f":"IF(LEN($F195)<1,\"\",IF(ISBLANK(Checklist!$H$6),\"NO Recorder!!\",Checklist!$H$6))","v":""},{"$f":"IF(LEN($F195)<1,\"\",IF(ISTEXT(I195),I195,IF(ISTEXT(Checklist!$H$6),Checklist!$H$6,\"NO Determiner!!\")))","v":""},{"$f":"IF(LEN($F195)<1,\"\",IF(ISTEXT(J195),J195,IF(ISTEXT(Checklist!$H$7),Checklist!$H$7,\"Field record / observation\")))","v":""},"","",null,"","","","","","","","","","","","",null,null,null,null,null,null,null,null,null,null,null,null,null,null,null,null,null,null,null,155,"Arctostaphylos uva-ursi",null,null,69,"Allium paradoxum","(M. Bieb.) G. Don","Few-flowered Garlic","Liliaceae",null,69,"Allium paradoxum_69",null,null,null,null,null,null,null,"Allium paradoxum_69"]
[{"$f":"IF(F196=\"\",\"\",ROW())","v":""},null,null,null,"","","",null,null,null,null,null,null,null,null,"","","",{"$f":"IF(LEN($F196)<1,\"\",IF(ISBLANK(Checklist!$H$2),\"\",Checklist!$H$2))","v":""},{"$f":"IF(LEN($F196)<1,\"\",IF(ISTEXT(H196),H196,IF(ISTEXT(Checklist!$H$3),Checklist!$H$3,\"NO Grid Ref!!\")))","v":""},{"$f":"IF(LEN($F196)<1,\"\",IF(ISBLANK(Checklist!$H$4),\"NO VC!!\",Checklist!$H$4))","v":""},{"$f":"IF(LEN($F196)<1,\"\",IF(ISBLANK(Checklist!$H$5),\"NO Date!!\",Checklist!$H$5))","v":""},{"$f":"IF(LEN($F196)<1,\"\",IF(ISBLANK(Checklist!$H$6),\"NO Recorder!!\",Checklist!$H$6))","v":""},{"$f":"IF(LEN($F196)<1,\"\",IF(ISTEXT(I196),I196,IF(ISTEXT(Checklist!$H$6),Checklist!$H$6,\"NO Determiner!!\")))","v":""},{"$f":"IF(LEN($F196)<1,\"\",IF(ISTEXT(J196),J196,IF(ISTEXT(Checklist!$H$7),Checklist!$H$7,\"Field record / observation\")))","v":""},"","",null,{"$f":"IF(ROW($A196)-ROW($A$3)+1>COUNT($A$3:$A$501),\"\",INDEX(P:P,SMALL($A$3:$A$501,1+ROW($A196)-ROW($A$3))))","v":""},{"$f":"IF(ROW($A196)-ROW($A$3)+1>COUNT($A$3:$A$501),\"\",INDEX(Q:Q,SMALL($A$3:$A$501,1+ROW($A196)-ROW($A$3))))","v":""},{"$f":"IF(ROW($A196)-ROW($A$3)+1>COUNT($A$3:$A$501),\"\",INDEX(R:R,SMALL($A$3:$A$501,1+ROW($A196)-ROW($A$3))))","v":""},{"$f":"IF(ROW($A196)-ROW($A$3)+1>COUNT($A$3:$A$501),\"\",INDEX(S:S,SMALL($A$3:$A$501,1+ROW($A196)-ROW($A$3))))","v":""},{"$f":"IF(ROW($A196)-ROW($A$3)+1>COUNT($A$3:$A$501),\"\",INDEX(T:T,SMALL($A$3:$A$501,1+ROW($A196)-ROW($A$3))))","v":""},{"$f":"IF(ROW($A196)-ROW($A$3)+1>COUNT($A$3:$A$501),\"\",INDEX(U:U,SMALL($A$3:$A$501,1+ROW($A196)-ROW($A$3))))","v":""},{"$f":"IF(ROW($A196)-ROW($A$3)+1>COUNT($A$3:$A$501),\"\",INDEX(V:V,SMALL($A$3:$A$501,1+ROW($A196)-ROW($A$3))))","v":""},{"$f":"IF(ROW($A196)-ROW($A$3)+1>COUNT($A$3:$A$501),\"\",INDEX(W:W,SMALL($A$3:$A$501,1+ROW($A196)-ROW($A$3))))","v":""},{"$f":"IF(ROW($A196)-ROW($A$3)+1>COUNT($A$3:$A$501),\"\",INDEX(X:X,SMALL($A$3:$A$501,1+ROW($A196)-ROW($A$3))))","v":""},{"$f":"IF(ROW($A196)-ROW($A$3)+1>COUNT($A$3:$A$501),\"\",INDEX(Y:Y,SMALL($A$3:$A$501,1+ROW($A196)-ROW($A$3))))","v":""},{"$f":"IF(ROW($A196)-ROW($A$3)+1>COUNT($A$3:$A$501),\"\",INDEX(Z:Z,SMALL($A$3:$A$501,1+ROW($A196)-ROW($A$3))))","v":""},{"$f":"IF(ROW($A196)-ROW($A$3)+1>COUNT($A$3:$A$501),\"\",INDEX(AA:AA,SMALL($A$3:$A$501,1+ROW($A196)-ROW($A$3))))","v":""},null,null,null,null,null,null,null,null,null,null,null,null,null,null,null,null,null,null,null,156,"Arctostaphylos alpinus",null,null,7146,"Allium pendulinum","Ten.","Italian Garlic","Liliaceae",null,7146,{"$f":"CONCATENATE(BM196,\"_\",BL196)","v":"Allium pendulinum_7146"},null,null,null,null,null,null,null,"Allium pendulinum_7146"]
["",null,null,null,"","",{"$f":"IF(LEN(F197)<1,\"\",IF(ISBLANK(VLOOKUP(F197,$BM$3:$BR$7116,3,FALSE)),\"\",(VLOOKUP(F197,$BM$3:$BR$7130,3,FALSE))))","v":""},null,null,null,null,null,null,null,null,"","","",{"$f":"IF(LEN($F197)<1,\"\",IF(ISBLANK(Checklist!$H$2),\"\",Checklist!$H$2))","v":""},{"$f":"IF(LEN($F197)<1,\"\",IF(ISTEXT(H197),H197,IF(ISTEXT(Checklist!$H$3),Checklist!$H$3,\"NO Grid Ref!!\")))","v":""},{"$f":"IF(LEN($F197)<1,\"\",IF(ISBLANK(Checklist!$H$4),\"NO VC!!\",Checklist!$H$4))","v":""},{"$f":"IF(LEN($F197)<1,\"\",IF(ISBLANK(Checklist!$H$5),\"NO Date!!\",Checklist!$H$5))","v":""},{"$f":"IF(LEN($F197)<1,\"\",IF(ISBLANK(Checklist!$H$6),\"NO Recorder!!\",Checklist!$H$6))","v":""},{"$f":"IF(LEN($F197)<1,\"\",IF(ISTEXT(I197),I197,IF(ISTEXT(Checklist!$H$6),Checklist!$H$6,\"NO Determiner!!\")))","v":""},{"$f":"IF(LEN($F197)<1,\"\",IF(ISTEXT(J197),J197,IF(ISTEXT(Checklist!$H$7),Checklist!$H$7,\"Field record / observation\")))","v":""},"","",null,"","","","","","","","","","","","",null,null,null,null,null,null,null,null,null,null,null,null,null,null,null,null,null,null,null,157,"Arenaria balearica",null,null,9185,"Allium porrum","Linnaeus","Leek","Liliaceae",null,9185,"Allium porrum_9185",null,null,null,null,null,null,null,"Allium porrum_9185"]
["",null,null,null,"",{"$f":"IF(ISBLANK(B198),IF(ISBLANK(C198),\"\",LEFT(C198,FIND(\"_\",C198,1)-1)),VLOOKUP(B198,$BH$3:$BI$7130,2,FALSE))","v":""},"",null,null,null,null,null,null,null,null,"","","",{"$f":"IF(LEN($F198)<1,\"\",IF(ISBLANK(Checklist!$H$2),\"\",Checklist!$H$2))","v":""},{"$f":"IF(LEN($F198)<1,\"\",IF(ISTEXT(H198),H198,IF(ISTEXT(Checklist!$H$3),Checklist!$H$3,\"NO Grid Ref!!\")))","v":""},{"$f":"IF(LEN($F198)<1,\"\",IF(ISBLANK(Checklist!$H$4),\"NO VC!!\",Checklist!$H$4))","v":""},{"$f":"IF(LEN($F198)<1,\"\",IF(ISBLANK(Checklist!$H$5),\"NO Date!!\",Checklist!$H$5))","v":""},{"$f":"IF(LEN($F198)<1,\"\",IF(ISBLANK(Checklist!$H$6),\"NO Recorder!!\",Checklist!$H$6))","v":""},{"$f":"IF(LEN($F198)<1,\"\",IF(ISTEXT(I198),I198,IF(ISTEXT(Checklist!$H$6),Checklist!$H$6,\"NO Determiner!!\")))","v":""},{"$f":"IF(LEN($F198)<1,\"\",IF(ISTEXT(J198),J198,IF(ISTEXT(Checklist!$H$7),Checklist!$H$7,\"Field record / observation\")))","v":""},"","",null,"","","","","","","","","","","","",null,null,null,null,null,null,null,null,null,null,null,null,null,null,null,null,null,null,null,158,"Arenaria ciliata",null,null,70,"Allium roseum","Linnaeus","Rosy Garlic","Liliaceae",null,70,"Allium roseum_70",null,null,null,null,null,null,null,"Allium roseum_70"]
["",null,null,null,"","","",null,null,null,null,null,null,null,null,"","","",{"$f":"IF(LEN($F199)<1,\"\",IF(ISBLANK(Checklist!$H$2),\"\",Checklist!$H$2))","v":""},{"$f":"IF(LEN($F199)<1,\"\",IF(ISTEXT(H199),H199,IF(ISTEXT(Checklist!$H$3),Checklist!$H$3,\"NO Grid Ref!!\")))","v":""},{"$f":"IF(LEN($F199)<1,\"\",IF(ISBLANK(Checklist!$H$4),\"NO VC!!\",Checklist!$H$4))","v":""},{"$f":"IF(LEN($F199)<1,\"\",IF(ISBLANK(Checklist!$H$5),\"NO Date!!\",Checklist!$H$5))","v":""},{"$f":"IF(LEN($F199)<1,\"\",IF(ISBLANK(Checklist!$H$6),\"NO Recorder!!\",Checklist!$H$6))","v":""},{"$f":"IF(LEN($F199)<1,\"\",IF(ISTEXT(I199),I199,IF(ISTEXT(Checklist!$H$6),Checklist!$H$6,\"NO Determiner!!\")))","v":""},{"$f":"IF(LEN($F199)<1,\"\",IF(ISTEXT(J199),J199,IF(ISTEXT(Checklist!$H$7),Checklist!$H$7,\"Field record / observation\")))","v":""},"","",null,"","","","","","","","","","","","",null,null,null,null,null,null,null,null,null,null,null,null,null,null,null,null,null,null,null,159,"Arenaria norvegica subsp. anglica",null,null,70.099999999999994,"Allium roseum var. bulbiferum",null,null,"Liliaceae",null,70.099999999999994,"Allium roseum var. bulbiferum_70.1",null,null,null,null,null,null,null,"Allium roseum var. bulbiferum_70.1"]
["",null,null,null,"","","",null,null,null,null,null,null,null,null,"","","",{"$f":"IF(LEN($F200)<1,\"\",IF(ISBLANK(Checklist!$H$2),\"\",Checklist!$H$2))","v":""},{"$f":"IF(LEN($F200)<1,\"\",IF(ISTEXT(H200),H200,IF(ISTEXT(Checklist!$H$3),Checklist!$H$3,\"NO Grid Ref!!\")))","v":""},{"$f":"IF(LEN($F200)<1,\"\",IF(ISBLANK(Checklist!$H$4),\"NO VC!!\",Checklist!$H$4))","v":""},{"$f":"IF(LEN($F200)<1,\"\",IF(ISBLANK(Checklist!$H$5),\"NO Date!!\",Checklist!$H$5))","v":""},{"$f":"IF(LEN($F200)<1,\"\",IF(ISBLANK(Checklist!$H$6),\"NO Recorder!!\",Checklist!$H$6))","v":""},{"$f":"IF(LEN($F200)<1,\"\",IF(ISTEXT(I200),I200,IF(ISTEXT(Checklist!$H$6),Checklist!$H$6,\"NO Determiner!!\")))","v":""},{"$f":"IF(LEN($F200)<1,\"\",IF(ISTEXT(J200),J200,IF(ISTEXT(Checklist!$H$7),Checklist!$H$7,\"Field record / observation\")))","v":""},"","",null,"","","","","","","","","","","","",null,null,null,null,null,null,null,null,null,null,null,null,null,null,null,null,null,null,null,160,"Arenaria norvegica subsp. norvegica",null,null,70.2,"Allium roseum var. roseum",null,null,"Liliaceae",null,70.2,"Allium roseum var. roseum_70.2",null,null,null,null,null,null,null,"Allium roseum var. roseum_70.2"]
["",null,null,null,"","","",null,null,null,null,null,null,null,null,"","","",{"$f":"IF(LEN($F201)<1,\"\",IF(ISBLANK(Checklist!$H$2),\"\",Checklist!$H$2))","v":""},{"$f":"IF(LEN($F201)<1,\"\",IF(ISTEXT(H201),H201,IF(ISTEXT(Checklist!$H$3),Checklist!$H$3,\"NO Grid Ref!!\")))","v":""},{"$f":"IF(LEN($F201)<1,\"\",IF(ISBLANK(Checklist!$H$4),\"NO VC!!\",Checklist!$H$4))","v":""},{"$f":"IF(LEN($F201)<1,\"\",IF(ISBLANK(Checklist!$H$5),\"NO Date!!\",Checklist!$H$5))","v":""},{"$f":"IF(LEN($F201)<1,\"\",IF(ISBLANK(Checklist!$H$6),\"NO Recorder!!\",Checklist!$H$6))","v":""},{"$f":"IF(LEN($F201)<1,\"\",IF(ISTEXT(I201),I201,IF(ISTEXT(Checklist!$H$6),Checklist!$H$6,\"NO Determiner!!\")))","v":""},{"$f":"IF(LEN($F201)<1,\"\",IF(ISTEXT(J201),J201,IF(ISTEXT(Checklist!$H$7),Checklist!$H$7,\"Field record / observation\")))","v":""},"","",null,"","","","","","","","","","","","",null,null,null,null,null,null,null,null,null,null,null,null,null,null,null,null,null,null,null,161,"Arenaria serpyllifolia agg.",null,null,3300,"Allium sativum","L.","Garlic","Liliaceae",null,3300,"Allium sativum_3300",null,null,null,null,null,null,null,"Allium sativum_3300"]
["",null,null,null,"","","",null,null,null,null,null,null,null,null,"","","",{"$f":"IF(LEN($F202)<1,\"\",IF(ISBLANK(Checklist!$H$2),\"\",Checklist!$H$2))","v":""},{"$f":"IF(LEN($F202)<1,\"\",IF(ISTEXT(H202),H202,IF(ISTEXT(Checklist!$H$3),Checklist!$H$3,\"NO Grid Ref!!\")))","v":""},{"$f":"IF(LEN($F202)<1,\"\",IF(ISBLANK(Checklist!$H$4),\"NO VC!!\",Checklist!$H$4))","v":""},{"$f":"IF(LEN($F202)<1,\"\",IF(ISBLANK(Checklist!$H$5),\"NO Date!!\",Checklist!$H$5))","v":""},{"$f":"IF(LEN($F202)<1,\"\",IF(ISBLANK(Checklist!$H$6),\"NO Recorder!!\",Checklist!$H$6))","v":""},{"$f":"IF(LEN($F202)<1,\"\",IF(ISTEXT(I202),I202,IF(ISTEXT(Checklist!$H$6),Checklist!$H$6,\"NO Determiner!!\")))","v":""},{"$f":"IF(LEN($F202)<1,\"\",IF(ISTEXT(J202),J202,IF(ISTEXT(Checklist!$H$7),Checklist!$H$7,\"Field record / observation\")))","v":""},"","",null,"","","","","","","","","","","","",null,null,null,null,null,null,null,null,null,null,null,null,null,null,null,null,null,null,null,162,"Arenaria serpyllifolia",null,null,72,"Allium schoenoprasum","L.","Chives","Liliaceae","Nationally Scarce",72,"Allium schoenoprasum_72",null,null,null,null,null,null,null,"Allium schoenoprasum_72"]
["",null,null,null,"","","",null,null,null,null,null,null,null,null,"","","",{"$f":"IF(LEN($F203)<1,\"\",IF(ISBLANK(Checklist!$H$2),\"\",Checklist!$H$2))","v":""},{"$f":"IF(LEN($F203)<1,\"\",IF(ISTEXT(H203),H203,IF(ISTEXT(Checklist!$H$3),Checklist!$H$3,\"NO Grid Ref!!\")))","v":""},{"$f":"IF(LEN($F203)<1,\"\",IF(ISBLANK(Checklist!$H$4),\"NO VC!!\",Checklist!$H$4))","v":""},{"$f":"IF(LEN($F203)<1,\"\",IF(ISBLANK(Checklist!$H$5),\"NO Date!!\",Checklist!$H$5))","v":""},{"$f":"IF(LEN($F203)<1,\"\",IF(ISBLANK(Checklist!$H$6),\"NO Recorder!!\",Checklist!$H$6))","v":""},{"$f":"IF(LEN($F203)<1,\"\",IF(ISTEXT(I203),I203,IF(ISTEXT(Checklist!$H$6),Checklist!$H$6,\"NO Determiner!!\")))","v":""},{"$f":"IF(LEN($F203)<1,\"\",IF(ISTEXT(J203),J203,IF(ISTEXT(Checklist!$H$7),Checklist!$H$7,\"Field record / observation\")))","v":""},"","",null,"","","","","","","","","","","","",null,null,null,null,null,null,null,null,null,null,null,null,null,null,null,null,null,null,null,162.1,"Arenaria serpyllifolia subsp. lloydii",null,null,71,"Allium scorodoprasum","Linnaeus","Sand Leek","Liliaceae",null,71,"Allium scorodoprasum_71",null,null,null,null,null,null,null,"Allium scorodoprasum_71"]
["",null,null,null,"","","",null,null,null,null,null,null,null,null,"","","",{"$f":"IF(LEN($F204)<1,\"\",IF(ISBLANK(Checklist!$H$2),\"\",Checklist!$H$2))","v":""},{"$f":"IF(LEN($F204)<1,\"\",IF(ISTEXT(H204),H204,IF(ISTEXT(Checklist!$H$3),Checklist!$H$3,\"NO Grid Ref!!\")))","v":""},{"$f":"IF(LEN($F204)<1,\"\",IF(ISBLANK(Checklist!$H$4),\"NO VC!!\",Checklist!$H$4))","v":""},{"$f":"IF(LEN($F204)<1,\"\",IF(ISBLANK(Checklist!$H$5),\"NO Date!!\",Checklist!$H$5))","v":""},{"$f":"IF(LEN($F204)<1,\"\",IF(ISBLANK(Checklist!$H$6),\"NO Recorder!!\",Checklist!$H$6))","v":""},{"$f":"IF(LEN($F204)<1,\"\",IF(ISTEXT(I204),I204,IF(ISTEXT(Checklist!$H$6),Checklist!$H$6,\"NO Determiner!!\")))","v":""},{"$f":"IF(LEN($F204)<1,\"\",IF(ISTEXT(J204),J204,IF(ISTEXT(Checklist!$H$7),Checklist!$H$7,\"Field record / observation\")))","v":""},"","",null,"","","","","","","","","","","","",null,null,null,null,null,null,null,null,null,null,null,null,null,null,null,null,null,null,null,162.19999999999999,"Arenaria serpyllifolia subsp. serpyllifolia",null,null,"No BRC","Allium sp.",null,"an onion","Liliaceae",null,"No BRC","Allium sp._No BRC",null,null,null,null,null,null,null,"Allium sp._No BRC"]
["",null,null,null,"","","",null,null,null,null,null,null,null,null,"","","",{"$f":"IF(LEN($F205)<1,\"\",IF(ISBLANK(Checklist!$H$2),\"\",Checklist!$H$2))","v":""},{"$f":"IF(LEN($F205)<1,\"\",IF(ISTEXT(H205),H205,IF(ISTEXT(Checklist!$H$3),Checklist!$H$3,\"NO Grid Ref!!\")))","v":""},{"$f":"IF(LEN($F205)<1,\"\",IF(ISBLANK(Checklist!$H$4),\"NO VC!!\",Checklist!$H$4))","v":""},{"$f":"IF(LEN($F205)<1,\"\",IF(ISBLANK(Checklist!$H$5),\"NO Date!!\",Checklist!$H$5))","v":""},{"$f":"IF(LEN($F205)<1,\"\",IF(ISBLANK(Checklist!$H$6),\"NO Recorder!!\",Checklist!$H$6))","v":""},{"$f":"IF(LEN($F205)<1,\"\",IF(ISTEXT(I205),I205,IF(ISTEXT(Checklist!$H$6),Checklist!$H$6,\"NO Determiner!!\")))","v":""},{"$f":"IF(LEN($F205)<1,\"\",IF(ISTEXT(J205),J205,IF(ISTEXT(Checklist!$H$7),Checklist!$H$7,\"Field record / observation\")))","v":""},"","",null,"","","","","","","","","","","","",null,null,null,null,null,null,null,null,null,null,null,null,null,null,null,null,null,null,null,163,"Arenaria leptoclados",null,null,73,"Allium sphaerocephalon","L.","Round-headed Leek","Liliaceae","Vulnerable",73,"Allium sphaerocephalon_73",null,null,null,null,null,null,null,"Allium sphaerocephalon_73"]
["",null,null,null,"","","",null,null,null,null,null,null,null,null,"","","",{"$f":"IF(LEN($F206)<1,\"\",IF(ISBLANK(Checklist!$H$2),\"\",Checklist!$H$2))","v":""},{"$f":"IF(LEN($F206)<1,\"\",IF(ISTEXT(H206),H206,IF(ISTEXT(Checklist!$H$3),Checklist!$H$3,\"NO Grid Ref!!\")))","v":""},{"$f":"IF(LEN($F206)<1,\"\",IF(ISBLANK(Checklist!$H$4),\"NO VC!!\",Checklist!$H$4))","v":""},{"$f":"IF(LEN($F206)<1,\"\",IF(ISBLANK(Checklist!$H$5),\"NO Date!!\",Checklist!$H$5))","v":""},{"$f":"IF(LEN($F206)<1,\"\",IF(ISBLANK(Checklist!$H$6),\"NO Recorder!!\",Checklist!$H$6))","v":""},{"$f":"IF(LEN($F206)<1,\"\",IF(ISTEXT(I206),I206,IF(ISTEXT(Checklist!$H$6),Checklist!$H$6,\"NO Determiner!!\")))","v":""},{"$f":"IF(LEN($F206)<1,\"\",IF(ISTEXT(J206),J206,IF(ISTEXT(Checklist!$H$7),Checklist!$H$7,\"Field record / observation\")))","v":""},"","",null,"","","","","","","","","","","","",null,null,null,null,null,null,null,null,null,null,null,null,null,null,null,null,null,null,null,164,"Aristolochia clematitis",null,null,7147,"Allium subhirsutum","Linnaeus","Hairy Garlic","Liliaceae",null,7147,"Allium subhirsutum_7147",null,null,null,null,null,null,null,"Allium subhirsutum_7147"]
["",null,null,null,"","","",null,null,null,null,null,null,null,null,{"$f":"IF(LEN($F207)<1,\"\",E207)","v":""},{"$f":"IF(LEN($F207)<1,\"\",F207)","v":""},{"$f":"IF(LEN($F207)<1,\"\",G207)","v":""},{"$f":"IF(LEN($F207)<1,\"\",IF(ISBLANK(Checklist!$H$2),\"\",Checklist!$H$2))","v":""},{"$f":"IF(LEN($F207)<1,\"\",IF(ISTEXT(H207),H207,IF(ISTEXT(Checklist!$H$3),Checklist!$H$3,\"NO Grid Ref!!\")))","v":""},{"$f":"IF(LEN($F207)<1,\"\",IF(ISBLANK(Checklist!$H$4),\"NO VC!!\",Checklist!$H$4))","v":""},{"$f":"IF(LEN($F207)<1,\"\",IF(ISBLANK(Checklist!$H$5),\"NO Date!!\",Checklist!$H$5))","v":""},{"$f":"IF(LEN($F207)<1,\"\",IF(ISBLANK(Checklist!$H$6),\"NO Recorder!!\",Checklist!$H$6))","v":""},{"$f":"IF(LEN($F207)<1,\"\",IF(ISTEXT(I207),I207,IF(ISTEXT(Checklist!$H$6),Checklist!$H$6,\"NO Determiner!!\")))","v":""},{"$f":"IF(LEN($F207)<1,\"\",IF(ISTEXT(J207),J207,IF(ISTEXT(Checklist!$H$7),Checklist!$H$7,\"Field record / observation\")))","v":""},{"$f":"IF(LEN($F207)<1,\"\",IF(LEN(K207)<1,\"Not Recorded\",K207))","v":""},{"$f":"IF(LEN($F207)<1,\"\",IF(LEN(L207)<1,\"  --\",L207))","v":""},null,"","","","","","","","","","","","",null,null,null,null,null,null,null,null,null,null,null,null,null,null,null,null,null,null,null,165,"Armeria arenaria",null,null,74,"Allium triquetrum","L.","Three-cornered Garlic","Liliaceae",null,74,"Allium triquetrum_74",null,null,null,null,null,null,null,"Allium triquetrum_74"]
["",null,null,null,"","","",null,null,null,null,null,null,null,null,"","","",{"$f":"IF(LEN($F208)<1,\"\",IF(ISBLANK(Checklist!$H$2),\"\",Checklist!$H$2))","v":""},{"$f":"IF(LEN($F208)<1,\"\",IF(ISTEXT(H208),H208,IF(ISTEXT(Checklist!$H$3),Checklist!$H$3,\"NO Grid Ref!!\")))","v":""},{"$f":"IF(LEN($F208)<1,\"\",IF(ISBLANK(Checklist!$H$4),\"NO VC!!\",Checklist!$H$4))","v":""},{"$f":"IF(LEN($F208)<1,\"\",IF(ISBLANK(Checklist!$H$5),\"NO Date!!\",Checklist!$H$5))","v":""},{"$f":"IF(LEN($F208)<1,\"\",IF(ISBLANK(Checklist!$H$6),\"NO Recorder!!\",Checklist!$H$6))","v":""},{"$f":"IF(LEN($F208)<1,\"\",IF(ISTEXT(I208),I208,IF(ISTEXT(Checklist!$H$6),Checklist!$H$6,\"NO Determiner!!\")))","v":""},{"$f":"IF(LEN($F208)<1,\"\",IF(ISTEXT(J208),J208,IF(ISTEXT(Checklist!$H$7),Checklist!$H$7,\"Field record / observation\")))","v":""},"","",null,"","","","","","","","","","","","",null,null,null,null,null,null,null,null,null,null,null,null,null,null,null,null,null,null,null,166,"Armeria maritima",null,null,5776,"Allium tuberosum","Rottler ex Spreng.","Chinese Chives","Liliaceae",null,5776,"Allium tuberosum_5776",null,null,null,null,null,null,null,"Allium tuberosum_5776"]
["",null,null,null,"","","",null,null,null,null,null,null,null,null,"","","",{"$f":"IF(LEN($F209)<1,\"\",IF(ISBLANK(Checklist!$H$2),\"\",Checklist!$H$2))","v":""},{"$f":"IF(LEN($F209)<1,\"\",IF(ISTEXT(H209),H209,IF(ISTEXT(Checklist!$H$3),Checklist!$H$3,\"NO Grid Ref!!\")))","v":""},{"$f":"IF(LEN($F209)<1,\"\",IF(ISBLANK(Checklist!$H$4),\"NO VC!!\",Checklist!$H$4))","v":""},{"$f":"IF(LEN($F209)<1,\"\",IF(ISBLANK(Checklist!$H$5),\"NO Date!!\",Checklist!$H$5))","v":""},{"$f":"IF(LEN($F209)<1,\"\",IF(ISBLANK(Checklist!$H$6),\"NO Recorder!!\",Checklist!$H$6))","v":""},{"$f":"IF(LEN($F209)<1,\"\",IF(ISTEXT(I209),I209,IF(ISTEXT(Checklist!$H$6),Checklist!$H$6,\"NO Determiner!!\")))","v":""},{"$f":"IF(LEN($F209)<1,\"\",IF(ISTEXT(J209),J209,IF(ISTEXT(Checklist!$H$7),Checklist!$H$7,\"Field record / observation\")))","v":""},"","",null,"","","","","","","","","","","","",null,null,null,null,null,null,null,null,null,null,null,null,null,null,null,null,null,null,null,166.1,"Armeria maritima subsp. elongata",null,null,7148,"Allium unifolium","Kellogg","American Garlic","Liliaceae",null,7148,"Allium unifolium_7148",null,null,null,null,null,null,null,"Allium unifolium_7148"]
["",null,null,null,"","","",null,null,null,null,null,null,null,null,"","","",{"$f":"IF(LEN($F210)<1,\"\",IF(ISBLANK(Checklist!$H$2),\"\",Checklist!$H$2))","v":""},{"$f":"IF(LEN($F210)<1,\"\",IF(ISTEXT(H210),H210,IF(ISTEXT(Checklist!$H$3),Checklist!$H$3,\"NO Grid Ref!!\")))","v":""},{"$f":"IF(LEN($F210)<1,\"\",IF(ISBLANK(Checklist!$H$4),\"NO VC!!\",Checklist!$H$4))","v":""},{"$f":"IF(LEN($F210)<1,\"\",IF(ISBLANK(Checklist!$H$5),\"NO Date!!\",Checklist!$H$5))","v":""},{"$f":"IF(LEN($F210)<1,\"\",IF(ISBLANK(Checklist!$H$6),\"NO Recorder!!\",Checklist!$H$6))","v":""},{"$f":"IF(LEN($F210)<1,\"\",IF(ISTEXT(I210),I210,IF(ISTEXT(Checklist!$H$6),Checklist!$H$6,\"NO Determiner!!\")))","v":""},{"$f":"IF(LEN($F210)<1,\"\",IF(ISTEXT(J210),J210,IF(ISTEXT(Checklist!$H$7),Checklist!$H$7,\"Field record / observation\")))","v":""},"","",null,"","","","","","","","","","","","",null,null,null,null,null,null,null,null,null,null,null,null,null,null,null,null,null,null,null,166.2,"Armeria maritima subsp. maritima",null,null,75,"Allium ursinum","Linnaeus","Ramsons","Liliaceae",null,75,"Allium ursinum_75",null,null,null,null,null,null,null,"Allium ursinum_75"]
["",null,null,null,"","","",null,null,null,null,null,null,null,null,"","","",{"$f":"IF(LEN($F211)<1,\"\",IF(ISBLANK(Checklist!$H$2),\"\",Checklist!$H$2))","v":""},{"$f":"IF(LEN($F211)<1,\"\",IF(ISTEXT(H211),H211,IF(ISTEXT(Checklist!$H$3),Checklist!$H$3,\"NO Grid Ref!!\")))","v":""},{"$f":"IF(LEN($F211)<1,\"\",IF(ISBLANK(Checklist!$H$4),\"NO VC!!\",Checklist!$H$4))","v":""},{"$f":"IF(LEN($F211)<1,\"\",IF(ISBLANK(Checklist!$H$5),\"NO Date!!\",Checklist!$H$5))","v":""},{"$f":"IF(LEN($F211)<1,\"\",IF(ISBLANK(Checklist!$H$6),\"NO Recorder!!\",Checklist!$H$6))","v":""},{"$f":"IF(LEN($F211)<1,\"\",IF(ISTEXT(I211),I211,IF(ISTEXT(Checklist!$H$6),Checklist!$H$6,\"NO Determiner!!\")))","v":""},{"$f":"IF(LEN($F211)<1,\"\",IF(ISTEXT(J211),J211,IF(ISTEXT(Checklist!$H$7),Checklist!$H$7,\"Field record / observation\")))","v":""},"","",null,"","","","","","","","","","","","",null,null,null,null,null,null,null,null,null,null,null,null,null,null,null,null,null,null,null,167,"Armoracia rusticana",null,null,76,"Allium vineale","L.","Wild Onion","Liliaceae",null,76,"Allium vineale_76",null,null,null,null,null,null,null,"Allium vineale_76"]
["",null,null,null,"","","",null,null,null,null,null,null,null,null,"","","",{"$f":"IF(LEN($F212)<1,\"\",IF(ISBLANK(Checklist!$H$2),\"\",Checklist!$H$2))","v":""},{"$f":"IF(LEN($F212)<1,\"\",IF(ISTEXT(H212),H212,IF(ISTEXT(Checklist!$H$3),Checklist!$H$3,\"NO Grid Ref!!\")))","v":""},{"$f":"IF(LEN($F212)<1,\"\",IF(ISBLANK(Checklist!$H$4),\"NO VC!!\",Checklist!$H$4))","v":""},{"$f":"IF(LEN($F212)<1,\"\",IF(ISBLANK(Checklist!$H$5),\"NO Date!!\",Checklist!$H$5))","v":""},{"$f":"IF(LEN($F212)<1,\"\",IF(ISBLANK(Checklist!$H$6),\"NO Recorder!!\",Checklist!$H$6))","v":""},{"$f":"IF(LEN($F212)<1,\"\",IF(ISTEXT(I212),I212,IF(ISTEXT(Checklist!$H$6),Checklist!$H$6,\"NO Determiner!!\")))","v":""},{"$f":"IF(LEN($F212)<1,\"\",IF(ISTEXT(J212),J212,IF(ISTEXT(Checklist!$H$7),Checklist!$H$7,\"Field record / observation\")))","v":""},"","",null,"","","","","","","","","","","","",null,null,null,null,null,null,null,null,null,null,null,null,null,null,null,null,null,null,null,168,"Arnoseris minima",null,null,76.2,"Allium vineale var. capsuliferum",null,null,"Liliaceae",null,76.2,"Allium vineale var. capsuliferum_76.2",null,null,null,null,null,null,null,"Allium vineale var. capsuliferum_76.2"]
["",null,null,null,"","","",null,null,null,null,null,null,null,null,"","","",{"$f":"IF(LEN($F213)<1,\"\",IF(ISBLANK(Checklist!$H$2),\"\",Checklist!$H$2))","v":""},{"$f":"IF(LEN($F213)<1,\"\",IF(ISTEXT(H213),H213,IF(ISTEXT(Checklist!$H$3),Checklist!$H$3,\"NO Grid Ref!!\")))","v":""},{"$f":"IF(LEN($F213)<1,\"\",IF(ISBLANK(Checklist!$H$4),\"NO VC!!\",Checklist!$H$4))","v":""},{"$f":"IF(LEN($F213)<1,\"\",IF(ISBLANK(Checklist!$H$5),\"NO Date!!\",Checklist!$H$5))","v":""},{"$f":"IF(LEN($F213)<1,\"\",IF(ISBLANK(Checklist!$H$6),\"NO Recorder!!\",Checklist!$H$6))","v":""},{"$f":"IF(LEN($F213)<1,\"\",IF(ISTEXT(I213),I213,IF(ISTEXT(Checklist!$H$6),Checklist!$H$6,\"NO Determiner!!\")))","v":""},{"$f":"IF(LEN($F213)<1,\"\",IF(ISTEXT(J213),J213,IF(ISTEXT(Checklist!$H$7),Checklist!$H$7,\"Field record / observation\")))","v":""},"","",null,"","","","","","","","","","","","",null,null,null,null,null,null,null,null,null,null,null,null,null,null,null,null,null,null,null,169,"Arrhenatherum elatius",null,null,76.3,"Allium vineale var. compactum",null,null,"Liliaceae",null,76.3,"Allium vineale var. compactum_76.3",null,null,null,null,null,null,null,"Allium vineale var. compactum_76.3"]
["",null,null,null,"","","",null,null,null,null,null,null,null,null,"","","",{"$f":"IF(LEN($F214)<1,\"\",IF(ISBLANK(Checklist!$H$2),\"\",Checklist!$H$2))","v":""},{"$f":"IF(LEN($F214)<1,\"\",IF(ISTEXT(H214),H214,IF(ISTEXT(Checklist!$H$3),Checklist!$H$3,\"NO Grid Ref!!\")))","v":""},{"$f":"IF(LEN($F214)<1,\"\",IF(ISBLANK(Checklist!$H$4),\"NO VC!!\",Checklist!$H$4))","v":""},{"$f":"IF(LEN($F214)<1,\"\",IF(ISBLANK(Checklist!$H$5),\"NO Date!!\",Checklist!$H$5))","v":""},{"$f":"IF(LEN($F214)<1,\"\",IF(ISBLANK(Checklist!$H$6),\"NO Recorder!!\",Checklist!$H$6))","v":""},{"$f":"IF(LEN($F214)<1,\"\",IF(ISTEXT(I214),I214,IF(ISTEXT(Checklist!$H$6),Checklist!$H$6,\"NO Determiner!!\")))","v":""},{"$f":"IF(LEN($F214)<1,\"\",IF(ISTEXT(J214),J214,IF(ISTEXT(Checklist!$H$7),Checklist!$H$7,\"Field record / observation\")))","v":""},"","",null,"","","","","","","","","","","","",null,null,null,null,null,null,null,null,null,null,null,null,null,null,null,null,null,null,null,169.1,"Arrhenatherum elatius var. bulbosum",null,null,76.099999999999994,"Allium vineale var. vineale",null,null,"Liliaceae",null,76.099999999999994,"Allium vineale var. vineale_76.1",null,null,null,null,null,null,null,"Allium vineale var. vineale_76.1"]
["",null,null,null,"","","",null,null,null,null,null,null,null,null,"","","",{"$f":"IF(LEN($F215)<1,\"\",IF(ISBLANK(Checklist!$H$2),\"\",Checklist!$H$2))","v":""},{"$f":"IF(LEN($F215)<1,\"\",IF(ISTEXT(H215),H215,IF(ISTEXT(Checklist!$H$3),Checklist!$H$3,\"NO Grid Ref!!\")))","v":""},{"$f":"IF(LEN($F215)<1,\"\",IF(ISBLANK(Checklist!$H$4),\"NO VC!!\",Checklist!$H$4))","v":""},{"$f":"IF(LEN($F215)<1,\"\",IF(ISBLANK(Checklist!$H$5),\"NO Date!!\",Checklist!$H$5))","v":""},{"$f":"IF(LEN($F215)<1,\"\",IF(ISBLANK(Checklist!$H$6),\"NO Recorder!!\",Checklist!$H$6))","v":""},{"$f":"IF(LEN($F215)<1,\"\",IF(ISTEXT(I215),I215,IF(ISTEXT(Checklist!$H$6),Checklist!$H$6,\"NO Determiner!!\")))","v":""},{"$f":"IF(LEN($F215)<1,\"\",IF(ISTEXT(J215),J215,IF(ISTEXT(Checklist!$H$7),Checklist!$H$7,\"Field record / observation\")))","v":""},"","",null,"","","","","","","","","","","","",null,null,null,null,null,null,null,null,null,null,null,null,null,null,null,null,null,null,null,169.2,"Arrhenatherum elatius subsp. elatius",null,null,2406,"Alnus cordata","(Lois.) Duby","Italian Alder","Betulaceae",null,2406,"Alnus cordata_2406",null,null,null,null,null,null,null,"Alnus cordata_2406"]
["",null,null,null,"","","",null,null,null,null,null,null,null,null,"","","",{"$f":"IF(LEN($F216)<1,\"\",IF(ISBLANK(Checklist!$H$2),\"\",Checklist!$H$2))","v":""},{"$f":"IF(LEN($F216)<1,\"\",IF(ISTEXT(H216),H216,IF(ISTEXT(Checklist!$H$3),Checklist!$H$3,\"NO Grid Ref!!\")))","v":""},{"$f":"IF(LEN($F216)<1,\"\",IF(ISBLANK(Checklist!$H$4),\"NO VC!!\",Checklist!$H$4))","v":""},{"$f":"IF(LEN($F216)<1,\"\",IF(ISBLANK(Checklist!$H$5),\"NO Date!!\",Checklist!$H$5))","v":""},{"$f":"IF(LEN($F216)<1,\"\",IF(ISBLANK(Checklist!$H$6),\"NO Recorder!!\",Checklist!$H$6))","v":""},{"$f":"IF(LEN($F216)<1,\"\",IF(ISTEXT(I216),I216,IF(ISTEXT(Checklist!$H$6),Checklist!$H$6,\"NO Determiner!!\")))","v":""},{"$f":"IF(LEN($F216)<1,\"\",IF(ISTEXT(J216),J216,IF(ISTEXT(Checklist!$H$7),Checklist!$H$7,\"Field record / observation\")))","v":""},"","",null,"","","","","","","","","","","","",null,null,null,null,null,null,null,null,null,null,null,null,null,null,null,null,null,null,null,170,"Artemisia absinthium",null,null,77,"Alnus glutinosa","(Linnaeus) Gaertner","Alder","Betulaceae",null,77,"Alnus glutinosa_77",null,null,null,null,null,null,null,"Alnus glutinosa_77"]
["",null,null,null,"","","",null,null,null,null,null,null,null,null,"","","",{"$f":"IF(LEN($F217)<1,\"\",IF(ISBLANK(Checklist!$H$2),\"\",Checklist!$H$2))","v":""},{"$f":"IF(LEN($F217)<1,\"\",IF(ISTEXT(H217),H217,IF(ISTEXT(Checklist!$H$3),Checklist!$H$3,\"NO Grid Ref!!\")))","v":""},{"$f":"IF(LEN($F217)<1,\"\",IF(ISBLANK(Checklist!$H$4),\"NO VC!!\",Checklist!$H$4))","v":""},{"$f":"IF(LEN($F217)<1,\"\",IF(ISBLANK(Checklist!$H$5),\"NO Date!!\",Checklist!$H$5))","v":""},{"$f":"IF(LEN($F217)<1,\"\",IF(ISBLANK(Checklist!$H$6),\"NO Recorder!!\",Checklist!$H$6))","v":""},{"$f":"IF(LEN($F217)<1,\"\",IF(ISTEXT(I217),I217,IF(ISTEXT(Checklist!$H$6),Checklist!$H$6,\"NO Determiner!!\")))","v":""},{"$f":"IF(LEN($F217)<1,\"\",IF(ISTEXT(J217),J217,IF(ISTEXT(Checklist!$H$7),Checklist!$H$7,\"Field record / observation\")))","v":""},"","",null,"","","","","","","","","","","","",null,null,null,null,null,null,null,null,null,null,null,null,null,null,null,null,null,null,null,171,"Artemisia campestris",null,null,"No BRC","Alnus hirsuta","(Spach) Rupr.","Manchurian Alder","Betulaceae",null,"No BRC","Alnus hirsuta_No BRC",null,null,null,null,null,null,null,"Alnus hirsuta_No BRC"]
["",null,null,null,"","","",null,null,null,null,null,null,null,null,"","","",{"$f":"IF(LEN($F218)<1,\"\",IF(ISBLANK(Checklist!$H$2),\"\",Checklist!$H$2))","v":""},{"$f":"IF(LEN($F218)<1,\"\",IF(ISTEXT(H218),H218,IF(ISTEXT(Checklist!$H$3),Checklist!$H$3,\"NO Grid Ref!!\")))","v":""},{"$f":"IF(LEN($F218)<1,\"\",IF(ISBLANK(Checklist!$H$4),\"NO VC!!\",Checklist!$H$4))","v":""},{"$f":"IF(LEN($F218)<1,\"\",IF(ISBLANK(Checklist!$H$5),\"NO Date!!\",Checklist!$H$5))","v":""},{"$f":"IF(LEN($F218)<1,\"\",IF(ISBLANK(Checklist!$H$6),\"NO Recorder!!\",Checklist!$H$6))","v":""},{"$f":"IF(LEN($F218)<1,\"\",IF(ISTEXT(I218),I218,IF(ISTEXT(Checklist!$H$6),Checklist!$H$6,\"NO Determiner!!\")))","v":""},{"$f":"IF(LEN($F218)<1,\"\",IF(ISTEXT(J218),J218,IF(ISTEXT(Checklist!$H$7),Checklist!$H$7,\"Field record / observation\")))","v":""},"","",null,"","","","","","","","","","","","",null,null,null,null,null,null,null,null,null,null,null,null,null,null,null,null,null,null,null,172,"Artemisia maritima",null,null,78,"Alnus incana","(Linnaeus) Moench","Grey Alder","Betulaceae",null,78,"Alnus incana_78",null,null,null,null,null,null,null,"Alnus incana_78"]
["",null,null,null,"","","",null,null,null,null,null,null,null,null,"","","",{"$f":"IF(LEN($F219)<1,\"\",IF(ISBLANK(Checklist!$H$2),\"\",Checklist!$H$2))","v":""},{"$f":"IF(LEN($F219)<1,\"\",IF(ISTEXT(H219),H219,IF(ISTEXT(Checklist!$H$3),Checklist!$H$3,\"NO Grid Ref!!\")))","v":""},{"$f":"IF(LEN($F219)<1,\"\",IF(ISBLANK(Checklist!$H$4),\"NO VC!!\",Checklist!$H$4))","v":""},{"$f":"IF(LEN($F219)<1,\"\",IF(ISBLANK(Checklist!$H$5),\"NO Date!!\",Checklist!$H$5))","v":""},{"$f":"IF(LEN($F219)<1,\"\",IF(ISBLANK(Checklist!$H$6),\"NO Recorder!!\",Checklist!$H$6))","v":""},{"$f":"IF(LEN($F219)<1,\"\",IF(ISTEXT(I219),I219,IF(ISTEXT(Checklist!$H$6),Checklist!$H$6,\"NO Determiner!!\")))","v":""},{"$f":"IF(LEN($F219)<1,\"\",IF(ISTEXT(J219),J219,IF(ISTEXT(Checklist!$H$7),Checklist!$H$7,\"Field record / observation\")))","v":""},"","",null,"","","","","","","","","","","","",null,null,null,null,null,null,null,null,null,null,null,null,null,null,null,null,null,null,null,173,"Artemisia stelleriana",null,null,"No BRC","Alnus incana x cordata",null,null,"Betulaceae",null,"No BRC","Alnus incana x cordata_No BRC",null,null,null,null,null,null,null,"Alnus incana x cordata_No BRC"]
["",null,null,null,"","","",null,null,null,null,null,null,null,null,"","","",{"$f":"IF(LEN($F220)<1,\"\",IF(ISBLANK(Checklist!$H$2),\"\",Checklist!$H$2))","v":""},{"$f":"IF(LEN($F220)<1,\"\",IF(ISTEXT(H220),H220,IF(ISTEXT(Checklist!$H$3),Checklist!$H$3,\"NO Grid Ref!!\")))","v":""},{"$f":"IF(LEN($F220)<1,\"\",IF(ISBLANK(Checklist!$H$4),\"NO VC!!\",Checklist!$H$4))","v":""},{"$f":"IF(LEN($F220)<1,\"\",IF(ISBLANK(Checklist!$H$5),\"NO Date!!\",Checklist!$H$5))","v":""},{"$f":"IF(LEN($F220)<1,\"\",IF(ISBLANK(Checklist!$H$6),\"NO Recorder!!\",Checklist!$H$6))","v":""},{"$f":"IF(LEN($F220)<1,\"\",IF(ISTEXT(I220),I220,IF(ISTEXT(Checklist!$H$6),Checklist!$H$6,\"NO Determiner!!\")))","v":""},{"$f":"IF(LEN($F220)<1,\"\",IF(ISTEXT(J220),J220,IF(ISTEXT(Checklist!$H$7),Checklist!$H$7,\"Field record / observation\")))","v":""},"","",null,"","","","","","","","","","","","",null,null,null,null,null,null,null,null,null,null,null,null,null,null,null,null,null,null,null,174,"Artemisia verlotiorum",null,null,3319,"Alnus rubra","Bong.","Red Alder","Betulaceae",null,3319,"Alnus rubra_3319",null,null,null,null,null,null,null,"Alnus rubra_3319"]
["",null,null,null,"","","",null,null,null,null,null,null,null,null,"","","",{"$f":"IF(LEN($F221)<1,\"\",IF(ISBLANK(Checklist!$H$2),\"\",Checklist!$H$2))","v":""},{"$f":"IF(LEN($F221)<1,\"\",IF(ISTEXT(H221),H221,IF(ISTEXT(Checklist!$H$3),Checklist!$H$3,\"NO Grid Ref!!\")))","v":""},{"$f":"IF(LEN($F221)<1,\"\",IF(ISBLANK(Checklist!$H$4),\"NO VC!!\",Checklist!$H$4))","v":""},{"$f":"IF(LEN($F221)<1,\"\",IF(ISBLANK(Checklist!$H$5),\"NO Date!!\",Checklist!$H$5))","v":""},{"$f":"IF(LEN($F221)<1,\"\",IF(ISBLANK(Checklist!$H$6),\"NO Recorder!!\",Checklist!$H$6))","v":""},{"$f":"IF(LEN($F221)<1,\"\",IF(ISTEXT(I221),I221,IF(ISTEXT(Checklist!$H$6),Checklist!$H$6,\"NO Determiner!!\")))","v":""},{"$f":"IF(LEN($F221)<1,\"\",IF(ISTEXT(J221),J221,IF(ISTEXT(Checklist!$H$7),Checklist!$H$7,\"Field record / observation\")))","v":""},"","",null,"","","","","","","","","","","","",null,null,null,null,null,null,null,null,null,null,null,null,null,null,null,null,null,null,null,175,"Artemisia vulgaris",null,null,7937,"Alnus viridis","(Chaix) DC.","Green Alder","Betulaceae",null,7937,"Alnus viridis_7937",null,null,null,null,null,null,null,"Alnus viridis_7937"]
["",null,null,null,"","","",null,null,null,null,null,null,null,null,"","","",{"$f":"IF(LEN($F222)<1,\"\",IF(ISBLANK(Checklist!$H$2),\"\",Checklist!$H$2))","v":""},{"$f":"IF(LEN($F222)<1,\"\",IF(ISTEXT(H222),H222,IF(ISTEXT(Checklist!$H$3),Checklist!$H$3,\"NO Grid Ref!!\")))","v":""},{"$f":"IF(LEN($F222)<1,\"\",IF(ISBLANK(Checklist!$H$4),\"NO VC!!\",Checklist!$H$4))","v":""},{"$f":"IF(LEN($F222)<1,\"\",IF(ISBLANK(Checklist!$H$5),\"NO Date!!\",Checklist!$H$5))","v":""},{"$f":"IF(LEN($F222)<1,\"\",IF(ISBLANK(Checklist!$H$6),\"NO Recorder!!\",Checklist!$H$6))","v":""},{"$f":"IF(LEN($F222)<1,\"\",IF(ISTEXT(I222),I222,IF(ISTEXT(Checklist!$H$6),Checklist!$H$6,\"NO Determiner!!\")))","v":""},{"$f":"IF(LEN($F222)<1,\"\",IF(ISTEXT(J222),J222,IF(ISTEXT(Checklist!$H$7),Checklist!$H$7,\"Field record / observation\")))","v":""},"","",null,"","","","","","","","","","","","",null,null,null,null,null,null,null,null,null,null,null,null,null,null,null,null,null,null,null,176,"Arum maculatum",null,null,2799,"Alnus x hybrida","A. Braun ex Rchb.","A. glutinosa x incana","Betulaceae",null,2799,"Alnus x hybrida_2799",null,null,null,null,null,null,null,"Alnus x hybrida_2799"]
["",null,null,null,"","","",null,null,null,null,null,null,null,null,"","","",{"$f":"IF(LEN($F223)<1,\"\",IF(ISBLANK(Checklist!$H$2),\"\",Checklist!$H$2))","v":""},{"$f":"IF(LEN($F223)<1,\"\",IF(ISTEXT(H223),H223,IF(ISTEXT(Checklist!$H$3),Checklist!$H$3,\"NO Grid Ref!!\")))","v":""},{"$f":"IF(LEN($F223)<1,\"\",IF(ISBLANK(Checklist!$H$4),\"NO VC!!\",Checklist!$H$4))","v":""},{"$f":"IF(LEN($F223)<1,\"\",IF(ISBLANK(Checklist!$H$5),\"NO Date!!\",Checklist!$H$5))","v":""},{"$f":"IF(LEN($F223)<1,\"\",IF(ISBLANK(Checklist!$H$6),\"NO Recorder!!\",Checklist!$H$6))","v":""},{"$f":"IF(LEN($F223)<1,\"\",IF(ISTEXT(I223),I223,IF(ISTEXT(Checklist!$H$6),Checklist!$H$6,\"NO Determiner!!\")))","v":""},{"$f":"IF(LEN($F223)<1,\"\",IF(ISTEXT(J223),J223,IF(ISTEXT(Checklist!$H$7),Checklist!$H$7,\"Field record / observation\")))","v":""},"","",null,"","","","","","","","","","","","",null,null,null,null,null,null,null,null,null,null,null,null,null,null,null,null,null,null,null,177,"Arum italicum",null,null,"No BRC","Alnus x pubescens","Tausch","A. glutinosa x incana","Betulaceae",null,"No BRC","Alnus x pubescens_No BRC",null,null,null,null,null,null,null,"Alnus x pubescens_No BRC"]
["",null,null,null,"","","",null,null,null,null,null,null,null,null,"","","",{"$f":"IF(LEN($F224)<1,\"\",IF(ISBLANK(Checklist!$H$2),\"\",Checklist!$H$2))","v":""},{"$f":"IF(LEN($F224)<1,\"\",IF(ISTEXT(H224),H224,IF(ISTEXT(Checklist!$H$3),Checklist!$H$3,\"NO Grid Ref!!\")))","v":""},{"$f":"IF(LEN($F224)<1,\"\",IF(ISBLANK(Checklist!$H$4),\"NO VC!!\",Checklist!$H$4))","v":""},{"$f":"IF(LEN($F224)<1,\"\",IF(ISBLANK(Checklist!$H$5),\"NO Date!!\",Checklist!$H$5))","v":""},{"$f":"IF(LEN($F224)<1,\"\",IF(ISBLANK(Checklist!$H$6),\"NO Recorder!!\",Checklist!$H$6))","v":""},{"$f":"IF(LEN($F224)<1,\"\",IF(ISTEXT(I224),I224,IF(ISTEXT(Checklist!$H$6),Checklist!$H$6,\"NO Determiner!!\")))","v":""},{"$f":"IF(LEN($F224)<1,\"\",IF(ISTEXT(J224),J224,IF(ISTEXT(Checklist!$H$7),Checklist!$H$7,\"Field record / observation\")))","v":""},"","",null,"","","","","","","","","","","","",null,null,null,null,null,null,null,null,null,null,null,null,null,null,null,null,null,null,null,177.1,"Arum italicum subsp. italicum",null,null,"No BRC","Aloe aristata","Haw.","Lace Aloe","Liliaceae",null,"No BRC","Aloe aristata_No BRC",null,null,null,null,null,null,null,"Aloe aristata_No BRC"]
["",null,null,null,"","","",null,null,null,null,null,null,null,null,"","","",{"$f":"IF(LEN($F225)<1,\"\",IF(ISBLANK(Checklist!$H$2),\"\",Checklist!$H$2))","v":""},{"$f":"IF(LEN($F225)<1,\"\",IF(ISTEXT(H225),H225,IF(ISTEXT(Checklist!$H$3),Checklist!$H$3,\"NO Grid Ref!!\")))","v":""},{"$f":"IF(LEN($F225)<1,\"\",IF(ISBLANK(Checklist!$H$4),\"NO VC!!\",Checklist!$H$4))","v":""},{"$f":"IF(LEN($F225)<1,\"\",IF(ISBLANK(Checklist!$H$5),\"NO Date!!\",Checklist!$H$5))","v":""},{"$f":"IF(LEN($F225)<1,\"\",IF(ISBLANK(Checklist!$H$6),\"NO Recorder!!\",Checklist!$H$6))","v":""},{"$f":"IF(LEN($F225)<1,\"\",IF(ISTEXT(I225),I225,IF(ISTEXT(Checklist!$H$6),Checklist!$H$6,\"NO Determiner!!\")))","v":""},{"$f":"IF(LEN($F225)<1,\"\",IF(ISTEXT(J225),J225,IF(ISTEXT(Checklist!$H$7),Checklist!$H$7,\"Field record / observation\")))","v":""},"","",null,"","","","","","","","","","","","",null,null,null,null,null,null,null,null,null,null,null,null,null,null,null,null,null,null,null,177.2,"Arum italicum subsp. neglectum",null,null,"No BRC","Alonsoa caulialata","Ruiz & Pav.","Mask Flower","Scrophulariaceae",null,"No BRC","Alonsoa caulialata_No BRC",null,null,null,null,null,null,null,"Alonsoa caulialata_No BRC"]
["",null,null,null,"","","",null,null,null,null,null,null,null,null,"","","",{"$f":"IF(LEN($F226)<1,\"\",IF(ISBLANK(Checklist!$H$2),\"\",Checklist!$H$2))","v":""},{"$f":"IF(LEN($F226)<1,\"\",IF(ISTEXT(H226),H226,IF(ISTEXT(Checklist!$H$3),Checklist!$H$3,\"NO Grid Ref!!\")))","v":""},{"$f":"IF(LEN($F226)<1,\"\",IF(ISBLANK(Checklist!$H$4),\"NO VC!!\",Checklist!$H$4))","v":""},{"$f":"IF(LEN($F226)<1,\"\",IF(ISBLANK(Checklist!$H$5),\"NO Date!!\",Checklist!$H$5))","v":""},{"$f":"IF(LEN($F226)<1,\"\",IF(ISBLANK(Checklist!$H$6),\"NO Recorder!!\",Checklist!$H$6))","v":""},{"$f":"IF(LEN($F226)<1,\"\",IF(ISTEXT(I226),I226,IF(ISTEXT(Checklist!$H$6),Checklist!$H$6,\"NO Determiner!!\")))","v":""},{"$f":"IF(LEN($F226)<1,\"\",IF(ISTEXT(J226),J226,IF(ISTEXT(Checklist!$H$7),Checklist!$H$7,\"Field record / observation\")))","v":""},"","",null,"","","","","","","","","","","","",null,null,null,null,null,null,null,null,null,null,null,null,null,null,null,null,null,null,null,178,"Asarum europaeum",null,null,5781,"Alonsoa incisifolia","Ruiz & Pav.","Cut-leaved Mask-flower","Scrophulariaceae",null,5781,"Alonsoa incisifolia_5781",null,null,null,null,null,null,null,"Alonsoa incisifolia_5781"]
["",null,null,null,"","","",null,null,null,null,null,null,null,null,"","","",{"$f":"IF(LEN($F227)<1,\"\",IF(ISBLANK(Checklist!$H$2),\"\",Checklist!$H$2))","v":""},{"$f":"IF(LEN($F227)<1,\"\",IF(ISTEXT(H227),H227,IF(ISTEXT(Checklist!$H$3),Checklist!$H$3,\"NO Grid Ref!!\")))","v":""},{"$f":"IF(LEN($F227)<1,\"\",IF(ISBLANK(Checklist!$H$4),\"NO VC!!\",Checklist!$H$4))","v":""},{"$f":"IF(LEN($F227)<1,\"\",IF(ISBLANK(Checklist!$H$5),\"NO Date!!\",Checklist!$H$5))","v":""},{"$f":"IF(LEN($F227)<1,\"\",IF(ISBLANK(Checklist!$H$6),\"NO Recorder!!\",Checklist!$H$6))","v":""},{"$f":"IF(LEN($F227)<1,\"\",IF(ISTEXT(I227),I227,IF(ISTEXT(Checklist!$H$6),Checklist!$H$6,\"NO Determiner!!\")))","v":""},{"$f":"IF(LEN($F227)<1,\"\",IF(ISTEXT(J227),J227,IF(ISTEXT(Checklist!$H$7),Checklist!$H$7,\"Field record / observation\")))","v":""},"","",null,"","","","","","","","","","","","",null,null,null,null,null,null,null,null,null,null,null,null,null,null,null,null,null,null,null,179,"Asparagus officinalis agg.",null,null,5783,"Alonsoa warscewiczii","Regel","Mask-flower","Scrophulariaceae",null,5783,"Alonsoa warscewiczii_5783",null,null,null,null,null,null,null,"Alonsoa warscewiczii_5783"]
["",null,null,null,"","","",null,null,null,null,null,null,null,null,"","","",{"$f":"IF(LEN($F228)<1,\"\",IF(ISBLANK(Checklist!$H$2),\"\",Checklist!$H$2))","v":""},{"$f":"IF(LEN($F228)<1,\"\",IF(ISTEXT(H228),H228,IF(ISTEXT(Checklist!$H$3),Checklist!$H$3,\"NO Grid Ref!!\")))","v":""},{"$f":"IF(LEN($F228)<1,\"\",IF(ISBLANK(Checklist!$H$4),\"NO VC!!\",Checklist!$H$4))","v":""},{"$f":"IF(LEN($F228)<1,\"\",IF(ISBLANK(Checklist!$H$5),\"NO Date!!\",Checklist!$H$5))","v":""},{"$f":"IF(LEN($F228)<1,\"\",IF(ISBLANK(Checklist!$H$6),\"NO Recorder!!\",Checklist!$H$6))","v":""},{"$f":"IF(LEN($F228)<1,\"\",IF(ISTEXT(I228),I228,IF(ISTEXT(Checklist!$H$6),Checklist!$H$6,\"NO Determiner!!\")))","v":""},{"$f":"IF(LEN($F228)<1,\"\",IF(ISTEXT(J228),J228,IF(ISTEXT(Checklist!$H$7),Checklist!$H$7,\"Field record / observation\")))","v":""},"","",null,"","","","","","","","","","","","",null,null,null,null,null,null,null,null,null,null,null,null,null,null,null,null,null,null,null,179.1,"Asparagus officinalis",null,null,79,"Alopecurus aequalis","Sobol.","Orange Foxtail","Poaceae",null,79,"Alopecurus aequalis_79",null,null,null,null,null,null,null,"Alopecurus aequalis_79"]
["",null,null,null,"","","",null,null,null,null,null,null,null,null,"","","",{"$f":"IF(LEN($F229)<1,\"\",IF(ISBLANK(Checklist!$H$2),\"\",Checklist!$H$2))","v":""},{"$f":"IF(LEN($F229)<1,\"\",IF(ISTEXT(H229),H229,IF(ISTEXT(Checklist!$H$3),Checklist!$H$3,\"NO Grid Ref!!\")))","v":""},{"$f":"IF(LEN($F229)<1,\"\",IF(ISBLANK(Checklist!$H$4),\"NO VC!!\",Checklist!$H$4))","v":""},{"$f":"IF(LEN($F229)<1,\"\",IF(ISBLANK(Checklist!$H$5),\"NO Date!!\",Checklist!$H$5))","v":""},{"$f":"IF(LEN($F229)<1,\"\",IF(ISBLANK(Checklist!$H$6),\"NO Recorder!!\",Checklist!$H$6))","v":""},{"$f":"IF(LEN($F229)<1,\"\",IF(ISTEXT(I229),I229,IF(ISTEXT(Checklist!$H$6),Checklist!$H$6,\"NO Determiner!!\")))","v":""},{"$f":"IF(LEN($F229)<1,\"\",IF(ISTEXT(J229),J229,IF(ISTEXT(Checklist!$H$7),Checklist!$H$7,\"Field record / observation\")))","v":""},"","",null,"","","","","","","","","","","","",null,null,null,null,null,null,null,null,null,null,null,null,null,null,null,null,null,null,null,179.2,"Asparagus prostratus",null,null,81,"Alopecurus bulbosus","Gouan","Bulbous Foxtail","Poaceae","Nationally Scarce",81,"Alopecurus bulbosus_81",null,null,null,null,null,null,null,"Alopecurus bulbosus_81"]
["",null,null,null,"","","",null,null,null,null,null,null,null,null,"","","",{"$f":"IF(LEN($F230)<1,\"\",IF(ISBLANK(Checklist!$H$2),\"\",Checklist!$H$2))","v":""},{"$f":"IF(LEN($F230)<1,\"\",IF(ISTEXT(H230),H230,IF(ISTEXT(Checklist!$H$3),Checklist!$H$3,\"NO Grid Ref!!\")))","v":""},{"$f":"IF(LEN($F230)<1,\"\",IF(ISBLANK(Checklist!$H$4),\"NO VC!!\",Checklist!$H$4))","v":""},{"$f":"IF(LEN($F230)<1,\"\",IF(ISBLANK(Checklist!$H$5),\"NO Date!!\",Checklist!$H$5))","v":""},{"$f":"IF(LEN($F230)<1,\"\",IF(ISBLANK(Checklist!$H$6),\"NO Recorder!!\",Checklist!$H$6))","v":""},{"$f":"IF(LEN($F230)<1,\"\",IF(ISTEXT(I230),I230,IF(ISTEXT(Checklist!$H$6),Checklist!$H$6,\"NO Determiner!!\")))","v":""},{"$f":"IF(LEN($F230)<1,\"\",IF(ISTEXT(J230),J230,IF(ISTEXT(Checklist!$H$7),Checklist!$H$7,\"Field record / observation\")))","v":""},"","",null,"","","","","","","","","","","","",null,null,null,null,null,null,null,null,null,null,null,null,null,null,null,null,null,null,null,180,"Asperugo procumbens",null,null,82,"Alopecurus geniculatus","Linnaeus","Marsh Foxtail","Poaceae",null,82,"Alopecurus geniculatus_82",null,null,null,null,null,null,null,"Alopecurus geniculatus_82"]
["",null,null,null,"","","",null,null,null,null,null,null,null,null,"","","",{"$f":"IF(LEN($F231)<1,\"\",IF(ISBLANK(Checklist!$H$2),\"\",Checklist!$H$2))","v":""},{"$f":"IF(LEN($F231)<1,\"\",IF(ISTEXT(H231),H231,IF(ISTEXT(Checklist!$H$3),Checklist!$H$3,\"NO Grid Ref!!\")))","v":""},{"$f":"IF(LEN($F231)<1,\"\",IF(ISBLANK(Checklist!$H$4),\"NO VC!!\",Checklist!$H$4))","v":""},{"$f":"IF(LEN($F231)<1,\"\",IF(ISBLANK(Checklist!$H$5),\"NO Date!!\",Checklist!$H$5))","v":""},{"$f":"IF(LEN($F231)<1,\"\",IF(ISBLANK(Checklist!$H$6),\"NO Recorder!!\",Checklist!$H$6))","v":""},{"$f":"IF(LEN($F231)<1,\"\",IF(ISTEXT(I231),I231,IF(ISTEXT(Checklist!$H$6),Checklist!$H$6,\"NO Determiner!!\")))","v":""},{"$f":"IF(LEN($F231)<1,\"\",IF(ISTEXT(J231),J231,IF(ISTEXT(Checklist!$H$7),Checklist!$H$7,\"Field record / observation\")))","v":""},"","",null,"","","","","","","","","","","","",null,null,null,null,null,null,null,null,null,null,null,null,null,null,null,null,null,null,null,181,"Asperula arvensis",null,null,80,"Alopecurus magellanicus","Lam.","Alpine Foxtail","Poaceae","Nationally Scarce",80,"Alopecurus magellanicus_80",null,null,null,null,null,null,null,"Alopecurus magellanicus_80"]
["",null,null,null,"","","",null,null,null,null,null,null,null,null,"","","",{"$f":"IF(LEN($F232)<1,\"\",IF(ISBLANK(Checklist!$H$2),\"\",Checklist!$H$2))","v":""},{"$f":"IF(LEN($F232)<1,\"\",IF(ISTEXT(H232),H232,IF(ISTEXT(Checklist!$H$3),Checklist!$H$3,\"NO Grid Ref!!\")))","v":""},{"$f":"IF(LEN($F232)<1,\"\",IF(ISBLANK(Checklist!$H$4),\"NO VC!!\",Checklist!$H$4))","v":""},{"$f":"IF(LEN($F232)<1,\"\",IF(ISBLANK(Checklist!$H$5),\"NO Date!!\",Checklist!$H$5))","v":""},{"$f":"IF(LEN($F232)<1,\"\",IF(ISBLANK(Checklist!$H$6),\"NO Recorder!!\",Checklist!$H$6))","v":""},{"$f":"IF(LEN($F232)<1,\"\",IF(ISTEXT(I232),I232,IF(ISTEXT(Checklist!$H$6),Checklist!$H$6,\"NO Determiner!!\")))","v":""},{"$f":"IF(LEN($F232)<1,\"\",IF(ISTEXT(J232),J232,IF(ISTEXT(Checklist!$H$7),Checklist!$H$7,\"Field record / observation\")))","v":""},"","",null,"","","","","","","","","","","","",null,null,null,null,null,null,null,null,null,null,null,null,null,null,null,null,null,null,null,182,"Asperula cynanchica subsp. cynanchica",null,null,84,"Alopecurus myosuroides","Huds.","Black-grass","Poaceae",null,84,"Alopecurus myosuroides_84",null,null,null,null,null,null,null,"Alopecurus myosuroides_84"]
["",null,null,null,"","","",null,null,null,null,null,null,null,null,"","","",{"$f":"IF(LEN($F233)<1,\"\",IF(ISBLANK(Checklist!$H$2),\"\",Checklist!$H$2))","v":""},{"$f":"IF(LEN($F233)<1,\"\",IF(ISTEXT(H233),H233,IF(ISTEXT(Checklist!$H$3),Checklist!$H$3,\"NO Grid Ref!!\")))","v":""},{"$f":"IF(LEN($F233)<1,\"\",IF(ISBLANK(Checklist!$H$4),\"NO VC!!\",Checklist!$H$4))","v":""},{"$f":"IF(LEN($F233)<1,\"\",IF(ISBLANK(Checklist!$H$5),\"NO Date!!\",Checklist!$H$5))","v":""},{"$f":"IF(LEN($F233)<1,\"\",IF(ISBLANK(Checklist!$H$6),\"NO Recorder!!\",Checklist!$H$6))","v":""},{"$f":"IF(LEN($F233)<1,\"\",IF(ISTEXT(I233),I233,IF(ISTEXT(Checklist!$H$6),Checklist!$H$6,\"NO Determiner!!\")))","v":""},{"$f":"IF(LEN($F233)<1,\"\",IF(ISTEXT(J233),J233,IF(ISTEXT(Checklist!$H$7),Checklist!$H$7,\"Field record / observation\")))","v":""},"","",null,"","","","","","","","","","","","",null,null,null,null,null,null,null,null,null,null,null,null,null,null,null,null,null,null,null,183,"Galium odoratum",null,null,85,"Alopecurus pratensis","Linnaeus","Meadow Foxtail","Poaceae",null,85,"Alopecurus pratensis_85",null,null,null,null,null,null,null,"Alopecurus pratensis_85"]
["",null,null,null,"","","",null,null,null,null,null,null,null,null,"","","",{"$f":"IF(LEN($F234)<1,\"\",IF(ISBLANK(Checklist!$H$2),\"\",Checklist!$H$2))","v":""},{"$f":"IF(LEN($F234)<1,\"\",IF(ISTEXT(H234),H234,IF(ISTEXT(Checklist!$H$3),Checklist!$H$3,\"NO Grid Ref!!\")))","v":""},{"$f":"IF(LEN($F234)<1,\"\",IF(ISBLANK(Checklist!$H$4),\"NO VC!!\",Checklist!$H$4))","v":""},{"$f":"IF(LEN($F234)<1,\"\",IF(ISBLANK(Checklist!$H$5),\"NO Date!!\",Checklist!$H$5))","v":""},{"$f":"IF(LEN($F234)<1,\"\",IF(ISBLANK(Checklist!$H$6),\"NO Recorder!!\",Checklist!$H$6))","v":""},{"$f":"IF(LEN($F234)<1,\"\",IF(ISTEXT(I234),I234,IF(ISTEXT(Checklist!$H$6),Checklist!$H$6,\"NO Determiner!!\")))","v":""},{"$f":"IF(LEN($F234)<1,\"\",IF(ISTEXT(J234),J234,IF(ISTEXT(Checklist!$H$7),Checklist!$H$7,\"Field record / observation\")))","v":""},"","",null,"","","","","","","","","","","","",null,null,null,null,null,null,null,null,null,null,null,null,null,null,null,null,null,null,null,184,"Asperula taurina",null,null,83,"Alopecurus x brachystylus","Peterm.","A. geniculatus x pratensis","Poaceae",null,83,"Alopecurus x brachystylus_83",null,null,null,null,null,null,null,"Alopecurus x brachystylus_83"]
["",null,null,null,"","","",null,null,null,null,null,null,null,null,"","","",{"$f":"IF(LEN($F235)<1,\"\",IF(ISBLANK(Checklist!$H$2),\"\",Checklist!$H$2))","v":""},{"$f":"IF(LEN($F235)<1,\"\",IF(ISTEXT(H235),H235,IF(ISTEXT(Checklist!$H$3),Checklist!$H$3,\"NO Grid Ref!!\")))","v":""},{"$f":"IF(LEN($F235)<1,\"\",IF(ISBLANK(Checklist!$H$4),\"NO VC!!\",Checklist!$H$4))","v":""},{"$f":"IF(LEN($F235)<1,\"\",IF(ISBLANK(Checklist!$H$5),\"NO Date!!\",Checklist!$H$5))","v":""},{"$f":"IF(LEN($F235)<1,\"\",IF(ISBLANK(Checklist!$H$6),\"NO Recorder!!\",Checklist!$H$6))","v":""},{"$f":"IF(LEN($F235)<1,\"\",IF(ISTEXT(I235),I235,IF(ISTEXT(Checklist!$H$6),Checklist!$H$6,\"NO Determiner!!\")))","v":""},{"$f":"IF(LEN($F235)<1,\"\",IF(ISTEXT(J235),J235,IF(ISTEXT(Checklist!$H$7),Checklist!$H$7,\"Field record / observation\")))","v":""},"","",null,"","","","","","","","","","","","",null,null,null,null,null,null,null,null,null,null,null,null,null,null,null,null,null,null,null,185,"Asplenium adiantum-nigrum sens. lat.",null,null,2918,"Alopecurus x haussknechtianus","Asch. & Graebner","A. aequalis x geniculatus","Poaceae",null,2918,"Alopecurus x haussknechtianus_2918",null,null,null,null,null,null,null,"Alopecurus x haussknechtianus_2918"]
["",null,null,null,"","","",null,null,null,null,null,null,null,null,"","","",{"$f":"IF(LEN($F236)<1,\"\",IF(ISBLANK(Checklist!$H$2),\"\",Checklist!$H$2))","v":""},{"$f":"IF(LEN($F236)<1,\"\",IF(ISTEXT(H236),H236,IF(ISTEXT(Checklist!$H$3),Checklist!$H$3,\"NO Grid Ref!!\")))","v":""},{"$f":"IF(LEN($F236)<1,\"\",IF(ISBLANK(Checklist!$H$4),\"NO VC!!\",Checklist!$H$4))","v":""},{"$f":"IF(LEN($F236)<1,\"\",IF(ISBLANK(Checklist!$H$5),\"NO Date!!\",Checklist!$H$5))","v":""},{"$f":"IF(LEN($F236)<1,\"\",IF(ISBLANK(Checklist!$H$6),\"NO Recorder!!\",Checklist!$H$6))","v":""},{"$f":"IF(LEN($F236)<1,\"\",IF(ISTEXT(I236),I236,IF(ISTEXT(Checklist!$H$6),Checklist!$H$6,\"NO Determiner!!\")))","v":""},{"$f":"IF(LEN($F236)<1,\"\",IF(ISTEXT(J236),J236,IF(ISTEXT(Checklist!$H$7),Checklist!$H$7,\"Field record / observation\")))","v":""},"","",null,"","","","","","","","","","","","",null,null,null,null,null,null,null,null,null,null,null,null,null,null,null,null,null,null,null,185.1,"Asplenium adiantum-nigrum",null,null,2919,"Alopecurus x plettkei","Mattf.","A. bulbosus x geniculatus","Poaceae",null,2919,"Alopecurus x plettkei_2919",null,null,null,null,null,null,null,"Alopecurus x plettkei_2919"]
["",null,null,null,"","","",null,null,null,null,null,null,null,null,"","","",{"$f":"IF(LEN($F237)<1,\"\",IF(ISBLANK(Checklist!$H$2),\"\",Checklist!$H$2))","v":""},{"$f":"IF(LEN($F237)<1,\"\",IF(ISTEXT(H237),H237,IF(ISTEXT(Checklist!$H$3),Checklist!$H$3,\"NO Grid Ref!!\")))","v":""},{"$f":"IF(LEN($F237)<1,\"\",IF(ISBLANK(Checklist!$H$4),\"NO VC!!\",Checklist!$H$4))","v":""},{"$f":"IF(LEN($F237)<1,\"\",IF(ISBLANK(Checklist!$H$5),\"NO Date!!\",Checklist!$H$5))","v":""},{"$f":"IF(LEN($F237)<1,\"\",IF(ISBLANK(Checklist!$H$6),\"NO Recorder!!\",Checklist!$H$6))","v":""},{"$f":"IF(LEN($F237)<1,\"\",IF(ISTEXT(I237),I237,IF(ISTEXT(Checklist!$H$6),Checklist!$H$6,\"NO Determiner!!\")))","v":""},{"$f":"IF(LEN($F237)<1,\"\",IF(ISTEXT(J237),J237,IF(ISTEXT(Checklist!$H$7),Checklist!$H$7,\"Field record / observation\")))","v":""},"","",null,"","","","","","","","","","","","",null,null,null,null,null,null,null,null,null,null,null,null,null,null,null,null,null,null,null,185.2,"Asplenium onopteris",null,null,7149,"Alstroemeria aurea","Graham","Peruvian Lily","Liliaceae",null,7149,"Alstroemeria aurea_7149",null,null,null,null,null,null,null,"Alstroemeria aurea_7149"]
["",null,null,null,"","","",null,null,null,null,null,null,null,null,"","","",{"$f":"IF(LEN($F238)<1,\"\",IF(ISBLANK(Checklist!$H$2),\"\",Checklist!$H$2))","v":""},{"$f":"IF(LEN($F238)<1,\"\",IF(ISTEXT(H238),H238,IF(ISTEXT(Checklist!$H$3),Checklist!$H$3,\"NO Grid Ref!!\")))","v":""},{"$f":"IF(LEN($F238)<1,\"\",IF(ISBLANK(Checklist!$H$4),\"NO VC!!\",Checklist!$H$4))","v":""},{"$f":"IF(LEN($F238)<1,\"\",IF(ISBLANK(Checklist!$H$5),\"NO Date!!\",Checklist!$H$5))","v":""},{"$f":"IF(LEN($F238)<1,\"\",IF(ISBLANK(Checklist!$H$6),\"NO Recorder!!\",Checklist!$H$6))","v":""},{"$f":"IF(LEN($F238)<1,\"\",IF(ISTEXT(I238),I238,IF(ISTEXT(Checklist!$H$6),Checklist!$H$6,\"NO Determiner!!\")))","v":""},{"$f":"IF(LEN($F238)<1,\"\",IF(ISTEXT(J238),J238,IF(ISTEXT(Checklist!$H$7),Checklist!$H$7,\"Field record / observation\")))","v":""},"","",null,"","","","","","","","","","","","",null,null,null,null,null,null,null,null,null,null,null,null,null,null,null,null,null,null,null,186,"Asplenium x alternifolium",null,null,87,"Althaea officinalis","L.","Marsh-mallow","Malvaceae","Nationally Scarce",87,"Althaea officinalis_87",null,null,null,null,null,null,null,"Althaea officinalis_87"]
["",null,null,null,"","","",null,null,null,null,null,null,null,null,"","","",{"$f":"IF(LEN($F239)<1,\"\",IF(ISBLANK(Checklist!$H$2),\"\",Checklist!$H$2))","v":""},{"$f":"IF(LEN($F239)<1,\"\",IF(ISTEXT(H239),H239,IF(ISTEXT(Checklist!$H$3),Checklist!$H$3,\"NO Grid Ref!!\")))","v":""},{"$f":"IF(LEN($F239)<1,\"\",IF(ISBLANK(Checklist!$H$4),\"NO VC!!\",Checklist!$H$4))","v":""},{"$f":"IF(LEN($F239)<1,\"\",IF(ISBLANK(Checklist!$H$5),\"NO Date!!\",Checklist!$H$5))","v":""},{"$f":"IF(LEN($F239)<1,\"\",IF(ISBLANK(Checklist!$H$6),\"NO Recorder!!\",Checklist!$H$6))","v":""},{"$f":"IF(LEN($F239)<1,\"\",IF(ISTEXT(I239),I239,IF(ISTEXT(Checklist!$H$6),Checklist!$H$6,\"NO Determiner!!\")))","v":""},{"$f":"IF(LEN($F239)<1,\"\",IF(ISTEXT(J239),J239,IF(ISTEXT(Checklist!$H$7),Checklist!$H$7,\"Field record / observation\")))","v":""},"","",null,"","","","","","","","","","","","",null,null,null,null,null,null,null,null,null,null,null,null,null,null,null,null,null,null,null,187,"Asplenium x clermontiae",null,null,89,"Alyssum alyssoides","(Linnaeus) Linnaeus","Small Alison","Brassicaceae",null,89,"Alyssum alyssoides_89",null,null,null,null,null,null,null,"Alyssum alyssoides_89"]
["",null,null,null,"","","",null,null,null,null,null,null,null,null,"","","",{"$f":"IF(LEN($F240)<1,\"\",IF(ISBLANK(Checklist!$H$2),\"\",Checklist!$H$2))","v":""},{"$f":"IF(LEN($F240)<1,\"\",IF(ISTEXT(H240),H240,IF(ISTEXT(Checklist!$H$3),Checklist!$H$3,\"NO Grid Ref!!\")))","v":""},{"$f":"IF(LEN($F240)<1,\"\",IF(ISBLANK(Checklist!$H$4),\"NO VC!!\",Checklist!$H$4))","v":""},{"$f":"IF(LEN($F240)<1,\"\",IF(ISBLANK(Checklist!$H$5),\"NO Date!!\",Checklist!$H$5))","v":""},{"$f":"IF(LEN($F240)<1,\"\",IF(ISBLANK(Checklist!$H$6),\"NO Recorder!!\",Checklist!$H$6))","v":""},{"$f":"IF(LEN($F240)<1,\"\",IF(ISTEXT(I240),I240,IF(ISTEXT(Checklist!$H$6),Checklist!$H$6,\"NO Determiner!!\")))","v":""},{"$f":"IF(LEN($F240)<1,\"\",IF(ISTEXT(J240),J240,IF(ISTEXT(Checklist!$H$7),Checklist!$H$7,\"Field record / observation\")))","v":""},"","",null,"","","","","","","","","","","","",null,null,null,null,null,null,null,null,null,null,null,null,null,null,null,null,null,null,null,188,"Asplenium fontanum",null,null,90,"Amaranthus albus","Linnaeus","White Pigweed","Amaranthaceae",null,90,"Amaranthus albus_90",null,null,null,null,null,null,null,"Amaranthus albus_90"]
["",null,null,null,"","","",null,null,null,null,null,null,null,null,"","","",{"$f":"IF(LEN($F241)<1,\"\",IF(ISBLANK(Checklist!$H$2),\"\",Checklist!$H$2))","v":""},{"$f":"IF(LEN($F241)<1,\"\",IF(ISTEXT(H241),H241,IF(ISTEXT(Checklist!$H$3),Checklist!$H$3,\"NO Grid Ref!!\")))","v":""},{"$f":"IF(LEN($F241)<1,\"\",IF(ISBLANK(Checklist!$H$4),\"NO VC!!\",Checklist!$H$4))","v":""},{"$f":"IF(LEN($F241)<1,\"\",IF(ISBLANK(Checklist!$H$5),\"NO Date!!\",Checklist!$H$5))","v":""},{"$f":"IF(LEN($F241)<1,\"\",IF(ISBLANK(Checklist!$H$6),\"NO Recorder!!\",Checklist!$H$6))","v":""},{"$f":"IF(LEN($F241)<1,\"\",IF(ISTEXT(I241),I241,IF(ISTEXT(Checklist!$H$6),Checklist!$H$6,\"NO Determiner!!\")))","v":""},{"$f":"IF(LEN($F241)<1,\"\",IF(ISTEXT(J241),J241,IF(ISTEXT(Checklist!$H$7),Checklist!$H$7,\"Field record / observation\")))","v":""},"","",null,"","","","","","","","","","","","",null,null,null,null,null,null,null,null,null,null,null,null,null,null,null,null,null,null,null,189,"Asplenium marinum",null,null,7938,"Amaranthus arenicola","I.M.Johnston",null,"Amaranthaceae",null,7938,"Amaranthus arenicola_7938",null,null,null,null,null,null,null,"Amaranthus arenicola_7938"]
["",null,null,null,"","","",null,null,null,null,null,null,null,null,"","","",{"$f":"IF(LEN($F242)<1,\"\",IF(ISBLANK(Checklist!$H$2),\"\",Checklist!$H$2))","v":""},{"$f":"IF(LEN($F242)<1,\"\",IF(ISTEXT(H242),H242,IF(ISTEXT(Checklist!$H$3),Checklist!$H$3,\"NO Grid Ref!!\")))","v":""},{"$f":"IF(LEN($F242)<1,\"\",IF(ISBLANK(Checklist!$H$4),\"NO VC!!\",Checklist!$H$4))","v":""},{"$f":"IF(LEN($F242)<1,\"\",IF(ISBLANK(Checklist!$H$5),\"NO Date!!\",Checklist!$H$5))","v":""},{"$f":"IF(LEN($F242)<1,\"\",IF(ISBLANK(Checklist!$H$6),\"NO Recorder!!\",Checklist!$H$6))","v":""},{"$f":"IF(LEN($F242)<1,\"\",IF(ISTEXT(I242),I242,IF(ISTEXT(Checklist!$H$6),Checklist!$H$6,\"NO Determiner!!\")))","v":""},{"$f":"IF(LEN($F242)<1,\"\",IF(ISTEXT(J242),J242,IF(ISTEXT(Checklist!$H$7),Checklist!$H$7,\"Field record / observation\")))","v":""},"","",null,"","","","","","","","","","","","",null,null,null,null,null,null,null,null,null,null,null,null,null,null,null,null,null,null,null,190,"Asplenium x murbeckii",null,null,4421,"Amaranthus blitoides","S.Watson","Prostrate Pigweed","Amaranthaceae",null,4421,"Amaranthus blitoides_4421",null,null,null,null,null,null,null,"Amaranthus blitoides_4421"]
["",null,null,null,"","","",null,null,null,null,null,null,null,null,"","","",{"$f":"IF(LEN($F243)<1,\"\",IF(ISBLANK(Checklist!$H$2),\"\",Checklist!$H$2))","v":""},{"$f":"IF(LEN($F243)<1,\"\",IF(ISTEXT(H243),H243,IF(ISTEXT(Checklist!$H$3),Checklist!$H$3,\"NO Grid Ref!!\")))","v":""},{"$f":"IF(LEN($F243)<1,\"\",IF(ISBLANK(Checklist!$H$4),\"NO VC!!\",Checklist!$H$4))","v":""},{"$f":"IF(LEN($F243)<1,\"\",IF(ISBLANK(Checklist!$H$5),\"NO Date!!\",Checklist!$H$5))","v":""},{"$f":"IF(LEN($F243)<1,\"\",IF(ISBLANK(Checklist!$H$6),\"NO Recorder!!\",Checklist!$H$6))","v":""},{"$f":"IF(LEN($F243)<1,\"\",IF(ISTEXT(I243),I243,IF(ISTEXT(Checklist!$H$6),Checklist!$H$6,\"NO Determiner!!\")))","v":""},{"$f":"IF(LEN($F243)<1,\"\",IF(ISTEXT(J243),J243,IF(ISTEXT(Checklist!$H$7),Checklist!$H$7,\"Field record / observation\")))","v":""},"","",null,"","","","","","","","","","","","",null,null,null,null,null,null,null,null,null,null,null,null,null,null,null,null,null,null,null,191,"Asplenium obovatum",null,null,7939,"Amaranthus blitum","Linnaeus","Guernsey Pigweed","Amaranthaceae",null,7939,"Amaranthus blitum_7939",null,null,null,null,null,null,null,"Amaranthus blitum_7939"]
["",null,null,null,"","","",null,null,null,null,null,null,null,null,"","","",{"$f":"IF(LEN($F244)<1,\"\",IF(ISBLANK(Checklist!$H$2),\"\",Checklist!$H$2))","v":""},{"$f":"IF(LEN($F244)<1,\"\",IF(ISTEXT(H244),H244,IF(ISTEXT(Checklist!$H$3),Checklist!$H$3,\"NO Grid Ref!!\")))","v":""},{"$f":"IF(LEN($F244)<1,\"\",IF(ISBLANK(Checklist!$H$4),\"NO VC!!\",Checklist!$H$4))","v":""},{"$f":"IF(LEN($F244)<1,\"\",IF(ISBLANK(Checklist!$H$5),\"NO Date!!\",Checklist!$H$5))","v":""},{"$f":"IF(LEN($F244)<1,\"\",IF(ISBLANK(Checklist!$H$6),\"NO Recorder!!\",Checklist!$H$6))","v":""},{"$f":"IF(LEN($F244)<1,\"\",IF(ISTEXT(I244),I244,IF(ISTEXT(Checklist!$H$6),Checklist!$H$6,\"NO Determiner!!\")))","v":""},{"$f":"IF(LEN($F244)<1,\"\",IF(ISTEXT(J244),J244,IF(ISTEXT(Checklist!$H$7),Checklist!$H$7,\"Field record / observation\")))","v":""},"","",null,"","","","","","","","","","","","",null,null,null,null,null,null,null,null,null,null,null,null,null,null,null,null,null,null,null,192,"Asplenium ruta-muraria",null,null,4417,"Amaranthus bouchonii","Thell.","Indehiscent Amaranth","Amaranthaceae",null,4417,"Amaranthus bouchonii_4417",null,null,null,null,null,null,null,"Amaranthus bouchonii_4417"]
["",null,null,null,"","","",null,null,null,null,null,null,null,null,"","","",{"$f":"IF(LEN($F245)<1,\"\",IF(ISBLANK(Checklist!$H$2),\"\",Checklist!$H$2))","v":""},{"$f":"IF(LEN($F245)<1,\"\",IF(ISTEXT(H245),H245,IF(ISTEXT(Checklist!$H$3),Checklist!$H$3,\"NO Grid Ref!!\")))","v":""},{"$f":"IF(LEN($F245)<1,\"\",IF(ISBLANK(Checklist!$H$4),\"NO VC!!\",Checklist!$H$4))","v":""},{"$f":"IF(LEN($F245)<1,\"\",IF(ISBLANK(Checklist!$H$5),\"NO Date!!\",Checklist!$H$5))","v":""},{"$f":"IF(LEN($F245)<1,\"\",IF(ISBLANK(Checklist!$H$6),\"NO Recorder!!\",Checklist!$H$6))","v":""},{"$f":"IF(LEN($F245)<1,\"\",IF(ISTEXT(I245),I245,IF(ISTEXT(Checklist!$H$6),Checklist!$H$6,\"NO Determiner!!\")))","v":""},{"$f":"IF(LEN($F245)<1,\"\",IF(ISTEXT(J245),J245,IF(ISTEXT(Checklist!$H$7),Checklist!$H$7,\"Field record / observation\")))","v":""},"","",null,"","","","","","","","","","","","",null,null,null,null,null,null,null,null,null,null,null,null,null,null,null,null,null,null,null,193,"Asplenium septentrionale",null,null,7827,"Amaranthus capensis","Thell.","Cape Pigweed","Amaranthaceae",null,7827,"Amaranthus capensis_7827",null,null,null,null,null,null,null,"Amaranthus capensis_7827"]
["",null,null,null,"","","",null,null,null,null,null,null,null,null,"","","",{"$f":"IF(LEN($F246)<1,\"\",IF(ISBLANK(Checklist!$H$2),\"\",Checklist!$H$2))","v":""},{"$f":"IF(LEN($F246)<1,\"\",IF(ISTEXT(H246),H246,IF(ISTEXT(Checklist!$H$3),Checklist!$H$3,\"NO Grid Ref!!\")))","v":""},{"$f":"IF(LEN($F246)<1,\"\",IF(ISBLANK(Checklist!$H$4),\"NO VC!!\",Checklist!$H$4))","v":""},{"$f":"IF(LEN($F246)<1,\"\",IF(ISBLANK(Checklist!$H$5),\"NO Date!!\",Checklist!$H$5))","v":""},{"$f":"IF(LEN($F246)<1,\"\",IF(ISBLANK(Checklist!$H$6),\"NO Recorder!!\",Checklist!$H$6))","v":""},{"$f":"IF(LEN($F246)<1,\"\",IF(ISTEXT(I246),I246,IF(ISTEXT(Checklist!$H$6),Checklist!$H$6,\"NO Determiner!!\")))","v":""},{"$f":"IF(LEN($F246)<1,\"\",IF(ISTEXT(J246),J246,IF(ISTEXT(Checklist!$H$7),Checklist!$H$7,\"Field record / observation\")))","v":""},"","",null,"","","","","","","","","","","","",null,null,null,null,null,null,null,null,null,null,null,null,null,null,null,null,null,null,null,194,"Asplenium trichomanes",null,null,4418,"Amaranthus caudatus","Linnaeus","Love-lies-bleeding","Amaranthaceae",null,4418,"Amaranthus caudatus_4418",null,null,null,null,null,null,null,"Amaranthus caudatus_4418"]
["",null,null,null,"","","",null,null,null,null,null,null,null,null,"","","",{"$f":"IF(LEN($F247)<1,\"\",IF(ISBLANK(Checklist!$H$2),\"\",Checklist!$H$2))","v":""},{"$f":"IF(LEN($F247)<1,\"\",IF(ISTEXT(H247),H247,IF(ISTEXT(Checklist!$H$3),Checklist!$H$3,\"NO Grid Ref!!\")))","v":""},{"$f":"IF(LEN($F247)<1,\"\",IF(ISBLANK(Checklist!$H$4),\"NO VC!!\",Checklist!$H$4))","v":""},{"$f":"IF(LEN($F247)<1,\"\",IF(ISBLANK(Checklist!$H$5),\"NO Date!!\",Checklist!$H$5))","v":""},{"$f":"IF(LEN($F247)<1,\"\",IF(ISBLANK(Checklist!$H$6),\"NO Recorder!!\",Checklist!$H$6))","v":""},{"$f":"IF(LEN($F247)<1,\"\",IF(ISTEXT(I247),I247,IF(ISTEXT(Checklist!$H$6),Checklist!$H$6,\"NO Determiner!!\")))","v":""},{"$f":"IF(LEN($F247)<1,\"\",IF(ISTEXT(J247),J247,IF(ISTEXT(Checklist!$H$7),Checklist!$H$7,\"Field record / observation\")))","v":""},"","",null,"","","","","","","","","","","","",null,null,null,null,null,null,null,null,null,null,null,null,null,null,null,null,null,null,null,194.1,"Asplenium trichomanes subsp. quadrivalens",null,null,7150,"Amaranthus cruentus","Linnaeus","Purple Amaranth","Amaranthaceae",null,7150,"Amaranthus cruentus_7150",null,null,null,null,null,null,null,"Amaranthus cruentus_7150"]
["",null,null,null,"","","",null,null,null,null,null,null,null,null,"","","",{"$f":"IF(LEN($F248)<1,\"\",IF(ISBLANK(Checklist!$H$2),\"\",Checklist!$H$2))","v":""},{"$f":"IF(LEN($F248)<1,\"\",IF(ISTEXT(H248),H248,IF(ISTEXT(Checklist!$H$3),Checklist!$H$3,\"NO Grid Ref!!\")))","v":""},{"$f":"IF(LEN($F248)<1,\"\",IF(ISBLANK(Checklist!$H$4),\"NO VC!!\",Checklist!$H$4))","v":""},{"$f":"IF(LEN($F248)<1,\"\",IF(ISBLANK(Checklist!$H$5),\"NO Date!!\",Checklist!$H$5))","v":""},{"$f":"IF(LEN($F248)<1,\"\",IF(ISBLANK(Checklist!$H$6),\"NO Recorder!!\",Checklist!$H$6))","v":""},{"$f":"IF(LEN($F248)<1,\"\",IF(ISTEXT(I248),I248,IF(ISTEXT(Checklist!$H$6),Checklist!$H$6,\"NO Determiner!!\")))","v":""},{"$f":"IF(LEN($F248)<1,\"\",IF(ISTEXT(J248),J248,IF(ISTEXT(Checklist!$H$7),Checklist!$H$7,\"Field record / observation\")))","v":""},"","",null,"","","","","","","","","","","","",null,null,null,null,null,null,null,null,null,null,null,null,null,null,null,null,null,null,null,194.2,"Asplenium trichomanes subsp. trichomanes",null,null,4419,"Amaranthus deflexus","Linnaeus","Perennial Pigweed","Amaranthaceae",null,4419,"Amaranthus deflexus_4419",null,null,null,null,null,null,null,"Amaranthus deflexus_4419"]
["",null,null,null,"","","",null,null,null,null,null,null,null,null,"","","",{"$f":"IF(LEN($F249)<1,\"\",IF(ISBLANK(Checklist!$H$2),\"\",Checklist!$H$2))","v":""},{"$f":"IF(LEN($F249)<1,\"\",IF(ISTEXT(H249),H249,IF(ISTEXT(Checklist!$H$3),Checklist!$H$3,\"NO Grid Ref!!\")))","v":""},{"$f":"IF(LEN($F249)<1,\"\",IF(ISBLANK(Checklist!$H$4),\"NO VC!!\",Checklist!$H$4))","v":""},{"$f":"IF(LEN($F249)<1,\"\",IF(ISBLANK(Checklist!$H$5),\"NO Date!!\",Checklist!$H$5))","v":""},{"$f":"IF(LEN($F249)<1,\"\",IF(ISBLANK(Checklist!$H$6),\"NO Recorder!!\",Checklist!$H$6))","v":""},{"$f":"IF(LEN($F249)<1,\"\",IF(ISTEXT(I249),I249,IF(ISTEXT(Checklist!$H$6),Checklist!$H$6,\"NO Determiner!!\")))","v":""},{"$f":"IF(LEN($F249)<1,\"\",IF(ISTEXT(J249),J249,IF(ISTEXT(Checklist!$H$7),Checklist!$H$7,\"Field record / observation\")))","v":""},"","",null,"","","","","","","","","","","","",null,null,null,null,null,null,null,null,null,null,null,null,null,null,null,null,null,null,null,194.3,"Asplenium trichomanes subsp. pachyrachis",null,null,7828,"Amaranthus graecizans","Linnaeus","Short-tepalled Pigweed","Amaranthaceae",null,7828,"Amaranthus graecizans_7828",null,null,null,null,null,null,null,"Amaranthus graecizans_7828"]
["",null,null,null,"","","",null,null,null,null,null,null,null,null,"","","",{"$f":"IF(LEN($F250)<1,\"\",IF(ISBLANK(Checklist!$H$2),\"\",Checklist!$H$2))","v":""},{"$f":"IF(LEN($F250)<1,\"\",IF(ISTEXT(H250),H250,IF(ISTEXT(Checklist!$H$3),Checklist!$H$3,\"NO Grid Ref!!\")))","v":""},{"$f":"IF(LEN($F250)<1,\"\",IF(ISBLANK(Checklist!$H$4),\"NO VC!!\",Checklist!$H$4))","v":""},{"$f":"IF(LEN($F250)<1,\"\",IF(ISBLANK(Checklist!$H$5),\"NO Date!!\",Checklist!$H$5))","v":""},{"$f":"IF(LEN($F250)<1,\"\",IF(ISBLANK(Checklist!$H$6),\"NO Recorder!!\",Checklist!$H$6))","v":""},{"$f":"IF(LEN($F250)<1,\"\",IF(ISTEXT(I250),I250,IF(ISTEXT(Checklist!$H$6),Checklist!$H$6,\"NO Determiner!!\")))","v":""},{"$f":"IF(LEN($F250)<1,\"\",IF(ISTEXT(J250),J250,IF(ISTEXT(Checklist!$H$7),Checklist!$H$7,\"Field record / observation\")))","v":""},"","",null,"","","","","","","","","","","","",null,null,null,null,null,null,null,null,null,null,null,null,null,null,null,null,null,null,null,195,"Asplenium viride",null,null,7828.1,"Amaranthus graecizans subsp. graecizans",null,null,"Amaranthaceae",null,7828.1,"Amaranthus graecizans subsp. graecizans_7828.1",null,null,null,null,null,null,null,"Amaranthus graecizans subsp. graecizans_7828.1"]
["",null,null,null,"","","",null,null,null,null,null,null,null,null,"","","",{"$f":"IF(LEN($F251)<1,\"\",IF(ISBLANK(Checklist!$H$2),\"\",Checklist!$H$2))","v":""},{"$f":"IF(LEN($F251)<1,\"\",IF(ISTEXT(H251),H251,IF(ISTEXT(Checklist!$H$3),Checklist!$H$3,\"NO Grid Ref!!\")))","v":""},{"$f":"IF(LEN($F251)<1,\"\",IF(ISBLANK(Checklist!$H$4),\"NO VC!!\",Checklist!$H$4))","v":""},{"$f":"IF(LEN($F251)<1,\"\",IF(ISBLANK(Checklist!$H$5),\"NO Date!!\",Checklist!$H$5))","v":""},{"$f":"IF(LEN($F251)<1,\"\",IF(ISBLANK(Checklist!$H$6),\"NO Recorder!!\",Checklist!$H$6))","v":""},{"$f":"IF(LEN($F251)<1,\"\",IF(ISTEXT(I251),I251,IF(ISTEXT(Checklist!$H$6),Checklist!$H$6,\"NO Determiner!!\")))","v":""},{"$f":"IF(LEN($F251)<1,\"\",IF(ISTEXT(J251),J251,IF(ISTEXT(Checklist!$H$7),Checklist!$H$7,\"Field record / observation\")))","v":""},"","",null,"","","","","","","","","","","","",null,null,null,null,null,null,null,null,null,null,null,null,null,null,null,null,null,null,null,196,"Aster laevis",null,null,7828.2,"Amaranthus graecizans subsp. sylvestris",null,null,"Amaranthaceae",null,7828.2,"Amaranthus graecizans subsp. sylvestris_7828.2",null,null,null,null,null,null,null,"Amaranthus graecizans subsp. sylvestris_7828.2"]
["",null,null,null,"","","",null,null,null,null,null,null,null,null,"","","",{"$f":"IF(LEN($F252)<1,\"\",IF(ISBLANK(Checklist!$H$2),\"\",Checklist!$H$2))","v":""},{"$f":"IF(LEN($F252)<1,\"\",IF(ISTEXT(H252),H252,IF(ISTEXT(Checklist!$H$3),Checklist!$H$3,\"NO Grid Ref!!\")))","v":""},{"$f":"IF(LEN($F252)<1,\"\",IF(ISBLANK(Checklist!$H$4),\"NO VC!!\",Checklist!$H$4))","v":""},{"$f":"IF(LEN($F252)<1,\"\",IF(ISBLANK(Checklist!$H$5),\"NO Date!!\",Checklist!$H$5))","v":""},{"$f":"IF(LEN($F252)<1,\"\",IF(ISBLANK(Checklist!$H$6),\"NO Recorder!!\",Checklist!$H$6))","v":""},{"$f":"IF(LEN($F252)<1,\"\",IF(ISTEXT(I252),I252,IF(ISTEXT(Checklist!$H$6),Checklist!$H$6,\"NO Determiner!!\")))","v":""},{"$f":"IF(LEN($F252)<1,\"\",IF(ISTEXT(J252),J252,IF(ISTEXT(Checklist!$H$7),Checklist!$H$7,\"Field record / observation\")))","v":""},"","",null,"","","","","","","","","","","","",null,null,null,null,null,null,null,null,null,null,null,null,null,null,null,null,null,null,null,197,"Aster lanceolatus",null,null,91,"Amaranthus hybridus","Linnaeus","Green Amaranth","Amaranthaceae",null,91,"Amaranthus hybridus_91",null,null,null,null,null,null,null,"Amaranthus hybridus_91"]
["",null,null,null,"","","",null,null,null,null,null,null,null,null,"","","",{"$f":"IF(LEN($F253)<1,\"\",IF(ISBLANK(Checklist!$H$2),\"\",Checklist!$H$2))","v":""},{"$f":"IF(LEN($F253)<1,\"\",IF(ISTEXT(H253),H253,IF(ISTEXT(Checklist!$H$3),Checklist!$H$3,\"NO Grid Ref!!\")))","v":""},{"$f":"IF(LEN($F253)<1,\"\",IF(ISBLANK(Checklist!$H$4),\"NO VC!!\",Checklist!$H$4))","v":""},{"$f":"IF(LEN($F253)<1,\"\",IF(ISBLANK(Checklist!$H$5),\"NO Date!!\",Checklist!$H$5))","v":""},{"$f":"IF(LEN($F253)<1,\"\",IF(ISBLANK(Checklist!$H$6),\"NO Recorder!!\",Checklist!$H$6))","v":""},{"$f":"IF(LEN($F253)<1,\"\",IF(ISTEXT(I253),I253,IF(ISTEXT(Checklist!$H$6),Checklist!$H$6,\"NO Determiner!!\")))","v":""},{"$f":"IF(LEN($F253)<1,\"\",IF(ISTEXT(J253),J253,IF(ISTEXT(Checklist!$H$7),Checklist!$H$7,\"Field record / observation\")))","v":""},"","",null,"","","","","","","","","","","","",null,null,null,null,null,null,null,null,null,null,null,null,null,null,null,null,null,null,null,199,"Aster schreberi",null,null,3320,"Amaranthus hypochondriacus","Linnaeus","Prince's-feather","Amaranthaceae",null,3320,"Amaranthus hypochondriacus_3320",null,null,null,null,null,null,null,"Amaranthus hypochondriacus_3320"]
["",null,null,null,"","","",null,null,null,null,null,null,null,null,"","","",{"$f":"IF(LEN($F254)<1,\"\",IF(ISBLANK(Checklist!$H$2),\"\",Checklist!$H$2))","v":""},{"$f":"IF(LEN($F254)<1,\"\",IF(ISTEXT(H254),H254,IF(ISTEXT(Checklist!$H$3),Checklist!$H$3,\"NO Grid Ref!!\")))","v":""},{"$f":"IF(LEN($F254)<1,\"\",IF(ISBLANK(Checklist!$H$4),\"NO VC!!\",Checklist!$H$4))","v":""},{"$f":"IF(LEN($F254)<1,\"\",IF(ISBLANK(Checklist!$H$5),\"NO Date!!\",Checklist!$H$5))","v":""},{"$f":"IF(LEN($F254)<1,\"\",IF(ISBLANK(Checklist!$H$6),\"NO Recorder!!\",Checklist!$H$6))","v":""},{"$f":"IF(LEN($F254)<1,\"\",IF(ISTEXT(I254),I254,IF(ISTEXT(Checklist!$H$6),Checklist!$H$6,\"NO Determiner!!\")))","v":""},{"$f":"IF(LEN($F254)<1,\"\",IF(ISTEXT(J254),J254,IF(ISTEXT(Checklist!$H$7),Checklist!$H$7,\"Field record / observation\")))","v":""},"","",null,"","","","","","","","","","","","",null,null,null,null,null,null,null,null,null,null,null,null,null,null,null,null,null,null,null,200,"Aster novae-angliae",null,null,7940,"Amaranthus palmeri","S.Watson","Dioecious Amaranth","Amaranthaceae",null,7940,"Amaranthus palmeri_7940",null,null,null,null,null,null,null,"Amaranthus palmeri_7940"]
["",null,null,null,"","","",null,null,null,null,null,null,null,null,"","","",{"$f":"IF(LEN($F255)<1,\"\",IF(ISBLANK(Checklist!$H$2),\"\",Checklist!$H$2))","v":""},{"$f":"IF(LEN($F255)<1,\"\",IF(ISTEXT(H255),H255,IF(ISTEXT(Checklist!$H$3),Checklist!$H$3,\"NO Grid Ref!!\")))","v":""},{"$f":"IF(LEN($F255)<1,\"\",IF(ISBLANK(Checklist!$H$4),\"NO VC!!\",Checklist!$H$4))","v":""},{"$f":"IF(LEN($F255)<1,\"\",IF(ISBLANK(Checklist!$H$5),\"NO Date!!\",Checklist!$H$5))","v":""},{"$f":"IF(LEN($F255)<1,\"\",IF(ISBLANK(Checklist!$H$6),\"NO Recorder!!\",Checklist!$H$6))","v":""},{"$f":"IF(LEN($F255)<1,\"\",IF(ISTEXT(I255),I255,IF(ISTEXT(Checklist!$H$6),Checklist!$H$6,\"NO Determiner!!\")))","v":""},{"$f":"IF(LEN($F255)<1,\"\",IF(ISTEXT(J255),J255,IF(ISTEXT(Checklist!$H$7),Checklist!$H$7,\"Field record / observation\")))","v":""},"","",null,"","","","","","","","","","","","",null,null,null,null,null,null,null,null,null,null,null,null,null,null,null,null,null,null,null,201,"Aster agg.",null,null,3321,"Amaranthus powellii","S. Watson","Powell's Amaranth","Amaranthaceae",null,3321,"Amaranthus powellii_3321",null,null,null,null,null,null,null,"Amaranthus powellii_3321"]
["",null,null,null,"","","",null,null,null,null,null,null,null,null,"","","",{"$f":"IF(LEN($F256)<1,\"\",IF(ISBLANK(Checklist!$H$2),\"\",Checklist!$H$2))","v":""},{"$f":"IF(LEN($F256)<1,\"\",IF(ISTEXT(H256),H256,IF(ISTEXT(Checklist!$H$3),Checklist!$H$3,\"NO Grid Ref!!\")))","v":""},{"$f":"IF(LEN($F256)<1,\"\",IF(ISBLANK(Checklist!$H$4),\"NO VC!!\",Checklist!$H$4))","v":""},{"$f":"IF(LEN($F256)<1,\"\",IF(ISBLANK(Checklist!$H$5),\"NO Date!!\",Checklist!$H$5))","v":""},{"$f":"IF(LEN($F256)<1,\"\",IF(ISBLANK(Checklist!$H$6),\"NO Recorder!!\",Checklist!$H$6))","v":""},{"$f":"IF(LEN($F256)<1,\"\",IF(ISTEXT(I256),I256,IF(ISTEXT(Checklist!$H$6),Checklist!$H$6,\"NO Determiner!!\")))","v":""},{"$f":"IF(LEN($F256)<1,\"\",IF(ISTEXT(J256),J256,IF(ISTEXT(Checklist!$H$7),Checklist!$H$7,\"Field record / observation\")))","v":""},"","",null,"","","","","","","","","","","","",null,null,null,null,null,null,null,null,null,null,null,null,null,null,null,null,null,null,null,202,"Aster puniceus",null,null,7941,"Amaranthus quitensis","Kunth","Mucronate Amaranth","Amaranthaceae",null,7941,"Amaranthus quitensis_7941",null,null,null,null,null,null,null,"Amaranthus quitensis_7941"]
["",null,null,null,"","","",null,null,null,null,null,null,null,null,"","","",{"$f":"IF(LEN($F257)<1,\"\",IF(ISBLANK(Checklist!$H$2),\"\",Checklist!$H$2))","v":""},{"$f":"IF(LEN($F257)<1,\"\",IF(ISTEXT(H257),H257,IF(ISTEXT(Checklist!$H$3),Checklist!$H$3,\"NO Grid Ref!!\")))","v":""},{"$f":"IF(LEN($F257)<1,\"\",IF(ISBLANK(Checklist!$H$4),\"NO VC!!\",Checklist!$H$4))","v":""},{"$f":"IF(LEN($F257)<1,\"\",IF(ISBLANK(Checklist!$H$5),\"NO Date!!\",Checklist!$H$5))","v":""},{"$f":"IF(LEN($F257)<1,\"\",IF(ISBLANK(Checklist!$H$6),\"NO Recorder!!\",Checklist!$H$6))","v":""},{"$f":"IF(LEN($F257)<1,\"\",IF(ISTEXT(I257),I257,IF(ISTEXT(Checklist!$H$6),Checklist!$H$6,\"NO Determiner!!\")))","v":""},{"$f":"IF(LEN($F257)<1,\"\",IF(ISTEXT(J257),J257,IF(ISTEXT(Checklist!$H$7),Checklist!$H$7,\"Field record / observation\")))","v":""},"","",null,"","","","","","","","","","","","",null,null,null,null,null,null,null,null,null,null,null,null,null,null,null,null,null,null,null,203,"Aster x salignus",null,null,92,"Amaranthus retroflexus","L.","Common Amaranth","Amaranthaceae",null,92,"Amaranthus retroflexus_92",null,null,null,null,null,null,null,"Amaranthus retroflexus_92"]
["",null,null,null,"","","",null,null,null,null,null,null,null,null,"","","",{"$f":"IF(LEN($F258)<1,\"\",IF(ISBLANK(Checklist!$H$2),\"\",Checklist!$H$2))","v":""},{"$f":"IF(LEN($F258)<1,\"\",IF(ISTEXT(H258),H258,IF(ISTEXT(Checklist!$H$3),Checklist!$H$3,\"NO Grid Ref!!\")))","v":""},{"$f":"IF(LEN($F258)<1,\"\",IF(ISBLANK(Checklist!$H$4),\"NO VC!!\",Checklist!$H$4))","v":""},{"$f":"IF(LEN($F258)<1,\"\",IF(ISBLANK(Checklist!$H$5),\"NO Date!!\",Checklist!$H$5))","v":""},{"$f":"IF(LEN($F258)<1,\"\",IF(ISBLANK(Checklist!$H$6),\"NO Recorder!!\",Checklist!$H$6))","v":""},{"$f":"IF(LEN($F258)<1,\"\",IF(ISTEXT(I258),I258,IF(ISTEXT(Checklist!$H$6),Checklist!$H$6,\"NO Determiner!!\")))","v":""},{"$f":"IF(LEN($F258)<1,\"\",IF(ISTEXT(J258),J258,IF(ISTEXT(Checklist!$H$7),Checklist!$H$7,\"Field record / observation\")))","v":""},"","",null,"","","","","","","","","","","","",null,null,null,null,null,null,null,null,null,null,null,null,null,null,null,null,null,null,null,204,"Aster tripolium",null,null,4420,"Amaranthus standleyanus","Parodi ex Covas","Indehiscent Pigweed","Amaranthaceae",null,4420,"Amaranthus standleyanus_4420",null,null,null,null,null,null,null,"Amaranthus standleyanus_4420"]
["",null,null,null,{"$f":"IF(ISBLANK(B259),IF(ISBLANK(C259),\"\",IF(RIGHT(C259,LEN(C259)-FIND(\"_\",C259,1))=\"No BRC\",\"No BRC\",RIGHT(C259,LEN(C259)-FIND(\"_\",C259,1))*1)),B259)","v":""},"","",null,null,null,null,null,null,null,null,"","","",{"$f":"IF(LEN($F259)<1,\"\",IF(ISBLANK(Checklist!$H$2),\"\",Checklist!$H$2))","v":""},{"$f":"IF(LEN($F259)<1,\"\",IF(ISTEXT(H259),H259,IF(ISTEXT(Checklist!$H$3),Checklist!$H$3,\"NO Grid Ref!!\")))","v":""},{"$f":"IF(LEN($F259)<1,\"\",IF(ISBLANK(Checklist!$H$4),\"NO VC!!\",Checklist!$H$4))","v":""},{"$f":"IF(LEN($F259)<1,\"\",IF(ISBLANK(Checklist!$H$5),\"NO Date!!\",Checklist!$H$5))","v":""},{"$f":"IF(LEN($F259)<1,\"\",IF(ISBLANK(Checklist!$H$6),\"NO Recorder!!\",Checklist!$H$6))","v":""},{"$f":"IF(LEN($F259)<1,\"\",IF(ISTEXT(I259),I259,IF(ISTEXT(Checklist!$H$6),Checklist!$H$6,\"NO Determiner!!\")))","v":""},{"$f":"IF(LEN($F259)<1,\"\",IF(ISTEXT(J259),J259,IF(ISTEXT(Checklist!$H$7),Checklist!$H$7,\"Field record / observation\")))","v":""},"","",null,"","","","","","","","","","","","",null,null,null,null,null,null,null,null,null,null,null,null,null,null,null,null,null,null,null,204.1,"Aster tripolium var. discoideus",null,null,7942,"Amaranthus thunbergii","Moq.","Thunberg's Pigweed","Amaranthaceae",null,7942,"Amaranthus thunbergii_7942",null,null,null,null,null,null,null,"Amaranthus thunbergii_7942"]
[{"$f":"IF(F260=\"\",\"\",ROW())","v":""},null,null,null,"","","",null,null,null,null,null,null,null,null,"","","",{"$f":"IF(LEN($F260)<1,\"\",IF(ISBLANK(Checklist!$H$2),\"\",Checklist!$H$2))","v":""},{"$f":"IF(LEN($F260)<1,\"\",IF(ISTEXT(H260),H260,IF(ISTEXT(Checklist!$H$3),Checklist!$H$3,\"NO Grid Ref!!\")))","v":""},{"$f":"IF(LEN($F260)<1,\"\",IF(ISBLANK(Checklist!$H$4),\"NO VC!!\",Checklist!$H$4))","v":""},{"$f":"IF(LEN($F260)<1,\"\",IF(ISBLANK(Checklist!$H$5),\"NO Date!!\",Checklist!$H$5))","v":""},{"$f":"IF(LEN($F260)<1,\"\",IF(ISBLANK(Checklist!$H$6),\"NO Recorder!!\",Checklist!$H$6))","v":""},{"$f":"IF(LEN($F260)<1,\"\",IF(ISTEXT(I260),I260,IF(ISTEXT(Checklist!$H$6),Checklist!$H$6,\"NO Determiner!!\")))","v":""},{"$f":"IF(LEN($F260)<1,\"\",IF(ISTEXT(J260),J260,IF(ISTEXT(Checklist!$H$7),Checklist!$H$7,\"Field record / observation\")))","v":""},"","",null,{"$f":"IF(ROW($A260)-ROW($A$3)+1>COUNT($A$3:$A$501),\"\",INDEX(P:P,SMALL($A$3:$A$501,1+ROW($A260)-ROW($A$3))))","v":""},{"$f":"IF(ROW($A260)-ROW($A$3)+1>COUNT($A$3:$A$501),\"\",INDEX(Q:Q,SMALL($A$3:$A$501,1+ROW($A260)-ROW($A$3))))","v":""},{"$f":"IF(ROW($A260)-ROW($A$3)+1>COUNT($A$3:$A$501),\"\",INDEX(R:R,SMALL($A$3:$A$501,1+ROW($A260)-ROW($A$3))))","v":""},{"$f":"IF(ROW($A260)-ROW($A$3)+1>COUNT($A$3:$A$501),\"\",INDEX(S:S,SMALL($A$3:$A$501,1+ROW($A260)-ROW($A$3))))","v":""},{"$f":"IF(ROW($A260)-ROW($A$3)+1>COUNT($A$3:$A$501),\"\",INDEX(T:T,SMALL($A$3:$A$501,1+ROW($A260)-ROW($A$3))))","v":""},{"$f":"IF(ROW($A260)-ROW($A$3)+1>COUNT($A$3:$A$501),\"\",INDEX(U:U,SMALL($A$3:$A$501,1+ROW($A260)-ROW($A$3))))","v":""},{"$f":"IF(ROW($A260)-ROW($A$3)+1>COUNT($A$3:$A$501),\"\",INDEX(V:V,SMALL($A$3:$A$501,1+ROW($A260)-ROW($A$3))))","v":""},{"$f":"IF(ROW($A260)-ROW($A$3)+1>COUNT($A$3:$A$501),\"\",INDEX(W:W,SMALL($A$3:$A$501,1+ROW($A260)-ROW($A$3))))","v":""},{"$f":"IF(ROW($A260)-ROW($A$3)+1>COUNT($A$3:$A$501),\"\",INDEX(X:X,SMALL($A$3:$A$501,1+ROW($A260)-ROW($A$3))))","v":""},{"$f":"IF(ROW($A260)-ROW($A$3)+1>COUNT($A$3:$A$501),\"\",INDEX(Y:Y,SMALL($A$3:$A$501,1+ROW($A260)-ROW($A$3))))","v":""},{"$f":"IF(ROW($A260)-ROW($A$3)+1>COUNT($A$3:$A$501),\"\",INDEX(Z:Z,SMALL($A$3:$A$501,1+ROW($A260)-ROW($A$3))))","v":""},{"$f":"IF(ROW($A260)-ROW($A$3)+1>COUNT($A$3:$A$501),\"\",INDEX(AA:AA,SMALL($A$3:$A$501,1+ROW($A260)-ROW($A$3))))","v":""},null,null,null,null,null,null,null,null,null,null,null,null,null,null,null,null,null,null,null,204.2,"Aster tripolium var. tripolium",null,null,5815,"Amaranthus tuberculatus","(Moq.) J.D. Sauer","Tall Waterhemp","Amaranthaceae",null,5815,{"$f":"CONCATENATE(BM260,\"_\",BL260)","v":"Amaranthus tuberculatus_5815"},null,null,null,null,null,null,null,"Amaranthus tuberculatus_5815"]
["",null,null,null,"","",{"$f":"IF(LEN(F261)<1,\"\",IF(ISBLANK(VLOOKUP(F261,$BM$3:$BR$7116,3,FALSE)),\"\",(VLOOKUP(F261,$BM$3:$BR$7130,3,FALSE))))","v":""},null,null,null,null,null,null,null,null,"","","",{"$f":"IF(LEN($F261)<1,\"\",IF(ISBLANK(Checklist!$H$2),\"\",Checklist!$H$2))","v":""},{"$f":"IF(LEN($F261)<1,\"\",IF(ISTEXT(H261),H261,IF(ISTEXT(Checklist!$H$3),Checklist!$H$3,\"NO Grid Ref!!\")))","v":""},{"$f":"IF(LEN($F261)<1,\"\",IF(ISBLANK(Checklist!$H$4),\"NO VC!!\",Checklist!$H$4))","v":""},{"$f":"IF(LEN($F261)<1,\"\",IF(ISBLANK(Checklist!$H$5),\"NO Date!!\",Checklist!$H$5))","v":""},{"$f":"IF(LEN($F261)<1,\"\",IF(ISBLANK(Checklist!$H$6),\"NO Recorder!!\",Checklist!$H$6))","v":""},{"$f":"IF(LEN($F261)<1,\"\",IF(ISTEXT(I261),I261,IF(ISTEXT(Checklist!$H$6),Checklist!$H$6,\"NO Determiner!!\")))","v":""},{"$f":"IF(LEN($F261)<1,\"\",IF(ISTEXT(J261),J261,IF(ISTEXT(Checklist!$H$7),Checklist!$H$7,\"Field record / observation\")))","v":""},"","",null,"","","","","","","","","","","","",null,null,null,null,null,null,null,null,null,null,null,null,null,null,null,null,null,null,null,205,"Aster x versicolor",null,null,7838,"Amaranthus x ozanonii","(Thell.) C.Schuster & Goldschmidt","A. hybridus x retroflexus","Amaranthaceae",null,7838,"Amaranthus x ozanonii_7838",null,null,null,null,null,null,null,"Amaranthus x ozanonii_7838"]
["",null,null,null,"",{"$f":"IF(ISBLANK(B262),IF(ISBLANK(C262),\"\",LEFT(C262,FIND(\"_\",C262,1)-1)),VLOOKUP(B262,$BH$3:$BI$7130,2,FALSE))","v":""},"",null,null,null,null,null,null,null,null,"","","",{"$f":"IF(LEN($F262)<1,\"\",IF(ISBLANK(Checklist!$H$2),\"\",Checklist!$H$2))","v":""},{"$f":"IF(LEN($F262)<1,\"\",IF(ISTEXT(H262),H262,IF(ISTEXT(Checklist!$H$3),Checklist!$H$3,\"NO Grid Ref!!\")))","v":""},{"$f":"IF(LEN($F262)<1,\"\",IF(ISBLANK(Checklist!$H$4),\"NO VC!!\",Checklist!$H$4))","v":""},{"$f":"IF(LEN($F262)<1,\"\",IF(ISBLANK(Checklist!$H$5),\"NO Date!!\",Checklist!$H$5))","v":""},{"$f":"IF(LEN($F262)<1,\"\",IF(ISBLANK(Checklist!$H$6),\"NO Recorder!!\",Checklist!$H$6))","v":""},{"$f":"IF(LEN($F262)<1,\"\",IF(ISTEXT(I262),I262,IF(ISTEXT(Checklist!$H$6),Checklist!$H$6,\"NO Determiner!!\")))","v":""},{"$f":"IF(LEN($F262)<1,\"\",IF(ISTEXT(J262),J262,IF(ISTEXT(Checklist!$H$7),Checklist!$H$7,\"Field record / observation\")))","v":""},"","",null,"","","","","","","","","","","","",null,null,null,null,null,null,null,null,null,null,null,null,null,null,null,null,null,null,null,206,"Astragalus alpinus",null,null,7151,"Amaryllis belladonna","Linnaeus","Jersey Lily","Liliaceae",null,7151,"Amaryllis belladonna_7151",null,null,null,null,null,null,null,"Amaryllis belladonna_7151"]
["",null,null,null,"","","",null,null,null,null,null,null,null,null,"","","",{"$f":"IF(LEN($F263)<1,\"\",IF(ISBLANK(Checklist!$H$2),\"\",Checklist!$H$2))","v":""},{"$f":"IF(LEN($F263)<1,\"\",IF(ISTEXT(H263),H263,IF(ISTEXT(Checklist!$H$3),Checklist!$H$3,\"NO Grid Ref!!\")))","v":""},{"$f":"IF(LEN($F263)<1,\"\",IF(ISBLANK(Checklist!$H$4),\"NO VC!!\",Checklist!$H$4))","v":""},{"$f":"IF(LEN($F263)<1,\"\",IF(ISBLANK(Checklist!$H$5),\"NO Date!!\",Checklist!$H$5))","v":""},{"$f":"IF(LEN($F263)<1,\"\",IF(ISBLANK(Checklist!$H$6),\"NO Recorder!!\",Checklist!$H$6))","v":""},{"$f":"IF(LEN($F263)<1,\"\",IF(ISTEXT(I263),I263,IF(ISTEXT(Checklist!$H$6),Checklist!$H$6,\"NO Determiner!!\")))","v":""},{"$f":"IF(LEN($F263)<1,\"\",IF(ISTEXT(J263),J263,IF(ISTEXT(Checklist!$H$7),Checklist!$H$7,\"Field record / observation\")))","v":""},"","",null,"","","","","","","","","","","","",null,null,null,null,null,null,null,null,null,null,null,null,null,null,null,null,null,null,null,207,"Astragalus danicus",null,null,93,"Ambrosia artemisiifolia","Linnaeus","Ragweed","Asteraceae",null,93,"Ambrosia artemisiifolia_93",null,null,null,null,null,null,null,"Ambrosia artemisiifolia_93"]
["",null,null,null,"","","",null,null,null,null,null,null,null,null,"","","",{"$f":"IF(LEN($F264)<1,\"\",IF(ISBLANK(Checklist!$H$2),\"\",Checklist!$H$2))","v":""},{"$f":"IF(LEN($F264)<1,\"\",IF(ISTEXT(H264),H264,IF(ISTEXT(Checklist!$H$3),Checklist!$H$3,\"NO Grid Ref!!\")))","v":""},{"$f":"IF(LEN($F264)<1,\"\",IF(ISBLANK(Checklist!$H$4),\"NO VC!!\",Checklist!$H$4))","v":""},{"$f":"IF(LEN($F264)<1,\"\",IF(ISBLANK(Checklist!$H$5),\"NO Date!!\",Checklist!$H$5))","v":""},{"$f":"IF(LEN($F264)<1,\"\",IF(ISBLANK(Checklist!$H$6),\"NO Recorder!!\",Checklist!$H$6))","v":""},{"$f":"IF(LEN($F264)<1,\"\",IF(ISTEXT(I264),I264,IF(ISTEXT(Checklist!$H$6),Checklist!$H$6,\"NO Determiner!!\")))","v":""},{"$f":"IF(LEN($F264)<1,\"\",IF(ISTEXT(J264),J264,IF(ISTEXT(Checklist!$H$7),Checklist!$H$7,\"Field record / observation\")))","v":""},"","",null,"","","","","","","","","","","","",null,null,null,null,null,null,null,null,null,null,null,null,null,null,null,null,null,null,null,208,"Astragalus glycyphyllos",null,null,7152,"Ambrosia psilostachya","DC.","Perennial Ragweed","Asteraceae",null,7152,"Ambrosia psilostachya_7152",null,null,null,null,null,null,null,"Ambrosia psilostachya_7152"]
["",null,null,null,"","","",null,null,null,null,null,null,null,null,"","","",{"$f":"IF(LEN($F265)<1,\"\",IF(ISBLANK(Checklist!$H$2),\"\",Checklist!$H$2))","v":""},{"$f":"IF(LEN($F265)<1,\"\",IF(ISTEXT(H265),H265,IF(ISTEXT(Checklist!$H$3),Checklist!$H$3,\"NO Grid Ref!!\")))","v":""},{"$f":"IF(LEN($F265)<1,\"\",IF(ISBLANK(Checklist!$H$4),\"NO VC!!\",Checklist!$H$4))","v":""},{"$f":"IF(LEN($F265)<1,\"\",IF(ISBLANK(Checklist!$H$5),\"NO Date!!\",Checklist!$H$5))","v":""},{"$f":"IF(LEN($F265)<1,\"\",IF(ISBLANK(Checklist!$H$6),\"NO Recorder!!\",Checklist!$H$6))","v":""},{"$f":"IF(LEN($F265)<1,\"\",IF(ISTEXT(I265),I265,IF(ISTEXT(Checklist!$H$6),Checklist!$H$6,\"NO Determiner!!\")))","v":""},{"$f":"IF(LEN($F265)<1,\"\",IF(ISTEXT(J265),J265,IF(ISTEXT(Checklist!$H$7),Checklist!$H$7,\"Field record / observation\")))","v":""},"","",null,"","","","","","","","","","","","",null,null,null,null,null,null,null,null,null,null,null,null,null,null,null,null,null,null,null,209,"Astrantia major",null,null,7943,"Ambrosia trifida","Linnaeus","Giant Ragweed","Asteraceae",null,7943,"Ambrosia trifida_7943",null,null,null,null,null,null,null,"Ambrosia trifida_7943"]
["",null,null,null,"","","",null,null,null,null,null,null,null,null,"","","",{"$f":"IF(LEN($F266)<1,\"\",IF(ISBLANK(Checklist!$H$2),\"\",Checklist!$H$2))","v":""},{"$f":"IF(LEN($F266)<1,\"\",IF(ISTEXT(H266),H266,IF(ISTEXT(Checklist!$H$3),Checklist!$H$3,\"NO Grid Ref!!\")))","v":""},{"$f":"IF(LEN($F266)<1,\"\",IF(ISBLANK(Checklist!$H$4),\"NO VC!!\",Checklist!$H$4))","v":""},{"$f":"IF(LEN($F266)<1,\"\",IF(ISBLANK(Checklist!$H$5),\"NO Date!!\",Checklist!$H$5))","v":""},{"$f":"IF(LEN($F266)<1,\"\",IF(ISBLANK(Checklist!$H$6),\"NO Recorder!!\",Checklist!$H$6))","v":""},{"$f":"IF(LEN($F266)<1,\"\",IF(ISTEXT(I266),I266,IF(ISTEXT(Checklist!$H$6),Checklist!$H$6,\"NO Determiner!!\")))","v":""},{"$f":"IF(LEN($F266)<1,\"\",IF(ISTEXT(J266),J266,IF(ISTEXT(Checklist!$H$7),Checklist!$H$7,\"Field record / observation\")))","v":""},"","",null,"","","","","","","","","","","","",null,null,null,null,null,null,null,null,null,null,null,null,null,null,null,null,null,null,null,210,"Athyrium distentifolium",null,null,94,"Amelanchier lamarckii","F.-G.Schroeder","Juneberry","Rosaceae",null,94,"Amelanchier lamarckii_94",null,null,null,null,null,null,null,"Amelanchier lamarckii_94"]
["",null,null,null,"","","",null,null,null,null,null,null,null,null,"","","",{"$f":"IF(LEN($F267)<1,\"\",IF(ISBLANK(Checklist!$H$2),\"\",Checklist!$H$2))","v":""},{"$f":"IF(LEN($F267)<1,\"\",IF(ISTEXT(H267),H267,IF(ISTEXT(Checklist!$H$3),Checklist!$H$3,\"NO Grid Ref!!\")))","v":""},{"$f":"IF(LEN($F267)<1,\"\",IF(ISBLANK(Checklist!$H$4),\"NO VC!!\",Checklist!$H$4))","v":""},{"$f":"IF(LEN($F267)<1,\"\",IF(ISBLANK(Checklist!$H$5),\"NO Date!!\",Checklist!$H$5))","v":""},{"$f":"IF(LEN($F267)<1,\"\",IF(ISBLANK(Checklist!$H$6),\"NO Recorder!!\",Checklist!$H$6))","v":""},{"$f":"IF(LEN($F267)<1,\"\",IF(ISTEXT(I267),I267,IF(ISTEXT(Checklist!$H$6),Checklist!$H$6,\"NO Determiner!!\")))","v":""},{"$f":"IF(LEN($F267)<1,\"\",IF(ISTEXT(J267),J267,IF(ISTEXT(Checklist!$H$7),Checklist!$H$7,\"Field record / observation\")))","v":""},"","",null,"","","","","","","","","","","","",null,null,null,null,null,null,null,null,null,null,null,null,null,null,null,null,null,null,null,210.1,"Athyrium flexile",null,null,95,"Ammi majus","Linnaeus","Bullwort","Apiaceae",null,95,"Ammi majus_95",null,null,null,null,null,null,null,"Ammi majus_95"]
["",null,null,null,"","","",null,null,null,null,null,null,null,null,"","","",{"$f":"IF(LEN($F268)<1,\"\",IF(ISBLANK(Checklist!$H$2),\"\",Checklist!$H$2))","v":""},{"$f":"IF(LEN($F268)<1,\"\",IF(ISTEXT(H268),H268,IF(ISTEXT(Checklist!$H$3),Checklist!$H$3,\"NO Grid Ref!!\")))","v":""},{"$f":"IF(LEN($F268)<1,\"\",IF(ISBLANK(Checklist!$H$4),\"NO VC!!\",Checklist!$H$4))","v":""},{"$f":"IF(LEN($F268)<1,\"\",IF(ISBLANK(Checklist!$H$5),\"NO Date!!\",Checklist!$H$5))","v":""},{"$f":"IF(LEN($F268)<1,\"\",IF(ISBLANK(Checklist!$H$6),\"NO Recorder!!\",Checklist!$H$6))","v":""},{"$f":"IF(LEN($F268)<1,\"\",IF(ISTEXT(I268),I268,IF(ISTEXT(Checklist!$H$6),Checklist!$H$6,\"NO Determiner!!\")))","v":""},{"$f":"IF(LEN($F268)<1,\"\",IF(ISTEXT(J268),J268,IF(ISTEXT(Checklist!$H$7),Checklist!$H$7,\"Field record / observation\")))","v":""},"","",null,"","","","","","","","","","","","",null,null,null,null,null,null,null,null,null,null,null,null,null,null,null,null,null,null,null,211,"Athyrium filix-femina",null,null,7944,"Ammi visnaga","(Linnaeus) Lam.","Toothpick-plant","Apiaceae",null,7944,"Ammi visnaga_7944",null,null,null,null,null,null,null,"Ammi visnaga_7944"]
["",null,null,null,"","","",null,null,null,null,null,null,null,null,"","","",{"$f":"IF(LEN($F269)<1,\"\",IF(ISBLANK(Checklist!$H$2),\"\",Checklist!$H$2))","v":""},{"$f":"IF(LEN($F269)<1,\"\",IF(ISTEXT(H269),H269,IF(ISTEXT(Checklist!$H$3),Checklist!$H$3,\"NO Grid Ref!!\")))","v":""},{"$f":"IF(LEN($F269)<1,\"\",IF(ISBLANK(Checklist!$H$4),\"NO VC!!\",Checklist!$H$4))","v":""},{"$f":"IF(LEN($F269)<1,\"\",IF(ISBLANK(Checklist!$H$5),\"NO Date!!\",Checklist!$H$5))","v":""},{"$f":"IF(LEN($F269)<1,\"\",IF(ISBLANK(Checklist!$H$6),\"NO Recorder!!\",Checklist!$H$6))","v":""},{"$f":"IF(LEN($F269)<1,\"\",IF(ISTEXT(I269),I269,IF(ISTEXT(Checklist!$H$6),Checklist!$H$6,\"NO Determiner!!\")))","v":""},{"$f":"IF(LEN($F269)<1,\"\",IF(ISTEXT(J269),J269,IF(ISTEXT(Checklist!$H$7),Checklist!$H$7,\"Field record / observation\")))","v":""},"","",null,"","","","","","","","","","","","",null,null,null,null,null,null,null,null,null,null,null,null,null,null,null,null,null,null,null,212,"Atriplex glabriuscula",null,null,97,"Ammophila arenaria","(L.) Link","Marram","Poaceae",null,97,"Ammophila arenaria_97",null,null,null,null,null,null,null,"Ammophila arenaria_97"]
["",null,null,null,"","","",null,null,null,null,null,null,null,null,"","","",{"$f":"IF(LEN($F270)<1,\"\",IF(ISBLANK(Checklist!$H$2),\"\",Checklist!$H$2))","v":""},{"$f":"IF(LEN($F270)<1,\"\",IF(ISTEXT(H270),H270,IF(ISTEXT(Checklist!$H$3),Checklist!$H$3,\"NO Grid Ref!!\")))","v":""},{"$f":"IF(LEN($F270)<1,\"\",IF(ISBLANK(Checklist!$H$4),\"NO VC!!\",Checklist!$H$4))","v":""},{"$f":"IF(LEN($F270)<1,\"\",IF(ISBLANK(Checklist!$H$5),\"NO Date!!\",Checklist!$H$5))","v":""},{"$f":"IF(LEN($F270)<1,\"\",IF(ISBLANK(Checklist!$H$6),\"NO Recorder!!\",Checklist!$H$6))","v":""},{"$f":"IF(LEN($F270)<1,\"\",IF(ISTEXT(I270),I270,IF(ISTEXT(Checklist!$H$6),Checklist!$H$6,\"NO Determiner!!\")))","v":""},{"$f":"IF(LEN($F270)<1,\"\",IF(ISTEXT(J270),J270,IF(ISTEXT(Checklist!$H$7),Checklist!$H$7,\"Field record / observation\")))","v":""},"","",null,"","","","","","","","","","","","",null,null,null,null,null,null,null,null,null,null,null,null,null,null,null,null,null,null,null,213,"Atriplex halimus",null,null,7153,"Ammophila breviligulata","Fern.","American Marram","Poaceae",null,7153,"Ammophila breviligulata_7153",null,null,null,null,null,null,null,"Ammophila breviligulata_7153"]
["",null,null,null,"","","",null,null,null,null,null,null,null,null,{"$f":"IF(LEN($F271)<1,\"\",E271)","v":""},{"$f":"IF(LEN($F271)<1,\"\",F271)","v":""},{"$f":"IF(LEN($F271)<1,\"\",G271)","v":""},{"$f":"IF(LEN($F271)<1,\"\",IF(ISBLANK(Checklist!$H$2),\"\",Checklist!$H$2))","v":""},{"$f":"IF(LEN($F271)<1,\"\",IF(ISTEXT(H271),H271,IF(ISTEXT(Checklist!$H$3),Checklist!$H$3,\"NO Grid Ref!!\")))","v":""},{"$f":"IF(LEN($F271)<1,\"\",IF(ISBLANK(Checklist!$H$4),\"NO VC!!\",Checklist!$H$4))","v":""},{"$f":"IF(LEN($F271)<1,\"\",IF(ISBLANK(Checklist!$H$5),\"NO Date!!\",Checklist!$H$5))","v":""},{"$f":"IF(LEN($F271)<1,\"\",IF(ISBLANK(Checklist!$H$6),\"NO Recorder!!\",Checklist!$H$6))","v":""},{"$f":"IF(LEN($F271)<1,\"\",IF(ISTEXT(I271),I271,IF(ISTEXT(Checklist!$H$6),Checklist!$H$6,\"NO Determiner!!\")))","v":""},{"$f":"IF(LEN($F271)<1,\"\",IF(ISTEXT(J271),J271,IF(ISTEXT(Checklist!$H$7),Checklist!$H$7,\"Field record / observation\")))","v":""},{"$f":"IF(LEN($F271)<1,\"\",IF(LEN(K271)<1,\"Not Recorded\",K271))","v":""},{"$f":"IF(LEN($F271)<1,\"\",IF(LEN(L271)<1,\"  --\",L271))","v":""},null,"","","","","","","","","","","","",null,null,null,null,null,null,null,null,null,null,null,null,null,null,null,null,null,null,null,214,"Atriplex prostrata",null,null,9175,"Amphibromus neesii","Steud.","Swamp Wallaby-grass","Poaceae",null,9175,"Amphibromus neesii_9175",null,null,null,null,null,null,null,"Amphibromus neesii_9175"]
["",null,null,null,"","","",null,null,null,null,null,null,null,null,"","","",{"$f":"IF(LEN($F272)<1,\"\",IF(ISBLANK(Checklist!$H$2),\"\",Checklist!$H$2))","v":""},{"$f":"IF(LEN($F272)<1,\"\",IF(ISTEXT(H272),H272,IF(ISTEXT(Checklist!$H$3),Checklist!$H$3,\"NO Grid Ref!!\")))","v":""},{"$f":"IF(LEN($F272)<1,\"\",IF(ISBLANK(Checklist!$H$4),\"NO VC!!\",Checklist!$H$4))","v":""},{"$f":"IF(LEN($F272)<1,\"\",IF(ISBLANK(Checklist!$H$5),\"NO Date!!\",Checklist!$H$5))","v":""},{"$f":"IF(LEN($F272)<1,\"\",IF(ISBLANK(Checklist!$H$6),\"NO Recorder!!\",Checklist!$H$6))","v":""},{"$f":"IF(LEN($F272)<1,\"\",IF(ISTEXT(I272),I272,IF(ISTEXT(Checklist!$H$6),Checklist!$H$6,\"NO Determiner!!\")))","v":""},{"$f":"IF(LEN($F272)<1,\"\",IF(ISTEXT(J272),J272,IF(ISTEXT(Checklist!$H$7),Checklist!$H$7,\"Field record / observation\")))","v":""},"","",null,"","","","","","","","","","","","",null,null,null,null,null,null,null,null,null,null,null,null,null,null,null,null,null,null,null,215,"Atriplex hortensis",null,null,4337,"Amsinckia lycopsoides","(Lehm.) Lehm.","Scarce Fiddleneck","Boraginaceae",null,4337,"Amsinckia lycopsoides_4337",null,null,null,null,null,null,null,"Amsinckia lycopsoides_4337"]
["",null,null,null,"","","",null,null,null,null,null,null,null,null,"","","",{"$f":"IF(LEN($F273)<1,\"\",IF(ISBLANK(Checklist!$H$2),\"\",Checklist!$H$2))","v":""},{"$f":"IF(LEN($F273)<1,\"\",IF(ISTEXT(H273),H273,IF(ISTEXT(Checklist!$H$3),Checklist!$H$3,\"NO Grid Ref!!\")))","v":""},{"$f":"IF(LEN($F273)<1,\"\",IF(ISBLANK(Checklist!$H$4),\"NO VC!!\",Checklist!$H$4))","v":""},{"$f":"IF(LEN($F273)<1,\"\",IF(ISBLANK(Checklist!$H$5),\"NO Date!!\",Checklist!$H$5))","v":""},{"$f":"IF(LEN($F273)<1,\"\",IF(ISBLANK(Checklist!$H$6),\"NO Recorder!!\",Checklist!$H$6))","v":""},{"$f":"IF(LEN($F273)<1,\"\",IF(ISTEXT(I273),I273,IF(ISTEXT(Checklist!$H$6),Checklist!$H$6,\"NO Determiner!!\")))","v":""},{"$f":"IF(LEN($F273)<1,\"\",IF(ISTEXT(J273),J273,IF(ISTEXT(Checklist!$H$7),Checklist!$H$7,\"Field record / observation\")))","v":""},"","",null,"","","","","","","","","","","","",null,null,null,null,null,null,null,null,null,null,null,null,null,null,null,null,null,null,null,216,"Atriplex laciniata",null,null,2616,"Amsinckia micrantha","Suksd.","Common Fiddleneck","Boraginaceae",null,2616,"Amsinckia micrantha_2616",null,null,null,null,null,null,null,"Amsinckia micrantha_2616"]
["",null,null,null,"","","",null,null,null,null,null,null,null,null,"","","",{"$f":"IF(LEN($F274)<1,\"\",IF(ISBLANK(Checklist!$H$2),\"\",Checklist!$H$2))","v":""},{"$f":"IF(LEN($F274)<1,\"\",IF(ISTEXT(H274),H274,IF(ISTEXT(Checklist!$H$3),Checklist!$H$3,\"NO Grid Ref!!\")))","v":""},{"$f":"IF(LEN($F274)<1,\"\",IF(ISBLANK(Checklist!$H$4),\"NO VC!!\",Checklist!$H$4))","v":""},{"$f":"IF(LEN($F274)<1,\"\",IF(ISBLANK(Checklist!$H$5),\"NO Date!!\",Checklist!$H$5))","v":""},{"$f":"IF(LEN($F274)<1,\"\",IF(ISBLANK(Checklist!$H$6),\"NO Recorder!!\",Checklist!$H$6))","v":""},{"$f":"IF(LEN($F274)<1,\"\",IF(ISTEXT(I274),I274,IF(ISTEXT(Checklist!$H$6),Checklist!$H$6,\"NO Determiner!!\")))","v":""},{"$f":"IF(LEN($F274)<1,\"\",IF(ISTEXT(J274),J274,IF(ISTEXT(Checklist!$H$7),Checklist!$H$7,\"Field record / observation\")))","v":""},"","",null,"","","","","","","","","","","","",null,null,null,null,null,null,null,null,null,null,null,null,null,null,null,null,null,null,null,217,"Atriplex littoralis",null,null,1386,"Anacamptis laxiflora","(Lam.) R.M.Bateman, Pridgeon & M.W.Chase","Loose-flowered Orchid","Orchidaceae",null,1386,"Anacamptis laxiflora_1386",null,null,null,null,null,null,null,"Anacamptis laxiflora_1386"]
["",null,null,null,"","","",null,null,null,null,null,null,null,null,"","","",{"$f":"IF(LEN($F275)<1,\"\",IF(ISBLANK(Checklist!$H$2),\"\",Checklist!$H$2))","v":""},{"$f":"IF(LEN($F275)<1,\"\",IF(ISTEXT(H275),H275,IF(ISTEXT(Checklist!$H$3),Checklist!$H$3,\"NO Grid Ref!!\")))","v":""},{"$f":"IF(LEN($F275)<1,\"\",IF(ISBLANK(Checklist!$H$4),\"NO VC!!\",Checklist!$H$4))","v":""},{"$f":"IF(LEN($F275)<1,\"\",IF(ISBLANK(Checklist!$H$5),\"NO Date!!\",Checklist!$H$5))","v":""},{"$f":"IF(LEN($F275)<1,\"\",IF(ISBLANK(Checklist!$H$6),\"NO Recorder!!\",Checklist!$H$6))","v":""},{"$f":"IF(LEN($F275)<1,\"\",IF(ISTEXT(I275),I275,IF(ISTEXT(Checklist!$H$6),Checklist!$H$6,\"NO Determiner!!\")))","v":""},{"$f":"IF(LEN($F275)<1,\"\",IF(ISTEXT(J275),J275,IF(ISTEXT(Checklist!$H$7),Checklist!$H$7,\"Field record / observation\")))","v":""},"","",null,"","","","","","","","","","","","",null,null,null,null,null,null,null,null,null,null,null,null,null,null,null,null,null,null,null,218,"Atriplex patula",null,null,1389,"Anacamptis morio","(L.) R.M.bateman, Pridgeon & M.W.Chase","Green-winged Orchid","Orchidaceae","Near Threatened",1389,"Anacamptis morio_1389",null,null,null,null,null,null,null,"Anacamptis morio_1389"]
["",null,null,null,"","","",null,null,null,null,null,null,null,null,"","","",{"$f":"IF(LEN($F276)<1,\"\",IF(ISBLANK(Checklist!$H$2),\"\",Checklist!$H$2))","v":""},{"$f":"IF(LEN($F276)<1,\"\",IF(ISTEXT(H276),H276,IF(ISTEXT(Checklist!$H$3),Checklist!$H$3,\"NO Grid Ref!!\")))","v":""},{"$f":"IF(LEN($F276)<1,\"\",IF(ISBLANK(Checklist!$H$4),\"NO VC!!\",Checklist!$H$4))","v":""},{"$f":"IF(LEN($F276)<1,\"\",IF(ISBLANK(Checklist!$H$5),\"NO Date!!\",Checklist!$H$5))","v":""},{"$f":"IF(LEN($F276)<1,\"\",IF(ISBLANK(Checklist!$H$6),\"NO Recorder!!\",Checklist!$H$6))","v":""},{"$f":"IF(LEN($F276)<1,\"\",IF(ISTEXT(I276),I276,IF(ISTEXT(Checklist!$H$6),Checklist!$H$6,\"NO Determiner!!\")))","v":""},{"$f":"IF(LEN($F276)<1,\"\",IF(ISTEXT(J276),J276,IF(ISTEXT(Checklist!$H$7),Checklist!$H$7,\"Field record / observation\")))","v":""},"","",null,"","","","","","","","","","","","",null,null,null,null,null,null,null,null,null,null,null,null,null,null,null,null,null,null,null,219,"Atropa belladonna",null,null,98,"Anacamptis pyramidalis","(Linnaeus) Rich.","Pyramidal Orchid","Orchidaceae",null,98,"Anacamptis pyramidalis_98",null,null,null,null,null,null,null,"Anacamptis pyramidalis_98"]
["",null,null,null,"","","",null,null,null,null,null,null,null,null,"","","",{"$f":"IF(LEN($F277)<1,\"\",IF(ISBLANK(Checklist!$H$2),\"\",Checklist!$H$2))","v":""},{"$f":"IF(LEN($F277)<1,\"\",IF(ISTEXT(H277),H277,IF(ISTEXT(Checklist!$H$3),Checklist!$H$3,\"NO Grid Ref!!\")))","v":""},{"$f":"IF(LEN($F277)<1,\"\",IF(ISBLANK(Checklist!$H$4),\"NO VC!!\",Checklist!$H$4))","v":""},{"$f":"IF(LEN($F277)<1,\"\",IF(ISBLANK(Checklist!$H$5),\"NO Date!!\",Checklist!$H$5))","v":""},{"$f":"IF(LEN($F277)<1,\"\",IF(ISBLANK(Checklist!$H$6),\"NO Recorder!!\",Checklist!$H$6))","v":""},{"$f":"IF(LEN($F277)<1,\"\",IF(ISTEXT(I277),I277,IF(ISTEXT(Checklist!$H$6),Checklist!$H$6,\"NO Determiner!!\")))","v":""},{"$f":"IF(LEN($F277)<1,\"\",IF(ISTEXT(J277),J277,IF(ISTEXT(Checklist!$H$7),Checklist!$H$7,\"Field record / observation\")))","v":""},"","",null,"","","","","","","","","","","","",null,null,null,null,null,null,null,null,null,null,null,null,null,null,null,null,null,null,null,220,"Avena fatua",null,null,2858,"Anacamptis x alata","(Fleury) H.Kertzmar, Eccarius &  H.Dietr.","A. laxiflora x morio","Orchidaceae",null,2858,"Anacamptis x alata_2858",null,null,null,null,null,null,null,"Anacamptis x alata_2858"]
["",null,null,null,"","","",null,null,null,null,null,null,null,null,"","","",{"$f":"IF(LEN($F278)<1,\"\",IF(ISBLANK(Checklist!$H$2),\"\",Checklist!$H$2))","v":""},{"$f":"IF(LEN($F278)<1,\"\",IF(ISTEXT(H278),H278,IF(ISTEXT(Checklist!$H$3),Checklist!$H$3,\"NO Grid Ref!!\")))","v":""},{"$f":"IF(LEN($F278)<1,\"\",IF(ISBLANK(Checklist!$H$4),\"NO VC!!\",Checklist!$H$4))","v":""},{"$f":"IF(LEN($F278)<1,\"\",IF(ISBLANK(Checklist!$H$5),\"NO Date!!\",Checklist!$H$5))","v":""},{"$f":"IF(LEN($F278)<1,\"\",IF(ISBLANK(Checklist!$H$6),\"NO Recorder!!\",Checklist!$H$6))","v":""},{"$f":"IF(LEN($F278)<1,\"\",IF(ISTEXT(I278),I278,IF(ISTEXT(Checklist!$H$6),Checklist!$H$6,\"NO Determiner!!\")))","v":""},{"$f":"IF(LEN($F278)<1,\"\",IF(ISTEXT(J278),J278,IF(ISTEXT(Checklist!$H$7),Checklist!$H$7,\"Field record / observation\")))","v":""},"","",null,"","","","","","","","","","","","",null,null,null,null,null,null,null,null,null,null,null,null,null,null,null,null,null,null,null,221,"Avena sterilis subsp. ludoviciana",null,null,"No BRC","Anacyclus radiatus","Loisel.",null,"Asteraceae",null,"No BRC","Anacyclus radiatus_No BRC",null,null,null,null,null,null,null,"Anacyclus radiatus_No BRC"]
["",null,null,null,"","","",null,null,null,null,null,null,null,null,"","","",{"$f":"IF(LEN($F279)<1,\"\",IF(ISBLANK(Checklist!$H$2),\"\",Checklist!$H$2))","v":""},{"$f":"IF(LEN($F279)<1,\"\",IF(ISTEXT(H279),H279,IF(ISTEXT(Checklist!$H$3),Checklist!$H$3,\"NO Grid Ref!!\")))","v":""},{"$f":"IF(LEN($F279)<1,\"\",IF(ISBLANK(Checklist!$H$4),\"NO VC!!\",Checklist!$H$4))","v":""},{"$f":"IF(LEN($F279)<1,\"\",IF(ISBLANK(Checklist!$H$5),\"NO Date!!\",Checklist!$H$5))","v":""},{"$f":"IF(LEN($F279)<1,\"\",IF(ISBLANK(Checklist!$H$6),\"NO Recorder!!\",Checklist!$H$6))","v":""},{"$f":"IF(LEN($F279)<1,\"\",IF(ISTEXT(I279),I279,IF(ISTEXT(Checklist!$H$6),Checklist!$H$6,\"NO Determiner!!\")))","v":""},{"$f":"IF(LEN($F279)<1,\"\",IF(ISTEXT(J279),J279,IF(ISTEXT(Checklist!$H$7),Checklist!$H$7,\"Field record / observation\")))","v":""},"","",null,"","","","","","","","","","","","",null,null,null,null,null,null,null,null,null,null,null,null,null,null,null,null,null,null,null,222,"Avena strigosa",null,null,99,"Anagallis arvensis","Linnaeus","Scarlet Pimpernel","Primulaceae",null,99,"Anagallis arvensis_99",null,null,null,null,null,null,null,"Anagallis arvensis_99"]
["",null,null,null,"","","",null,null,null,null,null,null,null,null,"","","",{"$f":"IF(LEN($F280)<1,\"\",IF(ISBLANK(Checklist!$H$2),\"\",Checklist!$H$2))","v":""},{"$f":"IF(LEN($F280)<1,\"\",IF(ISTEXT(H280),H280,IF(ISTEXT(Checklist!$H$3),Checklist!$H$3,\"NO Grid Ref!!\")))","v":""},{"$f":"IF(LEN($F280)<1,\"\",IF(ISBLANK(Checklist!$H$4),\"NO VC!!\",Checklist!$H$4))","v":""},{"$f":"IF(LEN($F280)<1,\"\",IF(ISBLANK(Checklist!$H$5),\"NO Date!!\",Checklist!$H$5))","v":""},{"$f":"IF(LEN($F280)<1,\"\",IF(ISBLANK(Checklist!$H$6),\"NO Recorder!!\",Checklist!$H$6))","v":""},{"$f":"IF(LEN($F280)<1,\"\",IF(ISTEXT(I280),I280,IF(ISTEXT(Checklist!$H$6),Checklist!$H$6,\"NO Determiner!!\")))","v":""},{"$f":"IF(LEN($F280)<1,\"\",IF(ISTEXT(J280),J280,IF(ISTEXT(Checklist!$H$7),Checklist!$H$7,\"Field record / observation\")))","v":""},"","",null,"","","","","","","","","","","","",null,null,null,null,null,null,null,null,null,null,null,null,null,null,null,null,null,null,null,223,"Azolla filiculoides",null,null,99.8,"Anagallis arvensis subsp. arvensis","Linnaeus","Scarlet Pimpernel","Primulaceae",null,99.8,"Anagallis arvensis subsp. arvensis_99.8",null,null,null,null,null,null,null,"Anagallis arvensis subsp. arvensis_99.8"]
["",null,null,null,"","","",null,null,null,null,null,null,null,null,"","","",{"$f":"IF(LEN($F281)<1,\"\",IF(ISBLANK(Checklist!$H$2),\"\",Checklist!$H$2))","v":""},{"$f":"IF(LEN($F281)<1,\"\",IF(ISTEXT(H281),H281,IF(ISTEXT(Checklist!$H$3),Checklist!$H$3,\"NO Grid Ref!!\")))","v":""},{"$f":"IF(LEN($F281)<1,\"\",IF(ISBLANK(Checklist!$H$4),\"NO VC!!\",Checklist!$H$4))","v":""},{"$f":"IF(LEN($F281)<1,\"\",IF(ISBLANK(Checklist!$H$5),\"NO Date!!\",Checklist!$H$5))","v":""},{"$f":"IF(LEN($F281)<1,\"\",IF(ISBLANK(Checklist!$H$6),\"NO Recorder!!\",Checklist!$H$6))","v":""},{"$f":"IF(LEN($F281)<1,\"\",IF(ISTEXT(I281),I281,IF(ISTEXT(Checklist!$H$6),Checklist!$H$6,\"NO Determiner!!\")))","v":""},{"$f":"IF(LEN($F281)<1,\"\",IF(ISTEXT(J281),J281,IF(ISTEXT(Checklist!$H$7),Checklist!$H$7,\"Field record / observation\")))","v":""},"","",null,"","","","","","","","","","","","",null,null,null,null,null,null,null,null,null,null,null,null,null,null,null,null,null,null,null,224,"Baldellia ranunculoides",null,null,99.1,"Anagallis arvensis subsp. arvensis f. arvensis",null,null,"Primulaceae",null,99.1,"Anagallis arvensis subsp. arvensis f. arvensis_99.1",null,null,null,null,null,null,null,"Anagallis arvensis subsp. arvensis f. arvensis_99.1"]
["",null,null,null,"","","",null,null,null,null,null,null,null,null,"","","",{"$f":"IF(LEN($F282)<1,\"\",IF(ISBLANK(Checklist!$H$2),\"\",Checklist!$H$2))","v":""},{"$f":"IF(LEN($F282)<1,\"\",IF(ISTEXT(H282),H282,IF(ISTEXT(Checklist!$H$3),Checklist!$H$3,\"NO Grid Ref!!\")))","v":""},{"$f":"IF(LEN($F282)<1,\"\",IF(ISBLANK(Checklist!$H$4),\"NO VC!!\",Checklist!$H$4))","v":""},{"$f":"IF(LEN($F282)<1,\"\",IF(ISBLANK(Checklist!$H$5),\"NO Date!!\",Checklist!$H$5))","v":""},{"$f":"IF(LEN($F282)<1,\"\",IF(ISBLANK(Checklist!$H$6),\"NO Recorder!!\",Checklist!$H$6))","v":""},{"$f":"IF(LEN($F282)<1,\"\",IF(ISTEXT(I282),I282,IF(ISTEXT(Checklist!$H$6),Checklist!$H$6,\"NO Determiner!!\")))","v":""},{"$f":"IF(LEN($F282)<1,\"\",IF(ISTEXT(J282),J282,IF(ISTEXT(Checklist!$H$7),Checklist!$H$7,\"Field record / observation\")))","v":""},"","",null,"","","","","","","","","","","","",null,null,null,null,null,null,null,null,null,null,null,null,null,null,null,null,null,null,null,225,"Ballota nigra",null,null,99.3,"Anagallis arvensis subsp. arvensis f. azurea",null,"Scarlet Pimpernel azure form","Primulaceae",null,99.3,"Anagallis arvensis subsp. arvensis f. azurea_99.3",null,null,null,null,null,null,null,"Anagallis arvensis subsp. arvensis f. azurea_99.3"]
["",null,null,null,"","","",null,null,null,null,null,null,null,null,"","","",{"$f":"IF(LEN($F283)<1,\"\",IF(ISBLANK(Checklist!$H$2),\"\",Checklist!$H$2))","v":""},{"$f":"IF(LEN($F283)<1,\"\",IF(ISTEXT(H283),H283,IF(ISTEXT(Checklist!$H$3),Checklist!$H$3,\"NO Grid Ref!!\")))","v":""},{"$f":"IF(LEN($F283)<1,\"\",IF(ISBLANK(Checklist!$H$4),\"NO VC!!\",Checklist!$H$4))","v":""},{"$f":"IF(LEN($F283)<1,\"\",IF(ISBLANK(Checklist!$H$5),\"NO Date!!\",Checklist!$H$5))","v":""},{"$f":"IF(LEN($F283)<1,\"\",IF(ISBLANK(Checklist!$H$6),\"NO Recorder!!\",Checklist!$H$6))","v":""},{"$f":"IF(LEN($F283)<1,\"\",IF(ISTEXT(I283),I283,IF(ISTEXT(Checklist!$H$6),Checklist!$H$6,\"NO Determiner!!\")))","v":""},{"$f":"IF(LEN($F283)<1,\"\",IF(ISTEXT(J283),J283,IF(ISTEXT(Checklist!$H$7),Checklist!$H$7,\"Field record / observation\")))","v":""},"","",null,"","","","","","","","","","","","",null,null,null,null,null,null,null,null,null,null,null,null,null,null,null,null,null,null,null,225.1,"Ballota nigra subsp. meridionalis",null,null,99.4,"Anagallis arvensis subsp. arvensis f. carnea",null,null,"Primulaceae",null,99.4,"Anagallis arvensis subsp. arvensis f. carnea_99.4",null,null,null,null,null,null,null,"Anagallis arvensis subsp. arvensis f. carnea_99.4"]
["",null,null,null,"","","",null,null,null,null,null,null,null,null,"","","",{"$f":"IF(LEN($F284)<1,\"\",IF(ISBLANK(Checklist!$H$2),\"\",Checklist!$H$2))","v":""},{"$f":"IF(LEN($F284)<1,\"\",IF(ISTEXT(H284),H284,IF(ISTEXT(Checklist!$H$3),Checklist!$H$3,\"NO Grid Ref!!\")))","v":""},{"$f":"IF(LEN($F284)<1,\"\",IF(ISBLANK(Checklist!$H$4),\"NO VC!!\",Checklist!$H$4))","v":""},{"$f":"IF(LEN($F284)<1,\"\",IF(ISBLANK(Checklist!$H$5),\"NO Date!!\",Checklist!$H$5))","v":""},{"$f":"IF(LEN($F284)<1,\"\",IF(ISBLANK(Checklist!$H$6),\"NO Recorder!!\",Checklist!$H$6))","v":""},{"$f":"IF(LEN($F284)<1,\"\",IF(ISTEXT(I284),I284,IF(ISTEXT(Checklist!$H$6),Checklist!$H$6,\"NO Determiner!!\")))","v":""},{"$f":"IF(LEN($F284)<1,\"\",IF(ISTEXT(J284),J284,IF(ISTEXT(Checklist!$H$7),Checklist!$H$7,\"Field record / observation\")))","v":""},"","",null,"","","","","","","","","","","","",null,null,null,null,null,null,null,null,null,null,null,null,null,null,null,null,null,null,null,226,"Barbarea intermedia",null,null,99.5,"Anagallis arvensis subsp. arvensis f. lilacina",null,null,"Primulaceae",null,99.5,"Anagallis arvensis subsp. arvensis f. lilacina_99.5",null,null,null,null,null,null,null,"Anagallis arvensis subsp. arvensis f. lilacina_99.5"]
["",null,null,null,"","","",null,null,null,null,null,null,null,null,"","","",{"$f":"IF(LEN($F285)<1,\"\",IF(ISBLANK(Checklist!$H$2),\"\",Checklist!$H$2))","v":""},{"$f":"IF(LEN($F285)<1,\"\",IF(ISTEXT(H285),H285,IF(ISTEXT(Checklist!$H$3),Checklist!$H$3,\"NO Grid Ref!!\")))","v":""},{"$f":"IF(LEN($F285)<1,\"\",IF(ISBLANK(Checklist!$H$4),\"NO VC!!\",Checklist!$H$4))","v":""},{"$f":"IF(LEN($F285)<1,\"\",IF(ISBLANK(Checklist!$H$5),\"NO Date!!\",Checklist!$H$5))","v":""},{"$f":"IF(LEN($F285)<1,\"\",IF(ISBLANK(Checklist!$H$6),\"NO Recorder!!\",Checklist!$H$6))","v":""},{"$f":"IF(LEN($F285)<1,\"\",IF(ISTEXT(I285),I285,IF(ISTEXT(Checklist!$H$6),Checklist!$H$6,\"NO Determiner!!\")))","v":""},{"$f":"IF(LEN($F285)<1,\"\",IF(ISTEXT(J285),J285,IF(ISTEXT(Checklist!$H$7),Checklist!$H$7,\"Field record / observation\")))","v":""},"","",null,"","","","","","","","","","","","",null,null,null,null,null,null,null,null,null,null,null,null,null,null,null,null,null,null,null,227,"Barbarea stricta",null,null,99.6,"Anagallis arvensis subsp. arvensis f. pallida",null,null,"Primulaceae",null,99.6,"Anagallis arvensis subsp. arvensis f. pallida_99.6",null,null,null,null,null,null,null,"Anagallis arvensis subsp. arvensis f. pallida_99.6"]
["",null,null,null,"","","",null,null,null,null,null,null,null,null,"","","",{"$f":"IF(LEN($F286)<1,\"\",IF(ISBLANK(Checklist!$H$2),\"\",Checklist!$H$2))","v":""},{"$f":"IF(LEN($F286)<1,\"\",IF(ISTEXT(H286),H286,IF(ISTEXT(Checklist!$H$3),Checklist!$H$3,\"NO Grid Ref!!\")))","v":""},{"$f":"IF(LEN($F286)<1,\"\",IF(ISBLANK(Checklist!$H$4),\"NO VC!!\",Checklist!$H$4))","v":""},{"$f":"IF(LEN($F286)<1,\"\",IF(ISBLANK(Checklist!$H$5),\"NO Date!!\",Checklist!$H$5))","v":""},{"$f":"IF(LEN($F286)<1,\"\",IF(ISBLANK(Checklist!$H$6),\"NO Recorder!!\",Checklist!$H$6))","v":""},{"$f":"IF(LEN($F286)<1,\"\",IF(ISTEXT(I286),I286,IF(ISTEXT(Checklist!$H$6),Checklist!$H$6,\"NO Determiner!!\")))","v":""},{"$f":"IF(LEN($F286)<1,\"\",IF(ISTEXT(J286),J286,IF(ISTEXT(Checklist!$H$7),Checklist!$H$7,\"Field record / observation\")))","v":""},"","",null,"","","","","","","","","","","","",null,null,null,null,null,null,null,null,null,null,null,null,null,null,null,null,null,null,null,228,"Barbarea verna",null,null,99.7,"Anagallis arvensis subsp. arvensis f. viridiflora",null,null,"Primulaceae",null,99.7,"Anagallis arvensis subsp. arvensis f. viridiflora_99.7",null,null,null,null,null,null,null,"Anagallis arvensis subsp. arvensis f. viridiflora_99.7"]
["",null,null,null,"","","",null,null,null,null,null,null,null,null,"","","",{"$f":"IF(LEN($F287)<1,\"\",IF(ISBLANK(Checklist!$H$2),\"\",Checklist!$H$2))","v":""},{"$f":"IF(LEN($F287)<1,\"\",IF(ISTEXT(H287),H287,IF(ISTEXT(Checklist!$H$3),Checklist!$H$3,\"NO Grid Ref!!\")))","v":""},{"$f":"IF(LEN($F287)<1,\"\",IF(ISBLANK(Checklist!$H$4),\"NO VC!!\",Checklist!$H$4))","v":""},{"$f":"IF(LEN($F287)<1,\"\",IF(ISBLANK(Checklist!$H$5),\"NO Date!!\",Checklist!$H$5))","v":""},{"$f":"IF(LEN($F287)<1,\"\",IF(ISBLANK(Checklist!$H$6),\"NO Recorder!!\",Checklist!$H$6))","v":""},{"$f":"IF(LEN($F287)<1,\"\",IF(ISTEXT(I287),I287,IF(ISTEXT(Checklist!$H$6),Checklist!$H$6,\"NO Determiner!!\")))","v":""},{"$f":"IF(LEN($F287)<1,\"\",IF(ISTEXT(J287),J287,IF(ISTEXT(Checklist!$H$7),Checklist!$H$7,\"Field record / observation\")))","v":""},"","",null,"","","","","","","","","","","","",null,null,null,null,null,null,null,null,null,null,null,null,null,null,null,null,null,null,null,229,"Barbarea vulgaris",null,null,99.2,"Anagallis arvensis subsp. foemina","(Miller) Schinz & Thell.","Blue Pimpernel","Primulaceae","Nationally Scarce",99.2,"Anagallis arvensis subsp. foemina_99.2",null,null,null,null,null,null,null,"Anagallis arvensis subsp. foemina_99.2"]
["",null,null,null,"","","",null,null,null,null,null,null,null,null,"","","",{"$f":"IF(LEN($F288)<1,\"\",IF(ISBLANK(Checklist!$H$2),\"\",Checklist!$H$2))","v":""},{"$f":"IF(LEN($F288)<1,\"\",IF(ISTEXT(H288),H288,IF(ISTEXT(Checklist!$H$3),Checklist!$H$3,\"NO Grid Ref!!\")))","v":""},{"$f":"IF(LEN($F288)<1,\"\",IF(ISBLANK(Checklist!$H$4),\"NO VC!!\",Checklist!$H$4))","v":""},{"$f":"IF(LEN($F288)<1,\"\",IF(ISBLANK(Checklist!$H$5),\"NO Date!!\",Checklist!$H$5))","v":""},{"$f":"IF(LEN($F288)<1,\"\",IF(ISBLANK(Checklist!$H$6),\"NO Recorder!!\",Checklist!$H$6))","v":""},{"$f":"IF(LEN($F288)<1,\"\",IF(ISTEXT(I288),I288,IF(ISTEXT(Checklist!$H$6),Checklist!$H$6,\"NO Determiner!!\")))","v":""},{"$f":"IF(LEN($F288)<1,\"\",IF(ISTEXT(J288),J288,IF(ISTEXT(Checklist!$H$7),Checklist!$H$7,\"Field record / observation\")))","v":""},"","",null,"","","","","","","","","","","","",null,null,null,null,null,null,null,null,null,null,null,null,null,null,null,null,null,null,null,230,"Bartsia alpina",null,null,100,"Anagallis tenella","(Linnaeus) Linnaeus","Bog Pimpernel","Primulaceae",null,100,"Anagallis tenella_100",null,null,null,null,null,null,null,"Anagallis tenella_100"]
["",null,null,null,"","","",null,null,null,null,null,null,null,null,"","","",{"$f":"IF(LEN($F289)<1,\"\",IF(ISBLANK(Checklist!$H$2),\"\",Checklist!$H$2))","v":""},{"$f":"IF(LEN($F289)<1,\"\",IF(ISTEXT(H289),H289,IF(ISTEXT(Checklist!$H$3),Checklist!$H$3,\"NO Grid Ref!!\")))","v":""},{"$f":"IF(LEN($F289)<1,\"\",IF(ISBLANK(Checklist!$H$4),\"NO VC!!\",Checklist!$H$4))","v":""},{"$f":"IF(LEN($F289)<1,\"\",IF(ISBLANK(Checklist!$H$5),\"NO Date!!\",Checklist!$H$5))","v":""},{"$f":"IF(LEN($F289)<1,\"\",IF(ISBLANK(Checklist!$H$6),\"NO Recorder!!\",Checklist!$H$6))","v":""},{"$f":"IF(LEN($F289)<1,\"\",IF(ISTEXT(I289),I289,IF(ISTEXT(Checklist!$H$6),Checklist!$H$6,\"NO Determiner!!\")))","v":""},{"$f":"IF(LEN($F289)<1,\"\",IF(ISTEXT(J289),J289,IF(ISTEXT(Checklist!$H$7),Checklist!$H$7,\"Field record / observation\")))","v":""},"","",null,"","","","","","","","","","","","",null,null,null,null,null,null,null,null,null,null,null,null,null,null,null,null,null,null,null,231,"Bellis perennis",null,null,2802,"Anagallis x doerfleri","Ronn.","A. arvensis ssp. arvensis x ssp. caerulea","Primulaceae",null,2802,"Anagallis x doerfleri_2802",null,null,null,null,null,null,null,"Anagallis x doerfleri_2802"]
["",null,null,null,"","","",null,null,null,null,null,null,null,null,"","","",{"$f":"IF(LEN($F290)<1,\"\",IF(ISBLANK(Checklist!$H$2),\"\",Checklist!$H$2))","v":""},{"$f":"IF(LEN($F290)<1,\"\",IF(ISTEXT(H290),H290,IF(ISTEXT(Checklist!$H$3),Checklist!$H$3,\"NO Grid Ref!!\")))","v":""},{"$f":"IF(LEN($F290)<1,\"\",IF(ISBLANK(Checklist!$H$4),\"NO VC!!\",Checklist!$H$4))","v":""},{"$f":"IF(LEN($F290)<1,\"\",IF(ISBLANK(Checklist!$H$5),\"NO Date!!\",Checklist!$H$5))","v":""},{"$f":"IF(LEN($F290)<1,\"\",IF(ISBLANK(Checklist!$H$6),\"NO Recorder!!\",Checklist!$H$6))","v":""},{"$f":"IF(LEN($F290)<1,\"\",IF(ISTEXT(I290),I290,IF(ISTEXT(Checklist!$H$6),Checklist!$H$6,\"NO Determiner!!\")))","v":""},{"$f":"IF(LEN($F290)<1,\"\",IF(ISTEXT(J290),J290,IF(ISTEXT(Checklist!$H$7),Checklist!$H$7,\"Field record / observation\")))","v":""},"","",null,"","","","","","","","","","","","",null,null,null,null,null,null,null,null,null,null,null,null,null,null,null,null,null,null,null,232,"Berberis vulgaris",null,null,101,"Anaphalis margaritacea","(Linnaeus) Benth.","Pearly Everlasting","Asteraceae",null,101,"Anaphalis margaritacea_101",null,null,null,null,null,null,null,"Anaphalis margaritacea_101"]
["",null,null,null,"","","",null,null,null,null,null,null,null,null,"","","",{"$f":"IF(LEN($F291)<1,\"\",IF(ISBLANK(Checklist!$H$2),\"\",Checklist!$H$2))","v":""},{"$f":"IF(LEN($F291)<1,\"\",IF(ISTEXT(H291),H291,IF(ISTEXT(Checklist!$H$3),Checklist!$H$3,\"NO Grid Ref!!\")))","v":""},{"$f":"IF(LEN($F291)<1,\"\",IF(ISBLANK(Checklist!$H$4),\"NO VC!!\",Checklist!$H$4))","v":""},{"$f":"IF(LEN($F291)<1,\"\",IF(ISBLANK(Checklist!$H$5),\"NO Date!!\",Checklist!$H$5))","v":""},{"$f":"IF(LEN($F291)<1,\"\",IF(ISBLANK(Checklist!$H$6),\"NO Recorder!!\",Checklist!$H$6))","v":""},{"$f":"IF(LEN($F291)<1,\"\",IF(ISTEXT(I291),I291,IF(ISTEXT(Checklist!$H$6),Checklist!$H$6,\"NO Determiner!!\")))","v":""},{"$f":"IF(LEN($F291)<1,\"\",IF(ISTEXT(J291),J291,IF(ISTEXT(Checklist!$H$7),Checklist!$H$7,\"Field record / observation\")))","v":""},"","",null,"","","","","","","","","","","","",null,null,null,null,null,null,null,null,null,null,null,null,null,null,null,null,null,null,null,233,"Berteroa incana",null,null,1218,"Anchusa arvensis","(L.) M. Bieb.","Bugloss","Boraginaceae",null,1218,"Anchusa arvensis_1218",null,null,null,null,null,null,null,"Anchusa arvensis_1218"]
["",null,null,null,"","","",null,null,null,null,null,null,null,null,"","","",{"$f":"IF(LEN($F292)<1,\"\",IF(ISBLANK(Checklist!$H$2),\"\",Checklist!$H$2))","v":""},{"$f":"IF(LEN($F292)<1,\"\",IF(ISTEXT(H292),H292,IF(ISTEXT(Checklist!$H$3),Checklist!$H$3,\"NO Grid Ref!!\")))","v":""},{"$f":"IF(LEN($F292)<1,\"\",IF(ISBLANK(Checklist!$H$4),\"NO VC!!\",Checklist!$H$4))","v":""},{"$f":"IF(LEN($F292)<1,\"\",IF(ISBLANK(Checklist!$H$5),\"NO Date!!\",Checklist!$H$5))","v":""},{"$f":"IF(LEN($F292)<1,\"\",IF(ISBLANK(Checklist!$H$6),\"NO Recorder!!\",Checklist!$H$6))","v":""},{"$f":"IF(LEN($F292)<1,\"\",IF(ISTEXT(I292),I292,IF(ISTEXT(Checklist!$H$6),Checklist!$H$6,\"NO Determiner!!\")))","v":""},{"$f":"IF(LEN($F292)<1,\"\",IF(ISTEXT(J292),J292,IF(ISTEXT(Checklist!$H$7),Checklist!$H$7,\"Field record / observation\")))","v":""},"","",null,"","","","","","","","","","","","",null,null,null,null,null,null,null,null,null,null,null,null,null,null,null,null,null,null,null,234,"Berula erecta",null,null,7155,"Anchusa azurea","Miller","Garden Anchusa","Boraginaceae",null,7155,"Anchusa azurea_7155",null,null,null,null,null,null,null,"Anchusa azurea_7155"]
["",null,null,null,"","","",null,null,null,null,null,null,null,null,"","","",{"$f":"IF(LEN($F293)<1,\"\",IF(ISBLANK(Checklist!$H$2),\"\",Checklist!$H$2))","v":""},{"$f":"IF(LEN($F293)<1,\"\",IF(ISTEXT(H293),H293,IF(ISTEXT(Checklist!$H$3),Checklist!$H$3,\"NO Grid Ref!!\")))","v":""},{"$f":"IF(LEN($F293)<1,\"\",IF(ISBLANK(Checklist!$H$4),\"NO VC!!\",Checklist!$H$4))","v":""},{"$f":"IF(LEN($F293)<1,\"\",IF(ISBLANK(Checklist!$H$5),\"NO Date!!\",Checklist!$H$5))","v":""},{"$f":"IF(LEN($F293)<1,\"\",IF(ISBLANK(Checklist!$H$6),\"NO Recorder!!\",Checklist!$H$6))","v":""},{"$f":"IF(LEN($F293)<1,\"\",IF(ISTEXT(I293),I293,IF(ISTEXT(Checklist!$H$6),Checklist!$H$6,\"NO Determiner!!\")))","v":""},{"$f":"IF(LEN($F293)<1,\"\",IF(ISTEXT(J293),J293,IF(ISTEXT(Checklist!$H$7),Checklist!$H$7,\"Field record / observation\")))","v":""},"","",null,"","","","","","","","","","","","",null,null,null,null,null,null,null,null,null,null,null,null,null,null,null,null,null,null,null,235,"Beta vulgaris",null,null,7156,"Anchusa ochroleuca","M.Bieb.","Yellow Alkanet","Boraginaceae",null,7156,"Anchusa ochroleuca_7156",null,null,null,null,null,null,null,"Anchusa ochroleuca_7156"]
["",null,null,null,"","","",null,null,null,null,null,null,null,null,"","","",{"$f":"IF(LEN($F294)<1,\"\",IF(ISBLANK(Checklist!$H$2),\"\",Checklist!$H$2))","v":""},{"$f":"IF(LEN($F294)<1,\"\",IF(ISTEXT(H294),H294,IF(ISTEXT(Checklist!$H$3),Checklist!$H$3,\"NO Grid Ref!!\")))","v":""},{"$f":"IF(LEN($F294)<1,\"\",IF(ISBLANK(Checklist!$H$4),\"NO VC!!\",Checklist!$H$4))","v":""},{"$f":"IF(LEN($F294)<1,\"\",IF(ISBLANK(Checklist!$H$5),\"NO Date!!\",Checklist!$H$5))","v":""},{"$f":"IF(LEN($F294)<1,\"\",IF(ISBLANK(Checklist!$H$6),\"NO Recorder!!\",Checklist!$H$6))","v":""},{"$f":"IF(LEN($F294)<1,\"\",IF(ISTEXT(I294),I294,IF(ISTEXT(Checklist!$H$6),Checklist!$H$6,\"NO Determiner!!\")))","v":""},{"$f":"IF(LEN($F294)<1,\"\",IF(ISTEXT(J294),J294,IF(ISTEXT(Checklist!$H$7),Checklist!$H$7,\"Field record / observation\")))","v":""},"","",null,"","","","","","","","","","","","",null,null,null,null,null,null,null,null,null,null,null,null,null,null,null,null,null,null,null,235.1,"Beta vulgaris subsp. maritima",null,null,102,"Anchusa officinalis","Linnaeus","Alkanet","Boraginaceae",null,102,"Anchusa officinalis_102",null,null,null,null,null,null,null,"Anchusa officinalis_102"]
["",null,null,null,"","","",null,null,null,null,null,null,null,null,"","","",{"$f":"IF(LEN($F295)<1,\"\",IF(ISBLANK(Checklist!$H$2),\"\",Checklist!$H$2))","v":""},{"$f":"IF(LEN($F295)<1,\"\",IF(ISTEXT(H295),H295,IF(ISTEXT(Checklist!$H$3),Checklist!$H$3,\"NO Grid Ref!!\")))","v":""},{"$f":"IF(LEN($F295)<1,\"\",IF(ISBLANK(Checklist!$H$4),\"NO VC!!\",Checklist!$H$4))","v":""},{"$f":"IF(LEN($F295)<1,\"\",IF(ISBLANK(Checklist!$H$5),\"NO Date!!\",Checklist!$H$5))","v":""},{"$f":"IF(LEN($F295)<1,\"\",IF(ISBLANK(Checklist!$H$6),\"NO Recorder!!\",Checklist!$H$6))","v":""},{"$f":"IF(LEN($F295)<1,\"\",IF(ISTEXT(I295),I295,IF(ISTEXT(Checklist!$H$6),Checklist!$H$6,\"NO Determiner!!\")))","v":""},{"$f":"IF(LEN($F295)<1,\"\",IF(ISTEXT(J295),J295,IF(ISTEXT(Checklist!$H$7),Checklist!$H$7,\"Field record / observation\")))","v":""},"","",null,"","","","","","","","","","","","",null,null,null,null,null,null,null,null,null,null,null,null,null,null,null,null,null,null,null,235.2,"Beta vulgaris subsp. vulgaris",null,null,7157,"Anchusa x baumgartenii","(Nyman) Gusul.","A. ochroleuca x officinalis","Boraginaceae",null,7157,"Anchusa x baumgartenii_7157",null,null,null,null,null,null,null,"Anchusa x baumgartenii_7157"]
["",null,null,null,"","","",null,null,null,null,null,null,null,null,"","","",{"$f":"IF(LEN($F296)<1,\"\",IF(ISBLANK(Checklist!$H$2),\"\",Checklist!$H$2))","v":""},{"$f":"IF(LEN($F296)<1,\"\",IF(ISTEXT(H296),H296,IF(ISTEXT(Checklist!$H$3),Checklist!$H$3,\"NO Grid Ref!!\")))","v":""},{"$f":"IF(LEN($F296)<1,\"\",IF(ISBLANK(Checklist!$H$4),\"NO VC!!\",Checklist!$H$4))","v":""},{"$f":"IF(LEN($F296)<1,\"\",IF(ISBLANK(Checklist!$H$5),\"NO Date!!\",Checklist!$H$5))","v":""},{"$f":"IF(LEN($F296)<1,\"\",IF(ISBLANK(Checklist!$H$6),\"NO Recorder!!\",Checklist!$H$6))","v":""},{"$f":"IF(LEN($F296)<1,\"\",IF(ISTEXT(I296),I296,IF(ISTEXT(Checklist!$H$6),Checklist!$H$6,\"NO Determiner!!\")))","v":""},{"$f":"IF(LEN($F296)<1,\"\",IF(ISTEXT(J296),J296,IF(ISTEXT(Checklist!$H$7),Checklist!$H$7,\"Field record / observation\")))","v":""},"","",null,"","","","","","","","","","","","",null,null,null,null,null,null,null,null,null,null,null,null,null,null,null,null,null,null,null,235.3,"Beta vulgaris subsp. cicla",null,null,103,"Andromeda polifolia","L.","Bog-rosemary","Ericaceae",null,103,"Andromeda polifolia_103",null,null,null,null,null,null,null,"Andromeda polifolia_103"]
["",null,null,null,"","","",null,null,null,null,null,null,null,null,"","","",{"$f":"IF(LEN($F297)<1,\"\",IF(ISBLANK(Checklist!$H$2),\"\",Checklist!$H$2))","v":""},{"$f":"IF(LEN($F297)<1,\"\",IF(ISTEXT(H297),H297,IF(ISTEXT(Checklist!$H$3),Checklist!$H$3,\"NO Grid Ref!!\")))","v":""},{"$f":"IF(LEN($F297)<1,\"\",IF(ISBLANK(Checklist!$H$4),\"NO VC!!\",Checklist!$H$4))","v":""},{"$f":"IF(LEN($F297)<1,\"\",IF(ISBLANK(Checklist!$H$5),\"NO Date!!\",Checklist!$H$5))","v":""},{"$f":"IF(LEN($F297)<1,\"\",IF(ISBLANK(Checklist!$H$6),\"NO Recorder!!\",Checklist!$H$6))","v":""},{"$f":"IF(LEN($F297)<1,\"\",IF(ISTEXT(I297),I297,IF(ISTEXT(Checklist!$H$6),Checklist!$H$6,\"NO Determiner!!\")))","v":""},{"$f":"IF(LEN($F297)<1,\"\",IF(ISTEXT(J297),J297,IF(ISTEXT(Checklist!$H$7),Checklist!$H$7,\"Field record / observation\")))","v":""},"","",null,"","","","","","","","","","","","",null,null,null,null,null,null,null,null,null,null,null,null,null,null,null,null,null,null,null,235.4,"Beta vulgaris subsp. cicla var. cicla",null,null,"No BRC","Anemanthele lessoniana","(Steudel) Veldkamp","New Zealand Wind-grass","Poaceae",null,"No BRC","Anemanthele lessoniana_No BRC",null,null,null,null,null,null,null,"Anemanthele lessoniana_No BRC"]
["",null,null,null,"","","",null,null,null,null,null,null,null,null,"","","",{"$f":"IF(LEN($F298)<1,\"\",IF(ISBLANK(Checklist!$H$2),\"\",Checklist!$H$2))","v":""},{"$f":"IF(LEN($F298)<1,\"\",IF(ISTEXT(H298),H298,IF(ISTEXT(Checklist!$H$3),Checklist!$H$3,\"NO Grid Ref!!\")))","v":""},{"$f":"IF(LEN($F298)<1,\"\",IF(ISBLANK(Checklist!$H$4),\"NO VC!!\",Checklist!$H$4))","v":""},{"$f":"IF(LEN($F298)<1,\"\",IF(ISBLANK(Checklist!$H$5),\"NO Date!!\",Checklist!$H$5))","v":""},{"$f":"IF(LEN($F298)<1,\"\",IF(ISBLANK(Checklist!$H$6),\"NO Recorder!!\",Checklist!$H$6))","v":""},{"$f":"IF(LEN($F298)<1,\"\",IF(ISTEXT(I298),I298,IF(ISTEXT(Checklist!$H$6),Checklist!$H$6,\"NO Determiner!!\")))","v":""},{"$f":"IF(LEN($F298)<1,\"\",IF(ISTEXT(J298),J298,IF(ISTEXT(Checklist!$H$7),Checklist!$H$7,\"Field record / observation\")))","v":""},"","",null,"","","","","","","","","","","","",null,null,null,null,null,null,null,null,null,null,null,null,null,null,null,null,null,null,null,235.5,"Beta vulgaris subsp. cicla var. flavescens",null,null,104,"Anemone apennina","L.","Blue Anemone","Ranunculaceae",null,104,"Anemone apennina_104",null,null,null,null,null,null,null,"Anemone apennina_104"]
["",null,null,null,"","","",null,null,null,null,null,null,null,null,"","","",{"$f":"IF(LEN($F299)<1,\"\",IF(ISBLANK(Checklist!$H$2),\"\",Checklist!$H$2))","v":""},{"$f":"IF(LEN($F299)<1,\"\",IF(ISTEXT(H299),H299,IF(ISTEXT(Checklist!$H$3),Checklist!$H$3,\"NO Grid Ref!!\")))","v":""},{"$f":"IF(LEN($F299)<1,\"\",IF(ISBLANK(Checklist!$H$4),\"NO VC!!\",Checklist!$H$4))","v":""},{"$f":"IF(LEN($F299)<1,\"\",IF(ISBLANK(Checklist!$H$5),\"NO Date!!\",Checklist!$H$5))","v":""},{"$f":"IF(LEN($F299)<1,\"\",IF(ISBLANK(Checklist!$H$6),\"NO Recorder!!\",Checklist!$H$6))","v":""},{"$f":"IF(LEN($F299)<1,\"\",IF(ISTEXT(I299),I299,IF(ISTEXT(Checklist!$H$6),Checklist!$H$6,\"NO Determiner!!\")))","v":""},{"$f":"IF(LEN($F299)<1,\"\",IF(ISTEXT(J299),J299,IF(ISTEXT(Checklist!$H$7),Checklist!$H$7,\"Field record / observation\")))","v":""},"","",null,"","","","","","","","","","","","",null,null,null,null,null,null,null,null,null,null,null,null,null,null,null,null,null,null,null,236,"Beta trigyna",null,null,7946,"Anemone blanda","Schott & Kotschy","Balkan Anemone","Ranunculaceae",null,7946,"Anemone blanda_7946",null,null,null,null,null,null,null,"Anemone blanda_7946"]
["",null,null,null,"","","",null,null,null,null,null,null,null,null,"","","",{"$f":"IF(LEN($F300)<1,\"\",IF(ISBLANK(Checklist!$H$2),\"\",Checklist!$H$2))","v":""},{"$f":"IF(LEN($F300)<1,\"\",IF(ISTEXT(H300),H300,IF(ISTEXT(Checklist!$H$3),Checklist!$H$3,\"NO Grid Ref!!\")))","v":""},{"$f":"IF(LEN($F300)<1,\"\",IF(ISBLANK(Checklist!$H$4),\"NO VC!!\",Checklist!$H$4))","v":""},{"$f":"IF(LEN($F300)<1,\"\",IF(ISBLANK(Checklist!$H$5),\"NO Date!!\",Checklist!$H$5))","v":""},{"$f":"IF(LEN($F300)<1,\"\",IF(ISBLANK(Checklist!$H$6),\"NO Recorder!!\",Checklist!$H$6))","v":""},{"$f":"IF(LEN($F300)<1,\"\",IF(ISTEXT(I300),I300,IF(ISTEXT(Checklist!$H$6),Checklist!$H$6,\"NO Determiner!!\")))","v":""},{"$f":"IF(LEN($F300)<1,\"\",IF(ISTEXT(J300),J300,IF(ISTEXT(Checklist!$H$7),Checklist!$H$7,\"Field record / observation\")))","v":""},"","",null,"","","","","","","","","","","","",null,null,null,null,null,null,null,null,null,null,null,null,null,null,null,null,null,null,null,237,"Betonica officinalis",null,null,105,"Anemone nemorosa","Linnaeus","Wood Anemone","Ranunculaceae",null,105,"Anemone nemorosa_105",null,null,null,null,null,null,null,"Anemone nemorosa_105"]
["",null,null,null,"","","",null,null,null,null,null,null,null,null,"","","",{"$f":"IF(LEN($F301)<1,\"\",IF(ISBLANK(Checklist!$H$2),\"\",Checklist!$H$2))","v":""},{"$f":"IF(LEN($F301)<1,\"\",IF(ISTEXT(H301),H301,IF(ISTEXT(Checklist!$H$3),Checklist!$H$3,\"NO Grid Ref!!\")))","v":""},{"$f":"IF(LEN($F301)<1,\"\",IF(ISBLANK(Checklist!$H$4),\"NO VC!!\",Checklist!$H$4))","v":""},{"$f":"IF(LEN($F301)<1,\"\",IF(ISBLANK(Checklist!$H$5),\"NO Date!!\",Checklist!$H$5))","v":""},{"$f":"IF(LEN($F301)<1,\"\",IF(ISBLANK(Checklist!$H$6),\"NO Recorder!!\",Checklist!$H$6))","v":""},{"$f":"IF(LEN($F301)<1,\"\",IF(ISTEXT(I301),I301,IF(ISTEXT(Checklist!$H$6),Checklist!$H$6,\"NO Determiner!!\")))","v":""},{"$f":"IF(LEN($F301)<1,\"\",IF(ISTEXT(J301),J301,IF(ISTEXT(Checklist!$H$7),Checklist!$H$7,\"Field record / observation\")))","v":""},"","",null,"","","","","","","","","","","","",null,null,null,null,null,null,null,null,null,null,null,null,null,null,null,null,null,null,null,237.1,"Betonica officinalis var. officinalis",null,null,107,"Anemone ranunculoides","Linnaeus","Yellow Anemone","Ranunculaceae",null,107,"Anemone ranunculoides_107",null,null,null,null,null,null,null,"Anemone ranunculoides_107"]
["",null,null,null,"","","",null,null,null,null,null,null,null,null,"","","",{"$f":"IF(LEN($F302)<1,\"\",IF(ISBLANK(Checklist!$H$2),\"\",Checklist!$H$2))","v":""},{"$f":"IF(LEN($F302)<1,\"\",IF(ISTEXT(H302),H302,IF(ISTEXT(Checklist!$H$3),Checklist!$H$3,\"NO Grid Ref!!\")))","v":""},{"$f":"IF(LEN($F302)<1,\"\",IF(ISBLANK(Checklist!$H$4),\"NO VC!!\",Checklist!$H$4))","v":""},{"$f":"IF(LEN($F302)<1,\"\",IF(ISBLANK(Checklist!$H$5),\"NO Date!!\",Checklist!$H$5))","v":""},{"$f":"IF(LEN($F302)<1,\"\",IF(ISBLANK(Checklist!$H$6),\"NO Recorder!!\",Checklist!$H$6))","v":""},{"$f":"IF(LEN($F302)<1,\"\",IF(ISTEXT(I302),I302,IF(ISTEXT(Checklist!$H$6),Checklist!$H$6,\"NO Determiner!!\")))","v":""},{"$f":"IF(LEN($F302)<1,\"\",IF(ISTEXT(J302),J302,IF(ISTEXT(Checklist!$H$7),Checklist!$H$7,\"Field record / observation\")))","v":""},"","",null,"","","","","","","","","","","","",null,null,null,null,null,null,null,null,null,null,null,null,null,null,null,null,null,null,null,237.2,"Betonica officinalis 'nana'",null,null,7158,"Anemone x hybrida","Paxton","Japanese Anemone","Ranunculaceae",null,7158,"Anemone x hybrida_7158",null,null,null,null,null,null,null,"Anemone x hybrida_7158"]
["",null,null,null,"","","",null,null,null,null,null,null,null,null,"","","",{"$f":"IF(LEN($F303)<1,\"\",IF(ISBLANK(Checklist!$H$2),\"\",Checklist!$H$2))","v":""},{"$f":"IF(LEN($F303)<1,\"\",IF(ISTEXT(H303),H303,IF(ISTEXT(Checklist!$H$3),Checklist!$H$3,\"NO Grid Ref!!\")))","v":""},{"$f":"IF(LEN($F303)<1,\"\",IF(ISBLANK(Checklist!$H$4),\"NO VC!!\",Checklist!$H$4))","v":""},{"$f":"IF(LEN($F303)<1,\"\",IF(ISBLANK(Checklist!$H$5),\"NO Date!!\",Checklist!$H$5))","v":""},{"$f":"IF(LEN($F303)<1,\"\",IF(ISBLANK(Checklist!$H$6),\"NO Recorder!!\",Checklist!$H$6))","v":""},{"$f":"IF(LEN($F303)<1,\"\",IF(ISTEXT(I303),I303,IF(ISTEXT(Checklist!$H$6),Checklist!$H$6,\"NO Determiner!!\")))","v":""},{"$f":"IF(LEN($F303)<1,\"\",IF(ISTEXT(J303),J303,IF(ISTEXT(Checklist!$H$7),Checklist!$H$7,\"Field record / observation\")))","v":""},"","",null,"","","","","","","","","","","","",null,null,null,null,null,null,null,null,null,null,null,null,null,null,null,null,null,null,null,238,"Betula nana",null,null,7947,"Anethum graveolens","Linnaeus","Dill","Apiaceae",null,7947,"Anethum graveolens_7947",null,null,null,null,null,null,null,"Anethum graveolens_7947"]
["",null,null,null,"","","",null,null,null,null,null,null,null,null,"","","",{"$f":"IF(LEN($F304)<1,\"\",IF(ISBLANK(Checklist!$H$2),\"\",Checklist!$H$2))","v":""},{"$f":"IF(LEN($F304)<1,\"\",IF(ISTEXT(H304),H304,IF(ISTEXT(Checklist!$H$3),Checklist!$H$3,\"NO Grid Ref!!\")))","v":""},{"$f":"IF(LEN($F304)<1,\"\",IF(ISBLANK(Checklist!$H$4),\"NO VC!!\",Checklist!$H$4))","v":""},{"$f":"IF(LEN($F304)<1,\"\",IF(ISBLANK(Checklist!$H$5),\"NO Date!!\",Checklist!$H$5))","v":""},{"$f":"IF(LEN($F304)<1,\"\",IF(ISBLANK(Checklist!$H$6),\"NO Recorder!!\",Checklist!$H$6))","v":""},{"$f":"IF(LEN($F304)<1,\"\",IF(ISTEXT(I304),I304,IF(ISTEXT(Checklist!$H$6),Checklist!$H$6,\"NO Determiner!!\")))","v":""},{"$f":"IF(LEN($F304)<1,\"\",IF(ISTEXT(J304),J304,IF(ISTEXT(Checklist!$H$7),Checklist!$H$7,\"Field record / observation\")))","v":""},"","",null,"","","","","","","","","","","","",null,null,null,null,null,null,null,null,null,null,null,null,null,null,null,null,null,null,null,239,"Betula pendula",null,null,108,"Angelica archangelica","Linnaeus","Garden Angelica","Apiaceae",null,108,"Angelica archangelica_108",null,null,null,null,null,null,null,"Angelica archangelica_108"]
["",null,null,null,"","","",null,null,null,null,null,null,null,null,"","","",{"$f":"IF(LEN($F305)<1,\"\",IF(ISBLANK(Checklist!$H$2),\"\",Checklist!$H$2))","v":""},{"$f":"IF(LEN($F305)<1,\"\",IF(ISTEXT(H305),H305,IF(ISTEXT(Checklist!$H$3),Checklist!$H$3,\"NO Grid Ref!!\")))","v":""},{"$f":"IF(LEN($F305)<1,\"\",IF(ISBLANK(Checklist!$H$4),\"NO VC!!\",Checklist!$H$4))","v":""},{"$f":"IF(LEN($F305)<1,\"\",IF(ISBLANK(Checklist!$H$5),\"NO Date!!\",Checklist!$H$5))","v":""},{"$f":"IF(LEN($F305)<1,\"\",IF(ISBLANK(Checklist!$H$6),\"NO Recorder!!\",Checklist!$H$6))","v":""},{"$f":"IF(LEN($F305)<1,\"\",IF(ISTEXT(I305),I305,IF(ISTEXT(Checklist!$H$6),Checklist!$H$6,\"NO Determiner!!\")))","v":""},{"$f":"IF(LEN($F305)<1,\"\",IF(ISTEXT(J305),J305,IF(ISTEXT(Checklist!$H$7),Checklist!$H$7,\"Field record / observation\")))","v":""},"","",null,"","","","","","","","","","","","",null,null,null,null,null,null,null,null,null,null,null,null,null,null,null,null,null,null,null,240,"Betula pubescens",null,null,3323,"Angelica pachycarpa","Lange","Portuguese Angelica","Apiaceae",null,3323,"Angelica pachycarpa_3323",null,null,null,null,null,null,null,"Angelica pachycarpa_3323"]
["",null,null,null,"","","",null,null,null,null,null,null,null,null,"","","",{"$f":"IF(LEN($F306)<1,\"\",IF(ISBLANK(Checklist!$H$2),\"\",Checklist!$H$2))","v":""},{"$f":"IF(LEN($F306)<1,\"\",IF(ISTEXT(H306),H306,IF(ISTEXT(Checklist!$H$3),Checklist!$H$3,\"NO Grid Ref!!\")))","v":""},{"$f":"IF(LEN($F306)<1,\"\",IF(ISBLANK(Checklist!$H$4),\"NO VC!!\",Checklist!$H$4))","v":""},{"$f":"IF(LEN($F306)<1,\"\",IF(ISBLANK(Checklist!$H$5),\"NO Date!!\",Checklist!$H$5))","v":""},{"$f":"IF(LEN($F306)<1,\"\",IF(ISBLANK(Checklist!$H$6),\"NO Recorder!!\",Checklist!$H$6))","v":""},{"$f":"IF(LEN($F306)<1,\"\",IF(ISTEXT(I306),I306,IF(ISTEXT(Checklist!$H$6),Checklist!$H$6,\"NO Determiner!!\")))","v":""},{"$f":"IF(LEN($F306)<1,\"\",IF(ISTEXT(J306),J306,IF(ISTEXT(Checklist!$H$7),Checklist!$H$7,\"Field record / observation\")))","v":""},"","",null,"","","","","","","","","","","","",null,null,null,null,null,null,null,null,null,null,null,null,null,null,null,null,null,null,null,240.1,"Betula pubescens subsp. tortuosa",null,null,109,"Angelica sylvestris","Linnaeus","Wild Angelica","Apiaceae",null,109,"Angelica sylvestris_109",null,null,null,null,null,null,null,"Angelica sylvestris_109"]
["",null,null,null,"","","",null,null,null,null,null,null,null,null,"","","",{"$f":"IF(LEN($F307)<1,\"\",IF(ISBLANK(Checklist!$H$2),\"\",Checklist!$H$2))","v":""},{"$f":"IF(LEN($F307)<1,\"\",IF(ISTEXT(H307),H307,IF(ISTEXT(Checklist!$H$3),Checklist!$H$3,\"NO Grid Ref!!\")))","v":""},{"$f":"IF(LEN($F307)<1,\"\",IF(ISBLANK(Checklist!$H$4),\"NO VC!!\",Checklist!$H$4))","v":""},{"$f":"IF(LEN($F307)<1,\"\",IF(ISBLANK(Checklist!$H$5),\"NO Date!!\",Checklist!$H$5))","v":""},{"$f":"IF(LEN($F307)<1,\"\",IF(ISBLANK(Checklist!$H$6),\"NO Recorder!!\",Checklist!$H$6))","v":""},{"$f":"IF(LEN($F307)<1,\"\",IF(ISTEXT(I307),I307,IF(ISTEXT(Checklist!$H$6),Checklist!$H$6,\"NO Determiner!!\")))","v":""},{"$f":"IF(LEN($F307)<1,\"\",IF(ISTEXT(J307),J307,IF(ISTEXT(Checklist!$H$7),Checklist!$H$7,\"Field record / observation\")))","v":""},"","",null,"","","","","","","","","","","","",null,null,null,null,null,null,null,null,null,null,null,null,null,null,null,null,null,null,null,240.2,"Betula pubescens subsp. pubescens",null,null,110,"Anisantha diandra","(Roth) Tutin ex Tzvelev","Great Brome","Poaceae",null,110,"Anisantha diandra_110",null,null,null,null,null,null,null,"Anisantha diandra_110"]
["",null,null,null,"","","",null,null,null,null,null,null,null,null,"","","",{"$f":"IF(LEN($F308)<1,\"\",IF(ISBLANK(Checklist!$H$2),\"\",Checklist!$H$2))","v":""},{"$f":"IF(LEN($F308)<1,\"\",IF(ISTEXT(H308),H308,IF(ISTEXT(Checklist!$H$3),Checklist!$H$3,\"NO Grid Ref!!\")))","v":""},{"$f":"IF(LEN($F308)<1,\"\",IF(ISBLANK(Checklist!$H$4),\"NO VC!!\",Checklist!$H$4))","v":""},{"$f":"IF(LEN($F308)<1,\"\",IF(ISBLANK(Checklist!$H$5),\"NO Date!!\",Checklist!$H$5))","v":""},{"$f":"IF(LEN($F308)<1,\"\",IF(ISBLANK(Checklist!$H$6),\"NO Recorder!!\",Checklist!$H$6))","v":""},{"$f":"IF(LEN($F308)<1,\"\",IF(ISTEXT(I308),I308,IF(ISTEXT(Checklist!$H$6),Checklist!$H$6,\"NO Determiner!!\")))","v":""},{"$f":"IF(LEN($F308)<1,\"\",IF(ISTEXT(J308),J308,IF(ISTEXT(Checklist!$H$7),Checklist!$H$7,\"Field record / observation\")))","v":""},"","",null,"","","","","","","","","","","","",null,null,null,null,null,null,null,null,null,null,null,null,null,null,null,null,null,null,null,241,"Bidens cernua",null,null,111,"Anisantha madritensis","(L.) Nevski","Compact Brome","Poaceae",null,111,"Anisantha madritensis_111",null,null,null,null,null,null,null,"Anisantha madritensis_111"]
["",null,null,null,"","","",null,null,null,null,null,null,null,null,"","","",{"$f":"IF(LEN($F309)<1,\"\",IF(ISBLANK(Checklist!$H$2),\"\",Checklist!$H$2))","v":""},{"$f":"IF(LEN($F309)<1,\"\",IF(ISTEXT(H309),H309,IF(ISTEXT(Checklist!$H$3),Checklist!$H$3,\"NO Grid Ref!!\")))","v":""},{"$f":"IF(LEN($F309)<1,\"\",IF(ISBLANK(Checklist!$H$4),\"NO VC!!\",Checklist!$H$4))","v":""},{"$f":"IF(LEN($F309)<1,\"\",IF(ISBLANK(Checklist!$H$5),\"NO Date!!\",Checklist!$H$5))","v":""},{"$f":"IF(LEN($F309)<1,\"\",IF(ISBLANK(Checklist!$H$6),\"NO Recorder!!\",Checklist!$H$6))","v":""},{"$f":"IF(LEN($F309)<1,\"\",IF(ISTEXT(I309),I309,IF(ISTEXT(Checklist!$H$6),Checklist!$H$6,\"NO Determiner!!\")))","v":""},{"$f":"IF(LEN($F309)<1,\"\",IF(ISTEXT(J309),J309,IF(ISTEXT(Checklist!$H$7),Checklist!$H$7,\"Field record / observation\")))","v":""},"","",null,"","","","","","","","","","","","",null,null,null,null,null,null,null,null,null,null,null,null,null,null,null,null,null,null,null,241.1,"Bidens cernua var. cernua",null,null,112,"Anisantha rigida","(Roth) Hyl.","Ripgut Brome","Poaceae",null,112,"Anisantha rigida_112",null,null,null,null,null,null,null,"Anisantha rigida_112"]
["",null,null,null,"","","",null,null,null,null,null,null,null,null,"","","",{"$f":"IF(LEN($F310)<1,\"\",IF(ISBLANK(Checklist!$H$2),\"\",Checklist!$H$2))","v":""},{"$f":"IF(LEN($F310)<1,\"\",IF(ISTEXT(H310),H310,IF(ISTEXT(Checklist!$H$3),Checklist!$H$3,\"NO Grid Ref!!\")))","v":""},{"$f":"IF(LEN($F310)<1,\"\",IF(ISBLANK(Checklist!$H$4),\"NO VC!!\",Checklist!$H$4))","v":""},{"$f":"IF(LEN($F310)<1,\"\",IF(ISBLANK(Checklist!$H$5),\"NO Date!!\",Checklist!$H$5))","v":""},{"$f":"IF(LEN($F310)<1,\"\",IF(ISBLANK(Checklist!$H$6),\"NO Recorder!!\",Checklist!$H$6))","v":""},{"$f":"IF(LEN($F310)<1,\"\",IF(ISTEXT(I310),I310,IF(ISTEXT(Checklist!$H$6),Checklist!$H$6,\"NO Determiner!!\")))","v":""},{"$f":"IF(LEN($F310)<1,\"\",IF(ISTEXT(J310),J310,IF(ISTEXT(Checklist!$H$7),Checklist!$H$7,\"Field record / observation\")))","v":""},"","",null,"","","","","","","","","","","","",null,null,null,null,null,null,null,null,null,null,null,null,null,null,null,null,null,null,null,241.2,"Bidens cernua var. radiata",null,null,3071,"Anisantha rubens","(Linnaeus) Nevski","Foxtail Brome","Poaceae",null,3071,"Anisantha rubens_3071",null,null,null,null,null,null,null,"Anisantha rubens_3071"]
["",null,null,null,"","","",null,null,null,null,null,null,null,null,"","","",{"$f":"IF(LEN($F311)<1,\"\",IF(ISBLANK(Checklist!$H$2),\"\",Checklist!$H$2))","v":""},{"$f":"IF(LEN($F311)<1,\"\",IF(ISTEXT(H311),H311,IF(ISTEXT(Checklist!$H$3),Checklist!$H$3,\"NO Grid Ref!!\")))","v":""},{"$f":"IF(LEN($F311)<1,\"\",IF(ISBLANK(Checklist!$H$4),\"NO VC!!\",Checklist!$H$4))","v":""},{"$f":"IF(LEN($F311)<1,\"\",IF(ISBLANK(Checklist!$H$5),\"NO Date!!\",Checklist!$H$5))","v":""},{"$f":"IF(LEN($F311)<1,\"\",IF(ISBLANK(Checklist!$H$6),\"NO Recorder!!\",Checklist!$H$6))","v":""},{"$f":"IF(LEN($F311)<1,\"\",IF(ISTEXT(I311),I311,IF(ISTEXT(Checklist!$H$6),Checklist!$H$6,\"NO Determiner!!\")))","v":""},{"$f":"IF(LEN($F311)<1,\"\",IF(ISTEXT(J311),J311,IF(ISTEXT(Checklist!$H$7),Checklist!$H$7,\"Field record / observation\")))","v":""},"","",null,"","","","","","","","","","","","",null,null,null,null,null,null,null,null,null,null,null,null,null,null,null,null,null,null,null,242,"Bidens tripartita",null,null,113,"Anisantha sterilis","(Linnaeus) Nevski","Barren Brome","Poaceae",null,113,"Anisantha sterilis_113",null,null,null,null,null,null,null,"Anisantha sterilis_113"]
["",null,null,null,"","","",null,null,null,null,null,null,null,null,"","","",{"$f":"IF(LEN($F312)<1,\"\",IF(ISBLANK(Checklist!$H$2),\"\",Checklist!$H$2))","v":""},{"$f":"IF(LEN($F312)<1,\"\",IF(ISTEXT(H312),H312,IF(ISTEXT(Checklist!$H$3),Checklist!$H$3,\"NO Grid Ref!!\")))","v":""},{"$f":"IF(LEN($F312)<1,\"\",IF(ISBLANK(Checklist!$H$4),\"NO VC!!\",Checklist!$H$4))","v":""},{"$f":"IF(LEN($F312)<1,\"\",IF(ISBLANK(Checklist!$H$5),\"NO Date!!\",Checklist!$H$5))","v":""},{"$f":"IF(LEN($F312)<1,\"\",IF(ISBLANK(Checklist!$H$6),\"NO Recorder!!\",Checklist!$H$6))","v":""},{"$f":"IF(LEN($F312)<1,\"\",IF(ISTEXT(I312),I312,IF(ISTEXT(Checklist!$H$6),Checklist!$H$6,\"NO Determiner!!\")))","v":""},{"$f":"IF(LEN($F312)<1,\"\",IF(ISTEXT(J312),J312,IF(ISTEXT(Checklist!$H$7),Checklist!$H$7,\"Field record / observation\")))","v":""},"","",null,"","","","","","","","","","","","",null,null,null,null,null,null,null,null,null,null,null,null,null,null,null,null,null,null,null,242.1,"Bidens tripartita var. tripartita",null,null,114,"Anisantha tectorum","(Linnaeus) Nevski","Drooping Brome","Poaceae",null,114,"Anisantha tectorum_114",null,null,null,null,null,null,null,"Anisantha tectorum_114"]
["",null,null,null,"","","",null,null,null,null,null,null,null,null,"","","",{"$f":"IF(LEN($F313)<1,\"\",IF(ISBLANK(Checklist!$H$2),\"\",Checklist!$H$2))","v":""},{"$f":"IF(LEN($F313)<1,\"\",IF(ISTEXT(H313),H313,IF(ISTEXT(Checklist!$H$3),Checklist!$H$3,\"NO Grid Ref!!\")))","v":""},{"$f":"IF(LEN($F313)<1,\"\",IF(ISBLANK(Checklist!$H$4),\"NO VC!!\",Checklist!$H$4))","v":""},{"$f":"IF(LEN($F313)<1,\"\",IF(ISBLANK(Checklist!$H$5),\"NO Date!!\",Checklist!$H$5))","v":""},{"$f":"IF(LEN($F313)<1,\"\",IF(ISBLANK(Checklist!$H$6),\"NO Recorder!!\",Checklist!$H$6))","v":""},{"$f":"IF(LEN($F313)<1,\"\",IF(ISTEXT(I313),I313,IF(ISTEXT(Checklist!$H$6),Checklist!$H$6,\"NO Determiner!!\")))","v":""},{"$f":"IF(LEN($F313)<1,\"\",IF(ISTEXT(J313),J313,IF(ISTEXT(Checklist!$H$7),Checklist!$H$7,\"Field record / observation\")))","v":""},"","",null,"","","","","","","","","","","","",null,null,null,null,null,null,null,null,null,null,null,null,null,null,null,null,null,null,null,242.2,"Bidens tripartita var. integra",null,null,9572,"Anisodontea capensis","(L.) D.M. Bates","Cape Mallow","Malvaceae",null,9572,"Anisodontea capensis_9572",null,null,null,null,null,null,null,"Anisodontea capensis_9572"]
["",null,null,null,"","","",null,null,null,null,null,null,null,null,"","","",{"$f":"IF(LEN($F314)<1,\"\",IF(ISBLANK(Checklist!$H$2),\"\",Checklist!$H$2))","v":""},{"$f":"IF(LEN($F314)<1,\"\",IF(ISTEXT(H314),H314,IF(ISTEXT(Checklist!$H$3),Checklist!$H$3,\"NO Grid Ref!!\")))","v":""},{"$f":"IF(LEN($F314)<1,\"\",IF(ISBLANK(Checklist!$H$4),\"NO VC!!\",Checklist!$H$4))","v":""},{"$f":"IF(LEN($F314)<1,\"\",IF(ISBLANK(Checklist!$H$5),\"NO Date!!\",Checklist!$H$5))","v":""},{"$f":"IF(LEN($F314)<1,\"\",IF(ISBLANK(Checklist!$H$6),\"NO Recorder!!\",Checklist!$H$6))","v":""},{"$f":"IF(LEN($F314)<1,\"\",IF(ISTEXT(I314),I314,IF(ISTEXT(Checklist!$H$6),Checklist!$H$6,\"NO Determiner!!\")))","v":""},{"$f":"IF(LEN($F314)<1,\"\",IF(ISTEXT(J314),J314,IF(ISTEXT(Checklist!$H$7),Checklist!$H$7,\"Field record / observation\")))","v":""},"","",null,"","","","","","","","","","","","",null,null,null,null,null,null,null,null,null,null,null,null,null,null,null,null,null,null,null,243,"Blackstonia perfoliata",null,null,5846,"Anisodontea scabrosa","(L.) D.M. Bates","Hairy Mallow","Malvaceae",null,5846,"Anisodontea scabrosa_5846",null,null,null,null,null,null,null,"Anisodontea scabrosa_5846"]
["",null,null,null,"","","",null,null,null,null,null,null,null,null,"","","",{"$f":"IF(LEN($F315)<1,\"\",IF(ISBLANK(Checklist!$H$2),\"\",Checklist!$H$2))","v":""},{"$f":"IF(LEN($F315)<1,\"\",IF(ISTEXT(H315),H315,IF(ISTEXT(Checklist!$H$3),Checklist!$H$3,\"NO Grid Ref!!\")))","v":""},{"$f":"IF(LEN($F315)<1,\"\",IF(ISBLANK(Checklist!$H$4),\"NO VC!!\",Checklist!$H$4))","v":""},{"$f":"IF(LEN($F315)<1,\"\",IF(ISBLANK(Checklist!$H$5),\"NO Date!!\",Checklist!$H$5))","v":""},{"$f":"IF(LEN($F315)<1,\"\",IF(ISBLANK(Checklist!$H$6),\"NO Recorder!!\",Checklist!$H$6))","v":""},{"$f":"IF(LEN($F315)<1,\"\",IF(ISTEXT(I315),I315,IF(ISTEXT(Checklist!$H$6),Checklist!$H$6,\"NO Determiner!!\")))","v":""},{"$f":"IF(LEN($F315)<1,\"\",IF(ISTEXT(J315),J315,IF(ISTEXT(Checklist!$H$7),Checklist!$H$7,\"Field record / observation\")))","v":""},"","",null,"","","","","","","","","","","","",null,null,null,null,null,null,null,null,null,null,null,null,null,null,null,null,null,null,null,244,"Blechnum spicant",null,null,5847,"Anoda cristata","(L.) Schltdl.","Spurred Anoda","Malvaceae",null,5847,"Anoda cristata_5847",null,null,null,null,null,null,null,"Anoda cristata_5847"]
["",null,null,null,"","","",null,null,null,null,null,null,null,null,"","","",{"$f":"IF(LEN($F316)<1,\"\",IF(ISBLANK(Checklist!$H$2),\"\",Checklist!$H$2))","v":""},{"$f":"IF(LEN($F316)<1,\"\",IF(ISTEXT(H316),H316,IF(ISTEXT(Checklist!$H$3),Checklist!$H$3,\"NO Grid Ref!!\")))","v":""},{"$f":"IF(LEN($F316)<1,\"\",IF(ISBLANK(Checklist!$H$4),\"NO VC!!\",Checklist!$H$4))","v":""},{"$f":"IF(LEN($F316)<1,\"\",IF(ISBLANK(Checklist!$H$5),\"NO Date!!\",Checklist!$H$5))","v":""},{"$f":"IF(LEN($F316)<1,\"\",IF(ISBLANK(Checklist!$H$6),\"NO Recorder!!\",Checklist!$H$6))","v":""},{"$f":"IF(LEN($F316)<1,\"\",IF(ISTEXT(I316),I316,IF(ISTEXT(Checklist!$H$6),Checklist!$H$6,\"NO Determiner!!\")))","v":""},{"$f":"IF(LEN($F316)<1,\"\",IF(ISTEXT(J316),J316,IF(ISTEXT(Checklist!$H$7),Checklist!$H$7,\"Field record / observation\")))","v":""},"","",null,"","","","","","","","","","","","",null,null,null,null,null,null,null,null,null,null,null,null,null,null,null,null,null,null,null,245,"Blysmus compressus",null,null,115,"Anogramma leptophylla","(Linnaeus) Link","Jersey Fern","Adiantaceae",null,115,"Anogramma leptophylla_115",null,null,null,null,null,null,null,"Anogramma leptophylla_115"]
["",null,null,null,"","","",null,null,null,null,null,null,null,null,"","","",{"$f":"IF(LEN($F317)<1,\"\",IF(ISBLANK(Checklist!$H$2),\"\",Checklist!$H$2))","v":""},{"$f":"IF(LEN($F317)<1,\"\",IF(ISTEXT(H317),H317,IF(ISTEXT(Checklist!$H$3),Checklist!$H$3,\"NO Grid Ref!!\")))","v":""},{"$f":"IF(LEN($F317)<1,\"\",IF(ISBLANK(Checklist!$H$4),\"NO VC!!\",Checklist!$H$4))","v":""},{"$f":"IF(LEN($F317)<1,\"\",IF(ISBLANK(Checklist!$H$5),\"NO Date!!\",Checklist!$H$5))","v":""},{"$f":"IF(LEN($F317)<1,\"\",IF(ISBLANK(Checklist!$H$6),\"NO Recorder!!\",Checklist!$H$6))","v":""},{"$f":"IF(LEN($F317)<1,\"\",IF(ISTEXT(I317),I317,IF(ISTEXT(Checklist!$H$6),Checklist!$H$6,\"NO Determiner!!\")))","v":""},{"$f":"IF(LEN($F317)<1,\"\",IF(ISTEXT(J317),J317,IF(ISTEXT(Checklist!$H$7),Checklist!$H$7,\"Field record / observation\")))","v":""},"","",null,"","","","","","","","","","","","",null,null,null,null,null,null,null,null,null,null,null,null,null,null,null,null,null,null,null,246,"Blysmus rufus",null,null,7945,"Anredera cordifolia",null,"Madeira-vine","Basellaceae",null,7945,"Anredera cordifolia_7945",null,null,null,null,null,null,null,"Anredera cordifolia_7945"]
["",null,null,null,"","","",null,null,null,null,null,null,null,null,"","","",{"$f":"IF(LEN($F318)<1,\"\",IF(ISBLANK(Checklist!$H$2),\"\",Checklist!$H$2))","v":""},{"$f":"IF(LEN($F318)<1,\"\",IF(ISTEXT(H318),H318,IF(ISTEXT(Checklist!$H$3),Checklist!$H$3,\"NO Grid Ref!!\")))","v":""},{"$f":"IF(LEN($F318)<1,\"\",IF(ISBLANK(Checklist!$H$4),\"NO VC!!\",Checklist!$H$4))","v":""},{"$f":"IF(LEN($F318)<1,\"\",IF(ISBLANK(Checklist!$H$5),\"NO Date!!\",Checklist!$H$5))","v":""},{"$f":"IF(LEN($F318)<1,\"\",IF(ISBLANK(Checklist!$H$6),\"NO Recorder!!\",Checklist!$H$6))","v":""},{"$f":"IF(LEN($F318)<1,\"\",IF(ISTEXT(I318),I318,IF(ISTEXT(Checklist!$H$6),Checklist!$H$6,\"NO Determiner!!\")))","v":""},{"$f":"IF(LEN($F318)<1,\"\",IF(ISTEXT(J318),J318,IF(ISTEXT(Checklist!$H$7),Checklist!$H$7,\"Field record / observation\")))","v":""},"","",null,"","","","","","","","","","","","",null,null,null,null,null,null,null,null,null,null,null,null,null,null,null,null,null,null,null,247,"Borago officinalis",null,null,116,"Antennaria dioica","(Linnaeus) Gaertner","Mountain Everlasting","Asteraceae",null,116,"Antennaria dioica_116",null,null,null,null,null,null,null,"Antennaria dioica_116"]
["",null,null,null,"","","",null,null,null,null,null,null,null,null,"","","",{"$f":"IF(LEN($F319)<1,\"\",IF(ISBLANK(Checklist!$H$2),\"\",Checklist!$H$2))","v":""},{"$f":"IF(LEN($F319)<1,\"\",IF(ISTEXT(H319),H319,IF(ISTEXT(Checklist!$H$3),Checklist!$H$3,\"NO Grid Ref!!\")))","v":""},{"$f":"IF(LEN($F319)<1,\"\",IF(ISBLANK(Checklist!$H$4),\"NO VC!!\",Checklist!$H$4))","v":""},{"$f":"IF(LEN($F319)<1,\"\",IF(ISBLANK(Checklist!$H$5),\"NO Date!!\",Checklist!$H$5))","v":""},{"$f":"IF(LEN($F319)<1,\"\",IF(ISBLANK(Checklist!$H$6),\"NO Recorder!!\",Checklist!$H$6))","v":""},{"$f":"IF(LEN($F319)<1,\"\",IF(ISTEXT(I319),I319,IF(ISTEXT(Checklist!$H$6),Checklist!$H$6,\"NO Determiner!!\")))","v":""},{"$f":"IF(LEN($F319)<1,\"\",IF(ISTEXT(J319),J319,IF(ISTEXT(Checklist!$H$7),Checklist!$H$7,\"Field record / observation\")))","v":""},"","",null,"","","","","","","","","","","","",null,null,null,null,null,null,null,null,null,null,null,null,null,null,null,null,null,null,null,248,"Botrychium lunaria",null,null,117,"Anthemis arvensis","L.","Corn Chamomile","Asteraceae","Endangered",117,"Anthemis arvensis_117",null,null,null,null,null,null,null,"Anthemis arvensis_117"]
["",null,null,null,"","","",null,null,null,null,null,null,null,null,"","","",{"$f":"IF(LEN($F320)<1,\"\",IF(ISBLANK(Checklist!$H$2),\"\",Checklist!$H$2))","v":""},{"$f":"IF(LEN($F320)<1,\"\",IF(ISTEXT(H320),H320,IF(ISTEXT(Checklist!$H$3),Checklist!$H$3,\"NO Grid Ref!!\")))","v":""},{"$f":"IF(LEN($F320)<1,\"\",IF(ISBLANK(Checklist!$H$4),\"NO VC!!\",Checklist!$H$4))","v":""},{"$f":"IF(LEN($F320)<1,\"\",IF(ISBLANK(Checklist!$H$5),\"NO Date!!\",Checklist!$H$5))","v":""},{"$f":"IF(LEN($F320)<1,\"\",IF(ISBLANK(Checklist!$H$6),\"NO Recorder!!\",Checklist!$H$6))","v":""},{"$f":"IF(LEN($F320)<1,\"\",IF(ISTEXT(I320),I320,IF(ISTEXT(Checklist!$H$6),Checklist!$H$6,\"NO Determiner!!\")))","v":""},{"$f":"IF(LEN($F320)<1,\"\",IF(ISTEXT(J320),J320,IF(ISTEXT(Checklist!$H$7),Checklist!$H$7,\"Field record / observation\")))","v":""},"","",null,"","","","","","","","","","","","",null,null,null,null,null,null,null,null,null,null,null,null,null,null,null,null,null,null,null,249,"Brachypodium pinnatum",null,null,5643,"Anthemis austriaca","Jacq.","Austrian Chamomile","Asteraceae",null,5643,"Anthemis austriaca_5643",null,null,null,null,null,null,null,"Anthemis austriaca_5643"]
["",null,null,null,"","","",null,null,null,null,null,null,null,null,"","","",{"$f":"IF(LEN($F321)<1,\"\",IF(ISBLANK(Checklist!$H$2),\"\",Checklist!$H$2))","v":""},{"$f":"IF(LEN($F321)<1,\"\",IF(ISTEXT(H321),H321,IF(ISTEXT(Checklist!$H$3),Checklist!$H$3,\"NO Grid Ref!!\")))","v":""},{"$f":"IF(LEN($F321)<1,\"\",IF(ISBLANK(Checklist!$H$4),\"NO VC!!\",Checklist!$H$4))","v":""},{"$f":"IF(LEN($F321)<1,\"\",IF(ISBLANK(Checklist!$H$5),\"NO Date!!\",Checklist!$H$5))","v":""},{"$f":"IF(LEN($F321)<1,\"\",IF(ISBLANK(Checklist!$H$6),\"NO Recorder!!\",Checklist!$H$6))","v":""},{"$f":"IF(LEN($F321)<1,\"\",IF(ISTEXT(I321),I321,IF(ISTEXT(Checklist!$H$6),Checklist!$H$6,\"NO Determiner!!\")))","v":""},{"$f":"IF(LEN($F321)<1,\"\",IF(ISTEXT(J321),J321,IF(ISTEXT(Checklist!$H$7),Checklist!$H$7,\"Field record / observation\")))","v":""},"","",null,"","","","","","","","","","","","",null,null,null,null,null,null,null,null,null,null,null,null,null,null,null,null,null,null,null,250,"Brachypodium sylvaticum",null,null,118,"Anthemis cotula","L.","Stinking Chamomile","Asteraceae","Vulnerable",118,"Anthemis cotula_118",null,null,null,null,null,null,null,"Anthemis cotula_118"]
["",null,null,null,"","","",null,null,null,null,null,null,null,null,"","","",{"$f":"IF(LEN($F322)<1,\"\",IF(ISBLANK(Checklist!$H$2),\"\",Checklist!$H$2))","v":""},{"$f":"IF(LEN($F322)<1,\"\",IF(ISTEXT(H322),H322,IF(ISTEXT(Checklist!$H$3),Checklist!$H$3,\"NO Grid Ref!!\")))","v":""},{"$f":"IF(LEN($F322)<1,\"\",IF(ISBLANK(Checklist!$H$4),\"NO VC!!\",Checklist!$H$4))","v":""},{"$f":"IF(LEN($F322)<1,\"\",IF(ISBLANK(Checklist!$H$5),\"NO Date!!\",Checklist!$H$5))","v":""},{"$f":"IF(LEN($F322)<1,\"\",IF(ISBLANK(Checklist!$H$6),\"NO Recorder!!\",Checklist!$H$6))","v":""},{"$f":"IF(LEN($F322)<1,\"\",IF(ISTEXT(I322),I322,IF(ISTEXT(Checklist!$H$6),Checklist!$H$6,\"NO Determiner!!\")))","v":""},{"$f":"IF(LEN($F322)<1,\"\",IF(ISTEXT(J322),J322,IF(ISTEXT(Checklist!$H$7),Checklist!$H$7,\"Field record / observation\")))","v":""},"","",null,"","","","","","","","","","","","",null,null,null,null,null,null,null,null,null,null,null,null,null,null,null,null,null,null,null,251,"Brassica napus",null,null,7116,"Anthemis punctata","Vahl","Sicilian Chamomile","Asteraceae",null,7116,"Anthemis punctata_7116",null,null,null,null,null,null,null,"Anthemis punctata_7116"]
["",null,null,null,{"$f":"IF(ISBLANK(B323),IF(ISBLANK(C323),\"\",IF(RIGHT(C323,LEN(C323)-FIND(\"_\",C323,1))=\"No BRC\",\"No BRC\",RIGHT(C323,LEN(C323)-FIND(\"_\",C323,1))*1)),B323)","v":""},"","",null,null,null,null,null,null,null,null,"","","",{"$f":"IF(LEN($F323)<1,\"\",IF(ISBLANK(Checklist!$H$2),\"\",Checklist!$H$2))","v":""},{"$f":"IF(LEN($F323)<1,\"\",IF(ISTEXT(H323),H323,IF(ISTEXT(Checklist!$H$3),Checklist!$H$3,\"NO Grid Ref!!\")))","v":""},{"$f":"IF(LEN($F323)<1,\"\",IF(ISBLANK(Checklist!$H$4),\"NO VC!!\",Checklist!$H$4))","v":""},{"$f":"IF(LEN($F323)<1,\"\",IF(ISBLANK(Checklist!$H$5),\"NO Date!!\",Checklist!$H$5))","v":""},{"$f":"IF(LEN($F323)<1,\"\",IF(ISBLANK(Checklist!$H$6),\"NO Recorder!!\",Checklist!$H$6))","v":""},{"$f":"IF(LEN($F323)<1,\"\",IF(ISTEXT(I323),I323,IF(ISTEXT(Checklist!$H$6),Checklist!$H$6,\"NO Determiner!!\")))","v":""},{"$f":"IF(LEN($F323)<1,\"\",IF(ISTEXT(J323),J323,IF(ISTEXT(Checklist!$H$7),Checklist!$H$7,\"Field record / observation\")))","v":""},"","",null,"","","","","","","","","","","","",null,null,null,null,null,null,null,null,null,null,null,null,null,null,null,null,null,null,null,251.1,"Brassica napus subsp. oleifera",null,null,7116,"Anthemis punctata subsp. cupaniana","(Tod. ex Nyman) R. Fern.",null,"Asteraceae",null,7116,"Anthemis punctata subsp. cupaniana_7116",null,null,null,null,null,null,null,"Anthemis punctata subsp. cupaniana_7116"]
[{"$f":"IF(F324=\"\",\"\",ROW())","v":""},null,null,null,"","","",null,null,null,null,null,null,null,null,"","","",{"$f":"IF(LEN($F324)<1,\"\",IF(ISBLANK(Checklist!$H$2),\"\",Checklist!$H$2))","v":""},{"$f":"IF(LEN($F324)<1,\"\",IF(ISTEXT(H324),H324,IF(ISTEXT(Checklist!$H$3),Checklist!$H$3,\"NO Grid Ref!!\")))","v":""},{"$f":"IF(LEN($F324)<1,\"\",IF(ISBLANK(Checklist!$H$4),\"NO VC!!\",Checklist!$H$4))","v":""},{"$f":"IF(LEN($F324)<1,\"\",IF(ISBLANK(Checklist!$H$5),\"NO Date!!\",Checklist!$H$5))","v":""},{"$f":"IF(LEN($F324)<1,\"\",IF(ISBLANK(Checklist!$H$6),\"NO Recorder!!\",Checklist!$H$6))","v":""},{"$f":"IF(LEN($F324)<1,\"\",IF(ISTEXT(I324),I324,IF(ISTEXT(Checklist!$H$6),Checklist!$H$6,\"NO Determiner!!\")))","v":""},{"$f":"IF(LEN($F324)<1,\"\",IF(ISTEXT(J324),J324,IF(ISTEXT(Checklist!$H$7),Checklist!$H$7,\"Field record / observation\")))","v":""},"","",null,{"$f":"IF(ROW($A324)-ROW($A$3)+1>COUNT($A$3:$A$501),\"\",INDEX(P:P,SMALL($A$3:$A$501,1+ROW($A324)-ROW($A$3))))","v":""},{"$f":"IF(ROW($A324)-ROW($A$3)+1>COUNT($A$3:$A$501),\"\",INDEX(Q:Q,SMALL($A$3:$A$501,1+ROW($A324)-ROW($A$3))))","v":""},{"$f":"IF(ROW($A324)-ROW($A$3)+1>COUNT($A$3:$A$501),\"\",INDEX(R:R,SMALL($A$3:$A$501,1+ROW($A324)-ROW($A$3))))","v":""},{"$f":"IF(ROW($A324)-ROW($A$3)+1>COUNT($A$3:$A$501),\"\",INDEX(S:S,SMALL($A$3:$A$501,1+ROW($A324)-ROW($A$3))))","v":""},{"$f":"IF(ROW($A324)-ROW($A$3)+1>COUNT($A$3:$A$501),\"\",INDEX(T:T,SMALL($A$3:$A$501,1+ROW($A324)-ROW($A$3))))","v":""},{"$f":"IF(ROW($A324)-ROW($A$3)+1>COUNT($A$3:$A$501),\"\",INDEX(U:U,SMALL($A$3:$A$501,1+ROW($A324)-ROW($A$3))))","v":""},{"$f":"IF(ROW($A324)-ROW($A$3)+1>COUNT($A$3:$A$501),\"\",INDEX(V:V,SMALL($A$3:$A$501,1+ROW($A324)-ROW($A$3))))","v":""},{"$f":"IF(ROW($A324)-ROW($A$3)+1>COUNT($A$3:$A$501),\"\",INDEX(W:W,SMALL($A$3:$A$501,1+ROW($A324)-ROW($A$3))))","v":""},{"$f":"IF(ROW($A324)-ROW($A$3)+1>COUNT($A$3:$A$501),\"\",INDEX(X:X,SMALL($A$3:$A$501,1+ROW($A324)-ROW($A$3))))","v":""},{"$f":"IF(ROW($A324)-ROW($A$3)+1>COUNT($A$3:$A$501),\"\",INDEX(Y:Y,SMALL($A$3:$A$501,1+ROW($A324)-ROW($A$3))))","v":""},{"$f":"IF(ROW($A324)-ROW($A$3)+1>COUNT($A$3:$A$501),\"\",INDEX(Z:Z,SMALL($A$3:$A$501,1+ROW($A324)-ROW($A$3))))","v":""},{"$f":"IF(ROW($A324)-ROW($A$3)+1>COUNT($A$3:$A$501),\"\",INDEX(AA:AA,SMALL($A$3:$A$501,1+ROW($A324)-ROW($A$3))))","v":""},null,null,null,null,null,null,null,null,null,null,null,null,null,null,null,null,null,null,null,251.2,"Brassica napus subsp. rapifera",null,null,120,"Anthemis tinctoria","Linnaeus","Yellow Chamomile","Asteraceae",null,120,{"$f":"CONCATENATE(BM324,\"_\",BL324)","v":"Anthemis tinctoria_120"},null,null,null,null,null,null,null,"Anthemis tinctoria_120"]
["",null,null,null,"","",{"$f":"IF(LEN(F325)<1,\"\",IF(ISBLANK(VLOOKUP(F325,$BM$3:$BR$7116,3,FALSE)),\"\",(VLOOKUP(F325,$BM$3:$BR$7130,3,FALSE))))","v":""},null,null,null,null,null,null,null,null,"","","",{"$f":"IF(LEN($F325)<1,\"\",IF(ISBLANK(Checklist!$H$2),\"\",Checklist!$H$2))","v":""},{"$f":"IF(LEN($F325)<1,\"\",IF(ISTEXT(H325),H325,IF(ISTEXT(Checklist!$H$3),Checklist!$H$3,\"NO Grid Ref!!\")))","v":""},{"$f":"IF(LEN($F325)<1,\"\",IF(ISBLANK(Checklist!$H$4),\"NO VC!!\",Checklist!$H$4))","v":""},{"$f":"IF(LEN($F325)<1,\"\",IF(ISBLANK(Checklist!$H$5),\"NO Date!!\",Checklist!$H$5))","v":""},{"$f":"IF(LEN($F325)<1,\"\",IF(ISBLANK(Checklist!$H$6),\"NO Recorder!!\",Checklist!$H$6))","v":""},{"$f":"IF(LEN($F325)<1,\"\",IF(ISTEXT(I325),I325,IF(ISTEXT(Checklist!$H$6),Checklist!$H$6,\"NO Determiner!!\")))","v":""},{"$f":"IF(LEN($F325)<1,\"\",IF(ISTEXT(J325),J325,IF(ISTEXT(Checklist!$H$7),Checklist!$H$7,\"Field record / observation\")))","v":""},"","",null,"","","","","","","","","","","","",null,null,null,null,null,null,null,null,null,null,null,null,null,null,null,null,null,null,null,251.3,"Brassica napus subsp. napus",null,null,122,"Anthoxanthum aristatum","Boiss.","Annual Vernal-grass","Poaceae",null,122,"Anthoxanthum aristatum_122",null,null,null,null,null,null,null,"Anthoxanthum aristatum_122"]
["",null,null,null,"",{"$f":"IF(ISBLANK(B326),IF(ISBLANK(C326),\"\",LEFT(C326,FIND(\"_\",C326,1)-1)),VLOOKUP(B326,$BH$3:$BI$7130,2,FALSE))","v":""},"",null,null,null,null,null,null,null,null,"","","",{"$f":"IF(LEN($F326)<1,\"\",IF(ISBLANK(Checklist!$H$2),\"\",Checklist!$H$2))","v":""},{"$f":"IF(LEN($F326)<1,\"\",IF(ISTEXT(H326),H326,IF(ISTEXT(Checklist!$H$3),Checklist!$H$3,\"NO Grid Ref!!\")))","v":""},{"$f":"IF(LEN($F326)<1,\"\",IF(ISBLANK(Checklist!$H$4),\"NO VC!!\",Checklist!$H$4))","v":""},{"$f":"IF(LEN($F326)<1,\"\",IF(ISBLANK(Checklist!$H$5),\"NO Date!!\",Checklist!$H$5))","v":""},{"$f":"IF(LEN($F326)<1,\"\",IF(ISBLANK(Checklist!$H$6),\"NO Recorder!!\",Checklist!$H$6))","v":""},{"$f":"IF(LEN($F326)<1,\"\",IF(ISTEXT(I326),I326,IF(ISTEXT(Checklist!$H$6),Checklist!$H$6,\"NO Determiner!!\")))","v":""},{"$f":"IF(LEN($F326)<1,\"\",IF(ISTEXT(J326),J326,IF(ISTEXT(Checklist!$H$7),Checklist!$H$7,\"Field record / observation\")))","v":""},"","",null,"","","","","","","","","","","","",null,null,null,null,null,null,null,null,null,null,null,null,null,null,null,null,null,null,null,252,"Brassica nigra",null,null,121,"Anthoxanthum odoratum","L.","Sweet Vernal-grass","Poaceae",null,121,"Anthoxanthum odoratum_121",null,null,null,null,null,null,null,"Anthoxanthum odoratum_121"]
["",null,null,null,"","","",null,null,null,null,null,null,null,null,"","","",{"$f":"IF(LEN($F327)<1,\"\",IF(ISBLANK(Checklist!$H$2),\"\",Checklist!$H$2))","v":""},{"$f":"IF(LEN($F327)<1,\"\",IF(ISTEXT(H327),H327,IF(ISTEXT(Checklist!$H$3),Checklist!$H$3,\"NO Grid Ref!!\")))","v":""},{"$f":"IF(LEN($F327)<1,\"\",IF(ISBLANK(Checklist!$H$4),\"NO VC!!\",Checklist!$H$4))","v":""},{"$f":"IF(LEN($F327)<1,\"\",IF(ISBLANK(Checklist!$H$5),\"NO Date!!\",Checklist!$H$5))","v":""},{"$f":"IF(LEN($F327)<1,\"\",IF(ISBLANK(Checklist!$H$6),\"NO Recorder!!\",Checklist!$H$6))","v":""},{"$f":"IF(LEN($F327)<1,\"\",IF(ISTEXT(I327),I327,IF(ISTEXT(Checklist!$H$6),Checklist!$H$6,\"NO Determiner!!\")))","v":""},{"$f":"IF(LEN($F327)<1,\"\",IF(ISTEXT(J327),J327,IF(ISTEXT(Checklist!$H$7),Checklist!$H$7,\"Field record / observation\")))","v":""},"","",null,"","","","","","","","","","","","",null,null,null,null,null,null,null,null,null,null,null,null,null,null,null,null,null,null,null,253,"Brassica oleracea",null,null,123,"Anthriscus caucalis","M. Bieb.","Bur Chervil","Apiaceae",null,123,"Anthriscus caucalis_123",null,null,null,null,null,null,null,"Anthriscus caucalis_123"]
["",null,null,null,"","","",null,null,null,null,null,null,null,null,"","","",{"$f":"IF(LEN($F328)<1,\"\",IF(ISBLANK(Checklist!$H$2),\"\",Checklist!$H$2))","v":""},{"$f":"IF(LEN($F328)<1,\"\",IF(ISTEXT(H328),H328,IF(ISTEXT(Checklist!$H$3),Checklist!$H$3,\"NO Grid Ref!!\")))","v":""},{"$f":"IF(LEN($F328)<1,\"\",IF(ISBLANK(Checklist!$H$4),\"NO VC!!\",Checklist!$H$4))","v":""},{"$f":"IF(LEN($F328)<1,\"\",IF(ISBLANK(Checklist!$H$5),\"NO Date!!\",Checklist!$H$5))","v":""},{"$f":"IF(LEN($F328)<1,\"\",IF(ISBLANK(Checklist!$H$6),\"NO Recorder!!\",Checklist!$H$6))","v":""},{"$f":"IF(LEN($F328)<1,\"\",IF(ISTEXT(I328),I328,IF(ISTEXT(Checklist!$H$6),Checklist!$H$6,\"NO Determiner!!\")))","v":""},{"$f":"IF(LEN($F328)<1,\"\",IF(ISTEXT(J328),J328,IF(ISTEXT(Checklist!$H$7),Checklist!$H$7,\"Field record / observation\")))","v":""},"","",null,"","","","","","","","","","","","",null,null,null,null,null,null,null,null,null,null,null,null,null,null,null,null,null,null,null,253.1,"Brassica oleracea var. oleracea",null,null,124,"Anthriscus cerefolium","(L.) Hoffm.","Garden Chervil","Apiaceae",null,124,"Anthriscus cerefolium_124",null,null,null,null,null,null,null,"Anthriscus cerefolium_124"]
["",null,null,null,"","","",null,null,null,null,null,null,null,null,"","","",{"$f":"IF(LEN($F329)<1,\"\",IF(ISBLANK(Checklist!$H$2),\"\",Checklist!$H$2))","v":""},{"$f":"IF(LEN($F329)<1,\"\",IF(ISTEXT(H329),H329,IF(ISTEXT(Checklist!$H$3),Checklist!$H$3,\"NO Grid Ref!!\")))","v":""},{"$f":"IF(LEN($F329)<1,\"\",IF(ISBLANK(Checklist!$H$4),\"NO VC!!\",Checklist!$H$4))","v":""},{"$f":"IF(LEN($F329)<1,\"\",IF(ISBLANK(Checklist!$H$5),\"NO Date!!\",Checklist!$H$5))","v":""},{"$f":"IF(LEN($F329)<1,\"\",IF(ISBLANK(Checklist!$H$6),\"NO Recorder!!\",Checklist!$H$6))","v":""},{"$f":"IF(LEN($F329)<1,\"\",IF(ISTEXT(I329),I329,IF(ISTEXT(Checklist!$H$6),Checklist!$H$6,\"NO Determiner!!\")))","v":""},{"$f":"IF(LEN($F329)<1,\"\",IF(ISTEXT(J329),J329,IF(ISTEXT(Checklist!$H$7),Checklist!$H$7,\"Field record / observation\")))","v":""},"","",null,"","","","","","","","","","","","",null,null,null,null,null,null,null,null,null,null,null,null,null,null,null,null,null,null,null,253.2,"Brassica oleracea cultivated variants",null,null,125,"Anthriscus sylvestris","(L.) Hoffm.","Cow Parsley","Apiaceae",null,125,"Anthriscus sylvestris_125",null,null,null,null,null,null,null,"Anthriscus sylvestris_125"]
["",null,null,null,"","","",null,null,null,null,null,null,null,null,"","","",{"$f":"IF(LEN($F330)<1,\"\",IF(ISBLANK(Checklist!$H$2),\"\",Checklist!$H$2))","v":""},{"$f":"IF(LEN($F330)<1,\"\",IF(ISTEXT(H330),H330,IF(ISTEXT(Checklist!$H$3),Checklist!$H$3,\"NO Grid Ref!!\")))","v":""},{"$f":"IF(LEN($F330)<1,\"\",IF(ISBLANK(Checklist!$H$4),\"NO VC!!\",Checklist!$H$4))","v":""},{"$f":"IF(LEN($F330)<1,\"\",IF(ISBLANK(Checklist!$H$5),\"NO Date!!\",Checklist!$H$5))","v":""},{"$f":"IF(LEN($F330)<1,\"\",IF(ISBLANK(Checklist!$H$6),\"NO Recorder!!\",Checklist!$H$6))","v":""},{"$f":"IF(LEN($F330)<1,\"\",IF(ISTEXT(I330),I330,IF(ISTEXT(Checklist!$H$6),Checklist!$H$6,\"NO Determiner!!\")))","v":""},{"$f":"IF(LEN($F330)<1,\"\",IF(ISTEXT(J330),J330,IF(ISTEXT(Checklist!$H$7),Checklist!$H$7,\"Field record / observation\")))","v":""},"","",null,"","","","","","","","","","","","",null,null,null,null,null,null,null,null,null,null,null,null,null,null,null,null,null,null,null,253.3,"Brassica oleracea var. botrytis",null,null,126,"Anthyllis vulneraria","Linnaeus","Kidney Vetch","Fabaceae",null,126,"Anthyllis vulneraria_126",null,null,null,null,null,null,null,"Anthyllis vulneraria_126"]
["",null,null,null,"","","",null,null,null,null,null,null,null,null,"","","",{"$f":"IF(LEN($F331)<1,\"\",IF(ISBLANK(Checklist!$H$2),\"\",Checklist!$H$2))","v":""},{"$f":"IF(LEN($F331)<1,\"\",IF(ISTEXT(H331),H331,IF(ISTEXT(Checklist!$H$3),Checklist!$H$3,\"NO Grid Ref!!\")))","v":""},{"$f":"IF(LEN($F331)<1,\"\",IF(ISBLANK(Checklist!$H$4),\"NO VC!!\",Checklist!$H$4))","v":""},{"$f":"IF(LEN($F331)<1,\"\",IF(ISBLANK(Checklist!$H$5),\"NO Date!!\",Checklist!$H$5))","v":""},{"$f":"IF(LEN($F331)<1,\"\",IF(ISBLANK(Checklist!$H$6),\"NO Recorder!!\",Checklist!$H$6))","v":""},{"$f":"IF(LEN($F331)<1,\"\",IF(ISTEXT(I331),I331,IF(ISTEXT(Checklist!$H$6),Checklist!$H$6,\"NO Determiner!!\")))","v":""},{"$f":"IF(LEN($F331)<1,\"\",IF(ISTEXT(J331),J331,IF(ISTEXT(Checklist!$H$7),Checklist!$H$7,\"Field record / observation\")))","v":""},"","",null,"","","","","","","","","","","","",null,null,null,null,null,null,null,null,null,null,null,null,null,null,null,null,null,null,null,253.4,"Brassica oleracea var. capitata",null,null,126.3,"Anthyllis vulneraria subsp. carpatica",null,"Kidney Vetch","Fabaceae",null,126.3,"Anthyllis vulneraria subsp. carpatica_126.3",null,null,null,null,null,null,null,"Anthyllis vulneraria subsp. carpatica_126.3"]
["",null,null,null,"","","",null,null,null,null,null,null,null,null,"","","",{"$f":"IF(LEN($F332)<1,\"\",IF(ISBLANK(Checklist!$H$2),\"\",Checklist!$H$2))","v":""},{"$f":"IF(LEN($F332)<1,\"\",IF(ISTEXT(H332),H332,IF(ISTEXT(Checklist!$H$3),Checklist!$H$3,\"NO Grid Ref!!\")))","v":""},{"$f":"IF(LEN($F332)<1,\"\",IF(ISBLANK(Checklist!$H$4),\"NO VC!!\",Checklist!$H$4))","v":""},{"$f":"IF(LEN($F332)<1,\"\",IF(ISBLANK(Checklist!$H$5),\"NO Date!!\",Checklist!$H$5))","v":""},{"$f":"IF(LEN($F332)<1,\"\",IF(ISBLANK(Checklist!$H$6),\"NO Recorder!!\",Checklist!$H$6))","v":""},{"$f":"IF(LEN($F332)<1,\"\",IF(ISTEXT(I332),I332,IF(ISTEXT(Checklist!$H$6),Checklist!$H$6,\"NO Determiner!!\")))","v":""},{"$f":"IF(LEN($F332)<1,\"\",IF(ISTEXT(J332),J332,IF(ISTEXT(Checklist!$H$7),Checklist!$H$7,\"Field record / observation\")))","v":""},"","",null,"","","","","","","","","","","","",null,null,null,null,null,null,null,null,null,null,null,null,null,null,null,null,null,null,null,253.5,"Brassica oleracea var. gemmifera",null,null,126.1,"Anthyllis vulneraria subsp. corbierei",null,null,"Fabaceae",null,126.1,"Anthyllis vulneraria subsp. corbierei_126.1",null,null,null,null,null,null,null,"Anthyllis vulneraria subsp. corbierei_126.1"]
["",null,null,null,"","","",null,null,null,null,null,null,null,null,"","","",{"$f":"IF(LEN($F333)<1,\"\",IF(ISBLANK(Checklist!$H$2),\"\",Checklist!$H$2))","v":""},{"$f":"IF(LEN($F333)<1,\"\",IF(ISTEXT(H333),H333,IF(ISTEXT(Checklist!$H$3),Checklist!$H$3,\"NO Grid Ref!!\")))","v":""},{"$f":"IF(LEN($F333)<1,\"\",IF(ISBLANK(Checklist!$H$4),\"NO VC!!\",Checklist!$H$4))","v":""},{"$f":"IF(LEN($F333)<1,\"\",IF(ISBLANK(Checklist!$H$5),\"NO Date!!\",Checklist!$H$5))","v":""},{"$f":"IF(LEN($F333)<1,\"\",IF(ISBLANK(Checklist!$H$6),\"NO Recorder!!\",Checklist!$H$6))","v":""},{"$f":"IF(LEN($F333)<1,\"\",IF(ISTEXT(I333),I333,IF(ISTEXT(Checklist!$H$6),Checklist!$H$6,\"NO Determiner!!\")))","v":""},{"$f":"IF(LEN($F333)<1,\"\",IF(ISTEXT(J333),J333,IF(ISTEXT(Checklist!$H$7),Checklist!$H$7,\"Field record / observation\")))","v":""},"","",null,"","","","","","","","","","","","",null,null,null,null,null,null,null,null,null,null,null,null,null,null,null,null,null,null,null,253.6,"Brassica oleracea var. gongylodes",null,null,126.2,"Anthyllis vulneraria subsp. lapponica",null,null,"Fabaceae",null,126.2,"Anthyllis vulneraria subsp. lapponica_126.2",null,null,null,null,null,null,null,"Anthyllis vulneraria subsp. lapponica_126.2"]
["",null,null,null,"","","",null,null,null,null,null,null,null,null,"","","",{"$f":"IF(LEN($F334)<1,\"\",IF(ISBLANK(Checklist!$H$2),\"\",Checklist!$H$2))","v":""},{"$f":"IF(LEN($F334)<1,\"\",IF(ISTEXT(H334),H334,IF(ISTEXT(Checklist!$H$3),Checklist!$H$3,\"NO Grid Ref!!\")))","v":""},{"$f":"IF(LEN($F334)<1,\"\",IF(ISBLANK(Checklist!$H$4),\"NO VC!!\",Checklist!$H$4))","v":""},{"$f":"IF(LEN($F334)<1,\"\",IF(ISBLANK(Checklist!$H$5),\"NO Date!!\",Checklist!$H$5))","v":""},{"$f":"IF(LEN($F334)<1,\"\",IF(ISBLANK(Checklist!$H$6),\"NO Recorder!!\",Checklist!$H$6))","v":""},{"$f":"IF(LEN($F334)<1,\"\",IF(ISTEXT(I334),I334,IF(ISTEXT(Checklist!$H$6),Checklist!$H$6,\"NO Determiner!!\")))","v":""},{"$f":"IF(LEN($F334)<1,\"\",IF(ISTEXT(J334),J334,IF(ISTEXT(Checklist!$H$7),Checklist!$H$7,\"Field record / observation\")))","v":""},"","",null,"","","","","","","","","","","","",null,null,null,null,null,null,null,null,null,null,null,null,null,null,null,null,null,null,null,253.7,"Brassica oleracea var. sabauda",null,null,126.5,"Anthyllis vulneraria subsp. polyphylla",null,null,"Fabaceae",null,126.5,"Anthyllis vulneraria subsp. polyphylla_126.5",null,null,null,null,null,null,null,"Anthyllis vulneraria subsp. polyphylla_126.5"]
["",null,null,null,"","","",null,null,null,null,null,null,null,null,{"$f":"IF(LEN($F335)<1,\"\",E335)","v":""},{"$f":"IF(LEN($F335)<1,\"\",F335)","v":""},{"$f":"IF(LEN($F335)<1,\"\",G335)","v":""},{"$f":"IF(LEN($F335)<1,\"\",IF(ISBLANK(Checklist!$H$2),\"\",Checklist!$H$2))","v":""},{"$f":"IF(LEN($F335)<1,\"\",IF(ISTEXT(H335),H335,IF(ISTEXT(Checklist!$H$3),Checklist!$H$3,\"NO Grid Ref!!\")))","v":""},{"$f":"IF(LEN($F335)<1,\"\",IF(ISBLANK(Checklist!$H$4),\"NO VC!!\",Checklist!$H$4))","v":""},{"$f":"IF(LEN($F335)<1,\"\",IF(ISBLANK(Checklist!$H$5),\"NO Date!!\",Checklist!$H$5))","v":""},{"$f":"IF(LEN($F335)<1,\"\",IF(ISBLANK(Checklist!$H$6),\"NO Recorder!!\",Checklist!$H$6))","v":""},{"$f":"IF(LEN($F335)<1,\"\",IF(ISTEXT(I335),I335,IF(ISTEXT(Checklist!$H$6),Checklist!$H$6,\"NO Determiner!!\")))","v":""},{"$f":"IF(LEN($F335)<1,\"\",IF(ISTEXT(J335),J335,IF(ISTEXT(Checklist!$H$7),Checklist!$H$7,\"Field record / observation\")))","v":""},{"$f":"IF(LEN($F335)<1,\"\",IF(LEN(K335)<1,\"Not Recorded\",K335))","v":""},{"$f":"IF(LEN($F335)<1,\"\",IF(LEN(L335)<1,\"  --\",L335))","v":""},null,"","","","","","","","","","","","",null,null,null,null,null,null,null,null,null,null,null,null,null,null,null,null,null,null,null,253.8,"Brassica oleracea var. viridis",null,null,126.4,"Anthyllis vulneraria subsp. vulneraria",null,"Kidney Vetch","Fabaceae",null,126.4,"Anthyllis vulneraria subsp. vulneraria_126.4",null,null,null,null,null,null,null,"Anthyllis vulneraria subsp. vulneraria_126.4"]
["",null,null,null,"","","",null,null,null,null,null,null,null,null,"","","",{"$f":"IF(LEN($F336)<1,\"\",IF(ISBLANK(Checklist!$H$2),\"\",Checklist!$H$2))","v":""},{"$f":"IF(LEN($F336)<1,\"\",IF(ISTEXT(H336),H336,IF(ISTEXT(Checklist!$H$3),Checklist!$H$3,\"NO Grid Ref!!\")))","v":""},{"$f":"IF(LEN($F336)<1,\"\",IF(ISBLANK(Checklist!$H$4),\"NO VC!!\",Checklist!$H$4))","v":""},{"$f":"IF(LEN($F336)<1,\"\",IF(ISBLANK(Checklist!$H$5),\"NO Date!!\",Checklist!$H$5))","v":""},{"$f":"IF(LEN($F336)<1,\"\",IF(ISBLANK(Checklist!$H$6),\"NO Recorder!!\",Checklist!$H$6))","v":""},{"$f":"IF(LEN($F336)<1,\"\",IF(ISTEXT(I336),I336,IF(ISTEXT(Checklist!$H$6),Checklist!$H$6,\"NO Determiner!!\")))","v":""},{"$f":"IF(LEN($F336)<1,\"\",IF(ISTEXT(J336),J336,IF(ISTEXT(Checklist!$H$7),Checklist!$H$7,\"Field record / observation\")))","v":""},"","",null,"","","","","","","","","","","","",null,null,null,null,null,null,null,null,null,null,null,null,null,null,null,null,null,null,null,254,"Brassica rapa",null,null,126.8,"Anthyllis vulneraria subsp. vulneraria var. coccinea",null,null,"Fabaceae",null,126.8,"Anthyllis vulneraria subsp. vulneraria var. coccinea_126.8",null,null,null,null,null,null,null,"Anthyllis vulneraria subsp. vulneraria var. coccinea_126.8"]
["",null,null,null,"","","",null,null,null,null,null,null,null,null,"","","",{"$f":"IF(LEN($F337)<1,\"\",IF(ISBLANK(Checklist!$H$2),\"\",Checklist!$H$2))","v":""},{"$f":"IF(LEN($F337)<1,\"\",IF(ISTEXT(H337),H337,IF(ISTEXT(Checklist!$H$3),Checklist!$H$3,\"NO Grid Ref!!\")))","v":""},{"$f":"IF(LEN($F337)<1,\"\",IF(ISBLANK(Checklist!$H$4),\"NO VC!!\",Checklist!$H$4))","v":""},{"$f":"IF(LEN($F337)<1,\"\",IF(ISBLANK(Checklist!$H$5),\"NO Date!!\",Checklist!$H$5))","v":""},{"$f":"IF(LEN($F337)<1,\"\",IF(ISBLANK(Checklist!$H$6),\"NO Recorder!!\",Checklist!$H$6))","v":""},{"$f":"IF(LEN($F337)<1,\"\",IF(ISTEXT(I337),I337,IF(ISTEXT(Checklist!$H$6),Checklist!$H$6,\"NO Determiner!!\")))","v":""},{"$f":"IF(LEN($F337)<1,\"\",IF(ISTEXT(J337),J337,IF(ISTEXT(Checklist!$H$7),Checklist!$H$7,\"Field record / observation\")))","v":""},"","",null,"","","","","","","","","","","","",null,null,null,null,null,null,null,null,null,null,null,null,null,null,null,null,null,null,null,254.1,"Brassica rapa subsp. rapa",null,null,126.7,"Anthyllis vulneraria subsp. vulneraria var. langei",null,null,"Fabaceae",null,126.7,"Anthyllis vulneraria subsp. vulneraria var. langei_126.7",null,null,null,null,null,null,null,"Anthyllis vulneraria subsp. vulneraria var. langei_126.7"]
["",null,null,null,"","","",null,null,null,null,null,null,null,null,"","","",{"$f":"IF(LEN($F338)<1,\"\",IF(ISBLANK(Checklist!$H$2),\"\",Checklist!$H$2))","v":""},{"$f":"IF(LEN($F338)<1,\"\",IF(ISTEXT(H338),H338,IF(ISTEXT(Checklist!$H$3),Checklist!$H$3,\"NO Grid Ref!!\")))","v":""},{"$f":"IF(LEN($F338)<1,\"\",IF(ISBLANK(Checklist!$H$4),\"NO VC!!\",Checklist!$H$4))","v":""},{"$f":"IF(LEN($F338)<1,\"\",IF(ISBLANK(Checklist!$H$5),\"NO Date!!\",Checklist!$H$5))","v":""},{"$f":"IF(LEN($F338)<1,\"\",IF(ISBLANK(Checklist!$H$6),\"NO Recorder!!\",Checklist!$H$6))","v":""},{"$f":"IF(LEN($F338)<1,\"\",IF(ISTEXT(I338),I338,IF(ISTEXT(Checklist!$H$6),Checklist!$H$6,\"NO Determiner!!\")))","v":""},{"$f":"IF(LEN($F338)<1,\"\",IF(ISTEXT(J338),J338,IF(ISTEXT(Checklist!$H$7),Checklist!$H$7,\"Field record / observation\")))","v":""},"","",null,"","","","","","","","","","","","",null,null,null,null,null,null,null,null,null,null,null,null,null,null,null,null,null,null,null,254.2,"Brassica rapa subsp. campestris",null,null,126.6,"Anthyllis vulneraria subsp. vulneraria var. vulneraria",null,null,"Fabaceae",null,126.6,"Anthyllis vulneraria subsp. vulneraria var. vulneraria_126.6",null,null,null,null,null,null,null,"Anthyllis vulneraria subsp. vulneraria var. vulneraria_126.6"]
["",null,null,null,"","","",null,null,null,null,null,null,null,null,"","","",{"$f":"IF(LEN($F339)<1,\"\",IF(ISBLANK(Checklist!$H$2),\"\",Checklist!$H$2))","v":""},{"$f":"IF(LEN($F339)<1,\"\",IF(ISTEXT(H339),H339,IF(ISTEXT(Checklist!$H$3),Checklist!$H$3,\"NO Grid Ref!!\")))","v":""},{"$f":"IF(LEN($F339)<1,\"\",IF(ISBLANK(Checklist!$H$4),\"NO VC!!\",Checklist!$H$4))","v":""},{"$f":"IF(LEN($F339)<1,\"\",IF(ISBLANK(Checklist!$H$5),\"NO Date!!\",Checklist!$H$5))","v":""},{"$f":"IF(LEN($F339)<1,\"\",IF(ISBLANK(Checklist!$H$6),\"NO Recorder!!\",Checklist!$H$6))","v":""},{"$f":"IF(LEN($F339)<1,\"\",IF(ISTEXT(I339),I339,IF(ISTEXT(Checklist!$H$6),Checklist!$H$6,\"NO Determiner!!\")))","v":""},{"$f":"IF(LEN($F339)<1,\"\",IF(ISTEXT(J339),J339,IF(ISTEXT(Checklist!$H$7),Checklist!$H$7,\"Field record / observation\")))","v":""},"","",null,"","","","","","","","","","","","",null,null,null,null,null,null,null,null,null,null,null,null,null,null,null,null,null,null,null,254.3,"Brassica rapa subsp. oleifera",null,null,127,"Antirrhinum majus","Linnaeus","Snapdragon","Scrophulariaceae",null,127,"Antirrhinum majus_127",null,null,null,null,null,null,null,"Antirrhinum majus_127"]
["",null,null,null,"","","",null,null,null,null,null,null,null,null,"","","",{"$f":"IF(LEN($F340)<1,\"\",IF(ISBLANK(Checklist!$H$2),\"\",Checklist!$H$2))","v":""},{"$f":"IF(LEN($F340)<1,\"\",IF(ISTEXT(H340),H340,IF(ISTEXT(Checklist!$H$3),Checklist!$H$3,\"NO Grid Ref!!\")))","v":""},{"$f":"IF(LEN($F340)<1,\"\",IF(ISBLANK(Checklist!$H$4),\"NO VC!!\",Checklist!$H$4))","v":""},{"$f":"IF(LEN($F340)<1,\"\",IF(ISBLANK(Checklist!$H$5),\"NO Date!!\",Checklist!$H$5))","v":""},{"$f":"IF(LEN($F340)<1,\"\",IF(ISBLANK(Checklist!$H$6),\"NO Recorder!!\",Checklist!$H$6))","v":""},{"$f":"IF(LEN($F340)<1,\"\",IF(ISTEXT(I340),I340,IF(ISTEXT(Checklist!$H$6),Checklist!$H$6,\"NO Determiner!!\")))","v":""},{"$f":"IF(LEN($F340)<1,\"\",IF(ISTEXT(J340),J340,IF(ISTEXT(Checklist!$H$7),Checklist!$H$7,\"Field record / observation\")))","v":""},"","",null,"","","","","","","","","","","","",null,null,null,null,null,null,null,null,null,null,null,null,null,null,null,null,null,null,null,255,"Briza maxima",null,null,129,"Apera interrupta","(L.) P.Beauv.","Dense Silky-bent","Poaceae",null,129,"Apera interrupta_129",null,null,null,null,null,null,null,"Apera interrupta_129"]
["",null,null,null,"","","",null,null,null,null,null,null,null,null,"","","",{"$f":"IF(LEN($F341)<1,\"\",IF(ISBLANK(Checklist!$H$2),\"\",Checklist!$H$2))","v":""},{"$f":"IF(LEN($F341)<1,\"\",IF(ISTEXT(H341),H341,IF(ISTEXT(Checklist!$H$3),Checklist!$H$3,\"NO Grid Ref!!\")))","v":""},{"$f":"IF(LEN($F341)<1,\"\",IF(ISBLANK(Checklist!$H$4),\"NO VC!!\",Checklist!$H$4))","v":""},{"$f":"IF(LEN($F341)<1,\"\",IF(ISBLANK(Checklist!$H$5),\"NO Date!!\",Checklist!$H$5))","v":""},{"$f":"IF(LEN($F341)<1,\"\",IF(ISBLANK(Checklist!$H$6),\"NO Recorder!!\",Checklist!$H$6))","v":""},{"$f":"IF(LEN($F341)<1,\"\",IF(ISTEXT(I341),I341,IF(ISTEXT(Checklist!$H$6),Checklist!$H$6,\"NO Determiner!!\")))","v":""},{"$f":"IF(LEN($F341)<1,\"\",IF(ISTEXT(J341),J341,IF(ISTEXT(Checklist!$H$7),Checklist!$H$7,\"Field record / observation\")))","v":""},"","",null,"","","","","","","","","","","","",null,null,null,null,null,null,null,null,null,null,null,null,null,null,null,null,null,null,null,256,"Briza media",null,null,130,"Apera spica-venti","(L.) P.Beauv.","Loose Silky-bent","Poaceae","Near Threatened",130,"Apera spica-venti_130",null,null,null,null,null,null,null,"Apera spica-venti_130"]
["",null,null,null,"","","",null,null,null,null,null,null,null,null,"","","",{"$f":"IF(LEN($F342)<1,\"\",IF(ISBLANK(Checklist!$H$2),\"\",Checklist!$H$2))","v":""},{"$f":"IF(LEN($F342)<1,\"\",IF(ISTEXT(H342),H342,IF(ISTEXT(Checklist!$H$3),Checklist!$H$3,\"NO Grid Ref!!\")))","v":""},{"$f":"IF(LEN($F342)<1,\"\",IF(ISBLANK(Checklist!$H$4),\"NO VC!!\",Checklist!$H$4))","v":""},{"$f":"IF(LEN($F342)<1,\"\",IF(ISBLANK(Checklist!$H$5),\"NO Date!!\",Checklist!$H$5))","v":""},{"$f":"IF(LEN($F342)<1,\"\",IF(ISBLANK(Checklist!$H$6),\"NO Recorder!!\",Checklist!$H$6))","v":""},{"$f":"IF(LEN($F342)<1,\"\",IF(ISTEXT(I342),I342,IF(ISTEXT(Checklist!$H$6),Checklist!$H$6,\"NO Determiner!!\")))","v":""},{"$f":"IF(LEN($F342)<1,\"\",IF(ISTEXT(J342),J342,IF(ISTEXT(Checklist!$H$7),Checklist!$H$7,\"Field record / observation\")))","v":""},"","",null,"","","","","","","","","","","","",null,null,null,null,null,null,null,null,null,null,null,null,null,null,null,null,null,null,null,257,"Briza minor",null,null,132,"Aphanes arvensis","Linnaeus","Parsley-piert","Rosaceae",null,132,"Aphanes arvensis_132",null,null,null,null,null,null,null,"Aphanes arvensis_132"]
["",null,null,null,"","","",null,null,null,null,null,null,null,null,"","","",{"$f":"IF(LEN($F343)<1,\"\",IF(ISBLANK(Checklist!$H$2),\"\",Checklist!$H$2))","v":""},{"$f":"IF(LEN($F343)<1,\"\",IF(ISTEXT(H343),H343,IF(ISTEXT(Checklist!$H$3),Checklist!$H$3,\"NO Grid Ref!!\")))","v":""},{"$f":"IF(LEN($F343)<1,\"\",IF(ISBLANK(Checklist!$H$4),\"NO VC!!\",Checklist!$H$4))","v":""},{"$f":"IF(LEN($F343)<1,\"\",IF(ISBLANK(Checklist!$H$5),\"NO Date!!\",Checklist!$H$5))","v":""},{"$f":"IF(LEN($F343)<1,\"\",IF(ISBLANK(Checklist!$H$6),\"NO Recorder!!\",Checklist!$H$6))","v":""},{"$f":"IF(LEN($F343)<1,\"\",IF(ISTEXT(I343),I343,IF(ISTEXT(Checklist!$H$6),Checklist!$H$6,\"NO Determiner!!\")))","v":""},{"$f":"IF(LEN($F343)<1,\"\",IF(ISTEXT(J343),J343,IF(ISTEXT(Checklist!$H$7),Checklist!$H$7,\"Field record / observation\")))","v":""},"","",null,"","","","","","","","","","","","",null,null,null,null,null,null,null,null,null,null,null,null,null,null,null,null,null,null,null,258,"Bromus arvensis",null,null,131,"Aphanes arvensis agg.",null,"Parsley-piert","Rosaceae",null,131,"Aphanes arvensis agg._131",null,null,null,null,null,null,null,"Aphanes arvensis agg._131"]
["",null,null,null,"","","",null,null,null,null,null,null,null,null,"","","",{"$f":"IF(LEN($F344)<1,\"\",IF(ISBLANK(Checklist!$H$2),\"\",Checklist!$H$2))","v":""},{"$f":"IF(LEN($F344)<1,\"\",IF(ISTEXT(H344),H344,IF(ISTEXT(Checklist!$H$3),Checklist!$H$3,\"NO Grid Ref!!\")))","v":""},{"$f":"IF(LEN($F344)<1,\"\",IF(ISBLANK(Checklist!$H$4),\"NO VC!!\",Checklist!$H$4))","v":""},{"$f":"IF(LEN($F344)<1,\"\",IF(ISBLANK(Checklist!$H$5),\"NO Date!!\",Checklist!$H$5))","v":""},{"$f":"IF(LEN($F344)<1,\"\",IF(ISBLANK(Checklist!$H$6),\"NO Recorder!!\",Checklist!$H$6))","v":""},{"$f":"IF(LEN($F344)<1,\"\",IF(ISTEXT(I344),I344,IF(ISTEXT(Checklist!$H$6),Checklist!$H$6,\"NO Determiner!!\")))","v":""},{"$f":"IF(LEN($F344)<1,\"\",IF(ISTEXT(J344),J344,IF(ISTEXT(Checklist!$H$7),Checklist!$H$7,\"Field record / observation\")))","v":""},"","",null,"","","","","","","","","","","","",null,null,null,null,null,null,null,null,null,null,null,null,null,null,null,null,null,null,null,259,"Bromopsis benekenii",null,null,133,"Aphanes australis","Rydb.","Slender Parsley-piert","Rosaceae",null,133,"Aphanes australis_133",null,null,null,null,null,null,null,"Aphanes australis_133"]
["",null,null,null,"","","",null,null,null,null,null,null,null,null,"","","",{"$f":"IF(LEN($F345)<1,\"\",IF(ISBLANK(Checklist!$H$2),\"\",Checklist!$H$2))","v":""},{"$f":"IF(LEN($F345)<1,\"\",IF(ISTEXT(H345),H345,IF(ISTEXT(Checklist!$H$3),Checklist!$H$3,\"NO Grid Ref!!\")))","v":""},{"$f":"IF(LEN($F345)<1,\"\",IF(ISBLANK(Checklist!$H$4),\"NO VC!!\",Checklist!$H$4))","v":""},{"$f":"IF(LEN($F345)<1,\"\",IF(ISBLANK(Checklist!$H$5),\"NO Date!!\",Checklist!$H$5))","v":""},{"$f":"IF(LEN($F345)<1,\"\",IF(ISBLANK(Checklist!$H$6),\"NO Recorder!!\",Checklist!$H$6))","v":""},{"$f":"IF(LEN($F345)<1,\"\",IF(ISTEXT(I345),I345,IF(ISTEXT(Checklist!$H$6),Checklist!$H$6,\"NO Determiner!!\")))","v":""},{"$f":"IF(LEN($F345)<1,\"\",IF(ISTEXT(J345),J345,IF(ISTEXT(Checklist!$H$7),Checklist!$H$7,\"Field record / observation\")))","v":""},"","",null,"","","","","","","","","","","","",null,null,null,null,null,null,null,null,null,null,null,null,null,null,null,null,null,null,null,260,"Ceratochloa carinata",null,null,134,"Apium graveolens","Linnaeus","Wild Celery","Apiaceae",null,134,"Apium graveolens_134",null,null,null,null,null,null,null,"Apium graveolens_134"]
["",null,null,null,"","","",null,null,null,null,null,null,null,null,"","","",{"$f":"IF(LEN($F346)<1,\"\",IF(ISBLANK(Checklist!$H$2),\"\",Checklist!$H$2))","v":""},{"$f":"IF(LEN($F346)<1,\"\",IF(ISTEXT(H346),H346,IF(ISTEXT(Checklist!$H$3),Checklist!$H$3,\"NO Grid Ref!!\")))","v":""},{"$f":"IF(LEN($F346)<1,\"\",IF(ISBLANK(Checklist!$H$4),\"NO VC!!\",Checklist!$H$4))","v":""},{"$f":"IF(LEN($F346)<1,\"\",IF(ISBLANK(Checklist!$H$5),\"NO Date!!\",Checklist!$H$5))","v":""},{"$f":"IF(LEN($F346)<1,\"\",IF(ISBLANK(Checklist!$H$6),\"NO Recorder!!\",Checklist!$H$6))","v":""},{"$f":"IF(LEN($F346)<1,\"\",IF(ISTEXT(I346),I346,IF(ISTEXT(Checklist!$H$6),Checklist!$H$6,\"NO Determiner!!\")))","v":""},{"$f":"IF(LEN($F346)<1,\"\",IF(ISTEXT(J346),J346,IF(ISTEXT(Checklist!$H$7),Checklist!$H$7,\"Field record / observation\")))","v":""},"","",null,"","","","","","","","","","","","",null,null,null,null,null,null,null,null,null,null,null,null,null,null,null,null,null,null,null,261,"Ceratochloa cathartica",null,null,134.1,"Apium graveolens var. dulce","(Miller) DC.","Celery","Apiaceae",null,134.1,"Apium graveolens var. dulce_134.1",null,null,null,null,null,null,null,"Apium graveolens var. dulce_134.1"]
["",null,null,null,"","","",null,null,null,null,null,null,null,null,"","","",{"$f":"IF(LEN($F347)<1,\"\",IF(ISBLANK(Checklist!$H$2),\"\",Checklist!$H$2))","v":""},{"$f":"IF(LEN($F347)<1,\"\",IF(ISTEXT(H347),H347,IF(ISTEXT(Checklist!$H$3),Checklist!$H$3,\"NO Grid Ref!!\")))","v":""},{"$f":"IF(LEN($F347)<1,\"\",IF(ISBLANK(Checklist!$H$4),\"NO VC!!\",Checklist!$H$4))","v":""},{"$f":"IF(LEN($F347)<1,\"\",IF(ISBLANK(Checklist!$H$5),\"NO Date!!\",Checklist!$H$5))","v":""},{"$f":"IF(LEN($F347)<1,\"\",IF(ISBLANK(Checklist!$H$6),\"NO Recorder!!\",Checklist!$H$6))","v":""},{"$f":"IF(LEN($F347)<1,\"\",IF(ISTEXT(I347),I347,IF(ISTEXT(Checklist!$H$6),Checklist!$H$6,\"NO Determiner!!\")))","v":""},{"$f":"IF(LEN($F347)<1,\"\",IF(ISTEXT(J347),J347,IF(ISTEXT(Checklist!$H$7),Checklist!$H$7,\"Field record / observation\")))","v":""},"","",null,"","","","","","","","","","","","",null,null,null,null,null,null,null,null,null,null,null,null,null,null,null,null,null,null,null,262,"Bromus commutatus",null,null,134.19999999999999,"Apium graveolens var. rapaceum",null,null,"Apiaceae",null,134.19999999999999,"Apium graveolens var. rapaceum_134.2",null,null,null,null,null,null,null,"Apium graveolens var. rapaceum_134.2"]
["",null,null,null,"","","",null,null,null,null,null,null,null,null,"","","",{"$f":"IF(LEN($F348)<1,\"\",IF(ISBLANK(Checklist!$H$2),\"\",Checklist!$H$2))","v":""},{"$f":"IF(LEN($F348)<1,\"\",IF(ISTEXT(H348),H348,IF(ISTEXT(Checklist!$H$3),Checklist!$H$3,\"NO Grid Ref!!\")))","v":""},{"$f":"IF(LEN($F348)<1,\"\",IF(ISBLANK(Checklist!$H$4),\"NO VC!!\",Checklist!$H$4))","v":""},{"$f":"IF(LEN($F348)<1,\"\",IF(ISBLANK(Checklist!$H$5),\"NO Date!!\",Checklist!$H$5))","v":""},{"$f":"IF(LEN($F348)<1,\"\",IF(ISBLANK(Checklist!$H$6),\"NO Recorder!!\",Checklist!$H$6))","v":""},{"$f":"IF(LEN($F348)<1,\"\",IF(ISTEXT(I348),I348,IF(ISTEXT(Checklist!$H$6),Checklist!$H$6,\"NO Determiner!!\")))","v":""},{"$f":"IF(LEN($F348)<1,\"\",IF(ISTEXT(J348),J348,IF(ISTEXT(Checklist!$H$7),Checklist!$H$7,\"Field record / observation\")))","v":""},"","",null,"","","","","","","","","","","","",null,null,null,null,null,null,null,null,null,null,null,null,null,null,null,null,null,null,null,263,"Bromopsis erecta",null,null,135,"Apium inundatum","(L.) Rchb. f.","Lesser Marshwort","Apiaceae",null,135,"Apium inundatum_135",null,null,null,null,null,null,null,"Apium inundatum_135"]
["",null,null,null,"","","",null,null,null,null,null,null,null,null,"","","",{"$f":"IF(LEN($F349)<1,\"\",IF(ISBLANK(Checklist!$H$2),\"\",Checklist!$H$2))","v":""},{"$f":"IF(LEN($F349)<1,\"\",IF(ISTEXT(H349),H349,IF(ISTEXT(Checklist!$H$3),Checklist!$H$3,\"NO Grid Ref!!\")))","v":""},{"$f":"IF(LEN($F349)<1,\"\",IF(ISBLANK(Checklist!$H$4),\"NO VC!!\",Checklist!$H$4))","v":""},{"$f":"IF(LEN($F349)<1,\"\",IF(ISBLANK(Checklist!$H$5),\"NO Date!!\",Checklist!$H$5))","v":""},{"$f":"IF(LEN($F349)<1,\"\",IF(ISBLANK(Checklist!$H$6),\"NO Recorder!!\",Checklist!$H$6))","v":""},{"$f":"IF(LEN($F349)<1,\"\",IF(ISTEXT(I349),I349,IF(ISTEXT(Checklist!$H$6),Checklist!$H$6,\"NO Determiner!!\")))","v":""},{"$f":"IF(LEN($F349)<1,\"\",IF(ISTEXT(J349),J349,IF(ISTEXT(Checklist!$H$7),Checklist!$H$7,\"Field record / observation\")))","v":""},"","",null,"","","","","","","","","","","","",null,null,null,null,null,null,null,null,null,null,null,null,null,null,null,null,null,null,null,264,"Bromus hordeaceus subsp. ferronii",null,null,137,"Apium nodiflorum","(L.) Lag.","Fool's-water-cress","Apiaceae",null,137,"Apium nodiflorum_137",null,null,null,null,null,null,null,"Apium nodiflorum_137"]
["",null,null,null,"","","",null,null,null,null,null,null,null,null,"","","",{"$f":"IF(LEN($F350)<1,\"\",IF(ISBLANK(Checklist!$H$2),\"\",Checklist!$H$2))","v":""},{"$f":"IF(LEN($F350)<1,\"\",IF(ISTEXT(H350),H350,IF(ISTEXT(Checklist!$H$3),Checklist!$H$3,\"NO Grid Ref!!\")))","v":""},{"$f":"IF(LEN($F350)<1,\"\",IF(ISBLANK(Checklist!$H$4),\"NO VC!!\",Checklist!$H$4))","v":""},{"$f":"IF(LEN($F350)<1,\"\",IF(ISBLANK(Checklist!$H$5),\"NO Date!!\",Checklist!$H$5))","v":""},{"$f":"IF(LEN($F350)<1,\"\",IF(ISBLANK(Checklist!$H$6),\"NO Recorder!!\",Checklist!$H$6))","v":""},{"$f":"IF(LEN($F350)<1,\"\",IF(ISTEXT(I350),I350,IF(ISTEXT(Checklist!$H$6),Checklist!$H$6,\"NO Determiner!!\")))","v":""},{"$f":"IF(LEN($F350)<1,\"\",IF(ISTEXT(J350),J350,IF(ISTEXT(Checklist!$H$7),Checklist!$H$7,\"Field record / observation\")))","v":""},"","",null,"","","","","","","","","","","","",null,null,null,null,null,null,null,null,null,null,null,null,null,null,null,null,null,null,null,265,"Bromopsis inermis",null,null,7159,"Apium nodiflorum x repens",null,null,"Apiaceae",null,7159,"Apium nodiflorum x repens_7159",null,null,null,null,null,null,null,"Apium nodiflorum x repens_7159"]
["",null,null,null,"","","",null,null,null,null,null,null,null,null,"","","",{"$f":"IF(LEN($F351)<1,\"\",IF(ISBLANK(Checklist!$H$2),\"\",Checklist!$H$2))","v":""},{"$f":"IF(LEN($F351)<1,\"\",IF(ISTEXT(H351),H351,IF(ISTEXT(Checklist!$H$3),Checklist!$H$3,\"NO Grid Ref!!\")))","v":""},{"$f":"IF(LEN($F351)<1,\"\",IF(ISBLANK(Checklist!$H$4),\"NO VC!!\",Checklist!$H$4))","v":""},{"$f":"IF(LEN($F351)<1,\"\",IF(ISBLANK(Checklist!$H$5),\"NO Date!!\",Checklist!$H$5))","v":""},{"$f":"IF(LEN($F351)<1,\"\",IF(ISBLANK(Checklist!$H$6),\"NO Recorder!!\",Checklist!$H$6))","v":""},{"$f":"IF(LEN($F351)<1,\"\",IF(ISTEXT(I351),I351,IF(ISTEXT(Checklist!$H$6),Checklist!$H$6,\"NO Determiner!!\")))","v":""},{"$f":"IF(LEN($F351)<1,\"\",IF(ISTEXT(J351),J351,IF(ISTEXT(Checklist!$H$7),Checklist!$H$7,\"Field record / observation\")))","v":""},"","",null,"","","","","","","","","","","","",null,null,null,null,null,null,null,null,null,null,null,null,null,null,null,null,null,null,null,265.10000000000002,"Bromopsis inermis subsp. inermis",null,null,138,"Apium repens","(Jacq.) Lag.","Creeping Marshwort","Apiaceae","Vulnerable",138,"Apium repens_138",null,null,null,null,null,null,null,"Apium repens_138"]
["",null,null,null,"","","",null,null,null,null,null,null,null,null,"","","",{"$f":"IF(LEN($F352)<1,\"\",IF(ISBLANK(Checklist!$H$2),\"\",Checklist!$H$2))","v":""},{"$f":"IF(LEN($F352)<1,\"\",IF(ISTEXT(H352),H352,IF(ISTEXT(Checklist!$H$3),Checklist!$H$3,\"NO Grid Ref!!\")))","v":""},{"$f":"IF(LEN($F352)<1,\"\",IF(ISBLANK(Checklist!$H$4),\"NO VC!!\",Checklist!$H$4))","v":""},{"$f":"IF(LEN($F352)<1,\"\",IF(ISBLANK(Checklist!$H$5),\"NO Date!!\",Checklist!$H$5))","v":""},{"$f":"IF(LEN($F352)<1,\"\",IF(ISBLANK(Checklist!$H$6),\"NO Recorder!!\",Checklist!$H$6))","v":""},{"$f":"IF(LEN($F352)<1,\"\",IF(ISTEXT(I352),I352,IF(ISTEXT(Checklist!$H$6),Checklist!$H$6,\"NO Determiner!!\")))","v":""},{"$f":"IF(LEN($F352)<1,\"\",IF(ISTEXT(J352),J352,IF(ISTEXT(Checklist!$H$7),Checklist!$H$7,\"Field record / observation\")))","v":""},"","",null,"","","","","","","","","","","","",null,null,null,null,null,null,null,null,null,null,null,null,null,null,null,null,null,null,null,265.2,"Bromopsis inermis subsp. pumpelliana",null,null,136,"Apium x moorei","(Syme) Druce","A. inundatum x nodiflorum","Apiaceae",null,136,"Apium x moorei_136",null,null,null,null,null,null,null,"Apium x moorei_136"]
["",null,null,null,"","","",null,null,null,null,null,null,null,null,"","","",{"$f":"IF(LEN($F353)<1,\"\",IF(ISBLANK(Checklist!$H$2),\"\",Checklist!$H$2))","v":""},{"$f":"IF(LEN($F353)<1,\"\",IF(ISTEXT(H353),H353,IF(ISTEXT(Checklist!$H$3),Checklist!$H$3,\"NO Grid Ref!!\")))","v":""},{"$f":"IF(LEN($F353)<1,\"\",IF(ISBLANK(Checklist!$H$4),\"NO VC!!\",Checklist!$H$4))","v":""},{"$f":"IF(LEN($F353)<1,\"\",IF(ISBLANK(Checklist!$H$5),\"NO Date!!\",Checklist!$H$5))","v":""},{"$f":"IF(LEN($F353)<1,\"\",IF(ISBLANK(Checklist!$H$6),\"NO Recorder!!\",Checklist!$H$6))","v":""},{"$f":"IF(LEN($F353)<1,\"\",IF(ISTEXT(I353),I353,IF(ISTEXT(Checklist!$H$6),Checklist!$H$6,\"NO Determiner!!\")))","v":""},{"$f":"IF(LEN($F353)<1,\"\",IF(ISTEXT(J353),J353,IF(ISTEXT(Checklist!$H$7),Checklist!$H$7,\"Field record / observation\")))","v":""},"","",null,"","","","","","","","","","","","",null,null,null,null,null,null,null,null,null,null,null,null,null,null,null,null,null,null,null,266,"Bromus interruptus",null,null,139,"Aponogeton distachyos","Linnaeusf.","Cape-pondweed","Aponogetonaceae",null,139,"Aponogeton distachyos_139",null,null,null,null,null,null,null,"Aponogeton distachyos_139"]
["",null,null,null,"","","",null,null,null,null,null,null,null,null,"","","",{"$f":"IF(LEN($F354)<1,\"\",IF(ISBLANK(Checklist!$H$2),\"\",Checklist!$H$2))","v":""},{"$f":"IF(LEN($F354)<1,\"\",IF(ISTEXT(H354),H354,IF(ISTEXT(Checklist!$H$3),Checklist!$H$3,\"NO Grid Ref!!\")))","v":""},{"$f":"IF(LEN($F354)<1,\"\",IF(ISBLANK(Checklist!$H$4),\"NO VC!!\",Checklist!$H$4))","v":""},{"$f":"IF(LEN($F354)<1,\"\",IF(ISBLANK(Checklist!$H$5),\"NO Date!!\",Checklist!$H$5))","v":""},{"$f":"IF(LEN($F354)<1,\"\",IF(ISBLANK(Checklist!$H$6),\"NO Recorder!!\",Checklist!$H$6))","v":""},{"$f":"IF(LEN($F354)<1,\"\",IF(ISTEXT(I354),I354,IF(ISTEXT(Checklist!$H$6),Checklist!$H$6,\"NO Determiner!!\")))","v":""},{"$f":"IF(LEN($F354)<1,\"\",IF(ISTEXT(J354),J354,IF(ISTEXT(Checklist!$H$7),Checklist!$H$7,\"Field record / observation\")))","v":""},"","",null,"","","","","","","","","","","","",null,null,null,null,null,null,null,null,null,null,null,null,null,null,null,null,null,null,null,267,"Bromus japonicus",null,null,2384,"Aptenia cordifolia","(L. f.) Schwantes","Heart-leaf Iceplant","Aizoaceae",null,2384,"Aptenia cordifolia_2384",null,null,null,null,null,null,null,"Aptenia cordifolia_2384"]
["",null,null,null,"","","",null,null,null,null,null,null,null,null,"","","",{"$f":"IF(LEN($F355)<1,\"\",IF(ISBLANK(Checklist!$H$2),\"\",Checklist!$H$2))","v":""},{"$f":"IF(LEN($F355)<1,\"\",IF(ISTEXT(H355),H355,IF(ISTEXT(Checklist!$H$3),Checklist!$H$3,\"NO Grid Ref!!\")))","v":""},{"$f":"IF(LEN($F355)<1,\"\",IF(ISBLANK(Checklist!$H$4),\"NO VC!!\",Checklist!$H$4))","v":""},{"$f":"IF(LEN($F355)<1,\"\",IF(ISBLANK(Checklist!$H$5),\"NO Date!!\",Checklist!$H$5))","v":""},{"$f":"IF(LEN($F355)<1,\"\",IF(ISBLANK(Checklist!$H$6),\"NO Recorder!!\",Checklist!$H$6))","v":""},{"$f":"IF(LEN($F355)<1,\"\",IF(ISTEXT(I355),I355,IF(ISTEXT(Checklist!$H$6),Checklist!$H$6,\"NO Determiner!!\")))","v":""},{"$f":"IF(LEN($F355)<1,\"\",IF(ISTEXT(J355),J355,IF(ISTEXT(Checklist!$H$7),Checklist!$H$7,\"Field record / observation\")))","v":""},"","",null,"","","","","","","","","","","","",null,null,null,null,null,null,null,null,null,null,null,null,null,null,null,null,null,null,null,268,"Bromus lepidus",null,null,140,"Aquilegia pyrenaica","DC.","Pyrenean Columbine","Ranunculaceae",null,140,"Aquilegia pyrenaica_140",null,null,null,null,null,null,null,"Aquilegia pyrenaica_140"]
["",null,null,null,"","","",null,null,null,null,null,null,null,null,"","","",{"$f":"IF(LEN($F356)<1,\"\",IF(ISBLANK(Checklist!$H$2),\"\",Checklist!$H$2))","v":""},{"$f":"IF(LEN($F356)<1,\"\",IF(ISTEXT(H356),H356,IF(ISTEXT(Checklist!$H$3),Checklist!$H$3,\"NO Grid Ref!!\")))","v":""},{"$f":"IF(LEN($F356)<1,\"\",IF(ISBLANK(Checklist!$H$4),\"NO VC!!\",Checklist!$H$4))","v":""},{"$f":"IF(LEN($F356)<1,\"\",IF(ISBLANK(Checklist!$H$5),\"NO Date!!\",Checklist!$H$5))","v":""},{"$f":"IF(LEN($F356)<1,\"\",IF(ISBLANK(Checklist!$H$6),\"NO Recorder!!\",Checklist!$H$6))","v":""},{"$f":"IF(LEN($F356)<1,\"\",IF(ISTEXT(I356),I356,IF(ISTEXT(Checklist!$H$6),Checklist!$H$6,\"NO Determiner!!\")))","v":""},{"$f":"IF(LEN($F356)<1,\"\",IF(ISTEXT(J356),J356,IF(ISTEXT(Checklist!$H$7),Checklist!$H$7,\"Field record / observation\")))","v":""},"","",null,"","","","","","","","","","","","",null,null,null,null,null,null,null,null,null,null,null,null,null,null,null,null,null,null,null,269,"Bromus hordeaceus",null,null,141,"Aquilegia vulgaris","Linnaeus","Columbine","Ranunculaceae",null,141,"Aquilegia vulgaris_141",null,null,null,null,null,null,null,"Aquilegia vulgaris_141"]
["",null,null,null,"","","",null,null,null,null,null,null,null,null,"","","",{"$f":"IF(LEN($F357)<1,\"\",IF(ISBLANK(Checklist!$H$2),\"\",Checklist!$H$2))","v":""},{"$f":"IF(LEN($F357)<1,\"\",IF(ISTEXT(H357),H357,IF(ISTEXT(Checklist!$H$3),Checklist!$H$3,\"NO Grid Ref!!\")))","v":""},{"$f":"IF(LEN($F357)<1,\"\",IF(ISBLANK(Checklist!$H$4),\"NO VC!!\",Checklist!$H$4))","v":""},{"$f":"IF(LEN($F357)<1,\"\",IF(ISBLANK(Checklist!$H$5),\"NO Date!!\",Checklist!$H$5))","v":""},{"$f":"IF(LEN($F357)<1,\"\",IF(ISBLANK(Checklist!$H$6),\"NO Recorder!!\",Checklist!$H$6))","v":""},{"$f":"IF(LEN($F357)<1,\"\",IF(ISTEXT(I357),I357,IF(ISTEXT(Checklist!$H$6),Checklist!$H$6,\"NO Determiner!!\")))","v":""},{"$f":"IF(LEN($F357)<1,\"\",IF(ISTEXT(J357),J357,IF(ISTEXT(Checklist!$H$7),Checklist!$H$7,\"Field record / observation\")))","v":""},"","",null,"","","","","","","","","","","","",null,null,null,null,null,null,null,null,null,null,null,null,null,null,null,null,null,null,null,270,"Bromus hordeaceus subsp. hordeaceus",null,null,7948,"Arabidopsis arenosa","(L.) Lawalrée","Sand Rock-cress","Brassicaceae",null,7948,"Arabidopsis arenosa_7948",null,null,null,null,null,null,null,"Arabidopsis arenosa_7948"]
["",null,null,null,"","","",null,null,null,null,null,null,null,null,"","","",{"$f":"IF(LEN($F358)<1,\"\",IF(ISBLANK(Checklist!$H$2),\"\",Checklist!$H$2))","v":""},{"$f":"IF(LEN($F358)<1,\"\",IF(ISTEXT(H358),H358,IF(ISTEXT(Checklist!$H$3),Checklist!$H$3,\"NO Grid Ref!!\")))","v":""},{"$f":"IF(LEN($F358)<1,\"\",IF(ISBLANK(Checklist!$H$4),\"NO VC!!\",Checklist!$H$4))","v":""},{"$f":"IF(LEN($F358)<1,\"\",IF(ISBLANK(Checklist!$H$5),\"NO Date!!\",Checklist!$H$5))","v":""},{"$f":"IF(LEN($F358)<1,\"\",IF(ISBLANK(Checklist!$H$6),\"NO Recorder!!\",Checklist!$H$6))","v":""},{"$f":"IF(LEN($F358)<1,\"\",IF(ISTEXT(I358),I358,IF(ISTEXT(Checklist!$H$6),Checklist!$H$6,\"NO Determiner!!\")))","v":""},{"$f":"IF(LEN($F358)<1,\"\",IF(ISTEXT(J358),J358,IF(ISTEXT(Checklist!$H$7),Checklist!$H$7,\"Field record / observation\")))","v":""},"","",null,"","","","","","","","","","","","",null,null,null,null,null,null,null,null,null,null,null,null,null,null,null,null,null,null,null,271,"Bromus racemosus",null,null,332,"Arabidopsis petraea","(L.) D.I. Dorof.","Northern Rock-cress","Brassicaceae","Vulnerable",332,"Arabidopsis petraea_332",null,null,null,null,null,null,null,"Arabidopsis petraea_332"]
["",null,null,null,"","","",null,null,null,null,null,null,null,null,"","","",{"$f":"IF(LEN($F359)<1,\"\",IF(ISBLANK(Checklist!$H$2),\"\",Checklist!$H$2))","v":""},{"$f":"IF(LEN($F359)<1,\"\",IF(ISTEXT(H359),H359,IF(ISTEXT(Checklist!$H$3),Checklist!$H$3,\"NO Grid Ref!!\")))","v":""},{"$f":"IF(LEN($F359)<1,\"\",IF(ISBLANK(Checklist!$H$4),\"NO VC!!\",Checklist!$H$4))","v":""},{"$f":"IF(LEN($F359)<1,\"\",IF(ISBLANK(Checklist!$H$5),\"NO Date!!\",Checklist!$H$5))","v":""},{"$f":"IF(LEN($F359)<1,\"\",IF(ISBLANK(Checklist!$H$6),\"NO Recorder!!\",Checklist!$H$6))","v":""},{"$f":"IF(LEN($F359)<1,\"\",IF(ISTEXT(I359),I359,IF(ISTEXT(Checklist!$H$6),Checklist!$H$6,\"NO Determiner!!\")))","v":""},{"$f":"IF(LEN($F359)<1,\"\",IF(ISTEXT(J359),J359,IF(ISTEXT(Checklist!$H$7),Checklist!$H$7,\"Field record / observation\")))","v":""},"","",null,"","","","","","","","","","","","",null,null,null,null,null,null,null,null,null,null,null,null,null,null,null,null,null,null,null,272,"Bromopsis ramosa",null,null,142,"Arabidopsis thaliana","(Linnaeus) Heynh.","Thale Cress","Brassicaceae",null,142,"Arabidopsis thaliana_142",null,null,null,null,null,null,null,"Arabidopsis thaliana_142"]
["",null,null,null,"","","",null,null,null,null,null,null,null,null,"","","",{"$f":"IF(LEN($F360)<1,\"\",IF(ISBLANK(Checklist!$H$2),\"\",Checklist!$H$2))","v":""},{"$f":"IF(LEN($F360)<1,\"\",IF(ISTEXT(H360),H360,IF(ISTEXT(Checklist!$H$3),Checklist!$H$3,\"NO Grid Ref!!\")))","v":""},{"$f":"IF(LEN($F360)<1,\"\",IF(ISBLANK(Checklist!$H$4),\"NO VC!!\",Checklist!$H$4))","v":""},{"$f":"IF(LEN($F360)<1,\"\",IF(ISBLANK(Checklist!$H$5),\"NO Date!!\",Checklist!$H$5))","v":""},{"$f":"IF(LEN($F360)<1,\"\",IF(ISBLANK(Checklist!$H$6),\"NO Recorder!!\",Checklist!$H$6))","v":""},{"$f":"IF(LEN($F360)<1,\"\",IF(ISTEXT(I360),I360,IF(ISTEXT(Checklist!$H$6),Checklist!$H$6,\"NO Determiner!!\")))","v":""},{"$f":"IF(LEN($F360)<1,\"\",IF(ISTEXT(J360),J360,IF(ISTEXT(Checklist!$H$7),Checklist!$H$7,\"Field record / observation\")))","v":""},"","",null,"","","","","","","","","","","","",null,null,null,null,null,null,null,null,null,null,null,null,null,null,null,null,null,null,null,273,"Bromus secalinus",null,null,143,"Arabis alpina","Linnaeus","Alpine Rock-cress","Brassicaceae","Endangered",143,"Arabis alpina_143",null,null,null,null,null,null,null,"Arabis alpina_143"]
["",null,null,null,"","","",null,null,null,null,null,null,null,null,"","","",{"$f":"IF(LEN($F361)<1,\"\",IF(ISBLANK(Checklist!$H$2),\"\",Checklist!$H$2))","v":""},{"$f":"IF(LEN($F361)<1,\"\",IF(ISTEXT(H361),H361,IF(ISTEXT(Checklist!$H$3),Checklist!$H$3,\"NO Grid Ref!!\")))","v":""},{"$f":"IF(LEN($F361)<1,\"\",IF(ISBLANK(Checklist!$H$4),\"NO VC!!\",Checklist!$H$4))","v":""},{"$f":"IF(LEN($F361)<1,\"\",IF(ISBLANK(Checklist!$H$5),\"NO Date!!\",Checklist!$H$5))","v":""},{"$f":"IF(LEN($F361)<1,\"\",IF(ISBLANK(Checklist!$H$6),\"NO Recorder!!\",Checklist!$H$6))","v":""},{"$f":"IF(LEN($F361)<1,\"\",IF(ISTEXT(I361),I361,IF(ISTEXT(Checklist!$H$6),Checklist!$H$6,\"NO Determiner!!\")))","v":""},{"$f":"IF(LEN($F361)<1,\"\",IF(ISTEXT(J361),J361,IF(ISTEXT(Checklist!$H$7),Checklist!$H$7,\"Field record / observation\")))","v":""},"","",null,"","","","","","","","","","","","",null,null,null,null,null,null,null,null,null,null,null,null,null,null,null,null,null,null,null,274,"Bromus squarrosus",null,null,145,"Arabis caucasica","Willd. ex Schltdl.","Garden Arabis","Brassicaceae",null,145,"Arabis caucasica_145",null,null,null,null,null,null,null,"Arabis caucasica_145"]
["",null,null,null,"","","",null,null,null,null,null,null,null,null,"","","",{"$f":"IF(LEN($F362)<1,\"\",IF(ISBLANK(Checklist!$H$2),\"\",Checklist!$H$2))","v":""},{"$f":"IF(LEN($F362)<1,\"\",IF(ISTEXT(H362),H362,IF(ISTEXT(Checklist!$H$3),Checklist!$H$3,\"NO Grid Ref!!\")))","v":""},{"$f":"IF(LEN($F362)<1,\"\",IF(ISBLANK(Checklist!$H$4),\"NO VC!!\",Checklist!$H$4))","v":""},{"$f":"IF(LEN($F362)<1,\"\",IF(ISBLANK(Checklist!$H$5),\"NO Date!!\",Checklist!$H$5))","v":""},{"$f":"IF(LEN($F362)<1,\"\",IF(ISBLANK(Checklist!$H$6),\"NO Recorder!!\",Checklist!$H$6))","v":""},{"$f":"IF(LEN($F362)<1,\"\",IF(ISTEXT(I362),I362,IF(ISTEXT(Checklist!$H$6),Checklist!$H$6,\"NO Determiner!!\")))","v":""},{"$f":"IF(LEN($F362)<1,\"\",IF(ISTEXT(J362),J362,IF(ISTEXT(Checklist!$H$7),Checklist!$H$7,\"Field record / observation\")))","v":""},"","",null,"","","","","","","","","","","","",null,null,null,null,null,null,null,null,null,null,null,null,null,null,null,null,null,null,null,275,"Bromus hordeaceus subsp. thominei",null,null,4481,"Arabis collina","Ten.","Rosy Cress","Brassicaceae",null,4481,"Arabis collina_4481",null,null,null,null,null,null,null,"Arabis collina_4481"]
["",null,null,null,"","","",null,null,null,null,null,null,null,null,"","","",{"$f":"IF(LEN($F363)<1,\"\",IF(ISBLANK(Checklist!$H$2),\"\",Checklist!$H$2))","v":""},{"$f":"IF(LEN($F363)<1,\"\",IF(ISTEXT(H363),H363,IF(ISTEXT(Checklist!$H$3),Checklist!$H$3,\"NO Grid Ref!!\")))","v":""},{"$f":"IF(LEN($F363)<1,\"\",IF(ISBLANK(Checklist!$H$4),\"NO VC!!\",Checklist!$H$4))","v":""},{"$f":"IF(LEN($F363)<1,\"\",IF(ISBLANK(Checklist!$H$5),\"NO Date!!\",Checklist!$H$5))","v":""},{"$f":"IF(LEN($F363)<1,\"\",IF(ISBLANK(Checklist!$H$6),\"NO Recorder!!\",Checklist!$H$6))","v":""},{"$f":"IF(LEN($F363)<1,\"\",IF(ISTEXT(I363),I363,IF(ISTEXT(Checklist!$H$6),Checklist!$H$6,\"NO Determiner!!\")))","v":""},{"$f":"IF(LEN($F363)<1,\"\",IF(ISTEXT(J363),J363,IF(ISTEXT(Checklist!$H$7),Checklist!$H$7,\"Field record / observation\")))","v":""},"","",null,"","","","","","","","","","","","",null,null,null,null,null,null,null,null,null,null,null,null,null,null,null,null,null,null,null,276,"Bryonia dioica",null,null,146,"Arabis hirsuta","(Linnaeus) Scop.","Hairy Rock-cress","Brassicaceae",null,146,"Arabis hirsuta_146",null,null,null,null,null,null,null,"Arabis hirsuta_146"]
["",null,null,null,"","","",null,null,null,null,null,null,null,null,"","","",{"$f":"IF(LEN($F364)<1,\"\",IF(ISBLANK(Checklist!$H$2),\"\",Checklist!$H$2))","v":""},{"$f":"IF(LEN($F364)<1,\"\",IF(ISTEXT(H364),H364,IF(ISTEXT(Checklist!$H$3),Checklist!$H$3,\"NO Grid Ref!!\")))","v":""},{"$f":"IF(LEN($F364)<1,\"\",IF(ISBLANK(Checklist!$H$4),\"NO VC!!\",Checklist!$H$4))","v":""},{"$f":"IF(LEN($F364)<1,\"\",IF(ISBLANK(Checklist!$H$5),\"NO Date!!\",Checklist!$H$5))","v":""},{"$f":"IF(LEN($F364)<1,\"\",IF(ISBLANK(Checklist!$H$6),\"NO Recorder!!\",Checklist!$H$6))","v":""},{"$f":"IF(LEN($F364)<1,\"\",IF(ISTEXT(I364),I364,IF(ISTEXT(Checklist!$H$6),Checklist!$H$6,\"NO Determiner!!\")))","v":""},{"$f":"IF(LEN($F364)<1,\"\",IF(ISTEXT(J364),J364,IF(ISTEXT(Checklist!$H$7),Checklist!$H$7,\"Field record / observation\")))","v":""},"","",null,"","","","","","","","","","","","",null,null,null,null,null,null,null,null,null,null,null,null,null,null,null,null,null,null,null,277,"Buddleja davidii",null,null,147,"Arabis scabra","All.","Bristol Rock-cress","Brassicaceae","Vulnerable",147,"Arabis scabra_147",null,null,null,null,null,null,null,"Arabis scabra_147"]
["",null,null,null,"","","",null,null,null,null,null,null,null,null,"","","",{"$f":"IF(LEN($F365)<1,\"\",IF(ISBLANK(Checklist!$H$2),\"\",Checklist!$H$2))","v":""},{"$f":"IF(LEN($F365)<1,\"\",IF(ISTEXT(H365),H365,IF(ISTEXT(Checklist!$H$3),Checklist!$H$3,\"NO Grid Ref!!\")))","v":""},{"$f":"IF(LEN($F365)<1,\"\",IF(ISBLANK(Checklist!$H$4),\"NO VC!!\",Checklist!$H$4))","v":""},{"$f":"IF(LEN($F365)<1,\"\",IF(ISBLANK(Checklist!$H$5),\"NO Date!!\",Checklist!$H$5))","v":""},{"$f":"IF(LEN($F365)<1,\"\",IF(ISBLANK(Checklist!$H$6),\"NO Recorder!!\",Checklist!$H$6))","v":""},{"$f":"IF(LEN($F365)<1,\"\",IF(ISTEXT(I365),I365,IF(ISTEXT(Checklist!$H$6),Checklist!$H$6,\"NO Determiner!!\")))","v":""},{"$f":"IF(LEN($F365)<1,\"\",IF(ISTEXT(J365),J365,IF(ISTEXT(Checklist!$H$7),Checklist!$H$7,\"Field record / observation\")))","v":""},"","",null,"","","","","","","","","","","","",null,null,null,null,null,null,null,null,null,null,null,null,null,null,null,null,null,null,null,278,"Lithospermum arvense",null,null,7949,"Arachis hypogaea","L.","Peanut","Fabaceae",null,7949,"Arachis hypogaea_7949",null,null,null,null,null,null,null,"Arachis hypogaea_7949"]
["",null,null,null,"","","",null,null,null,null,null,null,null,null,"","","",{"$f":"IF(LEN($F366)<1,\"\",IF(ISBLANK(Checklist!$H$2),\"\",Checklist!$H$2))","v":""},{"$f":"IF(LEN($F366)<1,\"\",IF(ISTEXT(H366),H366,IF(ISTEXT(Checklist!$H$3),Checklist!$H$3,\"NO Grid Ref!!\")))","v":""},{"$f":"IF(LEN($F366)<1,\"\",IF(ISBLANK(Checklist!$H$4),\"NO VC!!\",Checklist!$H$4))","v":""},{"$f":"IF(LEN($F366)<1,\"\",IF(ISBLANK(Checklist!$H$5),\"NO Date!!\",Checklist!$H$5))","v":""},{"$f":"IF(LEN($F366)<1,\"\",IF(ISBLANK(Checklist!$H$6),\"NO Recorder!!\",Checklist!$H$6))","v":""},{"$f":"IF(LEN($F366)<1,\"\",IF(ISTEXT(I366),I366,IF(ISTEXT(Checklist!$H$6),Checklist!$H$6,\"NO Determiner!!\")))","v":""},{"$f":"IF(LEN($F366)<1,\"\",IF(ISTEXT(J366),J366,IF(ISTEXT(Checklist!$H$7),Checklist!$H$7,\"Field record / observation\")))","v":""},"","",null,"","","","","","","","","","","","",null,null,null,null,null,null,null,null,null,null,null,null,null,null,null,null,null,null,null,279,"Lithospermum purpureocaeruleum",null,null,7160,"Aralia chinensis","Linnaeus","Chinese Angelica-tree","Araliaceae",null,7160,"Aralia chinensis_7160",null,null,null,null,null,null,null,"Aralia chinensis_7160"]
["",null,null,null,"","","",null,null,null,null,null,null,null,null,"","","",{"$f":"IF(LEN($F367)<1,\"\",IF(ISBLANK(Checklist!$H$2),\"\",Checklist!$H$2))","v":""},{"$f":"IF(LEN($F367)<1,\"\",IF(ISTEXT(H367),H367,IF(ISTEXT(Checklist!$H$3),Checklist!$H$3,\"NO Grid Ref!!\")))","v":""},{"$f":"IF(LEN($F367)<1,\"\",IF(ISBLANK(Checklist!$H$4),\"NO VC!!\",Checklist!$H$4))","v":""},{"$f":"IF(LEN($F367)<1,\"\",IF(ISBLANK(Checklist!$H$5),\"NO Date!!\",Checklist!$H$5))","v":""},{"$f":"IF(LEN($F367)<1,\"\",IF(ISBLANK(Checklist!$H$6),\"NO Recorder!!\",Checklist!$H$6))","v":""},{"$f":"IF(LEN($F367)<1,\"\",IF(ISTEXT(I367),I367,IF(ISTEXT(Checklist!$H$6),Checklist!$H$6,\"NO Determiner!!\")))","v":""},{"$f":"IF(LEN($F367)<1,\"\",IF(ISTEXT(J367),J367,IF(ISTEXT(Checklist!$H$7),Checklist!$H$7,\"Field record / observation\")))","v":""},"","",null,"","","","","","","","","","","","",null,null,null,null,null,null,null,null,null,null,null,null,null,null,null,null,null,null,null,281,"Bunias orientalis",null,null,7161,"Aralia elata","(Miq.) Deeman","Japanese Angelica-tree","Araliaceae",null,7161,"Aralia elata_7161",null,null,null,null,null,null,null,"Aralia elata_7161"]
["",null,null,null,"","","",null,null,null,null,null,null,null,null,"","","",{"$f":"IF(LEN($F368)<1,\"\",IF(ISBLANK(Checklist!$H$2),\"\",Checklist!$H$2))","v":""},{"$f":"IF(LEN($F368)<1,\"\",IF(ISTEXT(H368),H368,IF(ISTEXT(Checklist!$H$3),Checklist!$H$3,\"NO Grid Ref!!\")))","v":""},{"$f":"IF(LEN($F368)<1,\"\",IF(ISBLANK(Checklist!$H$4),\"NO VC!!\",Checklist!$H$4))","v":""},{"$f":"IF(LEN($F368)<1,\"\",IF(ISBLANK(Checklist!$H$5),\"NO Date!!\",Checklist!$H$5))","v":""},{"$f":"IF(LEN($F368)<1,\"\",IF(ISBLANK(Checklist!$H$6),\"NO Recorder!!\",Checklist!$H$6))","v":""},{"$f":"IF(LEN($F368)<1,\"\",IF(ISTEXT(I368),I368,IF(ISTEXT(Checklist!$H$6),Checklist!$H$6,\"NO Determiner!!\")))","v":""},{"$f":"IF(LEN($F368)<1,\"\",IF(ISTEXT(J368),J368,IF(ISTEXT(Checklist!$H$7),Checklist!$H$7,\"Field record / observation\")))","v":""},"","",null,"","","","","","","","","","","","",null,null,null,null,null,null,null,null,null,null,null,null,null,null,null,null,null,null,null,282,"Bunium bulbocastanum",null,null,7162,"Aralia racemosa","Linnaeus","American-spikenard","Araliaceae",null,7162,"Aralia racemosa_7162",null,null,null,null,null,null,null,"Aralia racemosa_7162"]
["",null,null,null,"","","",null,null,null,null,null,null,null,null,"","","",{"$f":"IF(LEN($F369)<1,\"\",IF(ISBLANK(Checklist!$H$2),\"\",Checklist!$H$2))","v":""},{"$f":"IF(LEN($F369)<1,\"\",IF(ISTEXT(H369),H369,IF(ISTEXT(Checklist!$H$3),Checklist!$H$3,\"NO Grid Ref!!\")))","v":""},{"$f":"IF(LEN($F369)<1,\"\",IF(ISBLANK(Checklist!$H$4),\"NO VC!!\",Checklist!$H$4))","v":""},{"$f":"IF(LEN($F369)<1,\"\",IF(ISBLANK(Checklist!$H$5),\"NO Date!!\",Checklist!$H$5))","v":""},{"$f":"IF(LEN($F369)<1,\"\",IF(ISBLANK(Checklist!$H$6),\"NO Recorder!!\",Checklist!$H$6))","v":""},{"$f":"IF(LEN($F369)<1,\"\",IF(ISTEXT(I369),I369,IF(ISTEXT(Checklist!$H$6),Checklist!$H$6,\"NO Determiner!!\")))","v":""},{"$f":"IF(LEN($F369)<1,\"\",IF(ISTEXT(J369),J369,IF(ISTEXT(Checklist!$H$7),Checklist!$H$7,\"Field record / observation\")))","v":""},"","",null,"","","","","","","","","","","","",null,null,null,null,null,null,null,null,null,null,null,null,null,null,null,null,null,null,null,283,"Bupleurum falcatum",null,null,2975,"Araucaria araucana","(Molina) K. Koch","Monkey-puzzle","Araucariaceae",null,2975,"Araucaria araucana_2975",null,null,null,null,null,null,null,"Araucaria araucana_2975"]
["",null,null,null,"","","",null,null,null,null,null,null,null,null,"","","",{"$f":"IF(LEN($F370)<1,\"\",IF(ISBLANK(Checklist!$H$2),\"\",Checklist!$H$2))","v":""},{"$f":"IF(LEN($F370)<1,\"\",IF(ISTEXT(H370),H370,IF(ISTEXT(Checklist!$H$3),Checklist!$H$3,\"NO Grid Ref!!\")))","v":""},{"$f":"IF(LEN($F370)<1,\"\",IF(ISBLANK(Checklist!$H$4),\"NO VC!!\",Checklist!$H$4))","v":""},{"$f":"IF(LEN($F370)<1,\"\",IF(ISBLANK(Checklist!$H$5),\"NO Date!!\",Checklist!$H$5))","v":""},{"$f":"IF(LEN($F370)<1,\"\",IF(ISBLANK(Checklist!$H$6),\"NO Recorder!!\",Checklist!$H$6))","v":""},{"$f":"IF(LEN($F370)<1,\"\",IF(ISTEXT(I370),I370,IF(ISTEXT(Checklist!$H$6),Checklist!$H$6,\"NO Determiner!!\")))","v":""},{"$f":"IF(LEN($F370)<1,\"\",IF(ISTEXT(J370),J370,IF(ISTEXT(Checklist!$H$7),Checklist!$H$7,\"Field record / observation\")))","v":""},"","",null,"","","","","","","","","","","","",null,null,null,null,null,null,null,null,null,null,null,null,null,null,null,null,null,null,null,284,"Bupleurum fruticosum",null,null,149,"Arbutus unedo","Linnaeus","Strawberry-tree","Ericaceae",null,149,"Arbutus unedo_149",null,null,null,null,null,null,null,"Arbutus unedo_149"]
["",null,null,null,"","","",null,null,null,null,null,null,null,null,"","","",{"$f":"IF(LEN($F371)<1,\"\",IF(ISBLANK(Checklist!$H$2),\"\",Checklist!$H$2))","v":""},{"$f":"IF(LEN($F371)<1,\"\",IF(ISTEXT(H371),H371,IF(ISTEXT(Checklist!$H$3),Checklist!$H$3,\"NO Grid Ref!!\")))","v":""},{"$f":"IF(LEN($F371)<1,\"\",IF(ISBLANK(Checklist!$H$4),\"NO VC!!\",Checklist!$H$4))","v":""},{"$f":"IF(LEN($F371)<1,\"\",IF(ISBLANK(Checklist!$H$5),\"NO Date!!\",Checklist!$H$5))","v":""},{"$f":"IF(LEN($F371)<1,\"\",IF(ISBLANK(Checklist!$H$6),\"NO Recorder!!\",Checklist!$H$6))","v":""},{"$f":"IF(LEN($F371)<1,\"\",IF(ISTEXT(I371),I371,IF(ISTEXT(Checklist!$H$6),Checklist!$H$6,\"NO Determiner!!\")))","v":""},{"$f":"IF(LEN($F371)<1,\"\",IF(ISTEXT(J371),J371,IF(ISTEXT(Checklist!$H$7),Checklist!$H$7,\"Field record / observation\")))","v":""},"","",null,"","","","","","","","","","","","",null,null,null,null,null,null,null,null,null,null,null,null,null,null,null,null,null,null,null,285,"Bupleurum baldense",null,null,151,"Arctium lappa","L.","Greater Burdock","Asteraceae",null,151,"Arctium lappa_151",null,null,null,null,null,null,null,"Arctium lappa_151"]
["",null,null,null,"","","",null,null,null,null,null,null,null,null,"","","",{"$f":"IF(LEN($F372)<1,\"\",IF(ISBLANK(Checklist!$H$2),\"\",Checklist!$H$2))","v":""},{"$f":"IF(LEN($F372)<1,\"\",IF(ISTEXT(H372),H372,IF(ISTEXT(Checklist!$H$3),Checklist!$H$3,\"NO Grid Ref!!\")))","v":""},{"$f":"IF(LEN($F372)<1,\"\",IF(ISBLANK(Checklist!$H$4),\"NO VC!!\",Checklist!$H$4))","v":""},{"$f":"IF(LEN($F372)<1,\"\",IF(ISBLANK(Checklist!$H$5),\"NO Date!!\",Checklist!$H$5))","v":""},{"$f":"IF(LEN($F372)<1,\"\",IF(ISBLANK(Checklist!$H$6),\"NO Recorder!!\",Checklist!$H$6))","v":""},{"$f":"IF(LEN($F372)<1,\"\",IF(ISTEXT(I372),I372,IF(ISTEXT(Checklist!$H$6),Checklist!$H$6,\"NO Determiner!!\")))","v":""},{"$f":"IF(LEN($F372)<1,\"\",IF(ISTEXT(J372),J372,IF(ISTEXT(Checklist!$H$7),Checklist!$H$7,\"Field record / observation\")))","v":""},"","",null,"","","","","","","","","","","","",null,null,null,null,null,null,null,null,null,null,null,null,null,null,null,null,null,null,null,286,"Bupleurum rotundifolium",null,null,2405,"Arctium minus","(Hill) Bernh.","Lesser Burdock","Asteraceae",null,2405,"Arctium minus_2405",null,null,null,null,null,null,null,"Arctium minus_2405"]
["",null,null,null,"","","",null,null,null,null,null,null,null,null,"","","",{"$f":"IF(LEN($F373)<1,\"\",IF(ISBLANK(Checklist!$H$2),\"\",Checklist!$H$2))","v":""},{"$f":"IF(LEN($F373)<1,\"\",IF(ISTEXT(H373),H373,IF(ISTEXT(Checklist!$H$3),Checklist!$H$3,\"NO Grid Ref!!\")))","v":""},{"$f":"IF(LEN($F373)<1,\"\",IF(ISBLANK(Checklist!$H$4),\"NO VC!!\",Checklist!$H$4))","v":""},{"$f":"IF(LEN($F373)<1,\"\",IF(ISBLANK(Checklist!$H$5),\"NO Date!!\",Checklist!$H$5))","v":""},{"$f":"IF(LEN($F373)<1,\"\",IF(ISBLANK(Checklist!$H$6),\"NO Recorder!!\",Checklist!$H$6))","v":""},{"$f":"IF(LEN($F373)<1,\"\",IF(ISTEXT(I373),I373,IF(ISTEXT(Checklist!$H$6),Checklist!$H$6,\"NO Determiner!!\")))","v":""},{"$f":"IF(LEN($F373)<1,\"\",IF(ISTEXT(J373),J373,IF(ISTEXT(Checklist!$H$7),Checklist!$H$7,\"Field record / observation\")))","v":""},"","",null,"","","","","","","","","","","","",null,null,null,null,null,null,null,null,null,null,null,null,null,null,null,null,null,null,null,287,"Bupleurum tenuissimum",null,null,152,"Arctium minus subsp. minus",null,"Lesser Burdock","Asteraceae",null,152,"Arctium minus subsp. minus_152",null,null,null,null,null,null,null,"Arctium minus subsp. minus_152"]
["",null,null,null,"","","",null,null,null,null,null,null,null,null,"","","",{"$f":"IF(LEN($F374)<1,\"\",IF(ISBLANK(Checklist!$H$2),\"\",Checklist!$H$2))","v":""},{"$f":"IF(LEN($F374)<1,\"\",IF(ISTEXT(H374),H374,IF(ISTEXT(Checklist!$H$3),Checklist!$H$3,\"NO Grid Ref!!\")))","v":""},{"$f":"IF(LEN($F374)<1,\"\",IF(ISBLANK(Checklist!$H$4),\"NO VC!!\",Checklist!$H$4))","v":""},{"$f":"IF(LEN($F374)<1,\"\",IF(ISBLANK(Checklist!$H$5),\"NO Date!!\",Checklist!$H$5))","v":""},{"$f":"IF(LEN($F374)<1,\"\",IF(ISBLANK(Checklist!$H$6),\"NO Recorder!!\",Checklist!$H$6))","v":""},{"$f":"IF(LEN($F374)<1,\"\",IF(ISTEXT(I374),I374,IF(ISTEXT(Checklist!$H$6),Checklist!$H$6,\"NO Determiner!!\")))","v":""},{"$f":"IF(LEN($F374)<1,\"\",IF(ISTEXT(J374),J374,IF(ISTEXT(Checklist!$H$7),Checklist!$H$7,\"Field record / observation\")))","v":""},"","",null,"","","","","","","","","","","","",null,null,null,null,null,null,null,null,null,null,null,null,null,null,null,null,null,null,null,288,"Butomus umbellatus",null,null,154,"Arctium minus subsp. pubens","(Bab.) Arenes","Lesser Burdock","Asteraceae",null,154,"Arctium minus subsp. pubens_154",null,null,null,null,null,null,null,"Arctium minus subsp. pubens_154"]
["",null,null,null,"","","",null,null,null,null,null,null,null,null,"","","",{"$f":"IF(LEN($F375)<1,\"\",IF(ISBLANK(Checklist!$H$2),\"\",Checklist!$H$2))","v":""},{"$f":"IF(LEN($F375)<1,\"\",IF(ISTEXT(H375),H375,IF(ISTEXT(Checklist!$H$3),Checklist!$H$3,\"NO Grid Ref!!\")))","v":""},{"$f":"IF(LEN($F375)<1,\"\",IF(ISBLANK(Checklist!$H$4),\"NO VC!!\",Checklist!$H$4))","v":""},{"$f":"IF(LEN($F375)<1,\"\",IF(ISBLANK(Checklist!$H$5),\"NO Date!!\",Checklist!$H$5))","v":""},{"$f":"IF(LEN($F375)<1,\"\",IF(ISBLANK(Checklist!$H$6),\"NO Recorder!!\",Checklist!$H$6))","v":""},{"$f":"IF(LEN($F375)<1,\"\",IF(ISTEXT(I375),I375,IF(ISTEXT(Checklist!$H$6),Checklist!$H$6,\"NO Determiner!!\")))","v":""},{"$f":"IF(LEN($F375)<1,\"\",IF(ISTEXT(J375),J375,IF(ISTEXT(Checklist!$H$7),Checklist!$H$7,\"Field record / observation\")))","v":""},"","",null,"","","","","","","","","","","","",null,null,null,null,null,null,null,null,null,null,null,null,null,null,null,null,null,null,null,289,"Buxus sempervirens",null,null,153,"Arctium nemorosum","Lej.","Wood Burdock","Asteraceae",null,153,"Arctium nemorosum_153",null,null,null,null,null,null,null,"Arctium nemorosum_153"]
["",null,null,null,"","","",null,null,null,null,null,null,null,null,"","","",{"$f":"IF(LEN($F376)<1,\"\",IF(ISBLANK(Checklist!$H$2),\"\",Checklist!$H$2))","v":""},{"$f":"IF(LEN($F376)<1,\"\",IF(ISTEXT(H376),H376,IF(ISTEXT(Checklist!$H$3),Checklist!$H$3,\"NO Grid Ref!!\")))","v":""},{"$f":"IF(LEN($F376)<1,\"\",IF(ISBLANK(Checklist!$H$4),\"NO VC!!\",Checklist!$H$4))","v":""},{"$f":"IF(LEN($F376)<1,\"\",IF(ISBLANK(Checklist!$H$5),\"NO Date!!\",Checklist!$H$5))","v":""},{"$f":"IF(LEN($F376)<1,\"\",IF(ISBLANK(Checklist!$H$6),\"NO Recorder!!\",Checklist!$H$6))","v":""},{"$f":"IF(LEN($F376)<1,\"\",IF(ISTEXT(I376),I376,IF(ISTEXT(Checklist!$H$6),Checklist!$H$6,\"NO Determiner!!\")))","v":""},{"$f":"IF(LEN($F376)<1,\"\",IF(ISTEXT(J376),J376,IF(ISTEXT(Checklist!$H$7),Checklist!$H$7,\"Field record / observation\")))","v":""},"","",null,"","","","","","","","","","","","",null,null,null,null,null,null,null,null,null,null,null,null,null,null,null,null,null,null,null,291,"Cakile maritima",null,null,150,"Arctium sp.",null,"a burdock","Asteraceae",null,150,"Arctium sp._150",null,null,null,null,null,null,null,"Arctium sp._150"]
["",null,null,null,"","","",null,null,null,null,null,null,null,null,"","","",{"$f":"IF(LEN($F377)<1,\"\",IF(ISBLANK(Checklist!$H$2),\"\",Checklist!$H$2))","v":""},{"$f":"IF(LEN($F377)<1,\"\",IF(ISTEXT(H377),H377,IF(ISTEXT(Checklist!$H$3),Checklist!$H$3,\"NO Grid Ref!!\")))","v":""},{"$f":"IF(LEN($F377)<1,\"\",IF(ISBLANK(Checklist!$H$4),\"NO VC!!\",Checklist!$H$4))","v":""},{"$f":"IF(LEN($F377)<1,\"\",IF(ISBLANK(Checklist!$H$5),\"NO Date!!\",Checklist!$H$5))","v":""},{"$f":"IF(LEN($F377)<1,\"\",IF(ISBLANK(Checklist!$H$6),\"NO Recorder!!\",Checklist!$H$6))","v":""},{"$f":"IF(LEN($F377)<1,\"\",IF(ISTEXT(I377),I377,IF(ISTEXT(Checklist!$H$6),Checklist!$H$6,\"NO Determiner!!\")))","v":""},{"$f":"IF(LEN($F377)<1,\"\",IF(ISTEXT(J377),J377,IF(ISTEXT(Checklist!$H$7),Checklist!$H$7,\"Field record / observation\")))","v":""},"","",null,"","","","","","","","","","","","",null,null,null,null,null,null,null,null,null,null,null,null,null,null,null,null,null,null,null,292,"Calamagrostis canescens",null,null,2252,"Arctium tomentosum","Mill.","Woolly Burdock","Asteraceae",null,2252,"Arctium tomentosum_2252",null,null,null,null,null,null,null,"Arctium tomentosum_2252"]
["",null,null,null,"","","",null,null,null,null,null,null,null,null,"","","",{"$f":"IF(LEN($F378)<1,\"\",IF(ISBLANK(Checklist!$H$2),\"\",Checklist!$H$2))","v":""},{"$f":"IF(LEN($F378)<1,\"\",IF(ISTEXT(H378),H378,IF(ISTEXT(Checklist!$H$3),Checklist!$H$3,\"NO Grid Ref!!\")))","v":""},{"$f":"IF(LEN($F378)<1,\"\",IF(ISBLANK(Checklist!$H$4),\"NO VC!!\",Checklist!$H$4))","v":""},{"$f":"IF(LEN($F378)<1,\"\",IF(ISBLANK(Checklist!$H$5),\"NO Date!!\",Checklist!$H$5))","v":""},{"$f":"IF(LEN($F378)<1,\"\",IF(ISBLANK(Checklist!$H$6),\"NO Recorder!!\",Checklist!$H$6))","v":""},{"$f":"IF(LEN($F378)<1,\"\",IF(ISTEXT(I378),I378,IF(ISTEXT(Checklist!$H$6),Checklist!$H$6,\"NO Determiner!!\")))","v":""},{"$f":"IF(LEN($F378)<1,\"\",IF(ISTEXT(J378),J378,IF(ISTEXT(Checklist!$H$7),Checklist!$H$7,\"Field record / observation\")))","v":""},"","",null,"","","","","","","","","","","","",null,null,null,null,null,null,null,null,null,null,null,null,null,null,null,null,null,null,null,293,"Calamagrostis epigejos",null,null,7163,"Arctium x nothum","(Ruhmer) J.Weiss","A. lappa x minus","Asteraceae",null,7163,"Arctium x nothum_7163",null,null,null,null,null,null,null,"Arctium x nothum_7163"]
["",null,null,null,"","","",null,null,null,null,null,null,null,null,"","","",{"$f":"IF(LEN($F379)<1,\"\",IF(ISBLANK(Checklist!$H$2),\"\",Checklist!$H$2))","v":""},{"$f":"IF(LEN($F379)<1,\"\",IF(ISTEXT(H379),H379,IF(ISTEXT(Checklist!$H$3),Checklist!$H$3,\"NO Grid Ref!!\")))","v":""},{"$f":"IF(LEN($F379)<1,\"\",IF(ISBLANK(Checklist!$H$4),\"NO VC!!\",Checklist!$H$4))","v":""},{"$f":"IF(LEN($F379)<1,\"\",IF(ISBLANK(Checklist!$H$5),\"NO Date!!\",Checklist!$H$5))","v":""},{"$f":"IF(LEN($F379)<1,\"\",IF(ISBLANK(Checklist!$H$6),\"NO Recorder!!\",Checklist!$H$6))","v":""},{"$f":"IF(LEN($F379)<1,\"\",IF(ISTEXT(I379),I379,IF(ISTEXT(Checklist!$H$6),Checklist!$H$6,\"NO Determiner!!\")))","v":""},{"$f":"IF(LEN($F379)<1,\"\",IF(ISTEXT(J379),J379,IF(ISTEXT(Checklist!$H$7),Checklist!$H$7,\"Field record / observation\")))","v":""},"","",null,"","","","","","","","","","","","",null,null,null,null,null,null,null,null,null,null,null,null,null,null,null,null,null,null,null,294,"Calamagrostis stricta",null,null,156,"Arctostaphylos alpinus","(L.) Spreng.","Alpine Bearberry","Ericaceae","Nationally Scarce",156,"Arctostaphylos alpinus_156",null,null,null,null,null,null,null,"Arctostaphylos alpinus_156"]
["",null,null,null,"","","",null,null,null,null,null,null,null,null,"","","",{"$f":"IF(LEN($F380)<1,\"\",IF(ISBLANK(Checklist!$H$2),\"\",Checklist!$H$2))","v":""},{"$f":"IF(LEN($F380)<1,\"\",IF(ISTEXT(H380),H380,IF(ISTEXT(Checklist!$H$3),Checklist!$H$3,\"NO Grid Ref!!\")))","v":""},{"$f":"IF(LEN($F380)<1,\"\",IF(ISBLANK(Checklist!$H$4),\"NO VC!!\",Checklist!$H$4))","v":""},{"$f":"IF(LEN($F380)<1,\"\",IF(ISBLANK(Checklist!$H$5),\"NO Date!!\",Checklist!$H$5))","v":""},{"$f":"IF(LEN($F380)<1,\"\",IF(ISBLANK(Checklist!$H$6),\"NO Recorder!!\",Checklist!$H$6))","v":""},{"$f":"IF(LEN($F380)<1,\"\",IF(ISTEXT(I380),I380,IF(ISTEXT(Checklist!$H$6),Checklist!$H$6,\"NO Determiner!!\")))","v":""},{"$f":"IF(LEN($F380)<1,\"\",IF(ISTEXT(J380),J380,IF(ISTEXT(Checklist!$H$7),Checklist!$H$7,\"Field record / observation\")))","v":""},"","",null,"","","","","","","","","","","","",null,null,null,null,null,null,null,null,null,null,null,null,null,null,null,null,null,null,null,295,"Calamagrostis scotica",null,null,155,"Arctostaphylos uva-ursi","(Linnaeus) Sprengel","Bearberry","Ericaceae",null,155,"Arctostaphylos uva-ursi_155",null,null,null,null,null,null,null,"Arctostaphylos uva-ursi_155"]
["",null,null,null,"","","",null,null,null,null,null,null,null,null,"","","",{"$f":"IF(LEN($F381)<1,\"\",IF(ISBLANK(Checklist!$H$2),\"\",Checklist!$H$2))","v":""},{"$f":"IF(LEN($F381)<1,\"\",IF(ISTEXT(H381),H381,IF(ISTEXT(Checklist!$H$3),Checklist!$H$3,\"NO Grid Ref!!\")))","v":""},{"$f":"IF(LEN($F381)<1,\"\",IF(ISBLANK(Checklist!$H$4),\"NO VC!!\",Checklist!$H$4))","v":""},{"$f":"IF(LEN($F381)<1,\"\",IF(ISBLANK(Checklist!$H$5),\"NO Date!!\",Checklist!$H$5))","v":""},{"$f":"IF(LEN($F381)<1,\"\",IF(ISBLANK(Checklist!$H$6),\"NO Recorder!!\",Checklist!$H$6))","v":""},{"$f":"IF(LEN($F381)<1,\"\",IF(ISTEXT(I381),I381,IF(ISTEXT(Checklist!$H$6),Checklist!$H$6,\"NO Determiner!!\")))","v":""},{"$f":"IF(LEN($F381)<1,\"\",IF(ISTEXT(J381),J381,IF(ISTEXT(Checklist!$H$7),Checklist!$H$7,\"Field record / observation\")))","v":""},"","",null,"","","","","","","","","","","","",null,null,null,null,null,null,null,null,null,null,null,null,null,null,null,null,null,null,null,296,"Clinopodium ascendens",null,null,7950,"Arctotheca calendula","(Linnaeus) Levyns","Plain Treasureflower","Asteraceae",null,7950,"Arctotheca calendula_7950",null,null,null,null,null,null,null,"Arctotheca calendula_7950"]
["",null,null,null,"","","",null,null,null,null,null,null,null,null,"","","",{"$f":"IF(LEN($F382)<1,\"\",IF(ISBLANK(Checklist!$H$2),\"\",Checklist!$H$2))","v":""},{"$f":"IF(LEN($F382)<1,\"\",IF(ISTEXT(H382),H382,IF(ISTEXT(Checklist!$H$3),Checklist!$H$3,\"NO Grid Ref!!\")))","v":""},{"$f":"IF(LEN($F382)<1,\"\",IF(ISBLANK(Checklist!$H$4),\"NO VC!!\",Checklist!$H$4))","v":""},{"$f":"IF(LEN($F382)<1,\"\",IF(ISBLANK(Checklist!$H$5),\"NO Date!!\",Checklist!$H$5))","v":""},{"$f":"IF(LEN($F382)<1,\"\",IF(ISBLANK(Checklist!$H$6),\"NO Recorder!!\",Checklist!$H$6))","v":""},{"$f":"IF(LEN($F382)<1,\"\",IF(ISTEXT(I382),I382,IF(ISTEXT(Checklist!$H$6),Checklist!$H$6,\"NO Determiner!!\")))","v":""},{"$f":"IF(LEN($F382)<1,\"\",IF(ISTEXT(J382),J382,IF(ISTEXT(Checklist!$H$7),Checklist!$H$7,\"Field record / observation\")))","v":""},"","",null,"","","","","","","","","","","","",null,null,null,null,null,null,null,null,null,null,null,null,null,null,null,null,null,null,null,297,"Clinopodium menthifolium",null,null,"No BRC","Arctotis aspera","L.","Shrubby African-daisy","Asteraceae",null,"No BRC","Arctotis aspera_No BRC",null,null,null,null,null,null,null,"Arctotis aspera_No BRC"]
["",null,null,null,"","","",null,null,null,null,null,null,null,null,"","","",{"$f":"IF(LEN($F383)<1,\"\",IF(ISBLANK(Checklist!$H$2),\"\",Checklist!$H$2))","v":""},{"$f":"IF(LEN($F383)<1,\"\",IF(ISTEXT(H383),H383,IF(ISTEXT(Checklist!$H$3),Checklist!$H$3,\"NO Grid Ref!!\")))","v":""},{"$f":"IF(LEN($F383)<1,\"\",IF(ISBLANK(Checklist!$H$4),\"NO VC!!\",Checklist!$H$4))","v":""},{"$f":"IF(LEN($F383)<1,\"\",IF(ISBLANK(Checklist!$H$5),\"NO Date!!\",Checklist!$H$5))","v":""},{"$f":"IF(LEN($F383)<1,\"\",IF(ISBLANK(Checklist!$H$6),\"NO Recorder!!\",Checklist!$H$6))","v":""},{"$f":"IF(LEN($F383)<1,\"\",IF(ISTEXT(I383),I383,IF(ISTEXT(Checklist!$H$6),Checklist!$H$6,\"NO Determiner!!\")))","v":""},{"$f":"IF(LEN($F383)<1,\"\",IF(ISTEXT(J383),J383,IF(ISTEXT(Checklist!$H$7),Checklist!$H$7,\"Field record / observation\")))","v":""},"","",null,"","","","","","","","","","","","",null,null,null,null,null,null,null,null,null,null,null,null,null,null,null,null,null,null,null,298,"Clinopodium calamintha",null,null,24,"Aremonia agrimonioides","(Linnaeus) DC.","Bastard Agrimony","Rosaceae",null,24,"Aremonia agrimonioides_24",null,null,null,null,null,null,null,"Aremonia agrimonioides_24"]
["",null,null,null,"","","",null,null,null,null,null,null,null,null,"","","",{"$f":"IF(LEN($F384)<1,\"\",IF(ISBLANK(Checklist!$H$2),\"\",Checklist!$H$2))","v":""},{"$f":"IF(LEN($F384)<1,\"\",IF(ISTEXT(H384),H384,IF(ISTEXT(Checklist!$H$3),Checklist!$H$3,\"NO Grid Ref!!\")))","v":""},{"$f":"IF(LEN($F384)<1,\"\",IF(ISBLANK(Checklist!$H$4),\"NO VC!!\",Checklist!$H$4))","v":""},{"$f":"IF(LEN($F384)<1,\"\",IF(ISBLANK(Checklist!$H$5),\"NO Date!!\",Checklist!$H$5))","v":""},{"$f":"IF(LEN($F384)<1,\"\",IF(ISBLANK(Checklist!$H$6),\"NO Recorder!!\",Checklist!$H$6))","v":""},{"$f":"IF(LEN($F384)<1,\"\",IF(ISTEXT(I384),I384,IF(ISTEXT(Checklist!$H$6),Checklist!$H$6,\"NO Determiner!!\")))","v":""},{"$f":"IF(LEN($F384)<1,\"\",IF(ISTEXT(J384),J384,IF(ISTEXT(Checklist!$H$7),Checklist!$H$7,\"Field record / observation\")))","v":""},"","",null,"","","","","","","","","","","","",null,null,null,null,null,null,null,null,null,null,null,null,null,null,null,null,null,null,null,299,"Calendula arvensis",null,null,157,"Arenaria balearica","Linnaeus","Mossy Sandwort","Caryophyllaceae",null,157,"Arenaria balearica_157",null,null,null,null,null,null,null,"Arenaria balearica_157"]
["",null,null,null,"","","",null,null,null,null,null,null,null,null,"","","",{"$f":"IF(LEN($F385)<1,\"\",IF(ISBLANK(Checklist!$H$2),\"\",Checklist!$H$2))","v":""},{"$f":"IF(LEN($F385)<1,\"\",IF(ISTEXT(H385),H385,IF(ISTEXT(Checklist!$H$3),Checklist!$H$3,\"NO Grid Ref!!\")))","v":""},{"$f":"IF(LEN($F385)<1,\"\",IF(ISBLANK(Checklist!$H$4),\"NO VC!!\",Checklist!$H$4))","v":""},{"$f":"IF(LEN($F385)<1,\"\",IF(ISBLANK(Checklist!$H$5),\"NO Date!!\",Checklist!$H$5))","v":""},{"$f":"IF(LEN($F385)<1,\"\",IF(ISBLANK(Checklist!$H$6),\"NO Recorder!!\",Checklist!$H$6))","v":""},{"$f":"IF(LEN($F385)<1,\"\",IF(ISTEXT(I385),I385,IF(ISTEXT(Checklist!$H$6),Checklist!$H$6,\"NO Determiner!!\")))","v":""},{"$f":"IF(LEN($F385)<1,\"\",IF(ISTEXT(J385),J385,IF(ISTEXT(Checklist!$H$7),Checklist!$H$7,\"Field record / observation\")))","v":""},"","",null,"","","","","","","","","","","","",null,null,null,null,null,null,null,null,null,null,null,null,null,null,null,null,null,null,null,300,"Calendula officinalis",null,null,158,"Arenaria ciliata","Linnaeus","Fringed Sandwort","Caryophyllaceae",null,158,"Arenaria ciliata_158",null,null,null,null,null,null,null,"Arenaria ciliata_158"]
["",null,null,null,"","","",null,null,null,null,null,null,null,null,"","","",{"$f":"IF(LEN($F386)<1,\"\",IF(ISBLANK(Checklist!$H$2),\"\",Checklist!$H$2))","v":""},{"$f":"IF(LEN($F386)<1,\"\",IF(ISTEXT(H386),H386,IF(ISTEXT(Checklist!$H$3),Checklist!$H$3,\"NO Grid Ref!!\")))","v":""},{"$f":"IF(LEN($F386)<1,\"\",IF(ISBLANK(Checklist!$H$4),\"NO VC!!\",Checklist!$H$4))","v":""},{"$f":"IF(LEN($F386)<1,\"\",IF(ISBLANK(Checklist!$H$5),\"NO Date!!\",Checklist!$H$5))","v":""},{"$f":"IF(LEN($F386)<1,\"\",IF(ISBLANK(Checklist!$H$6),\"NO Recorder!!\",Checklist!$H$6))","v":""},{"$f":"IF(LEN($F386)<1,\"\",IF(ISTEXT(I386),I386,IF(ISTEXT(Checklist!$H$6),Checklist!$H$6,\"NO Determiner!!\")))","v":""},{"$f":"IF(LEN($F386)<1,\"\",IF(ISTEXT(J386),J386,IF(ISTEXT(Checklist!$H$7),Checklist!$H$7,\"Field record / observation\")))","v":""},"","",null,"","","","","","","","","","","","",null,null,null,null,null,null,null,null,null,null,null,null,null,null,null,null,null,null,null,301,"Calla palustris",null,null,163,"Arenaria leptoclados","(Rchb.) Guss.","Slender Sandwort","Caryophyllaceae",null,163,"Arenaria leptoclados_163",null,null,null,null,null,null,null,"Arenaria leptoclados_163"]
["",null,null,null,{"$f":"IF(ISBLANK(B387),IF(ISBLANK(C387),\"\",IF(RIGHT(C387,LEN(C387)-FIND(\"_\",C387,1))=\"No BRC\",\"No BRC\",RIGHT(C387,LEN(C387)-FIND(\"_\",C387,1))*1)),B387)","v":""},"","",null,null,null,null,null,null,null,null,"","","",{"$f":"IF(LEN($F387)<1,\"\",IF(ISBLANK(Checklist!$H$2),\"\",Checklist!$H$2))","v":""},{"$f":"IF(LEN($F387)<1,\"\",IF(ISTEXT(H387),H387,IF(ISTEXT(Checklist!$H$3),Checklist!$H$3,\"NO Grid Ref!!\")))","v":""},{"$f":"IF(LEN($F387)<1,\"\",IF(ISBLANK(Checklist!$H$4),\"NO VC!!\",Checklist!$H$4))","v":""},{"$f":"IF(LEN($F387)<1,\"\",IF(ISBLANK(Checklist!$H$5),\"NO Date!!\",Checklist!$H$5))","v":""},{"$f":"IF(LEN($F387)<1,\"\",IF(ISBLANK(Checklist!$H$6),\"NO Recorder!!\",Checklist!$H$6))","v":""},{"$f":"IF(LEN($F387)<1,\"\",IF(ISTEXT(I387),I387,IF(ISTEXT(Checklist!$H$6),Checklist!$H$6,\"NO Determiner!!\")))","v":""},{"$f":"IF(LEN($F387)<1,\"\",IF(ISTEXT(J387),J387,IF(ISTEXT(Checklist!$H$7),Checklist!$H$7,\"Field record / observation\")))","v":""},"","",null,"","","","","","","","","","","","",null,null,null,null,null,null,null,null,null,null,null,null,null,null,null,null,null,null,null,302,"Callitriche hermaphroditica",null,null,5403,"Arenaria montana","Linnaeus","Mountain Sandwort","Caryophyllaceae",null,5403,"Arenaria montana_5403",null,null,null,null,null,null,null,"Arenaria montana_5403"]
[{"$f":"IF(F388=\"\",\"\",ROW())","v":""},null,null,null,"","","",null,null,null,null,null,null,null,null,"","","",{"$f":"IF(LEN($F388)<1,\"\",IF(ISBLANK(Checklist!$H$2),\"\",Checklist!$H$2))","v":""},{"$f":"IF(LEN($F388)<1,\"\",IF(ISTEXT(H388),H388,IF(ISTEXT(Checklist!$H$3),Checklist!$H$3,\"NO Grid Ref!!\")))","v":""},{"$f":"IF(LEN($F388)<1,\"\",IF(ISBLANK(Checklist!$H$4),\"NO VC!!\",Checklist!$H$4))","v":""},{"$f":"IF(LEN($F388)<1,\"\",IF(ISBLANK(Checklist!$H$5),\"NO Date!!\",Checklist!$H$5))","v":""},{"$f":"IF(LEN($F388)<1,\"\",IF(ISBLANK(Checklist!$H$6),\"NO Recorder!!\",Checklist!$H$6))","v":""},{"$f":"IF(LEN($F388)<1,\"\",IF(ISTEXT(I388),I388,IF(ISTEXT(Checklist!$H$6),Checklist!$H$6,\"NO Determiner!!\")))","v":""},{"$f":"IF(LEN($F388)<1,\"\",IF(ISTEXT(J388),J388,IF(ISTEXT(Checklist!$H$7),Checklist!$H$7,\"Field record / observation\")))","v":""},"","",null,{"$f":"IF(ROW($A388)-ROW($A$3)+1>COUNT($A$3:$A$501),\"\",INDEX(P:P,SMALL($A$3:$A$501,1+ROW($A388)-ROW($A$3))))","v":""},{"$f":"IF(ROW($A388)-ROW($A$3)+1>COUNT($A$3:$A$501),\"\",INDEX(Q:Q,SMALL($A$3:$A$501,1+ROW($A388)-ROW($A$3))))","v":""},{"$f":"IF(ROW($A388)-ROW($A$3)+1>COUNT($A$3:$A$501),\"\",INDEX(R:R,SMALL($A$3:$A$501,1+ROW($A388)-ROW($A$3))))","v":""},{"$f":"IF(ROW($A388)-ROW($A$3)+1>COUNT($A$3:$A$501),\"\",INDEX(S:S,SMALL($A$3:$A$501,1+ROW($A388)-ROW($A$3))))","v":""},{"$f":"IF(ROW($A388)-ROW($A$3)+1>COUNT($A$3:$A$501),\"\",INDEX(T:T,SMALL($A$3:$A$501,1+ROW($A388)-ROW($A$3))))","v":""},{"$f":"IF(ROW($A388)-ROW($A$3)+1>COUNT($A$3:$A$501),\"\",INDEX(U:U,SMALL($A$3:$A$501,1+ROW($A388)-ROW($A$3))))","v":""},{"$f":"IF(ROW($A388)-ROW($A$3)+1>COUNT($A$3:$A$501),\"\",INDEX(V:V,SMALL($A$3:$A$501,1+ROW($A388)-ROW($A$3))))","v":""},{"$f":"IF(ROW($A388)-ROW($A$3)+1>COUNT($A$3:$A$501),\"\",INDEX(W:W,SMALL($A$3:$A$501,1+ROW($A388)-ROW($A$3))))","v":""},{"$f":"IF(ROW($A388)-ROW($A$3)+1>COUNT($A$3:$A$501),\"\",INDEX(X:X,SMALL($A$3:$A$501,1+ROW($A388)-ROW($A$3))))","v":""},{"$f":"IF(ROW($A388)-ROW($A$3)+1>COUNT($A$3:$A$501),\"\",INDEX(Y:Y,SMALL($A$3:$A$501,1+ROW($A388)-ROW($A$3))))","v":""},{"$f":"IF(ROW($A388)-ROW($A$3)+1>COUNT($A$3:$A$501),\"\",INDEX(Z:Z,SMALL($A$3:$A$501,1+ROW($A388)-ROW($A$3))))","v":""},{"$f":"IF(ROW($A388)-ROW($A$3)+1>COUNT($A$3:$A$501),\"\",INDEX(AA:AA,SMALL($A$3:$A$501,1+ROW($A388)-ROW($A$3))))","v":""},null,null,null,null,null,null,null,null,null,null,null,null,null,null,null,null,null,null,null,303,"Callitriche brutia sens. lat.",null,null,6952,"Arenaria norvegica","Gunnerus",null,"Caryophyllaceae",null,6952,{"$f":"CONCATENATE(BM388,\"_\",BL388)","v":"Arenaria norvegica_6952"},null,null,null,null,null,null,null,"Arenaria norvegica_6952"]
["",null,null,null,"","",{"$f":"IF(LEN(F389)<1,\"\",IF(ISBLANK(VLOOKUP(F389,$BM$3:$BR$7116,3,FALSE)),\"\",(VLOOKUP(F389,$BM$3:$BR$7130,3,FALSE))))","v":""},null,null,null,null,null,null,null,null,"","","",{"$f":"IF(LEN($F389)<1,\"\",IF(ISBLANK(Checklist!$H$2),\"\",Checklist!$H$2))","v":""},{"$f":"IF(LEN($F389)<1,\"\",IF(ISTEXT(H389),H389,IF(ISTEXT(Checklist!$H$3),Checklist!$H$3,\"NO Grid Ref!!\")))","v":""},{"$f":"IF(LEN($F389)<1,\"\",IF(ISBLANK(Checklist!$H$4),\"NO VC!!\",Checklist!$H$4))","v":""},{"$f":"IF(LEN($F389)<1,\"\",IF(ISBLANK(Checklist!$H$5),\"NO Date!!\",Checklist!$H$5))","v":""},{"$f":"IF(LEN($F389)<1,\"\",IF(ISBLANK(Checklist!$H$6),\"NO Recorder!!\",Checklist!$H$6))","v":""},{"$f":"IF(LEN($F389)<1,\"\",IF(ISTEXT(I389),I389,IF(ISTEXT(Checklist!$H$6),Checklist!$H$6,\"NO Determiner!!\")))","v":""},{"$f":"IF(LEN($F389)<1,\"\",IF(ISTEXT(J389),J389,IF(ISTEXT(Checklist!$H$7),Checklist!$H$7,\"Field record / observation\")))","v":""},"","",null,"","","","","","","","","","","","",null,null,null,null,null,null,null,null,null,null,null,null,null,null,null,null,null,null,null,303.10000000000002,"Callitriche brutia subsp. hamulata",null,null,159,"Arenaria norvegica subsp. anglica",null,"English Sandwort","Caryophyllaceae","Near Threatened",159,"Arenaria norvegica subsp. anglica_159",null,null,null,null,null,null,null,"Arenaria norvegica subsp. anglica_159"]
["",null,null,null,"",{"$f":"IF(ISBLANK(B390),IF(ISBLANK(C390),\"\",LEFT(C390,FIND(\"_\",C390,1)-1)),VLOOKUP(B390,$BH$3:$BI$7130,2,FALSE))","v":""},"",null,null,null,null,null,null,null,null,"","","",{"$f":"IF(LEN($F390)<1,\"\",IF(ISBLANK(Checklist!$H$2),\"\",Checklist!$H$2))","v":""},{"$f":"IF(LEN($F390)<1,\"\",IF(ISTEXT(H390),H390,IF(ISTEXT(Checklist!$H$3),Checklist!$H$3,\"NO Grid Ref!!\")))","v":""},{"$f":"IF(LEN($F390)<1,\"\",IF(ISBLANK(Checklist!$H$4),\"NO VC!!\",Checklist!$H$4))","v":""},{"$f":"IF(LEN($F390)<1,\"\",IF(ISBLANK(Checklist!$H$5),\"NO Date!!\",Checklist!$H$5))","v":""},{"$f":"IF(LEN($F390)<1,\"\",IF(ISBLANK(Checklist!$H$6),\"NO Recorder!!\",Checklist!$H$6))","v":""},{"$f":"IF(LEN($F390)<1,\"\",IF(ISTEXT(I390),I390,IF(ISTEXT(Checklist!$H$6),Checklist!$H$6,\"NO Determiner!!\")))","v":""},{"$f":"IF(LEN($F390)<1,\"\",IF(ISTEXT(J390),J390,IF(ISTEXT(Checklist!$H$7),Checklist!$H$7,\"Field record / observation\")))","v":""},"","",null,"","","","","","","","","","","","",null,null,null,null,null,null,null,null,null,null,null,null,null,null,null,null,null,null,null,303.2,"Callitriche brutia subsp. brutia",null,null,160,"Arenaria norvegica subsp. norvegica",null,"Arctic Sandwort","Caryophyllaceae","Vulnerable",160,"Arenaria norvegica subsp. norvegica_160",null,null,null,null,null,null,null,"Arenaria norvegica subsp. norvegica_160"]
["",null,null,null,"","","",null,null,null,null,null,null,null,null,"","","",{"$f":"IF(LEN($F391)<1,\"\",IF(ISBLANK(Checklist!$H$2),\"\",Checklist!$H$2))","v":""},{"$f":"IF(LEN($F391)<1,\"\",IF(ISTEXT(H391),H391,IF(ISTEXT(Checklist!$H$3),Checklist!$H$3,\"NO Grid Ref!!\")))","v":""},{"$f":"IF(LEN($F391)<1,\"\",IF(ISBLANK(Checklist!$H$4),\"NO VC!!\",Checklist!$H$4))","v":""},{"$f":"IF(LEN($F391)<1,\"\",IF(ISBLANK(Checklist!$H$5),\"NO Date!!\",Checklist!$H$5))","v":""},{"$f":"IF(LEN($F391)<1,\"\",IF(ISBLANK(Checklist!$H$6),\"NO Recorder!!\",Checklist!$H$6))","v":""},{"$f":"IF(LEN($F391)<1,\"\",IF(ISTEXT(I391),I391,IF(ISTEXT(Checklist!$H$6),Checklist!$H$6,\"NO Determiner!!\")))","v":""},{"$f":"IF(LEN($F391)<1,\"\",IF(ISTEXT(J391),J391,IF(ISTEXT(Checklist!$H$7),Checklist!$H$7,\"Field record / observation\")))","v":""},"","",null,"","","","","","","","","","","","",null,null,null,null,null,null,null,null,null,null,null,null,null,null,null,null,null,null,null,304,"Callitriche obtusangula",null,null,162,"Arenaria serpyllifolia","Linnaeus","Thyme-leaved Sandwort","Caryophyllaceae",null,162,"Arenaria serpyllifolia_162",null,null,null,null,null,null,null,"Arenaria serpyllifolia_162"]
["",null,null,null,"","","",null,null,null,null,null,null,null,null,"","","",{"$f":"IF(LEN($F392)<1,\"\",IF(ISBLANK(Checklist!$H$2),\"\",Checklist!$H$2))","v":""},{"$f":"IF(LEN($F392)<1,\"\",IF(ISTEXT(H392),H392,IF(ISTEXT(Checklist!$H$3),Checklist!$H$3,\"NO Grid Ref!!\")))","v":""},{"$f":"IF(LEN($F392)<1,\"\",IF(ISBLANK(Checklist!$H$4),\"NO VC!!\",Checklist!$H$4))","v":""},{"$f":"IF(LEN($F392)<1,\"\",IF(ISBLANK(Checklist!$H$5),\"NO Date!!\",Checklist!$H$5))","v":""},{"$f":"IF(LEN($F392)<1,\"\",IF(ISBLANK(Checklist!$H$6),\"NO Recorder!!\",Checklist!$H$6))","v":""},{"$f":"IF(LEN($F392)<1,\"\",IF(ISTEXT(I392),I392,IF(ISTEXT(Checklist!$H$6),Checklist!$H$6,\"NO Determiner!!\")))","v":""},{"$f":"IF(LEN($F392)<1,\"\",IF(ISTEXT(J392),J392,IF(ISTEXT(Checklist!$H$7),Checklist!$H$7,\"Field record / observation\")))","v":""},"","",null,"","","","","","","","","","","","",null,null,null,null,null,null,null,null,null,null,null,null,null,null,null,null,null,null,null,307,"Callitriche stagnalis sens. lat.",null,null,161,"Arenaria serpyllifolia agg.",null,"Thyme-leaved Sandwort","Caryophyllaceae",null,161,"Arenaria serpyllifolia agg._161",null,null,null,null,null,null,null,"Arenaria serpyllifolia agg._161"]
["",null,null,null,"","","",null,null,null,null,null,null,null,null,"","","",{"$f":"IF(LEN($F393)<1,\"\",IF(ISBLANK(Checklist!$H$2),\"\",Checklist!$H$2))","v":""},{"$f":"IF(LEN($F393)<1,\"\",IF(ISTEXT(H393),H393,IF(ISTEXT(Checklist!$H$3),Checklist!$H$3,\"NO Grid Ref!!\")))","v":""},{"$f":"IF(LEN($F393)<1,\"\",IF(ISBLANK(Checklist!$H$4),\"NO VC!!\",Checklist!$H$4))","v":""},{"$f":"IF(LEN($F393)<1,\"\",IF(ISBLANK(Checklist!$H$5),\"NO Date!!\",Checklist!$H$5))","v":""},{"$f":"IF(LEN($F393)<1,\"\",IF(ISBLANK(Checklist!$H$6),\"NO Recorder!!\",Checklist!$H$6))","v":""},{"$f":"IF(LEN($F393)<1,\"\",IF(ISTEXT(I393),I393,IF(ISTEXT(Checklist!$H$6),Checklist!$H$6,\"NO Determiner!!\")))","v":""},{"$f":"IF(LEN($F393)<1,\"\",IF(ISTEXT(J393),J393,IF(ISTEXT(Checklist!$H$7),Checklist!$H$7,\"Field record / observation\")))","v":""},"","",null,"","","","","","","","","","","","",null,null,null,null,null,null,null,null,null,null,null,null,null,null,null,null,null,null,null,307.10000000000002,"Callitriche platycarpa",null,null,162.1,"Arenaria serpyllifolia subsp. lloydii",null,null,"Caryophyllaceae",null,162.1,"Arenaria serpyllifolia subsp. lloydii_162.1",null,null,null,null,null,null,null,"Arenaria serpyllifolia subsp. lloydii_162.1"]
["",null,null,null,"","","",null,null,null,null,null,null,null,null,"","","",{"$f":"IF(LEN($F394)<1,\"\",IF(ISBLANK(Checklist!$H$2),\"\",Checklist!$H$2))","v":""},{"$f":"IF(LEN($F394)<1,\"\",IF(ISTEXT(H394),H394,IF(ISTEXT(Checklist!$H$3),Checklist!$H$3,\"NO Grid Ref!!\")))","v":""},{"$f":"IF(LEN($F394)<1,\"\",IF(ISBLANK(Checklist!$H$4),\"NO VC!!\",Checklist!$H$4))","v":""},{"$f":"IF(LEN($F394)<1,\"\",IF(ISBLANK(Checklist!$H$5),\"NO Date!!\",Checklist!$H$5))","v":""},{"$f":"IF(LEN($F394)<1,\"\",IF(ISBLANK(Checklist!$H$6),\"NO Recorder!!\",Checklist!$H$6))","v":""},{"$f":"IF(LEN($F394)<1,\"\",IF(ISTEXT(I394),I394,IF(ISTEXT(Checklist!$H$6),Checklist!$H$6,\"NO Determiner!!\")))","v":""},{"$f":"IF(LEN($F394)<1,\"\",IF(ISTEXT(J394),J394,IF(ISTEXT(Checklist!$H$7),Checklist!$H$7,\"Field record / observation\")))","v":""},"","",null,"","","","","","","","","","","","",null,null,null,null,null,null,null,null,null,null,null,null,null,null,null,null,null,null,null,307.2,"Callitriche stagnalis",null,null,162.19999999999999,"Arenaria serpyllifolia subsp. serpyllifolia",null,"Thyme-leaved Sandwort","Caryophyllaceae",null,162.19999999999999,"Arenaria serpyllifolia subsp. serpyllifolia_162.2",null,null,null,null,null,null,null,"Arenaria serpyllifolia subsp. serpyllifolia_162.2"]
["",null,null,null,"","","",null,null,null,null,null,null,null,null,"","","",{"$f":"IF(LEN($F395)<1,\"\",IF(ISBLANK(Checklist!$H$2),\"\",Checklist!$H$2))","v":""},{"$f":"IF(LEN($F395)<1,\"\",IF(ISTEXT(H395),H395,IF(ISTEXT(Checklist!$H$3),Checklist!$H$3,\"NO Grid Ref!!\")))","v":""},{"$f":"IF(LEN($F395)<1,\"\",IF(ISBLANK(Checklist!$H$4),\"NO VC!!\",Checklist!$H$4))","v":""},{"$f":"IF(LEN($F395)<1,\"\",IF(ISBLANK(Checklist!$H$5),\"NO Date!!\",Checklist!$H$5))","v":""},{"$f":"IF(LEN($F395)<1,\"\",IF(ISBLANK(Checklist!$H$6),\"NO Recorder!!\",Checklist!$H$6))","v":""},{"$f":"IF(LEN($F395)<1,\"\",IF(ISTEXT(I395),I395,IF(ISTEXT(Checklist!$H$6),Checklist!$H$6,\"NO Determiner!!\")))","v":""},{"$f":"IF(LEN($F395)<1,\"\",IF(ISTEXT(J395),J395,IF(ISTEXT(Checklist!$H$7),Checklist!$H$7,\"Field record / observation\")))","v":""},"","",null,"","","","","","","","","","","","",null,null,null,null,null,null,null,null,null,null,null,null,null,null,null,null,null,null,null,308,"Callitriche truncata",null,null,4422,"Argemone mexicana","Linnaeus","Mexican Poppy","Papaveraceae",null,4422,"Argemone mexicana_4422",null,null,null,null,null,null,null,"Argemone mexicana_4422"]
["",null,null,null,"","","",null,null,null,null,null,null,null,null,"","","",{"$f":"IF(LEN($F396)<1,\"\",IF(ISBLANK(Checklist!$H$2),\"\",Checklist!$H$2))","v":""},{"$f":"IF(LEN($F396)<1,\"\",IF(ISTEXT(H396),H396,IF(ISTEXT(Checklist!$H$3),Checklist!$H$3,\"NO Grid Ref!!\")))","v":""},{"$f":"IF(LEN($F396)<1,\"\",IF(ISBLANK(Checklist!$H$4),\"NO VC!!\",Checklist!$H$4))","v":""},{"$f":"IF(LEN($F396)<1,\"\",IF(ISBLANK(Checklist!$H$5),\"NO Date!!\",Checklist!$H$5))","v":""},{"$f":"IF(LEN($F396)<1,\"\",IF(ISBLANK(Checklist!$H$6),\"NO Recorder!!\",Checklist!$H$6))","v":""},{"$f":"IF(LEN($F396)<1,\"\",IF(ISTEXT(I396),I396,IF(ISTEXT(Checklist!$H$6),Checklist!$H$6,\"NO Determiner!!\")))","v":""},{"$f":"IF(LEN($F396)<1,\"\",IF(ISTEXT(J396),J396,IF(ISTEXT(Checklist!$H$7),Checklist!$H$7,\"Field record / observation\")))","v":""},"","",null,"","","","","","","","","","","","",null,null,null,null,null,null,null,null,null,null,null,null,null,null,null,null,null,null,null,309,"Calluna vulgaris",null,null,7164,"Arisarum proboscideum","(L.) Savi","Mousetailplant","Araceae",null,7164,"Arisarum proboscideum_7164",null,null,null,null,null,null,null,"Arisarum proboscideum_7164"]
["",null,null,null,"","","",null,null,null,null,null,null,null,null,"","","",{"$f":"IF(LEN($F397)<1,\"\",IF(ISBLANK(Checklist!$H$2),\"\",Checklist!$H$2))","v":""},{"$f":"IF(LEN($F397)<1,\"\",IF(ISTEXT(H397),H397,IF(ISTEXT(Checklist!$H$3),Checklist!$H$3,\"NO Grid Ref!!\")))","v":""},{"$f":"IF(LEN($F397)<1,\"\",IF(ISBLANK(Checklist!$H$4),\"NO VC!!\",Checklist!$H$4))","v":""},{"$f":"IF(LEN($F397)<1,\"\",IF(ISBLANK(Checklist!$H$5),\"NO Date!!\",Checklist!$H$5))","v":""},{"$f":"IF(LEN($F397)<1,\"\",IF(ISBLANK(Checklist!$H$6),\"NO Recorder!!\",Checklist!$H$6))","v":""},{"$f":"IF(LEN($F397)<1,\"\",IF(ISTEXT(I397),I397,IF(ISTEXT(Checklist!$H$6),Checklist!$H$6,\"NO Determiner!!\")))","v":""},{"$f":"IF(LEN($F397)<1,\"\",IF(ISTEXT(J397),J397,IF(ISTEXT(Checklist!$H$7),Checklist!$H$7,\"Field record / observation\")))","v":""},"","",null,"","","","","","","","","","","","",null,null,null,null,null,null,null,null,null,null,null,null,null,null,null,null,null,null,null,310,"Caltha palustris",null,null,7165,"Aristea ecklonii","Baker","Blue Corn-lily","Iridaceae",null,7165,"Aristea ecklonii_7165",null,null,null,null,null,null,null,"Aristea ecklonii_7165"]
["",null,null,null,"","","",null,null,null,null,null,null,null,null,"","","",{"$f":"IF(LEN($F398)<1,\"\",IF(ISBLANK(Checklist!$H$2),\"\",Checklist!$H$2))","v":""},{"$f":"IF(LEN($F398)<1,\"\",IF(ISTEXT(H398),H398,IF(ISTEXT(Checklist!$H$3),Checklist!$H$3,\"NO Grid Ref!!\")))","v":""},{"$f":"IF(LEN($F398)<1,\"\",IF(ISBLANK(Checklist!$H$4),\"NO VC!!\",Checklist!$H$4))","v":""},{"$f":"IF(LEN($F398)<1,\"\",IF(ISBLANK(Checklist!$H$5),\"NO Date!!\",Checklist!$H$5))","v":""},{"$f":"IF(LEN($F398)<1,\"\",IF(ISBLANK(Checklist!$H$6),\"NO Recorder!!\",Checklist!$H$6))","v":""},{"$f":"IF(LEN($F398)<1,\"\",IF(ISTEXT(I398),I398,IF(ISTEXT(Checklist!$H$6),Checklist!$H$6,\"NO Determiner!!\")))","v":""},{"$f":"IF(LEN($F398)<1,\"\",IF(ISTEXT(J398),J398,IF(ISTEXT(Checklist!$H$7),Checklist!$H$7,\"Field record / observation\")))","v":""},"","",null,"","","","","","","","","","","","",null,null,null,null,null,null,null,null,null,null,null,null,null,null,null,null,null,null,null,310.10000000000002,"Caltha palustris var. radicans",null,null,164,"Aristolochia clematitis","Linnaeus","Birthwort","Aristolochiaceae",null,164,"Aristolochia clematitis_164",null,null,null,null,null,null,null,"Aristolochia clematitis_164"]
["",null,null,null,"","","",null,null,null,null,null,null,null,null,{"$f":"IF(LEN($F399)<1,\"\",E399)","v":""},{"$f":"IF(LEN($F399)<1,\"\",F399)","v":""},{"$f":"IF(LEN($F399)<1,\"\",G399)","v":""},{"$f":"IF(LEN($F399)<1,\"\",IF(ISBLANK(Checklist!$H$2),\"\",Checklist!$H$2))","v":""},{"$f":"IF(LEN($F399)<1,\"\",IF(ISTEXT(H399),H399,IF(ISTEXT(Checklist!$H$3),Checklist!$H$3,\"NO Grid Ref!!\")))","v":""},{"$f":"IF(LEN($F399)<1,\"\",IF(ISBLANK(Checklist!$H$4),\"NO VC!!\",Checklist!$H$4))","v":""},{"$f":"IF(LEN($F399)<1,\"\",IF(ISBLANK(Checklist!$H$5),\"NO Date!!\",Checklist!$H$5))","v":""},{"$f":"IF(LEN($F399)<1,\"\",IF(ISBLANK(Checklist!$H$6),\"NO Recorder!!\",Checklist!$H$6))","v":""},{"$f":"IF(LEN($F399)<1,\"\",IF(ISTEXT(I399),I399,IF(ISTEXT(Checklist!$H$6),Checklist!$H$6,\"NO Determiner!!\")))","v":""},{"$f":"IF(LEN($F399)<1,\"\",IF(ISTEXT(J399),J399,IF(ISTEXT(Checklist!$H$7),Checklist!$H$7,\"Field record / observation\")))","v":""},{"$f":"IF(LEN($F399)<1,\"\",IF(LEN(K399)<1,\"Not Recorded\",K399))","v":""},{"$f":"IF(LEN($F399)<1,\"\",IF(LEN(L399)<1,\"  --\",L399))","v":""},null,"","","","","","","","","","","","",null,null,null,null,null,null,null,null,null,null,null,null,null,null,null,null,null,null,null,310.2,"Caltha palustris var. palustris",null,null,"No BRC","Aristolochia hirta","L.","Breckland Birthwort","Aristolochiaceae",null,"No BRC","Aristolochia hirta_No BRC",null,null,null,null,null,null,null,"Aristolochia hirta_No BRC"]
["",null,null,null,"","","",null,null,null,null,null,null,null,null,"","","",{"$f":"IF(LEN($F400)<1,\"\",IF(ISBLANK(Checklist!$H$2),\"\",Checklist!$H$2))","v":""},{"$f":"IF(LEN($F400)<1,\"\",IF(ISTEXT(H400),H400,IF(ISTEXT(Checklist!$H$3),Checklist!$H$3,\"NO Grid Ref!!\")))","v":""},{"$f":"IF(LEN($F400)<1,\"\",IF(ISBLANK(Checklist!$H$4),\"NO VC!!\",Checklist!$H$4))","v":""},{"$f":"IF(LEN($F400)<1,\"\",IF(ISBLANK(Checklist!$H$5),\"NO Date!!\",Checklist!$H$5))","v":""},{"$f":"IF(LEN($F400)<1,\"\",IF(ISBLANK(Checklist!$H$6),\"NO Recorder!!\",Checklist!$H$6))","v":""},{"$f":"IF(LEN($F400)<1,\"\",IF(ISTEXT(I400),I400,IF(ISTEXT(Checklist!$H$6),Checklist!$H$6,\"NO Determiner!!\")))","v":""},{"$f":"IF(LEN($F400)<1,\"\",IF(ISTEXT(J400),J400,IF(ISTEXT(Checklist!$H$7),Checklist!$H$7,\"Field record / observation\")))","v":""},"","",null,"","","","","","","","","","","","",null,null,null,null,null,null,null,null,null,null,null,null,null,null,null,null,null,null,null,311,"Calystegia sepium",null,null,7166,"Aristolochia rotunda","Linnaeus","Smearwort","Aristolochiaceae",null,7166,"Aristolochia rotunda_7166",null,null,null,null,null,null,null,"Aristolochia rotunda_7166"]
["",null,null,null,"","","",null,null,null,null,null,null,null,null,"","","",{"$f":"IF(LEN($F401)<1,\"\",IF(ISBLANK(Checklist!$H$2),\"\",Checklist!$H$2))","v":""},{"$f":"IF(LEN($F401)<1,\"\",IF(ISTEXT(H401),H401,IF(ISTEXT(Checklist!$H$3),Checklist!$H$3,\"NO Grid Ref!!\")))","v":""},{"$f":"IF(LEN($F401)<1,\"\",IF(ISBLANK(Checklist!$H$4),\"NO VC!!\",Checklist!$H$4))","v":""},{"$f":"IF(LEN($F401)<1,\"\",IF(ISBLANK(Checklist!$H$5),\"NO Date!!\",Checklist!$H$5))","v":""},{"$f":"IF(LEN($F401)<1,\"\",IF(ISBLANK(Checklist!$H$6),\"NO Recorder!!\",Checklist!$H$6))","v":""},{"$f":"IF(LEN($F401)<1,\"\",IF(ISTEXT(I401),I401,IF(ISTEXT(Checklist!$H$6),Checklist!$H$6,\"NO Determiner!!\")))","v":""},{"$f":"IF(LEN($F401)<1,\"\",IF(ISTEXT(J401),J401,IF(ISTEXT(Checklist!$H$7),Checklist!$H$7,\"Field record / observation\")))","v":""},"","",null,"","","","","","","","","","","","",null,null,null,null,null,null,null,null,null,null,null,null,null,null,null,null,null,null,null,311.10000000000002,"Calystegia sepium subsp. roseata",null,null,"No BRC","Aristotelia chilensis","(Mol.) Stuntz","Chilean Wineberry","Elaeocarpaceae",null,"No BRC","Aristotelia chilensis_No BRC",null,null,null,null,null,null,null,"Aristotelia chilensis_No BRC"]
["",null,null,null,"","","",null,null,null,null,null,null,null,null,"","","",{"$f":"IF(LEN($F402)<1,\"\",IF(ISBLANK(Checklist!$H$2),\"\",Checklist!$H$2))","v":""},{"$f":"IF(LEN($F402)<1,\"\",IF(ISTEXT(H402),H402,IF(ISTEXT(Checklist!$H$3),Checklist!$H$3,\"NO Grid Ref!!\")))","v":""},{"$f":"IF(LEN($F402)<1,\"\",IF(ISBLANK(Checklist!$H$4),\"NO VC!!\",Checklist!$H$4))","v":""},{"$f":"IF(LEN($F402)<1,\"\",IF(ISBLANK(Checklist!$H$5),\"NO Date!!\",Checklist!$H$5))","v":""},{"$f":"IF(LEN($F402)<1,\"\",IF(ISBLANK(Checklist!$H$6),\"NO Recorder!!\",Checklist!$H$6))","v":""},{"$f":"IF(LEN($F402)<1,\"\",IF(ISTEXT(I402),I402,IF(ISTEXT(Checklist!$H$6),Checklist!$H$6,\"NO Determiner!!\")))","v":""},{"$f":"IF(LEN($F402)<1,\"\",IF(ISTEXT(J402),J402,IF(ISTEXT(Checklist!$H$7),Checklist!$H$7,\"Field record / observation\")))","v":""},"","",null,"","","","","","","","","","","","",null,null,null,null,null,null,null,null,null,null,null,null,null,null,null,null,null,null,null,311.2,"Calystegia sepium subsp. sepium",null,null,165,"Armeria arenaria","(Pers.) Schultes","Jersey Thrift","Plumbaginaceae",null,165,"Armeria arenaria_165",null,null,null,null,null,null,null,"Armeria arenaria_165"]
["",null,null,null,"","","",null,null,null,null,null,null,null,null,"","","",{"$f":"IF(LEN($F403)<1,\"\",IF(ISBLANK(Checklist!$H$2),\"\",Checklist!$H$2))","v":""},{"$f":"IF(LEN($F403)<1,\"\",IF(ISTEXT(H403),H403,IF(ISTEXT(Checklist!$H$3),Checklist!$H$3,\"NO Grid Ref!!\")))","v":""},{"$f":"IF(LEN($F403)<1,\"\",IF(ISBLANK(Checklist!$H$4),\"NO VC!!\",Checklist!$H$4))","v":""},{"$f":"IF(LEN($F403)<1,\"\",IF(ISBLANK(Checklist!$H$5),\"NO Date!!\",Checklist!$H$5))","v":""},{"$f":"IF(LEN($F403)<1,\"\",IF(ISBLANK(Checklist!$H$6),\"NO Recorder!!\",Checklist!$H$6))","v":""},{"$f":"IF(LEN($F403)<1,\"\",IF(ISTEXT(I403),I403,IF(ISTEXT(Checklist!$H$6),Checklist!$H$6,\"NO Determiner!!\")))","v":""},{"$f":"IF(LEN($F403)<1,\"\",IF(ISTEXT(J403),J403,IF(ISTEXT(Checklist!$H$7),Checklist!$H$7,\"Field record / observation\")))","v":""},"","",null,"","","","","","","","","","","","",null,null,null,null,null,null,null,null,null,null,null,null,null,null,null,null,null,null,null,311.3,"Calystegia sepium subsp. sepium f. schizoflora",null,null,2801,"Armeria arenaria x maritima",null,null,"Plumbaginaceae",null,2801,"Armeria arenaria x maritima_2801",null,null,null,null,null,null,null,"Armeria arenaria x maritima_2801"]
["",null,null,null,"","","",null,null,null,null,null,null,null,null,"","","",{"$f":"IF(LEN($F404)<1,\"\",IF(ISBLANK(Checklist!$H$2),\"\",Checklist!$H$2))","v":""},{"$f":"IF(LEN($F404)<1,\"\",IF(ISTEXT(H404),H404,IF(ISTEXT(Checklist!$H$3),Checklist!$H$3,\"NO Grid Ref!!\")))","v":""},{"$f":"IF(LEN($F404)<1,\"\",IF(ISBLANK(Checklist!$H$4),\"NO VC!!\",Checklist!$H$4))","v":""},{"$f":"IF(LEN($F404)<1,\"\",IF(ISBLANK(Checklist!$H$5),\"NO Date!!\",Checklist!$H$5))","v":""},{"$f":"IF(LEN($F404)<1,\"\",IF(ISBLANK(Checklist!$H$6),\"NO Recorder!!\",Checklist!$H$6))","v":""},{"$f":"IF(LEN($F404)<1,\"\",IF(ISTEXT(I404),I404,IF(ISTEXT(Checklist!$H$6),Checklist!$H$6,\"NO Determiner!!\")))","v":""},{"$f":"IF(LEN($F404)<1,\"\",IF(ISTEXT(J404),J404,IF(ISTEXT(Checklist!$H$7),Checklist!$H$7,\"Field record / observation\")))","v":""},"","",null,"","","","","","","","","","","","",null,null,null,null,null,null,null,null,null,null,null,null,null,null,null,null,null,null,null,311.39999999999998,"Calystegia sepium subsp. sepium f. colorata",null,null,166,"Armeria maritima","(Miller) Willd.","Thrift","Plumbaginaceae",null,166,"Armeria maritima_166",null,null,null,null,null,null,null,"Armeria maritima_166"]
["",null,null,null,"","","",null,null,null,null,null,null,null,null,"","","",{"$f":"IF(LEN($F405)<1,\"\",IF(ISBLANK(Checklist!$H$2),\"\",Checklist!$H$2))","v":""},{"$f":"IF(LEN($F405)<1,\"\",IF(ISTEXT(H405),H405,IF(ISTEXT(Checklist!$H$3),Checklist!$H$3,\"NO Grid Ref!!\")))","v":""},{"$f":"IF(LEN($F405)<1,\"\",IF(ISBLANK(Checklist!$H$4),\"NO VC!!\",Checklist!$H$4))","v":""},{"$f":"IF(LEN($F405)<1,\"\",IF(ISBLANK(Checklist!$H$5),\"NO Date!!\",Checklist!$H$5))","v":""},{"$f":"IF(LEN($F405)<1,\"\",IF(ISBLANK(Checklist!$H$6),\"NO Recorder!!\",Checklist!$H$6))","v":""},{"$f":"IF(LEN($F405)<1,\"\",IF(ISTEXT(I405),I405,IF(ISTEXT(Checklist!$H$6),Checklist!$H$6,\"NO Determiner!!\")))","v":""},{"$f":"IF(LEN($F405)<1,\"\",IF(ISTEXT(J405),J405,IF(ISTEXT(Checklist!$H$7),Checklist!$H$7,\"Field record / observation\")))","v":""},"","",null,"","","","","","","","","","","","",null,null,null,null,null,null,null,null,null,null,null,null,null,null,null,null,null,null,null,311.5,"Calystegia sepium subsp. spectabilis",null,null,166.1,"Armeria maritima subsp. elongata","(Hoffm.) Bonnier","Tall Thrift","Plumbaginaceae","Critically endangered",166.1,"Armeria maritima subsp. elongata_166.1",null,null,null,null,null,null,null,"Armeria maritima subsp. elongata_166.1"]
["",null,null,null,"","","",null,null,null,null,null,null,null,null,"","","",{"$f":"IF(LEN($F406)<1,\"\",IF(ISBLANK(Checklist!$H$2),\"\",Checklist!$H$2))","v":""},{"$f":"IF(LEN($F406)<1,\"\",IF(ISTEXT(H406),H406,IF(ISTEXT(Checklist!$H$3),Checklist!$H$3,\"NO Grid Ref!!\")))","v":""},{"$f":"IF(LEN($F406)<1,\"\",IF(ISBLANK(Checklist!$H$4),\"NO VC!!\",Checklist!$H$4))","v":""},{"$f":"IF(LEN($F406)<1,\"\",IF(ISBLANK(Checklist!$H$5),\"NO Date!!\",Checklist!$H$5))","v":""},{"$f":"IF(LEN($F406)<1,\"\",IF(ISBLANK(Checklist!$H$6),\"NO Recorder!!\",Checklist!$H$6))","v":""},{"$f":"IF(LEN($F406)<1,\"\",IF(ISTEXT(I406),I406,IF(ISTEXT(Checklist!$H$6),Checklist!$H$6,\"NO Determiner!!\")))","v":""},{"$f":"IF(LEN($F406)<1,\"\",IF(ISTEXT(J406),J406,IF(ISTEXT(Checklist!$H$7),Checklist!$H$7,\"Field record / observation\")))","v":""},"","",null,"","","","","","","","","","","","",null,null,null,null,null,null,null,null,null,null,null,null,null,null,null,null,null,null,null,312,"Calystegia soldanella",null,null,166.2,"Armeria maritima subsp. maritima",null,"Thrift","Plumbaginaceae",null,166.2,"Armeria maritima subsp. maritima_166.2",null,null,null,null,null,null,null,"Armeria maritima subsp. maritima_166.2"]
["",null,null,null,"","","",null,null,null,null,null,null,null,null,"","","",{"$f":"IF(LEN($F407)<1,\"\",IF(ISBLANK(Checklist!$H$2),\"\",Checklist!$H$2))","v":""},{"$f":"IF(LEN($F407)<1,\"\",IF(ISTEXT(H407),H407,IF(ISTEXT(Checklist!$H$3),Checklist!$H$3,\"NO Grid Ref!!\")))","v":""},{"$f":"IF(LEN($F407)<1,\"\",IF(ISBLANK(Checklist!$H$4),\"NO VC!!\",Checklist!$H$4))","v":""},{"$f":"IF(LEN($F407)<1,\"\",IF(ISBLANK(Checklist!$H$5),\"NO Date!!\",Checklist!$H$5))","v":""},{"$f":"IF(LEN($F407)<1,\"\",IF(ISBLANK(Checklist!$H$6),\"NO Recorder!!\",Checklist!$H$6))","v":""},{"$f":"IF(LEN($F407)<1,\"\",IF(ISTEXT(I407),I407,IF(ISTEXT(Checklist!$H$6),Checklist!$H$6,\"NO Determiner!!\")))","v":""},{"$f":"IF(LEN($F407)<1,\"\",IF(ISTEXT(J407),J407,IF(ISTEXT(Checklist!$H$7),Checklist!$H$7,\"Field record / observation\")))","v":""},"","",null,"","","","","","","","","","","","",null,null,null,null,null,null,null,null,null,null,null,null,null,null,null,null,null,null,null,313,"Calystegia silvatica",null,null,5418,"Armeria pseudarmeria","(Murray) Mansf.","Estoril Thrift","Plumbaginaceae",null,5418,"Armeria pseudarmeria_5418",null,null,null,null,null,null,null,"Armeria pseudarmeria_5418"]
["",null,null,null,"","","",null,null,null,null,null,null,null,null,"","","",{"$f":"IF(LEN($F408)<1,\"\",IF(ISBLANK(Checklist!$H$2),\"\",Checklist!$H$2))","v":""},{"$f":"IF(LEN($F408)<1,\"\",IF(ISTEXT(H408),H408,IF(ISTEXT(Checklist!$H$3),Checklist!$H$3,\"NO Grid Ref!!\")))","v":""},{"$f":"IF(LEN($F408)<1,\"\",IF(ISBLANK(Checklist!$H$4),\"NO VC!!\",Checklist!$H$4))","v":""},{"$f":"IF(LEN($F408)<1,\"\",IF(ISBLANK(Checklist!$H$5),\"NO Date!!\",Checklist!$H$5))","v":""},{"$f":"IF(LEN($F408)<1,\"\",IF(ISBLANK(Checklist!$H$6),\"NO Recorder!!\",Checklist!$H$6))","v":""},{"$f":"IF(LEN($F408)<1,\"\",IF(ISTEXT(I408),I408,IF(ISTEXT(Checklist!$H$6),Checklist!$H$6,\"NO Determiner!!\")))","v":""},{"$f":"IF(LEN($F408)<1,\"\",IF(ISTEXT(J408),J408,IF(ISTEXT(Checklist!$H$7),Checklist!$H$7,\"Field record / observation\")))","v":""},"","",null,"","","","","","","","","","","","",null,null,null,null,null,null,null,null,null,null,null,null,null,null,null,null,null,null,null,313.10000000000002,"Calystegia silvatica subsp. sylvatica var. silvatica",null,null,167,"Armoracia rusticana","Gaertner, & Scherb.","Horse-radish","Brassicaceae",null,167,"Armoracia rusticana_167",null,null,null,null,null,null,null,"Armoracia rusticana_167"]
["",null,null,null,"","","",null,null,null,null,null,null,null,null,"","","",{"$f":"IF(LEN($F409)<1,\"\",IF(ISBLANK(Checklist!$H$2),\"\",Checklist!$H$2))","v":""},{"$f":"IF(LEN($F409)<1,\"\",IF(ISTEXT(H409),H409,IF(ISTEXT(Checklist!$H$3),Checklist!$H$3,\"NO Grid Ref!!\")))","v":""},{"$f":"IF(LEN($F409)<1,\"\",IF(ISBLANK(Checklist!$H$4),\"NO VC!!\",Checklist!$H$4))","v":""},{"$f":"IF(LEN($F409)<1,\"\",IF(ISBLANK(Checklist!$H$5),\"NO Date!!\",Checklist!$H$5))","v":""},{"$f":"IF(LEN($F409)<1,\"\",IF(ISBLANK(Checklist!$H$6),\"NO Recorder!!\",Checklist!$H$6))","v":""},{"$f":"IF(LEN($F409)<1,\"\",IF(ISTEXT(I409),I409,IF(ISTEXT(Checklist!$H$6),Checklist!$H$6,\"NO Determiner!!\")))","v":""},{"$f":"IF(LEN($F409)<1,\"\",IF(ISTEXT(J409),J409,IF(ISTEXT(Checklist!$H$7),Checklist!$H$7,\"Field record / observation\")))","v":""},"","",null,"","","","","","","","","","","","",null,null,null,null,null,null,null,null,null,null,null,null,null,null,null,null,null,null,null,313.10000000000002,"Calystegia silvatica var. silvatica",null,null,168,"Arnoseris minima","(Linnaeus) Schweigger & Koerte","Lamb's Succory","Asteraceae","Extinct",168,"Arnoseris minima_168",null,null,null,null,null,null,null,"Arnoseris minima_168"]
["",null,null,null,"","","",null,null,null,null,null,null,null,null,"","","",{"$f":"IF(LEN($F410)<1,\"\",IF(ISBLANK(Checklist!$H$2),\"\",Checklist!$H$2))","v":""},{"$f":"IF(LEN($F410)<1,\"\",IF(ISTEXT(H410),H410,IF(ISTEXT(Checklist!$H$3),Checklist!$H$3,\"NO Grid Ref!!\")))","v":""},{"$f":"IF(LEN($F410)<1,\"\",IF(ISBLANK(Checklist!$H$4),\"NO VC!!\",Checklist!$H$4))","v":""},{"$f":"IF(LEN($F410)<1,\"\",IF(ISBLANK(Checklist!$H$5),\"NO Date!!\",Checklist!$H$5))","v":""},{"$f":"IF(LEN($F410)<1,\"\",IF(ISBLANK(Checklist!$H$6),\"NO Recorder!!\",Checklist!$H$6))","v":""},{"$f":"IF(LEN($F410)<1,\"\",IF(ISTEXT(I410),I410,IF(ISTEXT(Checklist!$H$6),Checklist!$H$6,\"NO Determiner!!\")))","v":""},{"$f":"IF(LEN($F410)<1,\"\",IF(ISTEXT(J410),J410,IF(ISTEXT(Checklist!$H$7),Checklist!$H$7,\"Field record / observation\")))","v":""},"","",null,"","","","","","","","","","","","",null,null,null,null,null,null,null,null,null,null,null,null,null,null,null,null,null,null,null,313.2,"Calystegia silvatica subsp. silvatica var. quinquepartita",null,null,7167,"Aronia arbutifolia","(Linnaeus) Pers.","Red Chokeberry","Rosaceae",null,7167,"Aronia arbutifolia_7167",null,null,null,null,null,null,null,"Aronia arbutifolia_7167"]
["",null,null,null,"","","",null,null,null,null,null,null,null,null,"","","",{"$f":"IF(LEN($F411)<1,\"\",IF(ISBLANK(Checklist!$H$2),\"\",Checklist!$H$2))","v":""},{"$f":"IF(LEN($F411)<1,\"\",IF(ISTEXT(H411),H411,IF(ISTEXT(Checklist!$H$3),Checklist!$H$3,\"NO Grid Ref!!\")))","v":""},{"$f":"IF(LEN($F411)<1,\"\",IF(ISBLANK(Checklist!$H$4),\"NO VC!!\",Checklist!$H$4))","v":""},{"$f":"IF(LEN($F411)<1,\"\",IF(ISBLANK(Checklist!$H$5),\"NO Date!!\",Checklist!$H$5))","v":""},{"$f":"IF(LEN($F411)<1,\"\",IF(ISBLANK(Checklist!$H$6),\"NO Recorder!!\",Checklist!$H$6))","v":""},{"$f":"IF(LEN($F411)<1,\"\",IF(ISTEXT(I411),I411,IF(ISTEXT(Checklist!$H$6),Checklist!$H$6,\"NO Determiner!!\")))","v":""},{"$f":"IF(LEN($F411)<1,\"\",IF(ISTEXT(J411),J411,IF(ISTEXT(Checklist!$H$7),Checklist!$H$7,\"Field record / observation\")))","v":""},"","",null,"","","","","","","","","","","","",null,null,null,null,null,null,null,null,null,null,null,null,null,null,null,null,null,null,null,313.2,"Calystegia silvatica var. quinquepartita",null,null,7168,"Aronia melanocarpa","(Michaux) Elliott","Black Chokeberry","Rosaceae",null,7168,"Aronia melanocarpa_7168",null,null,null,null,null,null,null,"Aronia melanocarpa_7168"]
["",null,null,null,"","","",null,null,null,null,null,null,null,null,"","","",{"$f":"IF(LEN($F412)<1,\"\",IF(ISBLANK(Checklist!$H$2),\"\",Checklist!$H$2))","v":""},{"$f":"IF(LEN($F412)<1,\"\",IF(ISTEXT(H412),H412,IF(ISTEXT(Checklist!$H$3),Checklist!$H$3,\"NO Grid Ref!!\")))","v":""},{"$f":"IF(LEN($F412)<1,\"\",IF(ISBLANK(Checklist!$H$4),\"NO VC!!\",Checklist!$H$4))","v":""},{"$f":"IF(LEN($F412)<1,\"\",IF(ISBLANK(Checklist!$H$5),\"NO Date!!\",Checklist!$H$5))","v":""},{"$f":"IF(LEN($F412)<1,\"\",IF(ISBLANK(Checklist!$H$6),\"NO Recorder!!\",Checklist!$H$6))","v":""},{"$f":"IF(LEN($F412)<1,\"\",IF(ISTEXT(I412),I412,IF(ISTEXT(Checklist!$H$6),Checklist!$H$6,\"NO Determiner!!\")))","v":""},{"$f":"IF(LEN($F412)<1,\"\",IF(ISTEXT(J412),J412,IF(ISTEXT(Checklist!$H$7),Checklist!$H$7,\"Field record / observation\")))","v":""},"","",null,"","","","","","","","","","","","",null,null,null,null,null,null,null,null,null,null,null,null,null,null,null,null,null,null,null,313.3,"Calystegia silvatica subsp. disjuncta",null,null,7169,"Aronia x prunifolia","(Marshall) Rehder","A. arbutifolia x melanocarpa","Rosaceae",null,7169,"Aronia x prunifolia_7169",null,null,null,null,null,null,null,"Aronia x prunifolia_7169"]
["",null,null,null,"","","",null,null,null,null,null,null,null,null,"","","",{"$f":"IF(LEN($F413)<1,\"\",IF(ISBLANK(Checklist!$H$2),\"\",Checklist!$H$2))","v":""},{"$f":"IF(LEN($F413)<1,\"\",IF(ISTEXT(H413),H413,IF(ISTEXT(Checklist!$H$3),Checklist!$H$3,\"NO Grid Ref!!\")))","v":""},{"$f":"IF(LEN($F413)<1,\"\",IF(ISBLANK(Checklist!$H$4),\"NO VC!!\",Checklist!$H$4))","v":""},{"$f":"IF(LEN($F413)<1,\"\",IF(ISBLANK(Checklist!$H$5),\"NO Date!!\",Checklist!$H$5))","v":""},{"$f":"IF(LEN($F413)<1,\"\",IF(ISBLANK(Checklist!$H$6),\"NO Recorder!!\",Checklist!$H$6))","v":""},{"$f":"IF(LEN($F413)<1,\"\",IF(ISTEXT(I413),I413,IF(ISTEXT(Checklist!$H$6),Checklist!$H$6,\"NO Determiner!!\")))","v":""},{"$f":"IF(LEN($F413)<1,\"\",IF(ISTEXT(J413),J413,IF(ISTEXT(Checklist!$H$7),Checklist!$H$7,\"Field record / observation\")))","v":""},"","",null,"","","","","","","","","","","","",null,null,null,null,null,null,null,null,null,null,null,null,null,null,null,null,null,null,null,313.39999999999998,"Calystegia silvatica subsp. silvatica",null,null,169,"Arrhenatherum elatius","(Linnaeus) P.Beauv.","False Oat-Grass","Poaceae",null,169,"Arrhenatherum elatius_169",null,null,null,null,null,null,null,"Arrhenatherum elatius_169"]
["",null,null,null,"","","",null,null,null,null,null,null,null,null,"","","",{"$f":"IF(LEN($F414)<1,\"\",IF(ISBLANK(Checklist!$H$2),\"\",Checklist!$H$2))","v":""},{"$f":"IF(LEN($F414)<1,\"\",IF(ISTEXT(H414),H414,IF(ISTEXT(Checklist!$H$3),Checklist!$H$3,\"NO Grid Ref!!\")))","v":""},{"$f":"IF(LEN($F414)<1,\"\",IF(ISBLANK(Checklist!$H$4),\"NO VC!!\",Checklist!$H$4))","v":""},{"$f":"IF(LEN($F414)<1,\"\",IF(ISBLANK(Checklist!$H$5),\"NO Date!!\",Checklist!$H$5))","v":""},{"$f":"IF(LEN($F414)<1,\"\",IF(ISBLANK(Checklist!$H$6),\"NO Recorder!!\",Checklist!$H$6))","v":""},{"$f":"IF(LEN($F414)<1,\"\",IF(ISTEXT(I414),I414,IF(ISTEXT(Checklist!$H$6),Checklist!$H$6,\"NO Determiner!!\")))","v":""},{"$f":"IF(LEN($F414)<1,\"\",IF(ISTEXT(J414),J414,IF(ISTEXT(Checklist!$H$7),Checklist!$H$7,\"Field record / observation\")))","v":""},"","",null,"","","","","","","","","","","","",null,null,null,null,null,null,null,null,null,null,null,null,null,null,null,null,null,null,null,313.5,"Calystegia silvatica subsp. fraterniflora",null,null,169.2,"Arrhenatherum elatius subsp. elatius","Linnaeus",null,"Poaceae",null,169.2,"Arrhenatherum elatius subsp. elatius_169.2",null,null,null,null,null,null,null,"Arrhenatherum elatius subsp. elatius_169.2"]
["",null,null,null,"","","",null,null,null,null,null,null,null,null,"","","",{"$f":"IF(LEN($F415)<1,\"\",IF(ISBLANK(Checklist!$H$2),\"\",Checklist!$H$2))","v":""},{"$f":"IF(LEN($F415)<1,\"\",IF(ISTEXT(H415),H415,IF(ISTEXT(Checklist!$H$3),Checklist!$H$3,\"NO Grid Ref!!\")))","v":""},{"$f":"IF(LEN($F415)<1,\"\",IF(ISBLANK(Checklist!$H$4),\"NO VC!!\",Checklist!$H$4))","v":""},{"$f":"IF(LEN($F415)<1,\"\",IF(ISBLANK(Checklist!$H$5),\"NO Date!!\",Checklist!$H$5))","v":""},{"$f":"IF(LEN($F415)<1,\"\",IF(ISBLANK(Checklist!$H$6),\"NO Recorder!!\",Checklist!$H$6))","v":""},{"$f":"IF(LEN($F415)<1,\"\",IF(ISTEXT(I415),I415,IF(ISTEXT(Checklist!$H$6),Checklist!$H$6,\"NO Determiner!!\")))","v":""},{"$f":"IF(LEN($F415)<1,\"\",IF(ISTEXT(J415),J415,IF(ISTEXT(Checklist!$H$7),Checklist!$H$7,\"Field record / observation\")))","v":""},"","",null,"","","","","","","","","","","","",null,null,null,null,null,null,null,null,null,null,null,null,null,null,null,null,null,null,null,315,"Campanula glomerata",null,null,169.1,"Arrhenatherum elatius var. bulbosum",null,"False Oat-Grass","Poaceae",null,169.1,"Arrhenatherum elatius var. bulbosum_169.1",null,null,null,null,null,null,null,"Arrhenatherum elatius var. bulbosum_169.1"]
["",null,null,null,"","","",null,null,null,null,null,null,null,null,"","","",{"$f":"IF(LEN($F416)<1,\"\",IF(ISBLANK(Checklist!$H$2),\"\",Checklist!$H$2))","v":""},{"$f":"IF(LEN($F416)<1,\"\",IF(ISTEXT(H416),H416,IF(ISTEXT(Checklist!$H$3),Checklist!$H$3,\"NO Grid Ref!!\")))","v":""},{"$f":"IF(LEN($F416)<1,\"\",IF(ISBLANK(Checklist!$H$4),\"NO VC!!\",Checklist!$H$4))","v":""},{"$f":"IF(LEN($F416)<1,\"\",IF(ISBLANK(Checklist!$H$5),\"NO Date!!\",Checklist!$H$5))","v":""},{"$f":"IF(LEN($F416)<1,\"\",IF(ISBLANK(Checklist!$H$6),\"NO Recorder!!\",Checklist!$H$6))","v":""},{"$f":"IF(LEN($F416)<1,\"\",IF(ISTEXT(I416),I416,IF(ISTEXT(Checklist!$H$6),Checklist!$H$6,\"NO Determiner!!\")))","v":""},{"$f":"IF(LEN($F416)<1,\"\",IF(ISTEXT(J416),J416,IF(ISTEXT(Checklist!$H$7),Checklist!$H$7,\"Field record / observation\")))","v":""},"","",null,"","","","","","","","","","","","",null,null,null,null,null,null,null,null,null,null,null,null,null,null,null,null,null,null,null,316,"Campanula latifolia",null,null,7170,"Artemisia abrotanum","Linnaeus","Southernwood","Asteraceae",null,7170,"Artemisia abrotanum_7170",null,null,null,null,null,null,null,"Artemisia abrotanum_7170"]
["",null,null,null,"","","",null,null,null,null,null,null,null,null,"","","",{"$f":"IF(LEN($F417)<1,\"\",IF(ISBLANK(Checklist!$H$2),\"\",Checklist!$H$2))","v":""},{"$f":"IF(LEN($F417)<1,\"\",IF(ISTEXT(H417),H417,IF(ISTEXT(Checklist!$H$3),Checklist!$H$3,\"NO Grid Ref!!\")))","v":""},{"$f":"IF(LEN($F417)<1,\"\",IF(ISBLANK(Checklist!$H$4),\"NO VC!!\",Checklist!$H$4))","v":""},{"$f":"IF(LEN($F417)<1,\"\",IF(ISBLANK(Checklist!$H$5),\"NO Date!!\",Checklist!$H$5))","v":""},{"$f":"IF(LEN($F417)<1,\"\",IF(ISBLANK(Checklist!$H$6),\"NO Recorder!!\",Checklist!$H$6))","v":""},{"$f":"IF(LEN($F417)<1,\"\",IF(ISTEXT(I417),I417,IF(ISTEXT(Checklist!$H$6),Checklist!$H$6,\"NO Determiner!!\")))","v":""},{"$f":"IF(LEN($F417)<1,\"\",IF(ISTEXT(J417),J417,IF(ISTEXT(Checklist!$H$7),Checklist!$H$7,\"Field record / observation\")))","v":""},"","",null,"","","","","","","","","","","","",null,null,null,null,null,null,null,null,null,null,null,null,null,null,null,null,null,null,null,317,"Campanula medium",null,null,170,"Artemisia absinthium","Linnaeus","Wormwood","Asteraceae",null,170,"Artemisia absinthium_170",null,null,null,null,null,null,null,"Artemisia absinthium_170"]
["",null,null,null,"","","",null,null,null,null,null,null,null,null,"","","",{"$f":"IF(LEN($F418)<1,\"\",IF(ISBLANK(Checklist!$H$2),\"\",Checklist!$H$2))","v":""},{"$f":"IF(LEN($F418)<1,\"\",IF(ISTEXT(H418),H418,IF(ISTEXT(Checklist!$H$3),Checklist!$H$3,\"NO Grid Ref!!\")))","v":""},{"$f":"IF(LEN($F418)<1,\"\",IF(ISBLANK(Checklist!$H$4),\"NO VC!!\",Checklist!$H$4))","v":""},{"$f":"IF(LEN($F418)<1,\"\",IF(ISBLANK(Checklist!$H$5),\"NO Date!!\",Checklist!$H$5))","v":""},{"$f":"IF(LEN($F418)<1,\"\",IF(ISBLANK(Checklist!$H$6),\"NO Recorder!!\",Checklist!$H$6))","v":""},{"$f":"IF(LEN($F418)<1,\"\",IF(ISTEXT(I418),I418,IF(ISTEXT(Checklist!$H$6),Checklist!$H$6,\"NO Determiner!!\")))","v":""},{"$f":"IF(LEN($F418)<1,\"\",IF(ISTEXT(J418),J418,IF(ISTEXT(Checklist!$H$7),Checklist!$H$7,\"Field record / observation\")))","v":""},"","",null,"","","","","","","","","","","","",null,null,null,null,null,null,null,null,null,null,null,null,null,null,null,null,null,null,null,318,"Campanula patula",null,null,7951,"Artemisia afra","Jacq.",null,"Asteraceae",null,7951,"Artemisia afra_7951",null,null,null,null,null,null,null,"Artemisia afra_7951"]
["",null,null,null,"","","",null,null,null,null,null,null,null,null,"","","",{"$f":"IF(LEN($F419)<1,\"\",IF(ISBLANK(Checklist!$H$2),\"\",Checklist!$H$2))","v":""},{"$f":"IF(LEN($F419)<1,\"\",IF(ISTEXT(H419),H419,IF(ISTEXT(Checklist!$H$3),Checklist!$H$3,\"NO Grid Ref!!\")))","v":""},{"$f":"IF(LEN($F419)<1,\"\",IF(ISBLANK(Checklist!$H$4),\"NO VC!!\",Checklist!$H$4))","v":""},{"$f":"IF(LEN($F419)<1,\"\",IF(ISBLANK(Checklist!$H$5),\"NO Date!!\",Checklist!$H$5))","v":""},{"$f":"IF(LEN($F419)<1,\"\",IF(ISBLANK(Checklist!$H$6),\"NO Recorder!!\",Checklist!$H$6))","v":""},{"$f":"IF(LEN($F419)<1,\"\",IF(ISTEXT(I419),I419,IF(ISTEXT(Checklist!$H$6),Checklist!$H$6,\"NO Determiner!!\")))","v":""},{"$f":"IF(LEN($F419)<1,\"\",IF(ISTEXT(J419),J419,IF(ISTEXT(Checklist!$H$7),Checklist!$H$7,\"Field record / observation\")))","v":""},"","",null,"","","","","","","","","","","","",null,null,null,null,null,null,null,null,null,null,null,null,null,null,null,null,null,null,null,319,"Campanula persicifolia",null,null,7952,"Artemisia annua","Linnaeus","Annual Mugwort","Asteraceae",null,7952,"Artemisia annua_7952",null,null,null,null,null,null,null,"Artemisia annua_7952"]
["",null,null,null,"","","",null,null,null,null,null,null,null,null,"","","",{"$f":"IF(LEN($F420)<1,\"\",IF(ISBLANK(Checklist!$H$2),\"\",Checklist!$H$2))","v":""},{"$f":"IF(LEN($F420)<1,\"\",IF(ISTEXT(H420),H420,IF(ISTEXT(Checklist!$H$3),Checklist!$H$3,\"NO Grid Ref!!\")))","v":""},{"$f":"IF(LEN($F420)<1,\"\",IF(ISBLANK(Checklist!$H$4),\"NO VC!!\",Checklist!$H$4))","v":""},{"$f":"IF(LEN($F420)<1,\"\",IF(ISBLANK(Checklist!$H$5),\"NO Date!!\",Checklist!$H$5))","v":""},{"$f":"IF(LEN($F420)<1,\"\",IF(ISBLANK(Checklist!$H$6),\"NO Recorder!!\",Checklist!$H$6))","v":""},{"$f":"IF(LEN($F420)<1,\"\",IF(ISTEXT(I420),I420,IF(ISTEXT(Checklist!$H$6),Checklist!$H$6,\"NO Determiner!!\")))","v":""},{"$f":"IF(LEN($F420)<1,\"\",IF(ISTEXT(J420),J420,IF(ISTEXT(Checklist!$H$7),Checklist!$H$7,\"Field record / observation\")))","v":""},"","",null,"","","","","","","","","","","","",null,null,null,null,null,null,null,null,null,null,null,null,null,null,null,null,null,null,null,320,"Campanula rapunculoides",null,null,7171,"Artemisia biennis","Willd.","Slender Mugwort","Asteraceae",null,7171,"Artemisia biennis_7171",null,null,null,null,null,null,null,"Artemisia biennis_7171"]
["",null,null,null,"","","",null,null,null,null,null,null,null,null,"","","",{"$f":"IF(LEN($F421)<1,\"\",IF(ISBLANK(Checklist!$H$2),\"\",Checklist!$H$2))","v":""},{"$f":"IF(LEN($F421)<1,\"\",IF(ISTEXT(H421),H421,IF(ISTEXT(Checklist!$H$3),Checklist!$H$3,\"NO Grid Ref!!\")))","v":""},{"$f":"IF(LEN($F421)<1,\"\",IF(ISBLANK(Checklist!$H$4),\"NO VC!!\",Checklist!$H$4))","v":""},{"$f":"IF(LEN($F421)<1,\"\",IF(ISBLANK(Checklist!$H$5),\"NO Date!!\",Checklist!$H$5))","v":""},{"$f":"IF(LEN($F421)<1,\"\",IF(ISBLANK(Checklist!$H$6),\"NO Recorder!!\",Checklist!$H$6))","v":""},{"$f":"IF(LEN($F421)<1,\"\",IF(ISTEXT(I421),I421,IF(ISTEXT(Checklist!$H$6),Checklist!$H$6,\"NO Determiner!!\")))","v":""},{"$f":"IF(LEN($F421)<1,\"\",IF(ISTEXT(J421),J421,IF(ISTEXT(Checklist!$H$7),Checklist!$H$7,\"Field record / observation\")))","v":""},"","",null,"","","","","","","","","","","","",null,null,null,null,null,null,null,null,null,null,null,null,null,null,null,null,null,null,null,321,"Campanula rapunculus",null,null,171,"Artemisia campestris","L.","Field Wormwood","Asteraceae","Vulnerable",171,"Artemisia campestris_171",null,null,null,null,null,null,null,"Artemisia campestris_171"]
["",null,null,null,"","","",null,null,null,null,null,null,null,null,"","","",{"$f":"IF(LEN($F422)<1,\"\",IF(ISBLANK(Checklist!$H$2),\"\",Checklist!$H$2))","v":""},{"$f":"IF(LEN($F422)<1,\"\",IF(ISTEXT(H422),H422,IF(ISTEXT(Checklist!$H$3),Checklist!$H$3,\"NO Grid Ref!!\")))","v":""},{"$f":"IF(LEN($F422)<1,\"\",IF(ISBLANK(Checklist!$H$4),\"NO VC!!\",Checklist!$H$4))","v":""},{"$f":"IF(LEN($F422)<1,\"\",IF(ISBLANK(Checklist!$H$5),\"NO Date!!\",Checklist!$H$5))","v":""},{"$f":"IF(LEN($F422)<1,\"\",IF(ISBLANK(Checklist!$H$6),\"NO Recorder!!\",Checklist!$H$6))","v":""},{"$f":"IF(LEN($F422)<1,\"\",IF(ISTEXT(I422),I422,IF(ISTEXT(Checklist!$H$6),Checklist!$H$6,\"NO Determiner!!\")))","v":""},{"$f":"IF(LEN($F422)<1,\"\",IF(ISTEXT(J422),J422,IF(ISTEXT(Checklist!$H$7),Checklist!$H$7,\"Field record / observation\")))","v":""},"","",null,"","","","","","","","","","","","",null,null,null,null,null,null,null,null,null,null,null,null,null,null,null,null,null,null,null,322,"Campanula rotundifolia",null,null,"No BRC","Artemisia campestris subsp. campestris",null,"Field Wormwood","Asteraceae",null,"No BRC","Artemisia campestris subsp. campestris_No BRC",null,null,null,null,null,null,null,"Artemisia campestris subsp. campestris_No BRC"]
["",null,null,null,"","","",null,null,null,null,null,null,null,null,"","","",{"$f":"IF(LEN($F423)<1,\"\",IF(ISBLANK(Checklist!$H$2),\"\",Checklist!$H$2))","v":""},{"$f":"IF(LEN($F423)<1,\"\",IF(ISTEXT(H423),H423,IF(ISTEXT(Checklist!$H$3),Checklist!$H$3,\"NO Grid Ref!!\")))","v":""},{"$f":"IF(LEN($F423)<1,\"\",IF(ISBLANK(Checklist!$H$4),\"NO VC!!\",Checklist!$H$4))","v":""},{"$f":"IF(LEN($F423)<1,\"\",IF(ISBLANK(Checklist!$H$5),\"NO Date!!\",Checklist!$H$5))","v":""},{"$f":"IF(LEN($F423)<1,\"\",IF(ISBLANK(Checklist!$H$6),\"NO Recorder!!\",Checklist!$H$6))","v":""},{"$f":"IF(LEN($F423)<1,\"\",IF(ISTEXT(I423),I423,IF(ISTEXT(Checklist!$H$6),Checklist!$H$6,\"NO Determiner!!\")))","v":""},{"$f":"IF(LEN($F423)<1,\"\",IF(ISTEXT(J423),J423,IF(ISTEXT(Checklist!$H$7),Checklist!$H$7,\"Field record / observation\")))","v":""},"","",null,"","","","","","","","","","","","",null,null,null,null,null,null,null,null,null,null,null,null,null,null,null,null,null,null,null,323,"Campanula trachelium",null,null,"No BRC","Artemisia campestris subsp. maritima","Arcang.","Field Wormwood","Asteraceae",null,"No BRC","Artemisia campestris subsp. maritima_No BRC",null,null,null,null,null,null,null,"Artemisia campestris subsp. maritima_No BRC"]
["",null,null,null,"","","",null,null,null,null,null,null,null,null,"","","",{"$f":"IF(LEN($F424)<1,\"\",IF(ISBLANK(Checklist!$H$2),\"\",Checklist!$H$2))","v":""},{"$f":"IF(LEN($F424)<1,\"\",IF(ISTEXT(H424),H424,IF(ISTEXT(Checklist!$H$3),Checklist!$H$3,\"NO Grid Ref!!\")))","v":""},{"$f":"IF(LEN($F424)<1,\"\",IF(ISBLANK(Checklist!$H$4),\"NO VC!!\",Checklist!$H$4))","v":""},{"$f":"IF(LEN($F424)<1,\"\",IF(ISBLANK(Checklist!$H$5),\"NO Date!!\",Checklist!$H$5))","v":""},{"$f":"IF(LEN($F424)<1,\"\",IF(ISBLANK(Checklist!$H$6),\"NO Recorder!!\",Checklist!$H$6))","v":""},{"$f":"IF(LEN($F424)<1,\"\",IF(ISTEXT(I424),I424,IF(ISTEXT(Checklist!$H$6),Checklist!$H$6,\"NO Determiner!!\")))","v":""},{"$f":"IF(LEN($F424)<1,\"\",IF(ISTEXT(J424),J424,IF(ISTEXT(Checklist!$H$7),Checklist!$H$7,\"Field record / observation\")))","v":""},"","",null,"","","","","","","","","","","","",null,null,null,null,null,null,null,null,null,null,null,null,null,null,null,null,null,null,null,324,"Cannabis sativa",null,null,7953,"Artemisia dracunculus","Linnaeus","Tarragon","Asteraceae",null,7953,"Artemisia dracunculus_7953",null,null,null,null,null,null,null,"Artemisia dracunculus_7953"]
["",null,null,null,"","","",null,null,null,null,null,null,null,null,"","","",{"$f":"IF(LEN($F425)<1,\"\",IF(ISBLANK(Checklist!$H$2),\"\",Checklist!$H$2))","v":""},{"$f":"IF(LEN($F425)<1,\"\",IF(ISTEXT(H425),H425,IF(ISTEXT(Checklist!$H$3),Checklist!$H$3,\"NO Grid Ref!!\")))","v":""},{"$f":"IF(LEN($F425)<1,\"\",IF(ISBLANK(Checklist!$H$4),\"NO VC!!\",Checklist!$H$4))","v":""},{"$f":"IF(LEN($F425)<1,\"\",IF(ISBLANK(Checklist!$H$5),\"NO Date!!\",Checklist!$H$5))","v":""},{"$f":"IF(LEN($F425)<1,\"\",IF(ISBLANK(Checklist!$H$6),\"NO Recorder!!\",Checklist!$H$6))","v":""},{"$f":"IF(LEN($F425)<1,\"\",IF(ISTEXT(I425),I425,IF(ISTEXT(Checklist!$H$6),Checklist!$H$6,\"NO Determiner!!\")))","v":""},{"$f":"IF(LEN($F425)<1,\"\",IF(ISTEXT(J425),J425,IF(ISTEXT(Checklist!$H$7),Checklist!$H$7,\"Field record / observation\")))","v":""},"","",null,"","","","","","","","","","","","",null,null,null,null,null,null,null,null,null,null,null,null,null,null,null,null,null,null,null,325,"Capsella bursa-pastoris",null,null,5884,"Artemisia ludoviciana","Nutt.","Western Mugwort","Asteraceae",null,5884,"Artemisia ludoviciana_5884",null,null,null,null,null,null,null,"Artemisia ludoviciana_5884"]
["",null,null,null,"","","",null,null,null,null,null,null,null,null,"","","",{"$f":"IF(LEN($F426)<1,\"\",IF(ISBLANK(Checklist!$H$2),\"\",Checklist!$H$2))","v":""},{"$f":"IF(LEN($F426)<1,\"\",IF(ISTEXT(H426),H426,IF(ISTEXT(Checklist!$H$3),Checklist!$H$3,\"NO Grid Ref!!\")))","v":""},{"$f":"IF(LEN($F426)<1,\"\",IF(ISBLANK(Checklist!$H$4),\"NO VC!!\",Checklist!$H$4))","v":""},{"$f":"IF(LEN($F426)<1,\"\",IF(ISBLANK(Checklist!$H$5),\"NO Date!!\",Checklist!$H$5))","v":""},{"$f":"IF(LEN($F426)<1,\"\",IF(ISBLANK(Checklist!$H$6),\"NO Recorder!!\",Checklist!$H$6))","v":""},{"$f":"IF(LEN($F426)<1,\"\",IF(ISTEXT(I426),I426,IF(ISTEXT(Checklist!$H$6),Checklist!$H$6,\"NO Determiner!!\")))","v":""},{"$f":"IF(LEN($F426)<1,\"\",IF(ISTEXT(J426),J426,IF(ISTEXT(Checklist!$H$7),Checklist!$H$7,\"Field record / observation\")))","v":""},"","",null,"","","","","","","","","","","","",null,null,null,null,null,null,null,null,null,null,null,null,null,null,null,null,null,null,null,326,"Capsella rubella",null,null,172,"Artemisia maritima","L.","Sea Wormwood","Asteraceae",null,172,"Artemisia maritima_172",null,null,null,null,null,null,null,"Artemisia maritima_172"]
["",null,null,null,"","","",null,null,null,null,null,null,null,null,"","","",{"$f":"IF(LEN($F427)<1,\"\",IF(ISBLANK(Checklist!$H$2),\"\",Checklist!$H$2))","v":""},{"$f":"IF(LEN($F427)<1,\"\",IF(ISTEXT(H427),H427,IF(ISTEXT(Checklist!$H$3),Checklist!$H$3,\"NO Grid Ref!!\")))","v":""},{"$f":"IF(LEN($F427)<1,\"\",IF(ISBLANK(Checklist!$H$4),\"NO VC!!\",Checklist!$H$4))","v":""},{"$f":"IF(LEN($F427)<1,\"\",IF(ISBLANK(Checklist!$H$5),\"NO Date!!\",Checklist!$H$5))","v":""},{"$f":"IF(LEN($F427)<1,\"\",IF(ISBLANK(Checklist!$H$6),\"NO Recorder!!\",Checklist!$H$6))","v":""},{"$f":"IF(LEN($F427)<1,\"\",IF(ISTEXT(I427),I427,IF(ISTEXT(Checklist!$H$6),Checklist!$H$6,\"NO Determiner!!\")))","v":""},{"$f":"IF(LEN($F427)<1,\"\",IF(ISTEXT(J427),J427,IF(ISTEXT(Checklist!$H$7),Checklist!$H$7,\"Field record / observation\")))","v":""},"","",null,"","","","","","","","","","","","",null,null,null,null,null,null,null,null,null,null,null,null,null,null,null,null,null,null,null,327,"Cardamine amara",null,null,2264,"Artemisia norvegica","Fr.","Norwegian Mugwort","Asteraceae","Vulnerable",2264,"Artemisia norvegica_2264",null,null,null,null,null,null,null,"Artemisia norvegica_2264"]
["",null,null,null,"","","",null,null,null,null,null,null,null,null,"","","",{"$f":"IF(LEN($F428)<1,\"\",IF(ISBLANK(Checklist!$H$2),\"\",Checklist!$H$2))","v":""},{"$f":"IF(LEN($F428)<1,\"\",IF(ISTEXT(H428),H428,IF(ISTEXT(Checklist!$H$3),Checklist!$H$3,\"NO Grid Ref!!\")))","v":""},{"$f":"IF(LEN($F428)<1,\"\",IF(ISBLANK(Checklist!$H$4),\"NO VC!!\",Checklist!$H$4))","v":""},{"$f":"IF(LEN($F428)<1,\"\",IF(ISBLANK(Checklist!$H$5),\"NO Date!!\",Checklist!$H$5))","v":""},{"$f":"IF(LEN($F428)<1,\"\",IF(ISBLANK(Checklist!$H$6),\"NO Recorder!!\",Checklist!$H$6))","v":""},{"$f":"IF(LEN($F428)<1,\"\",IF(ISTEXT(I428),I428,IF(ISTEXT(Checklist!$H$6),Checklist!$H$6,\"NO Determiner!!\")))","v":""},{"$f":"IF(LEN($F428)<1,\"\",IF(ISTEXT(J428),J428,IF(ISTEXT(Checklist!$H$7),Checklist!$H$7,\"Field record / observation\")))","v":""},"","",null,"","","","","","","","","","","","",null,null,null,null,null,null,null,null,null,null,null,null,null,null,null,null,null,null,null,328,"Cardamine flexuosa",null,null,7954,"Artemisia pontica","L.","Roman Wormwood","Asteraceae",null,7954,"Artemisia pontica_7954",null,null,null,null,null,null,null,"Artemisia pontica_7954"]
["",null,null,null,"","","",null,null,null,null,null,null,null,null,"","","",{"$f":"IF(LEN($F429)<1,\"\",IF(ISBLANK(Checklist!$H$2),\"\",Checklist!$H$2))","v":""},{"$f":"IF(LEN($F429)<1,\"\",IF(ISTEXT(H429),H429,IF(ISTEXT(Checklist!$H$3),Checklist!$H$3,\"NO Grid Ref!!\")))","v":""},{"$f":"IF(LEN($F429)<1,\"\",IF(ISBLANK(Checklist!$H$4),\"NO VC!!\",Checklist!$H$4))","v":""},{"$f":"IF(LEN($F429)<1,\"\",IF(ISBLANK(Checklist!$H$5),\"NO Date!!\",Checklist!$H$5))","v":""},{"$f":"IF(LEN($F429)<1,\"\",IF(ISBLANK(Checklist!$H$6),\"NO Recorder!!\",Checklist!$H$6))","v":""},{"$f":"IF(LEN($F429)<1,\"\",IF(ISTEXT(I429),I429,IF(ISTEXT(Checklist!$H$6),Checklist!$H$6,\"NO Determiner!!\")))","v":""},{"$f":"IF(LEN($F429)<1,\"\",IF(ISTEXT(J429),J429,IF(ISTEXT(Checklist!$H$7),Checklist!$H$7,\"Field record / observation\")))","v":""},"","",null,"","","","","","","","","","","","",null,null,null,null,null,null,null,null,null,null,null,null,null,null,null,null,null,null,null,329,"Cardamine hirsuta",null,null,7955,"Artemisia scoparia","Waldst. & Kit",null,"Asteraceae",null,7955,"Artemisia scoparia_7955",null,null,null,null,null,null,null,"Artemisia scoparia_7955"]
["",null,null,null,"","","",null,null,null,null,null,null,null,null,"","","",{"$f":"IF(LEN($F430)<1,\"\",IF(ISBLANK(Checklist!$H$2),\"\",Checklist!$H$2))","v":""},{"$f":"IF(LEN($F430)<1,\"\",IF(ISTEXT(H430),H430,IF(ISTEXT(Checklist!$H$3),Checklist!$H$3,\"NO Grid Ref!!\")))","v":""},{"$f":"IF(LEN($F430)<1,\"\",IF(ISBLANK(Checklist!$H$4),\"NO VC!!\",Checklist!$H$4))","v":""},{"$f":"IF(LEN($F430)<1,\"\",IF(ISBLANK(Checklist!$H$5),\"NO Date!!\",Checklist!$H$5))","v":""},{"$f":"IF(LEN($F430)<1,\"\",IF(ISBLANK(Checklist!$H$6),\"NO Recorder!!\",Checklist!$H$6))","v":""},{"$f":"IF(LEN($F430)<1,\"\",IF(ISTEXT(I430),I430,IF(ISTEXT(Checklist!$H$6),Checklist!$H$6,\"NO Determiner!!\")))","v":""},{"$f":"IF(LEN($F430)<1,\"\",IF(ISTEXT(J430),J430,IF(ISTEXT(Checklist!$H$7),Checklist!$H$7,\"Field record / observation\")))","v":""},"","",null,"","","","","","","","","","","","",null,null,null,null,null,null,null,null,null,null,null,null,null,null,null,null,null,null,null,330,"Cardamine impatiens",null,null,173,"Artemisia stelleriana","Besser","Hoary Mugwort","Asteraceae",null,173,"Artemisia stelleriana_173",null,null,null,null,null,null,null,"Artemisia stelleriana_173"]
["",null,null,null,"","","",null,null,null,null,null,null,null,null,"","","",{"$f":"IF(LEN($F431)<1,\"\",IF(ISBLANK(Checklist!$H$2),\"\",Checklist!$H$2))","v":""},{"$f":"IF(LEN($F431)<1,\"\",IF(ISTEXT(H431),H431,IF(ISTEXT(Checklist!$H$3),Checklist!$H$3,\"NO Grid Ref!!\")))","v":""},{"$f":"IF(LEN($F431)<1,\"\",IF(ISBLANK(Checklist!$H$4),\"NO VC!!\",Checklist!$H$4))","v":""},{"$f":"IF(LEN($F431)<1,\"\",IF(ISBLANK(Checklist!$H$5),\"NO Date!!\",Checklist!$H$5))","v":""},{"$f":"IF(LEN($F431)<1,\"\",IF(ISBLANK(Checklist!$H$6),\"NO Recorder!!\",Checklist!$H$6))","v":""},{"$f":"IF(LEN($F431)<1,\"\",IF(ISTEXT(I431),I431,IF(ISTEXT(Checklist!$H$6),Checklist!$H$6,\"NO Determiner!!\")))","v":""},{"$f":"IF(LEN($F431)<1,\"\",IF(ISTEXT(J431),J431,IF(ISTEXT(Checklist!$H$7),Checklist!$H$7,\"Field record / observation\")))","v":""},"","",null,"","","","","","","","","","","","",null,null,null,null,null,null,null,null,null,null,null,null,null,null,null,null,null,null,null,331,"Cardamine pratensis",null,null,174,"Artemisia verlotiorum","Lamotte","Chinese Mugwort","Asteraceae",null,174,"Artemisia verlotiorum_174",null,null,null,null,null,null,null,"Artemisia verlotiorum_174"]
["",null,null,null,"","","",null,null,null,null,null,null,null,null,"","","",{"$f":"IF(LEN($F432)<1,\"\",IF(ISBLANK(Checklist!$H$2),\"\",Checklist!$H$2))","v":""},{"$f":"IF(LEN($F432)<1,\"\",IF(ISTEXT(H432),H432,IF(ISTEXT(Checklist!$H$3),Checklist!$H$3,\"NO Grid Ref!!\")))","v":""},{"$f":"IF(LEN($F432)<1,\"\",IF(ISBLANK(Checklist!$H$4),\"NO VC!!\",Checklist!$H$4))","v":""},{"$f":"IF(LEN($F432)<1,\"\",IF(ISBLANK(Checklist!$H$5),\"NO Date!!\",Checklist!$H$5))","v":""},{"$f":"IF(LEN($F432)<1,\"\",IF(ISBLANK(Checklist!$H$6),\"NO Recorder!!\",Checklist!$H$6))","v":""},{"$f":"IF(LEN($F432)<1,\"\",IF(ISTEXT(I432),I432,IF(ISTEXT(Checklist!$H$6),Checklist!$H$6,\"NO Determiner!!\")))","v":""},{"$f":"IF(LEN($F432)<1,\"\",IF(ISTEXT(J432),J432,IF(ISTEXT(Checklist!$H$7),Checklist!$H$7,\"Field record / observation\")))","v":""},"","",null,"","","","","","","","","","","","",null,null,null,null,null,null,null,null,null,null,null,null,null,null,null,null,null,null,null,332,"Arabidopsis petraea",null,null,175,"Artemisia vulgaris","Linnaeus","Mugwort","Asteraceae",null,175,"Artemisia vulgaris_175",null,null,null,null,null,null,null,"Artemisia vulgaris_175"]
["",null,null,null,"","","",null,null,null,null,null,null,null,null,"","","",{"$f":"IF(LEN($F433)<1,\"\",IF(ISBLANK(Checklist!$H$2),\"\",Checklist!$H$2))","v":""},{"$f":"IF(LEN($F433)<1,\"\",IF(ISTEXT(H433),H433,IF(ISTEXT(Checklist!$H$3),Checklist!$H$3,\"NO Grid Ref!!\")))","v":""},{"$f":"IF(LEN($F433)<1,\"\",IF(ISBLANK(Checklist!$H$4),\"NO VC!!\",Checklist!$H$4))","v":""},{"$f":"IF(LEN($F433)<1,\"\",IF(ISBLANK(Checklist!$H$5),\"NO Date!!\",Checklist!$H$5))","v":""},{"$f":"IF(LEN($F433)<1,\"\",IF(ISBLANK(Checklist!$H$6),\"NO Recorder!!\",Checklist!$H$6))","v":""},{"$f":"IF(LEN($F433)<1,\"\",IF(ISTEXT(I433),I433,IF(ISTEXT(Checklist!$H$6),Checklist!$H$6,\"NO Determiner!!\")))","v":""},{"$f":"IF(LEN($F433)<1,\"\",IF(ISTEXT(J433),J433,IF(ISTEXT(Checklist!$H$7),Checklist!$H$7,\"Field record / observation\")))","v":""},"","",null,"","","","","","","","","","","","",null,null,null,null,null,null,null,null,null,null,null,null,null,null,null,null,null,null,null,333,"Lepidium draba",null,null,7172,"Artemisia x wurzellii","C. M. James & Stace","A. vulgaris x verlotiorum","Asteraceae",null,7172,"Artemisia x wurzellii_7172",null,null,null,null,null,null,null,"Artemisia x wurzellii_7172"]
["",null,null,null,"","","",null,null,null,null,null,null,null,null,"","","",{"$f":"IF(LEN($F434)<1,\"\",IF(ISBLANK(Checklist!$H$2),\"\",Checklist!$H$2))","v":""},{"$f":"IF(LEN($F434)<1,\"\",IF(ISTEXT(H434),H434,IF(ISTEXT(Checklist!$H$3),Checklist!$H$3,\"NO Grid Ref!!\")))","v":""},{"$f":"IF(LEN($F434)<1,\"\",IF(ISBLANK(Checklist!$H$4),\"NO VC!!\",Checklist!$H$4))","v":""},{"$f":"IF(LEN($F434)<1,\"\",IF(ISBLANK(Checklist!$H$5),\"NO Date!!\",Checklist!$H$5))","v":""},{"$f":"IF(LEN($F434)<1,\"\",IF(ISBLANK(Checklist!$H$6),\"NO Recorder!!\",Checklist!$H$6))","v":""},{"$f":"IF(LEN($F434)<1,\"\",IF(ISTEXT(I434),I434,IF(ISTEXT(Checklist!$H$6),Checklist!$H$6,\"NO Determiner!!\")))","v":""},{"$f":"IF(LEN($F434)<1,\"\",IF(ISTEXT(J434),J434,IF(ISTEXT(Checklist!$H$7),Checklist!$H$7,\"Field record / observation\")))","v":""},"","",null,"","","","","","","","","","","","",null,null,null,null,null,null,null,null,null,null,null,null,null,null,null,null,null,null,null,333.1,"Lepidium draba subsp. draba",null,null,177,"Arum italicum","Mill.","Italian Lords-and-Ladies","Araceae",null,177,"Arum italicum_177",null,null,null,null,null,null,null,"Arum italicum_177"]
["",null,null,null,"","","",null,null,null,null,null,null,null,null,"","","",{"$f":"IF(LEN($F435)<1,\"\",IF(ISBLANK(Checklist!$H$2),\"\",Checklist!$H$2))","v":""},{"$f":"IF(LEN($F435)<1,\"\",IF(ISTEXT(H435),H435,IF(ISTEXT(Checklist!$H$3),Checklist!$H$3,\"NO Grid Ref!!\")))","v":""},{"$f":"IF(LEN($F435)<1,\"\",IF(ISBLANK(Checklist!$H$4),\"NO VC!!\",Checklist!$H$4))","v":""},{"$f":"IF(LEN($F435)<1,\"\",IF(ISBLANK(Checklist!$H$5),\"NO Date!!\",Checklist!$H$5))","v":""},{"$f":"IF(LEN($F435)<1,\"\",IF(ISBLANK(Checklist!$H$6),\"NO Recorder!!\",Checklist!$H$6))","v":""},{"$f":"IF(LEN($F435)<1,\"\",IF(ISTEXT(I435),I435,IF(ISTEXT(Checklist!$H$6),Checklist!$H$6,\"NO Determiner!!\")))","v":""},{"$f":"IF(LEN($F435)<1,\"\",IF(ISTEXT(J435),J435,IF(ISTEXT(Checklist!$H$7),Checklist!$H$7,\"Field record / observation\")))","v":""},"","",null,"","","","","","","","","","","","",null,null,null,null,null,null,null,null,null,null,null,null,null,null,null,null,null,null,null,333.2,"Lepidium draba subsp. chalepense",null,null,177.1,"Arum italicum subsp. italicum",null,"Italian Lords-and-Ladies","Araceae",null,177.1,"Arum italicum subsp. italicum_177.1",null,null,null,null,null,null,null,"Arum italicum subsp. italicum_177.1"]
["",null,null,null,"","","",null,null,null,null,null,null,null,null,"","","",{"$f":"IF(LEN($F436)<1,\"\",IF(ISBLANK(Checklist!$H$2),\"\",Checklist!$H$2))","v":""},{"$f":"IF(LEN($F436)<1,\"\",IF(ISTEXT(H436),H436,IF(ISTEXT(Checklist!$H$3),Checklist!$H$3,\"NO Grid Ref!!\")))","v":""},{"$f":"IF(LEN($F436)<1,\"\",IF(ISBLANK(Checklist!$H$4),\"NO VC!!\",Checklist!$H$4))","v":""},{"$f":"IF(LEN($F436)<1,\"\",IF(ISBLANK(Checklist!$H$5),\"NO Date!!\",Checklist!$H$5))","v":""},{"$f":"IF(LEN($F436)<1,\"\",IF(ISBLANK(Checklist!$H$6),\"NO Recorder!!\",Checklist!$H$6))","v":""},{"$f":"IF(LEN($F436)<1,\"\",IF(ISTEXT(I436),I436,IF(ISTEXT(Checklist!$H$6),Checklist!$H$6,\"NO Determiner!!\")))","v":""},{"$f":"IF(LEN($F436)<1,\"\",IF(ISTEXT(J436),J436,IF(ISTEXT(Checklist!$H$7),Checklist!$H$7,\"Field record / observation\")))","v":""},"","",null,"","","","","","","","","","","","",null,null,null,null,null,null,null,null,null,null,null,null,null,null,null,null,null,null,null,335,"Carduus crispus",null,null,177.2,"Arum italicum subsp. neglectum","(F. Towns.) Prime","Italian Lords-and-Ladies","Araceae","Near Threatened",177.2,"Arum italicum subsp. neglectum_177.2",null,null,null,null,null,null,null,"Arum italicum subsp. neglectum_177.2"]
["",null,null,null,"","","",null,null,null,null,null,null,null,null,"","","",{"$f":"IF(LEN($F437)<1,\"\",IF(ISBLANK(Checklist!$H$2),\"\",Checklist!$H$2))","v":""},{"$f":"IF(LEN($F437)<1,\"\",IF(ISTEXT(H437),H437,IF(ISTEXT(Checklist!$H$3),Checklist!$H$3,\"NO Grid Ref!!\")))","v":""},{"$f":"IF(LEN($F437)<1,\"\",IF(ISBLANK(Checklist!$H$4),\"NO VC!!\",Checklist!$H$4))","v":""},{"$f":"IF(LEN($F437)<1,\"\",IF(ISBLANK(Checklist!$H$5),\"NO Date!!\",Checklist!$H$5))","v":""},{"$f":"IF(LEN($F437)<1,\"\",IF(ISBLANK(Checklist!$H$6),\"NO Recorder!!\",Checklist!$H$6))","v":""},{"$f":"IF(LEN($F437)<1,\"\",IF(ISTEXT(I437),I437,IF(ISTEXT(Checklist!$H$6),Checklist!$H$6,\"NO Determiner!!\")))","v":""},{"$f":"IF(LEN($F437)<1,\"\",IF(ISTEXT(J437),J437,IF(ISTEXT(Checklist!$H$7),Checklist!$H$7,\"Field record / observation\")))","v":""},"","",null,"","","","","","","","","","","","",null,null,null,null,null,null,null,null,null,null,null,null,null,null,null,null,null,null,null,335.1,"Carduus crispus subsp. multiflorus",null,null,7904,"Arum italicum x maculatum",null,null,"Araceae",null,7904,"Arum italicum x maculatum_7904",null,null,null,null,null,null,null,"Arum italicum x maculatum_7904"]
["",null,null,null,"","","",null,null,null,null,null,null,null,null,"","","",{"$f":"IF(LEN($F438)<1,\"\",IF(ISBLANK(Checklist!$H$2),\"\",Checklist!$H$2))","v":""},{"$f":"IF(LEN($F438)<1,\"\",IF(ISTEXT(H438),H438,IF(ISTEXT(Checklist!$H$3),Checklist!$H$3,\"NO Grid Ref!!\")))","v":""},{"$f":"IF(LEN($F438)<1,\"\",IF(ISBLANK(Checklist!$H$4),\"NO VC!!\",Checklist!$H$4))","v":""},{"$f":"IF(LEN($F438)<1,\"\",IF(ISBLANK(Checklist!$H$5),\"NO Date!!\",Checklist!$H$5))","v":""},{"$f":"IF(LEN($F438)<1,\"\",IF(ISBLANK(Checklist!$H$6),\"NO Recorder!!\",Checklist!$H$6))","v":""},{"$f":"IF(LEN($F438)<1,\"\",IF(ISTEXT(I438),I438,IF(ISTEXT(Checklist!$H$6),Checklist!$H$6,\"NO Determiner!!\")))","v":""},{"$f":"IF(LEN($F438)<1,\"\",IF(ISTEXT(J438),J438,IF(ISTEXT(Checklist!$H$7),Checklist!$H$7,\"Field record / observation\")))","v":""},"","",null,"","","","","","","","","","","","",null,null,null,null,null,null,null,null,null,null,null,null,null,null,null,null,null,null,null,336,"Carduus x stangii",null,null,176,"Arum maculatum","L.","Lords-and-Ladies","Araceae",null,176,"Arum maculatum_176",null,null,null,null,null,null,null,"Arum maculatum_176"]
["",null,null,null,"","","",null,null,null,null,null,null,null,null,"","","",{"$f":"IF(LEN($F439)<1,\"\",IF(ISBLANK(Checklist!$H$2),\"\",Checklist!$H$2))","v":""},{"$f":"IF(LEN($F439)<1,\"\",IF(ISTEXT(H439),H439,IF(ISTEXT(Checklist!$H$3),Checklist!$H$3,\"NO Grid Ref!!\")))","v":""},{"$f":"IF(LEN($F439)<1,\"\",IF(ISBLANK(Checklist!$H$4),\"NO VC!!\",Checklist!$H$4))","v":""},{"$f":"IF(LEN($F439)<1,\"\",IF(ISBLANK(Checklist!$H$5),\"NO Date!!\",Checklist!$H$5))","v":""},{"$f":"IF(LEN($F439)<1,\"\",IF(ISBLANK(Checklist!$H$6),\"NO Recorder!!\",Checklist!$H$6))","v":""},{"$f":"IF(LEN($F439)<1,\"\",IF(ISTEXT(I439),I439,IF(ISTEXT(Checklist!$H$6),Checklist!$H$6,\"NO Determiner!!\")))","v":""},{"$f":"IF(LEN($F439)<1,\"\",IF(ISTEXT(J439),J439,IF(ISTEXT(Checklist!$H$7),Checklist!$H$7,\"Field record / observation\")))","v":""},"","",null,"","","","","","","","","","","","",null,null,null,null,null,null,null,null,null,null,null,null,null,null,null,null,null,null,null,337,"Carduus nutans",null,null,4399,"Aruncus dioicus","(Walter) Fern.","Buck's-beard","Rosaceae",null,4399,"Aruncus dioicus_4399",null,null,null,null,null,null,null,"Aruncus dioicus_4399"]
["",null,null,null,"","","",null,null,null,null,null,null,null,null,"","","",{"$f":"IF(LEN($F440)<1,\"\",IF(ISBLANK(Checklist!$H$2),\"\",Checklist!$H$2))","v":""},{"$f":"IF(LEN($F440)<1,\"\",IF(ISTEXT(H440),H440,IF(ISTEXT(Checklist!$H$3),Checklist!$H$3,\"NO Grid Ref!!\")))","v":""},{"$f":"IF(LEN($F440)<1,\"\",IF(ISBLANK(Checklist!$H$4),\"NO VC!!\",Checklist!$H$4))","v":""},{"$f":"IF(LEN($F440)<1,\"\",IF(ISBLANK(Checklist!$H$5),\"NO Date!!\",Checklist!$H$5))","v":""},{"$f":"IF(LEN($F440)<1,\"\",IF(ISBLANK(Checklist!$H$6),\"NO Recorder!!\",Checklist!$H$6))","v":""},{"$f":"IF(LEN($F440)<1,\"\",IF(ISTEXT(I440),I440,IF(ISTEXT(Checklist!$H$6),Checklist!$H$6,\"NO Determiner!!\")))","v":""},{"$f":"IF(LEN($F440)<1,\"\",IF(ISTEXT(J440),J440,IF(ISTEXT(Checklist!$H$7),Checklist!$H$7,\"Field record / observation\")))","v":""},"","",null,"","","","","","","","","","","","",null,null,null,null,null,null,null,null,null,null,null,null,null,null,null,null,null,null,null,338,"Carduus pycnocephalus",null,null,7173,"Asarina procumbens","Miller","Trailing Snapdragon","Scrophulariaceae",null,7173,"Asarina procumbens_7173",null,null,null,null,null,null,null,"Asarina procumbens_7173"]
["",null,null,null,"","","",null,null,null,null,null,null,null,null,"","","",{"$f":"IF(LEN($F441)<1,\"\",IF(ISBLANK(Checklist!$H$2),\"\",Checklist!$H$2))","v":""},{"$f":"IF(LEN($F441)<1,\"\",IF(ISTEXT(H441),H441,IF(ISTEXT(Checklist!$H$3),Checklist!$H$3,\"NO Grid Ref!!\")))","v":""},{"$f":"IF(LEN($F441)<1,\"\",IF(ISBLANK(Checklist!$H$4),\"NO VC!!\",Checklist!$H$4))","v":""},{"$f":"IF(LEN($F441)<1,\"\",IF(ISBLANK(Checklist!$H$5),\"NO Date!!\",Checklist!$H$5))","v":""},{"$f":"IF(LEN($F441)<1,\"\",IF(ISBLANK(Checklist!$H$6),\"NO Recorder!!\",Checklist!$H$6))","v":""},{"$f":"IF(LEN($F441)<1,\"\",IF(ISTEXT(I441),I441,IF(ISTEXT(Checklist!$H$6),Checklist!$H$6,\"NO Determiner!!\")))","v":""},{"$f":"IF(LEN($F441)<1,\"\",IF(ISTEXT(J441),J441,IF(ISTEXT(Checklist!$H$7),Checklist!$H$7,\"Field record / observation\")))","v":""},"","",null,"","","","","","","","","","","","",null,null,null,null,null,null,null,null,null,null,null,null,null,null,null,null,null,null,null,339,"Carduus tenuiflorus",null,null,178,"Asarum europaeum","Linnaeus","Asarabacca","Aristolochiaceae",null,178,"Asarum europaeum_178",null,null,null,null,null,null,null,"Asarum europaeum_178"]
["",null,null,null,"","","",null,null,null,null,null,null,null,null,"","","",{"$f":"IF(LEN($F442)<1,\"\",IF(ISBLANK(Checklist!$H$2),\"\",Checklist!$H$2))","v":""},{"$f":"IF(LEN($F442)<1,\"\",IF(ISTEXT(H442),H442,IF(ISTEXT(Checklist!$H$3),Checklist!$H$3,\"NO Grid Ref!!\")))","v":""},{"$f":"IF(LEN($F442)<1,\"\",IF(ISBLANK(Checklist!$H$4),\"NO VC!!\",Checklist!$H$4))","v":""},{"$f":"IF(LEN($F442)<1,\"\",IF(ISBLANK(Checklist!$H$5),\"NO Date!!\",Checklist!$H$5))","v":""},{"$f":"IF(LEN($F442)<1,\"\",IF(ISBLANK(Checklist!$H$6),\"NO Recorder!!\",Checklist!$H$6))","v":""},{"$f":"IF(LEN($F442)<1,\"\",IF(ISTEXT(I442),I442,IF(ISTEXT(Checklist!$H$6),Checklist!$H$6,\"NO Determiner!!\")))","v":""},{"$f":"IF(LEN($F442)<1,\"\",IF(ISTEXT(J442),J442,IF(ISTEXT(Checklist!$H$7),Checklist!$H$7,\"Field record / observation\")))","v":""},"","",null,"","","","","","","","","","","","",null,null,null,null,null,null,null,null,null,null,null,null,null,null,null,null,null,null,null,340,"Carex acuta",null,null,179.1,"Asparagus officinalis","L.","Garden Asparagus","Liliaceae",null,179.1,"Asparagus officinalis_179.1",null,null,null,null,null,null,null,"Asparagus officinalis_179.1"]
["",null,null,null,"","","",null,null,null,null,null,null,null,null,"","","",{"$f":"IF(LEN($F443)<1,\"\",IF(ISBLANK(Checklist!$H$2),\"\",Checklist!$H$2))","v":""},{"$f":"IF(LEN($F443)<1,\"\",IF(ISTEXT(H443),H443,IF(ISTEXT(Checklist!$H$3),Checklist!$H$3,\"NO Grid Ref!!\")))","v":""},{"$f":"IF(LEN($F443)<1,\"\",IF(ISBLANK(Checklist!$H$4),\"NO VC!!\",Checklist!$H$4))","v":""},{"$f":"IF(LEN($F443)<1,\"\",IF(ISBLANK(Checklist!$H$5),\"NO Date!!\",Checklist!$H$5))","v":""},{"$f":"IF(LEN($F443)<1,\"\",IF(ISBLANK(Checklist!$H$6),\"NO Recorder!!\",Checklist!$H$6))","v":""},{"$f":"IF(LEN($F443)<1,\"\",IF(ISTEXT(I443),I443,IF(ISTEXT(Checklist!$H$6),Checklist!$H$6,\"NO Determiner!!\")))","v":""},{"$f":"IF(LEN($F443)<1,\"\",IF(ISTEXT(J443),J443,IF(ISTEXT(Checklist!$H$7),Checklist!$H$7,\"Field record / observation\")))","v":""},"","",null,"","","","","","","","","","","","",null,null,null,null,null,null,null,null,null,null,null,null,null,null,null,null,null,null,null,341,"Carex acutiformis",null,null,179,"Asparagus officinalis agg.",null,"Asparagus","Liliaceae",null,179,"Asparagus officinalis agg._179",null,null,null,null,null,null,null,"Asparagus officinalis agg._179"]
["",null,null,null,"","","",null,null,null,null,null,null,null,null,"","","",{"$f":"IF(LEN($F444)<1,\"\",IF(ISBLANK(Checklist!$H$2),\"\",Checklist!$H$2))","v":""},{"$f":"IF(LEN($F444)<1,\"\",IF(ISTEXT(H444),H444,IF(ISTEXT(Checklist!$H$3),Checklist!$H$3,\"NO Grid Ref!!\")))","v":""},{"$f":"IF(LEN($F444)<1,\"\",IF(ISBLANK(Checklist!$H$4),\"NO VC!!\",Checklist!$H$4))","v":""},{"$f":"IF(LEN($F444)<1,\"\",IF(ISBLANK(Checklist!$H$5),\"NO Date!!\",Checklist!$H$5))","v":""},{"$f":"IF(LEN($F444)<1,\"\",IF(ISBLANK(Checklist!$H$6),\"NO Recorder!!\",Checklist!$H$6))","v":""},{"$f":"IF(LEN($F444)<1,\"\",IF(ISTEXT(I444),I444,IF(ISTEXT(Checklist!$H$6),Checklist!$H$6,\"NO Determiner!!\")))","v":""},{"$f":"IF(LEN($F444)<1,\"\",IF(ISTEXT(J444),J444,IF(ISTEXT(Checklist!$H$7),Checklist!$H$7,\"Field record / observation\")))","v":""},"","",null,"","","","","","","","","","","","",null,null,null,null,null,null,null,null,null,null,null,null,null,null,null,null,null,null,null,342,"Carex appropinquata",null,null,179.2,"Asparagus prostratus","Dumort.","Wild Asparagus","Liliaceae","Endangered",179.2,"Asparagus prostratus_179.2",null,null,null,null,null,null,null,"Asparagus prostratus_179.2"]
["",null,null,null,"","","",null,null,null,null,null,null,null,null,"","","",{"$f":"IF(LEN($F445)<1,\"\",IF(ISBLANK(Checklist!$H$2),\"\",Checklist!$H$2))","v":""},{"$f":"IF(LEN($F445)<1,\"\",IF(ISTEXT(H445),H445,IF(ISTEXT(Checklist!$H$3),Checklist!$H$3,\"NO Grid Ref!!\")))","v":""},{"$f":"IF(LEN($F445)<1,\"\",IF(ISBLANK(Checklist!$H$4),\"NO VC!!\",Checklist!$H$4))","v":""},{"$f":"IF(LEN($F445)<1,\"\",IF(ISBLANK(Checklist!$H$5),\"NO Date!!\",Checklist!$H$5))","v":""},{"$f":"IF(LEN($F445)<1,\"\",IF(ISBLANK(Checklist!$H$6),\"NO Recorder!!\",Checklist!$H$6))","v":""},{"$f":"IF(LEN($F445)<1,\"\",IF(ISTEXT(I445),I445,IF(ISTEXT(Checklist!$H$6),Checklist!$H$6,\"NO Determiner!!\")))","v":""},{"$f":"IF(LEN($F445)<1,\"\",IF(ISTEXT(J445),J445,IF(ISTEXT(Checklist!$H$7),Checklist!$H$7,\"Field record / observation\")))","v":""},"","",null,"","","","","","","","","","","","",null,null,null,null,null,null,null,null,null,null,null,null,null,null,null,null,null,null,null,343,"Carex aquatilis",null,null,180,"Asperugo procumbens","Linnaeus","Madwort","Boraginaceae",null,180,"Asperugo procumbens_180",null,null,null,null,null,null,null,"Asperugo procumbens_180"]
["",null,null,null,"","","",null,null,null,null,null,null,null,null,"","","",{"$f":"IF(LEN($F446)<1,\"\",IF(ISBLANK(Checklist!$H$2),\"\",Checklist!$H$2))","v":""},{"$f":"IF(LEN($F446)<1,\"\",IF(ISTEXT(H446),H446,IF(ISTEXT(Checklist!$H$3),Checklist!$H$3,\"NO Grid Ref!!\")))","v":""},{"$f":"IF(LEN($F446)<1,\"\",IF(ISBLANK(Checklist!$H$4),\"NO VC!!\",Checklist!$H$4))","v":""},{"$f":"IF(LEN($F446)<1,\"\",IF(ISBLANK(Checklist!$H$5),\"NO Date!!\",Checklist!$H$5))","v":""},{"$f":"IF(LEN($F446)<1,\"\",IF(ISBLANK(Checklist!$H$6),\"NO Recorder!!\",Checklist!$H$6))","v":""},{"$f":"IF(LEN($F446)<1,\"\",IF(ISTEXT(I446),I446,IF(ISTEXT(Checklist!$H$6),Checklist!$H$6,\"NO Determiner!!\")))","v":""},{"$f":"IF(LEN($F446)<1,\"\",IF(ISTEXT(J446),J446,IF(ISTEXT(Checklist!$H$7),Checklist!$H$7,\"Field record / observation\")))","v":""},"","",null,"","","","","","","","","","","","",null,null,null,null,null,null,null,null,null,null,null,null,null,null,null,null,null,null,null,344,"Carex arenaria",null,null,181,"Asperula arvensis","Linnaeus","Blue Woodruff","Rubiaceae",null,181,"Asperula arvensis_181",null,null,null,null,null,null,null,"Asperula arvensis_181"]
["",null,null,null,"","","",null,null,null,null,null,null,null,null,"","","",{"$f":"IF(LEN($F447)<1,\"\",IF(ISBLANK(Checklist!$H$2),\"\",Checklist!$H$2))","v":""},{"$f":"IF(LEN($F447)<1,\"\",IF(ISTEXT(H447),H447,IF(ISTEXT(Checklist!$H$3),Checklist!$H$3,\"NO Grid Ref!!\")))","v":""},{"$f":"IF(LEN($F447)<1,\"\",IF(ISBLANK(Checklist!$H$4),\"NO VC!!\",Checklist!$H$4))","v":""},{"$f":"IF(LEN($F447)<1,\"\",IF(ISBLANK(Checklist!$H$5),\"NO Date!!\",Checklist!$H$5))","v":""},{"$f":"IF(LEN($F447)<1,\"\",IF(ISBLANK(Checklist!$H$6),\"NO Recorder!!\",Checklist!$H$6))","v":""},{"$f":"IF(LEN($F447)<1,\"\",IF(ISTEXT(I447),I447,IF(ISTEXT(Checklist!$H$6),Checklist!$H$6,\"NO Determiner!!\")))","v":""},{"$f":"IF(LEN($F447)<1,\"\",IF(ISTEXT(J447),J447,IF(ISTEXT(Checklist!$H$7),Checklist!$H$7,\"Field record / observation\")))","v":""},"","",null,"","","","","","","","","","","","",null,null,null,null,null,null,null,null,null,null,null,null,null,null,null,null,null,null,null,345,"Carex atrata",null,null,5472,"Asperula cynanchica","L.","Squinancywort","Rubiaceae",null,5472,"Asperula cynanchica_5472",null,null,null,null,null,null,null,"Asperula cynanchica_5472"]
["",null,null,null,"","","",null,null,null,null,null,null,null,null,"","","",{"$f":"IF(LEN($F448)<1,\"\",IF(ISBLANK(Checklist!$H$2),\"\",Checklist!$H$2))","v":""},{"$f":"IF(LEN($F448)<1,\"\",IF(ISTEXT(H448),H448,IF(ISTEXT(Checklist!$H$3),Checklist!$H$3,\"NO Grid Ref!!\")))","v":""},{"$f":"IF(LEN($F448)<1,\"\",IF(ISBLANK(Checklist!$H$4),\"NO VC!!\",Checklist!$H$4))","v":""},{"$f":"IF(LEN($F448)<1,\"\",IF(ISBLANK(Checklist!$H$5),\"NO Date!!\",Checklist!$H$5))","v":""},{"$f":"IF(LEN($F448)<1,\"\",IF(ISBLANK(Checklist!$H$6),\"NO Recorder!!\",Checklist!$H$6))","v":""},{"$f":"IF(LEN($F448)<1,\"\",IF(ISTEXT(I448),I448,IF(ISTEXT(Checklist!$H$6),Checklist!$H$6,\"NO Determiner!!\")))","v":""},{"$f":"IF(LEN($F448)<1,\"\",IF(ISTEXT(J448),J448,IF(ISTEXT(Checklist!$H$7),Checklist!$H$7,\"Field record / observation\")))","v":""},"","",null,"","","","","","","","","","","","",null,null,null,null,null,null,null,null,null,null,null,null,null,null,null,null,null,null,null,346,"Carex atrofusca",null,null,182,"Asperula cynanchica subsp. cynanchica",null,"Squinancywort","Rubiaceae",null,182,"Asperula cynanchica subsp. cynanchica_182",null,null,null,null,null,null,null,"Asperula cynanchica subsp. cynanchica_182"]
["",null,null,null,"","","",null,null,null,null,null,null,null,null,"","","",{"$f":"IF(LEN($F449)<1,\"\",IF(ISBLANK(Checklist!$H$2),\"\",Checklist!$H$2))","v":""},{"$f":"IF(LEN($F449)<1,\"\",IF(ISTEXT(H449),H449,IF(ISTEXT(Checklist!$H$3),Checklist!$H$3,\"NO Grid Ref!!\")))","v":""},{"$f":"IF(LEN($F449)<1,\"\",IF(ISBLANK(Checklist!$H$4),\"NO VC!!\",Checklist!$H$4))","v":""},{"$f":"IF(LEN($F449)<1,\"\",IF(ISBLANK(Checklist!$H$5),\"NO Date!!\",Checklist!$H$5))","v":""},{"$f":"IF(LEN($F449)<1,\"\",IF(ISBLANK(Checklist!$H$6),\"NO Recorder!!\",Checklist!$H$6))","v":""},{"$f":"IF(LEN($F449)<1,\"\",IF(ISTEXT(I449),I449,IF(ISTEXT(Checklist!$H$6),Checklist!$H$6,\"NO Determiner!!\")))","v":""},{"$f":"IF(LEN($F449)<1,\"\",IF(ISTEXT(J449),J449,IF(ISTEXT(Checklist!$H$7),Checklist!$H$7,\"Field record / observation\")))","v":""},"","",null,"","","","","","","","","","","","",null,null,null,null,null,null,null,null,null,null,null,null,null,null,null,null,null,null,null,347,"Carex x pseudoaxillaris",null,null,2634,"Asperula cynanchica subsp. occidentalis",null,null,"Rubiaceae","Nationally Scarce",2634,"Asperula cynanchica subsp. occidentalis_2634",null,null,null,null,null,null,null,"Asperula cynanchica subsp. occidentalis_2634"]
["",null,null,null,"","","",null,null,null,null,null,null,null,null,"","","",{"$f":"IF(LEN($F450)<1,\"\",IF(ISBLANK(Checklist!$H$2),\"\",Checklist!$H$2))","v":""},{"$f":"IF(LEN($F450)<1,\"\",IF(ISTEXT(H450),H450,IF(ISTEXT(Checklist!$H$3),Checklist!$H$3,\"NO Grid Ref!!\")))","v":""},{"$f":"IF(LEN($F450)<1,\"\",IF(ISBLANK(Checklist!$H$4),\"NO VC!!\",Checklist!$H$4))","v":""},{"$f":"IF(LEN($F450)<1,\"\",IF(ISBLANK(Checklist!$H$5),\"NO Date!!\",Checklist!$H$5))","v":""},{"$f":"IF(LEN($F450)<1,\"\",IF(ISBLANK(Checklist!$H$6),\"NO Recorder!!\",Checklist!$H$6))","v":""},{"$f":"IF(LEN($F450)<1,\"\",IF(ISTEXT(I450),I450,IF(ISTEXT(Checklist!$H$6),Checklist!$H$6,\"NO Determiner!!\")))","v":""},{"$f":"IF(LEN($F450)<1,\"\",IF(ISTEXT(J450),J450,IF(ISTEXT(Checklist!$H$7),Checklist!$H$7,\"Field record / observation\")))","v":""},"","",null,"","","","","","","","","","","","",null,null,null,null,null,null,null,null,null,null,null,null,null,null,null,null,null,null,null,348,"Carex bicolor",null,null,7956,"Asperula orientalis","Boiss. & Hohen.","Annual Woodruff","Rubiaceae",null,7956,"Asperula orientalis_7956",null,null,null,null,null,null,null,"Asperula orientalis_7956"]
["",null,null,null,{"$f":"IF(ISBLANK(B451),IF(ISBLANK(C451),\"\",IF(RIGHT(C451,LEN(C451)-FIND(\"_\",C451,1))=\"No BRC\",\"No BRC\",RIGHT(C451,LEN(C451)-FIND(\"_\",C451,1))*1)),B451)","v":""},"","",null,null,null,null,null,null,null,null,"","","",{"$f":"IF(LEN($F451)<1,\"\",IF(ISBLANK(Checklist!$H$2),\"\",Checklist!$H$2))","v":""},{"$f":"IF(LEN($F451)<1,\"\",IF(ISTEXT(H451),H451,IF(ISTEXT(Checklist!$H$3),Checklist!$H$3,\"NO Grid Ref!!\")))","v":""},{"$f":"IF(LEN($F451)<1,\"\",IF(ISBLANK(Checklist!$H$4),\"NO VC!!\",Checklist!$H$4))","v":""},{"$f":"IF(LEN($F451)<1,\"\",IF(ISBLANK(Checklist!$H$5),\"NO Date!!\",Checklist!$H$5))","v":""},{"$f":"IF(LEN($F451)<1,\"\",IF(ISBLANK(Checklist!$H$6),\"NO Recorder!!\",Checklist!$H$6))","v":""},{"$f":"IF(LEN($F451)<1,\"\",IF(ISTEXT(I451),I451,IF(ISTEXT(Checklist!$H$6),Checklist!$H$6,\"NO Determiner!!\")))","v":""},{"$f":"IF(LEN($F451)<1,\"\",IF(ISTEXT(J451),J451,IF(ISTEXT(Checklist!$H$7),Checklist!$H$7,\"Field record / observation\")))","v":""},"","",null,"","","","","","","","","","","","",null,null,null,null,null,null,null,null,null,null,null,null,null,null,null,null,null,null,null,349,"Carex bigelowii",null,null,184,"Asperula taurina","Linnaeus","Pink Woodruff","Rubiaceae",null,184,"Asperula taurina_184",null,null,null,null,null,null,null,"Asperula taurina_184"]
[{"$f":"IF(F452=\"\",\"\",ROW())","v":""},null,null,null,"","","",null,null,null,null,null,null,null,null,"","","",{"$f":"IF(LEN($F452)<1,\"\",IF(ISBLANK(Checklist!$H$2),\"\",Checklist!$H$2))","v":""},{"$f":"IF(LEN($F452)<1,\"\",IF(ISTEXT(H452),H452,IF(ISTEXT(Checklist!$H$3),Checklist!$H$3,\"NO Grid Ref!!\")))","v":""},{"$f":"IF(LEN($F452)<1,\"\",IF(ISBLANK(Checklist!$H$4),\"NO VC!!\",Checklist!$H$4))","v":""},{"$f":"IF(LEN($F452)<1,\"\",IF(ISBLANK(Checklist!$H$5),\"NO Date!!\",Checklist!$H$5))","v":""},{"$f":"IF(LEN($F452)<1,\"\",IF(ISBLANK(Checklist!$H$6),\"NO Recorder!!\",Checklist!$H$6))","v":""},{"$f":"IF(LEN($F452)<1,\"\",IF(ISTEXT(I452),I452,IF(ISTEXT(Checklist!$H$6),Checklist!$H$6,\"NO Determiner!!\")))","v":""},{"$f":"IF(LEN($F452)<1,\"\",IF(ISTEXT(J452),J452,IF(ISTEXT(Checklist!$H$7),Checklist!$H$7,\"Field record / observation\")))","v":""},"","",null,{"$f":"IF(ROW($A452)-ROW($A$3)+1>COUNT($A$3:$A$501),\"\",INDEX(P:P,SMALL($A$3:$A$501,1+ROW($A452)-ROW($A$3))))","v":""},{"$f":"IF(ROW($A452)-ROW($A$3)+1>COUNT($A$3:$A$501),\"\",INDEX(Q:Q,SMALL($A$3:$A$501,1+ROW($A452)-ROW($A$3))))","v":""},{"$f":"IF(ROW($A452)-ROW($A$3)+1>COUNT($A$3:$A$501),\"\",INDEX(R:R,SMALL($A$3:$A$501,1+ROW($A452)-ROW($A$3))))","v":""},{"$f":"IF(ROW($A452)-ROW($A$3)+1>COUNT($A$3:$A$501),\"\",INDEX(S:S,SMALL($A$3:$A$501,1+ROW($A452)-ROW($A$3))))","v":""},{"$f":"IF(ROW($A452)-ROW($A$3)+1>COUNT($A$3:$A$501),\"\",INDEX(T:T,SMALL($A$3:$A$501,1+ROW($A452)-ROW($A$3))))","v":""},{"$f":"IF(ROW($A452)-ROW($A$3)+1>COUNT($A$3:$A$501),\"\",INDEX(U:U,SMALL($A$3:$A$501,1+ROW($A452)-ROW($A$3))))","v":""},{"$f":"IF(ROW($A452)-ROW($A$3)+1>COUNT($A$3:$A$501),\"\",INDEX(V:V,SMALL($A$3:$A$501,1+ROW($A452)-ROW($A$3))))","v":""},{"$f":"IF(ROW($A452)-ROW($A$3)+1>COUNT($A$3:$A$501),\"\",INDEX(W:W,SMALL($A$3:$A$501,1+ROW($A452)-ROW($A$3))))","v":""},{"$f":"IF(ROW($A452)-ROW($A$3)+1>COUNT($A$3:$A$501),\"\",INDEX(X:X,SMALL($A$3:$A$501,1+ROW($A452)-ROW($A$3))))","v":""},{"$f":"IF(ROW($A452)-ROW($A$3)+1>COUNT($A$3:$A$501),\"\",INDEX(Y:Y,SMALL($A$3:$A$501,1+ROW($A452)-ROW($A$3))))","v":""},{"$f":"IF(ROW($A452)-ROW($A$3)+1>COUNT($A$3:$A$501),\"\",INDEX(Z:Z,SMALL($A$3:$A$501,1+ROW($A452)-ROW($A$3))))","v":""},{"$f":"IF(ROW($A452)-ROW($A$3)+1>COUNT($A$3:$A$501),\"\",INDEX(AA:AA,SMALL($A$3:$A$501,1+ROW($A452)-ROW($A$3))))","v":""},null,null,null,null,null,null,null,null,null,null,null,null,null,null,null,null,null,null,null,350,"Carex binervis",null,null,5893,"Asphodeline lutea","(L.) Rchb.","Yellow Asphodel","Liliaceae",null,5893,{"$f":"CONCATENATE(BM452,\"_\",BL452)","v":"Asphodeline lutea_5893"},null,null,null,null,null,null,null,"Asphodeline lutea_5893"]
["",null,null,null,"","",{"$f":"IF(LEN(F453)<1,\"\",IF(ISBLANK(VLOOKUP(F453,$BM$3:$BR$7116,3,FALSE)),\"\",(VLOOKUP(F453,$BM$3:$BR$7130,3,FALSE))))","v":""},null,null,null,null,null,null,null,null,"","","",{"$f":"IF(LEN($F453)<1,\"\",IF(ISBLANK(Checklist!$H$2),\"\",Checklist!$H$2))","v":""},{"$f":"IF(LEN($F453)<1,\"\",IF(ISTEXT(H453),H453,IF(ISTEXT(Checklist!$H$3),Checklist!$H$3,\"NO Grid Ref!!\")))","v":""},{"$f":"IF(LEN($F453)<1,\"\",IF(ISBLANK(Checklist!$H$4),\"NO VC!!\",Checklist!$H$4))","v":""},{"$f":"IF(LEN($F453)<1,\"\",IF(ISBLANK(Checklist!$H$5),\"NO Date!!\",Checklist!$H$5))","v":""},{"$f":"IF(LEN($F453)<1,\"\",IF(ISBLANK(Checklist!$H$6),\"NO Recorder!!\",Checklist!$H$6))","v":""},{"$f":"IF(LEN($F453)<1,\"\",IF(ISTEXT(I453),I453,IF(ISTEXT(Checklist!$H$6),Checklist!$H$6,\"NO Determiner!!\")))","v":""},{"$f":"IF(LEN($F453)<1,\"\",IF(ISTEXT(J453),J453,IF(ISTEXT(Checklist!$H$7),Checklist!$H$7,\"Field record / observation\")))","v":""},"","",null,"","","","","","","","","","","","",null,null,null,null,null,null,null,null,null,null,null,null,null,null,null,null,null,null,null,351,"Carex x boenninghausiana",null,null,7174,"Asphodelus albus","Miller","White Asphodel","Liliaceae",null,7174,"Asphodelus albus_7174",null,null,null,null,null,null,null,"Asphodelus albus_7174"]
["",null,null,null,"",{"$f":"IF(ISBLANK(B454),IF(ISBLANK(C454),\"\",LEFT(C454,FIND(\"_\",C454,1)-1)),VLOOKUP(B454,$BH$3:$BI$7130,2,FALSE))","v":""},"",null,null,null,null,null,null,null,null,"","","",{"$f":"IF(LEN($F454)<1,\"\",IF(ISBLANK(Checklist!$H$2),\"\",Checklist!$H$2))","v":""},{"$f":"IF(LEN($F454)<1,\"\",IF(ISTEXT(H454),H454,IF(ISTEXT(Checklist!$H$3),Checklist!$H$3,\"NO Grid Ref!!\")))","v":""},{"$f":"IF(LEN($F454)<1,\"\",IF(ISBLANK(Checklist!$H$4),\"NO VC!!\",Checklist!$H$4))","v":""},{"$f":"IF(LEN($F454)<1,\"\",IF(ISBLANK(Checklist!$H$5),\"NO Date!!\",Checklist!$H$5))","v":""},{"$f":"IF(LEN($F454)<1,\"\",IF(ISBLANK(Checklist!$H$6),\"NO Recorder!!\",Checklist!$H$6))","v":""},{"$f":"IF(LEN($F454)<1,\"\",IF(ISTEXT(I454),I454,IF(ISTEXT(Checklist!$H$6),Checklist!$H$6,\"NO Determiner!!\")))","v":""},{"$f":"IF(LEN($F454)<1,\"\",IF(ISTEXT(J454),J454,IF(ISTEXT(Checklist!$H$7),Checklist!$H$7,\"Field record / observation\")))","v":""},"","",null,"","","","","","","","","","","","",null,null,null,null,null,null,null,null,null,null,null,null,null,null,null,null,null,null,null,352,"Carex buxbaumii",null,null,185.1,"Asplenium adiantum-nigrum","Linnaeus","Black Spleenwort","Aspleniaceae",null,185.1,"Asplenium adiantum-nigrum_185.1",null,null,null,null,null,null,null,"Asplenium adiantum-nigrum_185.1"]
["",null,null,null,"","","",null,null,null,null,null,null,null,null,"","","",{"$f":"IF(LEN($F455)<1,\"\",IF(ISBLANK(Checklist!$H$2),\"\",Checklist!$H$2))","v":""},{"$f":"IF(LEN($F455)<1,\"\",IF(ISTEXT(H455),H455,IF(ISTEXT(Checklist!$H$3),Checklist!$H$3,\"NO Grid Ref!!\")))","v":""},{"$f":"IF(LEN($F455)<1,\"\",IF(ISBLANK(Checklist!$H$4),\"NO VC!!\",Checklist!$H$4))","v":""},{"$f":"IF(LEN($F455)<1,\"\",IF(ISBLANK(Checklist!$H$5),\"NO Date!!\",Checklist!$H$5))","v":""},{"$f":"IF(LEN($F455)<1,\"\",IF(ISBLANK(Checklist!$H$6),\"NO Recorder!!\",Checklist!$H$6))","v":""},{"$f":"IF(LEN($F455)<1,\"\",IF(ISTEXT(I455),I455,IF(ISTEXT(Checklist!$H$6),Checklist!$H$6,\"NO Determiner!!\")))","v":""},{"$f":"IF(LEN($F455)<1,\"\",IF(ISTEXT(J455),J455,IF(ISTEXT(Checklist!$H$7),Checklist!$H$7,\"Field record / observation\")))","v":""},"","",null,"","","","","","","","","","","","",null,null,null,null,null,null,null,null,null,null,null,null,null,null,null,null,null,null,null,353,"Carex capillaris",null,null,185,"Asplenium adiantum-nigrum sens. lat.",null,"Black Spleenwort","Aspleniaceae",null,185,"Asplenium adiantum-nigrum sens. lat._185",null,null,null,null,null,null,null,"Asplenium adiantum-nigrum sens. lat._185"]
["",null,null,null,"","","",null,null,null,null,null,null,null,null,"","","",{"$f":"IF(LEN($F456)<1,\"\",IF(ISBLANK(Checklist!$H$2),\"\",Checklist!$H$2))","v":""},{"$f":"IF(LEN($F456)<1,\"\",IF(ISTEXT(H456),H456,IF(ISTEXT(Checklist!$H$3),Checklist!$H$3,\"NO Grid Ref!!\")))","v":""},{"$f":"IF(LEN($F456)<1,\"\",IF(ISBLANK(Checklist!$H$4),\"NO VC!!\",Checklist!$H$4))","v":""},{"$f":"IF(LEN($F456)<1,\"\",IF(ISBLANK(Checklist!$H$5),\"NO Date!!\",Checklist!$H$5))","v":""},{"$f":"IF(LEN($F456)<1,\"\",IF(ISBLANK(Checklist!$H$6),\"NO Recorder!!\",Checklist!$H$6))","v":""},{"$f":"IF(LEN($F456)<1,\"\",IF(ISTEXT(I456),I456,IF(ISTEXT(Checklist!$H$6),Checklist!$H$6,\"NO Determiner!!\")))","v":""},{"$f":"IF(LEN($F456)<1,\"\",IF(ISTEXT(J456),J456,IF(ISTEXT(Checklist!$H$7),Checklist!$H$7,\"Field record / observation\")))","v":""},"","",null,"","","","","","","","","","","","",null,null,null,null,null,null,null,null,null,null,null,null,null,null,null,null,null,null,null,354,"Carex capitata",null,null,473,"Asplenium ceterach","L.","Rustyback","Aspleniaceae",null,473,"Asplenium ceterach_473",null,null,null,null,null,null,null,"Asplenium ceterach_473"]
["",null,null,null,"","","",null,null,null,null,null,null,null,null,"","","",{"$f":"IF(LEN($F457)<1,\"\",IF(ISBLANK(Checklist!$H$2),\"\",Checklist!$H$2))","v":""},{"$f":"IF(LEN($F457)<1,\"\",IF(ISTEXT(H457),H457,IF(ISTEXT(Checklist!$H$3),Checklist!$H$3,\"NO Grid Ref!!\")))","v":""},{"$f":"IF(LEN($F457)<1,\"\",IF(ISBLANK(Checklist!$H$4),\"NO VC!!\",Checklist!$H$4))","v":""},{"$f":"IF(LEN($F457)<1,\"\",IF(ISBLANK(Checklist!$H$5),\"NO Date!!\",Checklist!$H$5))","v":""},{"$f":"IF(LEN($F457)<1,\"\",IF(ISBLANK(Checklist!$H$6),\"NO Recorder!!\",Checklist!$H$6))","v":""},{"$f":"IF(LEN($F457)<1,\"\",IF(ISTEXT(I457),I457,IF(ISTEXT(Checklist!$H$6),Checklist!$H$6,\"NO Determiner!!\")))","v":""},{"$f":"IF(LEN($F457)<1,\"\",IF(ISTEXT(J457),J457,IF(ISTEXT(Checklist!$H$7),Checklist!$H$7,\"Field record / observation\")))","v":""},"","",null,"","","","","","","","","","","","",null,null,null,null,null,null,null,null,null,null,null,null,null,null,null,null,null,null,null,355,"Carex caryophyllea",null,null,"No BRC","Asplenium ceterach 'crenatum'",null,null,"Aspleniaceae",null,"No BRC","Asplenium ceterach 'crenatum'_No BRC",null,null,null,null,null,null,null,"Asplenium ceterach 'crenatum'_No BRC"]
["",null,null,null,"","","",null,null,null,null,null,null,null,null,"","","",{"$f":"IF(LEN($F458)<1,\"\",IF(ISBLANK(Checklist!$H$2),\"\",Checklist!$H$2))","v":""},{"$f":"IF(LEN($F458)<1,\"\",IF(ISTEXT(H458),H458,IF(ISTEXT(Checklist!$H$3),Checklist!$H$3,\"NO Grid Ref!!\")))","v":""},{"$f":"IF(LEN($F458)<1,\"\",IF(ISBLANK(Checklist!$H$4),\"NO VC!!\",Checklist!$H$4))","v":""},{"$f":"IF(LEN($F458)<1,\"\",IF(ISBLANK(Checklist!$H$5),\"NO Date!!\",Checklist!$H$5))","v":""},{"$f":"IF(LEN($F458)<1,\"\",IF(ISBLANK(Checklist!$H$6),\"NO Recorder!!\",Checklist!$H$6))","v":""},{"$f":"IF(LEN($F458)<1,\"\",IF(ISTEXT(I458),I458,IF(ISTEXT(Checklist!$H$6),Checklist!$H$6,\"NO Determiner!!\")))","v":""},{"$f":"IF(LEN($F458)<1,\"\",IF(ISTEXT(J458),J458,IF(ISTEXT(Checklist!$H$7),Checklist!$H$7,\"Field record / observation\")))","v":""},"","",null,"","","","","","","","","","","","",null,null,null,null,null,null,null,null,null,null,null,null,null,null,null,null,null,null,null,356,"Carex chordorrhiza",null,null,"No BRC","Asplenium cuneifolium","Viv.",null,"Aspleniaceae",null,"No BRC","Asplenium cuneifolium_No BRC",null,null,null,null,null,null,null,"Asplenium cuneifolium_No BRC"]
["",null,null,null,"","","",null,null,null,null,null,null,null,null,"","","",{"$f":"IF(LEN($F459)<1,\"\",IF(ISBLANK(Checklist!$H$2),\"\",Checklist!$H$2))","v":""},{"$f":"IF(LEN($F459)<1,\"\",IF(ISTEXT(H459),H459,IF(ISTEXT(Checklist!$H$3),Checklist!$H$3,\"NO Grid Ref!!\")))","v":""},{"$f":"IF(LEN($F459)<1,\"\",IF(ISBLANK(Checklist!$H$4),\"NO VC!!\",Checklist!$H$4))","v":""},{"$f":"IF(LEN($F459)<1,\"\",IF(ISBLANK(Checklist!$H$5),\"NO Date!!\",Checklist!$H$5))","v":""},{"$f":"IF(LEN($F459)<1,\"\",IF(ISBLANK(Checklist!$H$6),\"NO Recorder!!\",Checklist!$H$6))","v":""},{"$f":"IF(LEN($F459)<1,\"\",IF(ISTEXT(I459),I459,IF(ISTEXT(Checklist!$H$6),Checklist!$H$6,\"NO Determiner!!\")))","v":""},{"$f":"IF(LEN($F459)<1,\"\",IF(ISTEXT(J459),J459,IF(ISTEXT(Checklist!$H$7),Checklist!$H$7,\"Field record / observation\")))","v":""},"","",null,"","","","","","","","","","","","",null,null,null,null,null,null,null,null,null,null,null,null,null,null,null,null,null,null,null,357,"Carex spicata",null,null,188,"Asplenium fontanum","(L.) Bernh.","Smooth Rock-spleenwort","Aspleniaceae",null,188,"Asplenium fontanum_188",null,null,null,null,null,null,null,"Asplenium fontanum_188"]
["",null,null,null,"","","",null,null,null,null,null,null,null,null,"","","",{"$f":"IF(LEN($F460)<1,\"\",IF(ISBLANK(Checklist!$H$2),\"\",Checklist!$H$2))","v":""},{"$f":"IF(LEN($F460)<1,\"\",IF(ISTEXT(H460),H460,IF(ISTEXT(Checklist!$H$3),Checklist!$H$3,\"NO Grid Ref!!\")))","v":""},{"$f":"IF(LEN($F460)<1,\"\",IF(ISBLANK(Checklist!$H$4),\"NO VC!!\",Checklist!$H$4))","v":""},{"$f":"IF(LEN($F460)<1,\"\",IF(ISBLANK(Checklist!$H$5),\"NO Date!!\",Checklist!$H$5))","v":""},{"$f":"IF(LEN($F460)<1,\"\",IF(ISBLANK(Checklist!$H$6),\"NO Recorder!!\",Checklist!$H$6))","v":""},{"$f":"IF(LEN($F460)<1,\"\",IF(ISTEXT(I460),I460,IF(ISTEXT(Checklist!$H$6),Checklist!$H$6,\"NO Determiner!!\")))","v":""},{"$f":"IF(LEN($F460)<1,\"\",IF(ISTEXT(J460),J460,IF(ISTEXT(Checklist!$H$7),Checklist!$H$7,\"Field record / observation\")))","v":""},"","",null,"","","","","","","","","","","","",null,null,null,null,null,null,null,null,null,null,null,null,null,null,null,null,null,null,null,359,"Carex canescens",null,null,189,"Asplenium marinum","Linnaeus","Sea Spleenwort","Aspleniaceae",null,189,"Asplenium marinum_189",null,null,null,null,null,null,null,"Asplenium marinum_189"]
["",null,null,null,"","","",null,null,null,null,null,null,null,null,"","","",{"$f":"IF(LEN($F461)<1,\"\",IF(ISBLANK(Checklist!$H$2),\"\",Checklist!$H$2))","v":""},{"$f":"IF(LEN($F461)<1,\"\",IF(ISTEXT(H461),H461,IF(ISTEXT(Checklist!$H$3),Checklist!$H$3,\"NO Grid Ref!!\")))","v":""},{"$f":"IF(LEN($F461)<1,\"\",IF(ISBLANK(Checklist!$H$4),\"NO VC!!\",Checklist!$H$4))","v":""},{"$f":"IF(LEN($F461)<1,\"\",IF(ISBLANK(Checklist!$H$5),\"NO Date!!\",Checklist!$H$5))","v":""},{"$f":"IF(LEN($F461)<1,\"\",IF(ISBLANK(Checklist!$H$6),\"NO Recorder!!\",Checklist!$H$6))","v":""},{"$f":"IF(LEN($F461)<1,\"\",IF(ISTEXT(I461),I461,IF(ISTEXT(Checklist!$H$6),Checklist!$H$6,\"NO Determiner!!\")))","v":""},{"$f":"IF(LEN($F461)<1,\"\",IF(ISTEXT(J461),J461,IF(ISTEXT(Checklist!$H$7),Checklist!$H$7,\"Field record / observation\")))","v":""},"","",null,"","","","","","","","","","","","",null,null,null,null,null,null,null,null,null,null,null,null,null,null,null,null,null,null,null,360,"Carex davalliana",null,null,191,"Asplenium obovatum","Viv.","Lanceolate Spleenwort","Aspleniaceae","Near Threatened",191,"Asplenium obovatum_191",null,null,null,null,null,null,null,"Asplenium obovatum_191"]
["",null,null,null,"","","",null,null,null,null,null,null,null,null,"","","",{"$f":"IF(LEN($F462)<1,\"\",IF(ISBLANK(Checklist!$H$2),\"\",Checklist!$H$2))","v":""},{"$f":"IF(LEN($F462)<1,\"\",IF(ISTEXT(H462),H462,IF(ISTEXT(Checklist!$H$3),Checklist!$H$3,\"NO Grid Ref!!\")))","v":""},{"$f":"IF(LEN($F462)<1,\"\",IF(ISBLANK(Checklist!$H$4),\"NO VC!!\",Checklist!$H$4))","v":""},{"$f":"IF(LEN($F462)<1,\"\",IF(ISBLANK(Checklist!$H$5),\"NO Date!!\",Checklist!$H$5))","v":""},{"$f":"IF(LEN($F462)<1,\"\",IF(ISBLANK(Checklist!$H$6),\"NO Recorder!!\",Checklist!$H$6))","v":""},{"$f":"IF(LEN($F462)<1,\"\",IF(ISTEXT(I462),I462,IF(ISTEXT(Checklist!$H$6),Checklist!$H$6,\"NO Determiner!!\")))","v":""},{"$f":"IF(LEN($F462)<1,\"\",IF(ISTEXT(J462),J462,IF(ISTEXT(Checklist!$H$7),Checklist!$H$7,\"Field record / observation\")))","v":""},"","",null,"","","","","","","","","","","","",null,null,null,null,null,null,null,null,null,null,null,null,null,null,null,null,null,null,null,361,"Carex demissa",null,null,185.2,"Asplenium onopteris","Linnaeus","Irish Spleenwort","Aspleniaceae",null,185.2,"Asplenium onopteris_185.2",null,null,null,null,null,null,null,"Asplenium onopteris_185.2"]
["",null,null,null,"","","",null,null,null,null,null,null,null,null,{"$f":"IF(LEN($F463)<1,\"\",E463)","v":""},{"$f":"IF(LEN($F463)<1,\"\",F463)","v":""},{"$f":"IF(LEN($F463)<1,\"\",G463)","v":""},{"$f":"IF(LEN($F463)<1,\"\",IF(ISBLANK(Checklist!$H$2),\"\",Checklist!$H$2))","v":""},{"$f":"IF(LEN($F463)<1,\"\",IF(ISTEXT(H463),H463,IF(ISTEXT(Checklist!$H$3),Checklist!$H$3,\"NO Grid Ref!!\")))","v":""},{"$f":"IF(LEN($F463)<1,\"\",IF(ISBLANK(Checklist!$H$4),\"NO VC!!\",Checklist!$H$4))","v":""},{"$f":"IF(LEN($F463)<1,\"\",IF(ISBLANK(Checklist!$H$5),\"NO Date!!\",Checklist!$H$5))","v":""},{"$f":"IF(LEN($F463)<1,\"\",IF(ISBLANK(Checklist!$H$6),\"NO Recorder!!\",Checklist!$H$6))","v":""},{"$f":"IF(LEN($F463)<1,\"\",IF(ISTEXT(I463),I463,IF(ISTEXT(Checklist!$H$6),Checklist!$H$6,\"NO Determiner!!\")))","v":""},{"$f":"IF(LEN($F463)<1,\"\",IF(ISTEXT(J463),J463,IF(ISTEXT(Checklist!$H$7),Checklist!$H$7,\"Field record / observation\")))","v":""},{"$f":"IF(LEN($F463)<1,\"\",IF(LEN(K463)<1,\"Not Recorded\",K463))","v":""},{"$f":"IF(LEN($F463)<1,\"\",IF(LEN(L463)<1,\"  --\",L463))","v":""},null,"","","","","","","","","","","","",null,null,null,null,null,null,null,null,null,null,null,null,null,null,null,null,null,null,null,362,"Carex depauperata",null,null,192,"Asplenium ruta-muraria","Linnaeus","Wall-rue","Aspleniaceae",null,192,"Asplenium ruta-muraria_192",null,null,null,null,null,null,null,"Asplenium ruta-muraria_192"]
["",null,null,null,"","","",null,null,null,null,null,null,null,null,"","","",{"$f":"IF(LEN($F464)<1,\"\",IF(ISBLANK(Checklist!$H$2),\"\",Checklist!$H$2))","v":""},{"$f":"IF(LEN($F464)<1,\"\",IF(ISTEXT(H464),H464,IF(ISTEXT(Checklist!$H$3),Checklist!$H$3,\"NO Grid Ref!!\")))","v":""},{"$f":"IF(LEN($F464)<1,\"\",IF(ISBLANK(Checklist!$H$4),\"NO VC!!\",Checklist!$H$4))","v":""},{"$f":"IF(LEN($F464)<1,\"\",IF(ISBLANK(Checklist!$H$5),\"NO Date!!\",Checklist!$H$5))","v":""},{"$f":"IF(LEN($F464)<1,\"\",IF(ISBLANK(Checklist!$H$6),\"NO Recorder!!\",Checklist!$H$6))","v":""},{"$f":"IF(LEN($F464)<1,\"\",IF(ISTEXT(I464),I464,IF(ISTEXT(Checklist!$H$6),Checklist!$H$6,\"NO Determiner!!\")))","v":""},{"$f":"IF(LEN($F464)<1,\"\",IF(ISTEXT(J464),J464,IF(ISTEXT(Checklist!$H$7),Checklist!$H$7,\"Field record / observation\")))","v":""},"","",null,"","","","","","","","","","","","",null,null,null,null,null,null,null,null,null,null,null,null,null,null,null,null,null,null,null,363,"Carex diandra",null,null,1466,"Asplenium scolopendrium","L.","Hart's-tongue","Aspleniaceae",null,1466,"Asplenium scolopendrium_1466",null,null,null,null,null,null,null,"Asplenium scolopendrium_1466"]
["",null,null,null,"","","",null,null,null,null,null,null,null,null,"","","",{"$f":"IF(LEN($F465)<1,\"\",IF(ISBLANK(Checklist!$H$2),\"\",Checklist!$H$2))","v":""},{"$f":"IF(LEN($F465)<1,\"\",IF(ISTEXT(H465),H465,IF(ISTEXT(Checklist!$H$3),Checklist!$H$3,\"NO Grid Ref!!\")))","v":""},{"$f":"IF(LEN($F465)<1,\"\",IF(ISBLANK(Checklist!$H$4),\"NO VC!!\",Checklist!$H$4))","v":""},{"$f":"IF(LEN($F465)<1,\"\",IF(ISBLANK(Checklist!$H$5),\"NO Date!!\",Checklist!$H$5))","v":""},{"$f":"IF(LEN($F465)<1,\"\",IF(ISBLANK(Checklist!$H$6),\"NO Recorder!!\",Checklist!$H$6))","v":""},{"$f":"IF(LEN($F465)<1,\"\",IF(ISTEXT(I465),I465,IF(ISTEXT(Checklist!$H$6),Checklist!$H$6,\"NO Determiner!!\")))","v":""},{"$f":"IF(LEN($F465)<1,\"\",IF(ISTEXT(J465),J465,IF(ISTEXT(Checklist!$H$7),Checklist!$H$7,\"Field record / observation\")))","v":""},"","",null,"","","","","","","","","","","","",null,null,null,null,null,null,null,null,null,null,null,null,null,null,null,null,null,null,null,364,"Carex digitata",null,null,193,"Asplenium septentrionale","(L.) Hoffm.","Forked Spleenwort","Aspleniaceae","Near Threatened",193,"Asplenium septentrionale_193",null,null,null,null,null,null,null,"Asplenium septentrionale_193"]
["",null,null,null,"","","",null,null,null,null,null,null,null,null,"","","",{"$f":"IF(LEN($F466)<1,\"\",IF(ISBLANK(Checklist!$H$2),\"\",Checklist!$H$2))","v":""},{"$f":"IF(LEN($F466)<1,\"\",IF(ISTEXT(H466),H466,IF(ISTEXT(Checklist!$H$3),Checklist!$H$3,\"NO Grid Ref!!\")))","v":""},{"$f":"IF(LEN($F466)<1,\"\",IF(ISBLANK(Checklist!$H$4),\"NO VC!!\",Checklist!$H$4))","v":""},{"$f":"IF(LEN($F466)<1,\"\",IF(ISBLANK(Checklist!$H$5),\"NO Date!!\",Checklist!$H$5))","v":""},{"$f":"IF(LEN($F466)<1,\"\",IF(ISBLANK(Checklist!$H$6),\"NO Recorder!!\",Checklist!$H$6))","v":""},{"$f":"IF(LEN($F466)<1,\"\",IF(ISTEXT(I466),I466,IF(ISTEXT(Checklist!$H$6),Checklist!$H$6,\"NO Determiner!!\")))","v":""},{"$f":"IF(LEN($F466)<1,\"\",IF(ISTEXT(J466),J466,IF(ISTEXT(Checklist!$H$7),Checklist!$H$7,\"Field record / observation\")))","v":""},"","",null,"","","","","","","","","","","","",null,null,null,null,null,null,null,null,null,null,null,null,null,null,null,null,null,null,null,365,"Carex dioica",null,null,194,"Asplenium trichomanes","Linnaeus","Maidenhair Spleenwort","Aspleniaceae",null,194,"Asplenium trichomanes_194",null,null,null,null,null,null,null,"Asplenium trichomanes_194"]
["",null,null,null,"","","",null,null,null,null,null,null,null,null,"","","",{"$f":"IF(LEN($F467)<1,\"\",IF(ISBLANK(Checklist!$H$2),\"\",Checklist!$H$2))","v":""},{"$f":"IF(LEN($F467)<1,\"\",IF(ISTEXT(H467),H467,IF(ISTEXT(Checklist!$H$3),Checklist!$H$3,\"NO Grid Ref!!\")))","v":""},{"$f":"IF(LEN($F467)<1,\"\",IF(ISBLANK(Checklist!$H$4),\"NO VC!!\",Checklist!$H$4))","v":""},{"$f":"IF(LEN($F467)<1,\"\",IF(ISBLANK(Checklist!$H$5),\"NO Date!!\",Checklist!$H$5))","v":""},{"$f":"IF(LEN($F467)<1,\"\",IF(ISBLANK(Checklist!$H$6),\"NO Recorder!!\",Checklist!$H$6))","v":""},{"$f":"IF(LEN($F467)<1,\"\",IF(ISTEXT(I467),I467,IF(ISTEXT(Checklist!$H$6),Checklist!$H$6,\"NO Determiner!!\")))","v":""},{"$f":"IF(LEN($F467)<1,\"\",IF(ISTEXT(J467),J467,IF(ISTEXT(Checklist!$H$7),Checklist!$H$7,\"Field record / observation\")))","v":""},"","",null,"","","","","","","","","","","","",null,null,null,null,null,null,null,null,null,null,null,null,null,null,null,null,null,null,null,366,"Carex distans",null,null,194.3,"Asplenium trichomanes subsp. pachyrachis",null,"Maidenhair Spleenwort","Aspleniaceae","Near Threatened",194.3,"Asplenium trichomanes subsp. pachyrachis_194.3",null,null,null,null,null,null,null,"Asplenium trichomanes subsp. pachyrachis_194.3"]
["",null,null,null,"","","",null,null,null,null,null,null,null,null,"","","",{"$f":"IF(LEN($F468)<1,\"\",IF(ISBLANK(Checklist!$H$2),\"\",Checklist!$H$2))","v":""},{"$f":"IF(LEN($F468)<1,\"\",IF(ISTEXT(H468),H468,IF(ISTEXT(Checklist!$H$3),Checklist!$H$3,\"NO Grid Ref!!\")))","v":""},{"$f":"IF(LEN($F468)<1,\"\",IF(ISBLANK(Checklist!$H$4),\"NO VC!!\",Checklist!$H$4))","v":""},{"$f":"IF(LEN($F468)<1,\"\",IF(ISBLANK(Checklist!$H$5),\"NO Date!!\",Checklist!$H$5))","v":""},{"$f":"IF(LEN($F468)<1,\"\",IF(ISBLANK(Checklist!$H$6),\"NO Recorder!!\",Checklist!$H$6))","v":""},{"$f":"IF(LEN($F468)<1,\"\",IF(ISTEXT(I468),I468,IF(ISTEXT(Checklist!$H$6),Checklist!$H$6,\"NO Determiner!!\")))","v":""},{"$f":"IF(LEN($F468)<1,\"\",IF(ISTEXT(J468),J468,IF(ISTEXT(Checklist!$H$7),Checklist!$H$7,\"Field record / observation\")))","v":""},"","",null,"","","","","","","","","","","","",null,null,null,null,null,null,null,null,null,null,null,null,null,null,null,null,null,null,null,367,"Carex disticha",null,null,194.1,"Asplenium trichomanes subsp. quadrivalens","D.E.Mayer","Maidenhair Spleenwort","Aspleniaceae",null,194.1,"Asplenium trichomanes subsp. quadrivalens_194.1",null,null,null,null,null,null,null,"Asplenium trichomanes subsp. quadrivalens_194.1"]
["",null,null,null,"","","",null,null,null,null,null,null,null,null,"","","",{"$f":"IF(LEN($F469)<1,\"\",IF(ISBLANK(Checklist!$H$2),\"\",Checklist!$H$2))","v":""},{"$f":"IF(LEN($F469)<1,\"\",IF(ISTEXT(H469),H469,IF(ISTEXT(Checklist!$H$3),Checklist!$H$3,\"NO Grid Ref!!\")))","v":""},{"$f":"IF(LEN($F469)<1,\"\",IF(ISBLANK(Checklist!$H$4),\"NO VC!!\",Checklist!$H$4))","v":""},{"$f":"IF(LEN($F469)<1,\"\",IF(ISBLANK(Checklist!$H$5),\"NO Date!!\",Checklist!$H$5))","v":""},{"$f":"IF(LEN($F469)<1,\"\",IF(ISBLANK(Checklist!$H$6),\"NO Recorder!!\",Checklist!$H$6))","v":""},{"$f":"IF(LEN($F469)<1,\"\",IF(ISTEXT(I469),I469,IF(ISTEXT(Checklist!$H$6),Checklist!$H$6,\"NO Determiner!!\")))","v":""},{"$f":"IF(LEN($F469)<1,\"\",IF(ISTEXT(J469),J469,IF(ISTEXT(Checklist!$H$7),Checklist!$H$7,\"Field record / observation\")))","v":""},"","",null,"","","","","","","","","","","","",null,null,null,null,null,null,null,null,null,null,null,null,null,null,null,null,null,null,null,368,"Carex divisa",null,null,194.2,"Asplenium trichomanes subsp. trichomanes",null,"Maidenhair Spleenwort","Aspleniaceae",null,194.2,"Asplenium trichomanes subsp. trichomanes_194.2",null,null,null,null,null,null,null,"Asplenium trichomanes subsp. trichomanes_194.2"]
["",null,null,null,"","","",null,null,null,null,null,null,null,null,"","","",{"$f":"IF(LEN($F470)<1,\"\",IF(ISBLANK(Checklist!$H$2),\"\",Checklist!$H$2))","v":""},{"$f":"IF(LEN($F470)<1,\"\",IF(ISTEXT(H470),H470,IF(ISTEXT(Checklist!$H$3),Checklist!$H$3,\"NO Grid Ref!!\")))","v":""},{"$f":"IF(LEN($F470)<1,\"\",IF(ISBLANK(Checklist!$H$4),\"NO VC!!\",Checklist!$H$4))","v":""},{"$f":"IF(LEN($F470)<1,\"\",IF(ISBLANK(Checklist!$H$5),\"NO Date!!\",Checklist!$H$5))","v":""},{"$f":"IF(LEN($F470)<1,\"\",IF(ISBLANK(Checklist!$H$6),\"NO Recorder!!\",Checklist!$H$6))","v":""},{"$f":"IF(LEN($F470)<1,\"\",IF(ISTEXT(I470),I470,IF(ISTEXT(Checklist!$H$6),Checklist!$H$6,\"NO Determiner!!\")))","v":""},{"$f":"IF(LEN($F470)<1,\"\",IF(ISTEXT(J470),J470,IF(ISTEXT(Checklist!$H$7),Checklist!$H$7,\"Field record / observation\")))","v":""},"","",null,"","","","","","","","","","","","",null,null,null,null,null,null,null,null,null,null,null,null,null,null,null,null,null,null,null,369,"Carex divulsa subsp. divulsa",null,null,195,"Asplenium viride","Hudson","Green Spleenwort","Aspleniaceae",null,195,"Asplenium viride_195",null,null,null,null,null,null,null,"Asplenium viride_195"]
["",null,null,null,"","","",null,null,null,null,null,null,null,null,"","","",{"$f":"IF(LEN($F471)<1,\"\",IF(ISBLANK(Checklist!$H$2),\"\",Checklist!$H$2))","v":""},{"$f":"IF(LEN($F471)<1,\"\",IF(ISTEXT(H471),H471,IF(ISTEXT(Checklist!$H$3),Checklist!$H$3,\"NO Grid Ref!!\")))","v":""},{"$f":"IF(LEN($F471)<1,\"\",IF(ISBLANK(Checklist!$H$4),\"NO VC!!\",Checklist!$H$4))","v":""},{"$f":"IF(LEN($F471)<1,\"\",IF(ISBLANK(Checklist!$H$5),\"NO Date!!\",Checklist!$H$5))","v":""},{"$f":"IF(LEN($F471)<1,\"\",IF(ISBLANK(Checklist!$H$6),\"NO Recorder!!\",Checklist!$H$6))","v":""},{"$f":"IF(LEN($F471)<1,\"\",IF(ISTEXT(I471),I471,IF(ISTEXT(Checklist!$H$6),Checklist!$H$6,\"NO Determiner!!\")))","v":""},{"$f":"IF(LEN($F471)<1,\"\",IF(ISTEXT(J471),J471,IF(ISTEXT(Checklist!$H$7),Checklist!$H$7,\"Field record / observation\")))","v":""},"","",null,"","","","","","","","","","","","",null,null,null,null,null,null,null,null,null,null,null,null,null,null,null,null,null,null,null,370,"Carex echinata",null,null,186,"Asplenium x alternifolium","Wulf.","A. septentrionale x trichomanes","Aspleniaceae",null,186,"Asplenium x alternifolium_186",null,null,null,null,null,null,null,"Asplenium x alternifolium_186"]
["",null,null,null,"","","",null,null,null,null,null,null,null,null,"","","",{"$f":"IF(LEN($F472)<1,\"\",IF(ISBLANK(Checklist!$H$2),\"\",Checklist!$H$2))","v":""},{"$f":"IF(LEN($F472)<1,\"\",IF(ISTEXT(H472),H472,IF(ISTEXT(Checklist!$H$3),Checklist!$H$3,\"NO Grid Ref!!\")))","v":""},{"$f":"IF(LEN($F472)<1,\"\",IF(ISBLANK(Checklist!$H$4),\"NO VC!!\",Checklist!$H$4))","v":""},{"$f":"IF(LEN($F472)<1,\"\",IF(ISBLANK(Checklist!$H$5),\"NO Date!!\",Checklist!$H$5))","v":""},{"$f":"IF(LEN($F472)<1,\"\",IF(ISBLANK(Checklist!$H$6),\"NO Recorder!!\",Checklist!$H$6))","v":""},{"$f":"IF(LEN($F472)<1,\"\",IF(ISTEXT(I472),I472,IF(ISTEXT(Checklist!$H$6),Checklist!$H$6,\"NO Determiner!!\")))","v":""},{"$f":"IF(LEN($F472)<1,\"\",IF(ISTEXT(J472),J472,IF(ISTEXT(Checklist!$H$7),Checklist!$H$7,\"Field record / observation\")))","v":""},"","",null,"","","","","","","","","","","","",null,null,null,null,null,null,null,null,null,null,null,null,null,null,null,null,null,null,null,371,"Carex elata",null,null,187,"Asplenium x clermontiae","Syme","A. ruta-muraria x trichomanes","Aspleniaceae",null,187,"Asplenium x clermontiae_187",null,null,null,null,null,null,null,"Asplenium x clermontiae_187"]
["",null,null,null,"","","",null,null,null,null,null,null,null,null,"","","",{"$f":"IF(LEN($F473)<1,\"\",IF(ISBLANK(Checklist!$H$2),\"\",Checklist!$H$2))","v":""},{"$f":"IF(LEN($F473)<1,\"\",IF(ISTEXT(H473),H473,IF(ISTEXT(Checklist!$H$3),Checklist!$H$3,\"NO Grid Ref!!\")))","v":""},{"$f":"IF(LEN($F473)<1,\"\",IF(ISBLANK(Checklist!$H$4),\"NO VC!!\",Checklist!$H$4))","v":""},{"$f":"IF(LEN($F473)<1,\"\",IF(ISBLANK(Checklist!$H$5),\"NO Date!!\",Checklist!$H$5))","v":""},{"$f":"IF(LEN($F473)<1,\"\",IF(ISBLANK(Checklist!$H$6),\"NO Recorder!!\",Checklist!$H$6))","v":""},{"$f":"IF(LEN($F473)<1,\"\",IF(ISTEXT(I473),I473,IF(ISTEXT(Checklist!$H$6),Checklist!$H$6,\"NO Determiner!!\")))","v":""},{"$f":"IF(LEN($F473)<1,\"\",IF(ISTEXT(J473),J473,IF(ISTEXT(Checklist!$H$7),Checklist!$H$7,\"Field record / observation\")))","v":""},"","",null,"","","","","","","","","","","","",null,null,null,null,null,null,null,null,null,null,null,null,null,null,null,null,null,null,null,372,"Carex elongata",null,null,2579,"Asplenium x confluens","(T. Moore ex E. Lowe) Lawalrée","Confluent Spleenwort (A. scolopendrium x trichomanes)","Aspleniaceae",null,2579,"Asplenium x confluens_2579",null,null,null,null,null,null,null,"Asplenium x confluens_2579"]
["",null,null,null,"","","",null,null,null,null,null,null,null,null,"","","",{"$f":"IF(LEN($F474)<1,\"\",IF(ISBLANK(Checklist!$H$2),\"\",Checklist!$H$2))","v":""},{"$f":"IF(LEN($F474)<1,\"\",IF(ISTEXT(H474),H474,IF(ISTEXT(Checklist!$H$3),Checklist!$H$3,\"NO Grid Ref!!\")))","v":""},{"$f":"IF(LEN($F474)<1,\"\",IF(ISBLANK(Checklist!$H$4),\"NO VC!!\",Checklist!$H$4))","v":""},{"$f":"IF(LEN($F474)<1,\"\",IF(ISBLANK(Checklist!$H$5),\"NO Date!!\",Checklist!$H$5))","v":""},{"$f":"IF(LEN($F474)<1,\"\",IF(ISBLANK(Checklist!$H$6),\"NO Recorder!!\",Checklist!$H$6))","v":""},{"$f":"IF(LEN($F474)<1,\"\",IF(ISTEXT(I474),I474,IF(ISTEXT(Checklist!$H$6),Checklist!$H$6,\"NO Determiner!!\")))","v":""},{"$f":"IF(LEN($F474)<1,\"\",IF(ISTEXT(J474),J474,IF(ISTEXT(Checklist!$H$7),Checklist!$H$7,\"Field record / observation\")))","v":""},"","",null,"","","","","","","","","","","","",null,null,null,null,null,null,null,null,null,null,null,null,null,null,null,null,null,null,null,373,"Carex ericetorum",null,null,2575,"Asplenium x contrei","Callé, Lovis & Reichst.","A. adiantum-nigrum x septentrionale","Aspleniaceae",null,2575,"Asplenium x contrei_2575",null,null,null,null,null,null,null,"Asplenium x contrei_2575"]
["",null,null,null,"","","",null,null,null,null,null,null,null,null,"","","",{"$f":"IF(LEN($F475)<1,\"\",IF(ISBLANK(Checklist!$H$2),\"\",Checklist!$H$2))","v":""},{"$f":"IF(LEN($F475)<1,\"\",IF(ISTEXT(H475),H475,IF(ISTEXT(Checklist!$H$3),Checklist!$H$3,\"NO Grid Ref!!\")))","v":""},{"$f":"IF(LEN($F475)<1,\"\",IF(ISBLANK(Checklist!$H$4),\"NO VC!!\",Checklist!$H$4))","v":""},{"$f":"IF(LEN($F475)<1,\"\",IF(ISBLANK(Checklist!$H$5),\"NO Date!!\",Checklist!$H$5))","v":""},{"$f":"IF(LEN($F475)<1,\"\",IF(ISBLANK(Checklist!$H$6),\"NO Recorder!!\",Checklist!$H$6))","v":""},{"$f":"IF(LEN($F475)<1,\"\",IF(ISTEXT(I475),I475,IF(ISTEXT(Checklist!$H$6),Checklist!$H$6,\"NO Determiner!!\")))","v":""},{"$f":"IF(LEN($F475)<1,\"\",IF(ISTEXT(J475),J475,IF(ISTEXT(Checklist!$H$7),Checklist!$H$7,\"Field record / observation\")))","v":""},"","",null,"","","","","","","","","","","","",null,null,null,null,null,null,null,null,null,null,null,null,null,null,null,null,null,null,null,374,"Carex extensa",null,null,2580,"Asplenium x jacksonii","(Alston) Lawalrée","Jackson's Spleenwort (A. scolopendrium x adiantum-nigrum)","Aspleniaceae",null,2580,"Asplenium x jacksonii_2580",null,null,null,null,null,null,null,"Asplenium x jacksonii_2580"]
["",null,null,null,"","","",null,null,null,null,null,null,null,null,"","","",{"$f":"IF(LEN($F476)<1,\"\",IF(ISBLANK(Checklist!$H$2),\"\",Checklist!$H$2))","v":""},{"$f":"IF(LEN($F476)<1,\"\",IF(ISTEXT(H476),H476,IF(ISTEXT(Checklist!$H$3),Checklist!$H$3,\"NO Grid Ref!!\")))","v":""},{"$f":"IF(LEN($F476)<1,\"\",IF(ISBLANK(Checklist!$H$4),\"NO VC!!\",Checklist!$H$4))","v":""},{"$f":"IF(LEN($F476)<1,\"\",IF(ISBLANK(Checklist!$H$5),\"NO Date!!\",Checklist!$H$5))","v":""},{"$f":"IF(LEN($F476)<1,\"\",IF(ISBLANK(Checklist!$H$6),\"NO Recorder!!\",Checklist!$H$6))","v":""},{"$f":"IF(LEN($F476)<1,\"\",IF(ISTEXT(I476),I476,IF(ISTEXT(Checklist!$H$6),Checklist!$H$6,\"NO Determiner!!\")))","v":""},{"$f":"IF(LEN($F476)<1,\"\",IF(ISTEXT(J476),J476,IF(ISTEXT(Checklist!$H$7),Checklist!$H$7,\"Field record / observation\")))","v":""},"","",null,"","","","","","","","","","","","",null,null,null,null,null,null,null,null,null,null,null,null,null,null,null,null,null,null,null,375,"Carex filiformis",null,null,2576,"Asplenium x lusaticum",null,"A. trichomanes ssp. quadrivalens x ssp. trichomanes","Aspleniaceae",null,2576,"Asplenium x lusaticum_2576",null,null,null,null,null,null,null,"Asplenium x lusaticum_2576"]
["",null,null,null,"","","",null,null,null,null,null,null,null,null,"","","",{"$f":"IF(LEN($F477)<1,\"\",IF(ISBLANK(Checklist!$H$2),\"\",Checklist!$H$2))","v":""},{"$f":"IF(LEN($F477)<1,\"\",IF(ISTEXT(H477),H477,IF(ISTEXT(Checklist!$H$3),Checklist!$H$3,\"NO Grid Ref!!\")))","v":""},{"$f":"IF(LEN($F477)<1,\"\",IF(ISBLANK(Checklist!$H$4),\"NO VC!!\",Checklist!$H$4))","v":""},{"$f":"IF(LEN($F477)<1,\"\",IF(ISBLANK(Checklist!$H$5),\"NO Date!!\",Checklist!$H$5))","v":""},{"$f":"IF(LEN($F477)<1,\"\",IF(ISBLANK(Checklist!$H$6),\"NO Recorder!!\",Checklist!$H$6))","v":""},{"$f":"IF(LEN($F477)<1,\"\",IF(ISTEXT(I477),I477,IF(ISTEXT(Checklist!$H$6),Checklist!$H$6,\"NO Determiner!!\")))","v":""},{"$f":"IF(LEN($F477)<1,\"\",IF(ISTEXT(J477),J477,IF(ISTEXT(Checklist!$H$7),Checklist!$H$7,\"Field record / observation\")))","v":""},"","",null,"","","","","","","","","","","","",null,null,null,null,null,null,null,null,null,null,null,null,null,null,null,null,null,null,null,376,"Carex flacca",null,null,2581,"Asplenium x microdon","(T. Moore) Lovis & Vida","Moore's Spleenwort (A. scolopendrium x obovatum )","Aspleniaceae",null,2581,"Asplenium x microdon_2581",null,null,null,null,null,null,null,"Asplenium x microdon_2581"]
["",null,null,null,"","","",null,null,null,null,null,null,null,null,"","","",{"$f":"IF(LEN($F478)<1,\"\",IF(ISBLANK(Checklist!$H$2),\"\",Checklist!$H$2))","v":""},{"$f":"IF(LEN($F478)<1,\"\",IF(ISTEXT(H478),H478,IF(ISTEXT(Checklist!$H$3),Checklist!$H$3,\"NO Grid Ref!!\")))","v":""},{"$f":"IF(LEN($F478)<1,\"\",IF(ISBLANK(Checklist!$H$4),\"NO VC!!\",Checklist!$H$4))","v":""},{"$f":"IF(LEN($F478)<1,\"\",IF(ISBLANK(Checklist!$H$5),\"NO Date!!\",Checklist!$H$5))","v":""},{"$f":"IF(LEN($F478)<1,\"\",IF(ISBLANK(Checklist!$H$6),\"NO Recorder!!\",Checklist!$H$6))","v":""},{"$f":"IF(LEN($F478)<1,\"\",IF(ISTEXT(I478),I478,IF(ISTEXT(Checklist!$H$6),Checklist!$H$6,\"NO Determiner!!\")))","v":""},{"$f":"IF(LEN($F478)<1,\"\",IF(ISTEXT(J478),J478,IF(ISTEXT(Checklist!$H$7),Checklist!$H$7,\"Field record / observation\")))","v":""},"","",null,"","","","","","","","","","","","",null,null,null,null,null,null,null,null,null,null,null,null,null,null,null,null,null,null,null,377,"Carex flava agg.",null,null,190,"Asplenium x murbeckii","Dörfl.","A. ruta-muraria x septentrionale","Aspleniaceae","Rare",190,"Asplenium x murbeckii_190",null,null,null,null,null,null,null,"Asplenium x murbeckii_190"]
["",null,null,null,"","","",null,null,null,null,null,null,null,null,"","","",{"$f":"IF(LEN($F479)<1,\"\",IF(ISBLANK(Checklist!$H$2),\"\",Checklist!$H$2))","v":""},{"$f":"IF(LEN($F479)<1,\"\",IF(ISTEXT(H479),H479,IF(ISTEXT(Checklist!$H$3),Checklist!$H$3,\"NO Grid Ref!!\")))","v":""},{"$f":"IF(LEN($F479)<1,\"\",IF(ISBLANK(Checklist!$H$4),\"NO VC!!\",Checklist!$H$4))","v":""},{"$f":"IF(LEN($F479)<1,\"\",IF(ISBLANK(Checklist!$H$5),\"NO Date!!\",Checklist!$H$5))","v":""},{"$f":"IF(LEN($F479)<1,\"\",IF(ISBLANK(Checklist!$H$6),\"NO Recorder!!\",Checklist!$H$6))","v":""},{"$f":"IF(LEN($F479)<1,\"\",IF(ISTEXT(I479),I479,IF(ISTEXT(Checklist!$H$6),Checklist!$H$6,\"NO Determiner!!\")))","v":""},{"$f":"IF(LEN($F479)<1,\"\",IF(ISTEXT(J479),J479,IF(ISTEXT(Checklist!$H$7),Checklist!$H$7,\"Field record / observation\")))","v":""},"","",null,"","","","","","","","","","","","",null,null,null,null,null,null,null,null,null,null,null,null,null,null,null,null,null,null,null,378,"Carex flava",null,null,2577,"Asplenium x sarniense","Sleep","A. adiantum-nigrum x obovatum","Aspleniaceae",null,2577,"Asplenium x sarniense_2577",null,null,null,null,null,null,null,"Asplenium x sarniense_2577"]
["",null,null,null,"","","",null,null,null,null,null,null,null,null,"","","",{"$f":"IF(LEN($F480)<1,\"\",IF(ISBLANK(Checklist!$H$2),\"\",Checklist!$H$2))","v":""},{"$f":"IF(LEN($F480)<1,\"\",IF(ISTEXT(H480),H480,IF(ISTEXT(Checklist!$H$3),Checklist!$H$3,\"NO Grid Ref!!\")))","v":""},{"$f":"IF(LEN($F480)<1,\"\",IF(ISBLANK(Checklist!$H$4),\"NO VC!!\",Checklist!$H$4))","v":""},{"$f":"IF(LEN($F480)<1,\"\",IF(ISBLANK(Checklist!$H$5),\"NO Date!!\",Checklist!$H$5))","v":""},{"$f":"IF(LEN($F480)<1,\"\",IF(ISBLANK(Checklist!$H$6),\"NO Recorder!!\",Checklist!$H$6))","v":""},{"$f":"IF(LEN($F480)<1,\"\",IF(ISTEXT(I480),I480,IF(ISTEXT(Checklist!$H$6),Checklist!$H$6,\"NO Determiner!!\")))","v":""},{"$f":"IF(LEN($F480)<1,\"\",IF(ISTEXT(J480),J480,IF(ISTEXT(Checklist!$H$7),Checklist!$H$7,\"Field record / observation\")))","v":""},"","",null,"","","","","","","","","","","","",null,null,null,null,null,null,null,null,null,null,null,null,null,null,null,null,null,null,null,379,"Carex glacialis",null,null,7840,"Asplenium x staufferi",null,"A. trichomanes ssp. pachyrachis x ssp. quadrivalens","Aspleniaceae",null,7840,"Asplenium x staufferi_7840",null,null,null,null,null,null,null,"Asplenium x staufferi_7840"]
["",null,null,null,"","","",null,null,null,null,null,null,null,null,"","","",{"$f":"IF(LEN($F481)<1,\"\",IF(ISBLANK(Checklist!$H$2),\"\",Checklist!$H$2))","v":""},{"$f":"IF(LEN($F481)<1,\"\",IF(ISTEXT(H481),H481,IF(ISTEXT(Checklist!$H$3),Checklist!$H$3,\"NO Grid Ref!!\")))","v":""},{"$f":"IF(LEN($F481)<1,\"\",IF(ISBLANK(Checklist!$H$4),\"NO VC!!\",Checklist!$H$4))","v":""},{"$f":"IF(LEN($F481)<1,\"\",IF(ISBLANK(Checklist!$H$5),\"NO Date!!\",Checklist!$H$5))","v":""},{"$f":"IF(LEN($F481)<1,\"\",IF(ISBLANK(Checklist!$H$6),\"NO Recorder!!\",Checklist!$H$6))","v":""},{"$f":"IF(LEN($F481)<1,\"\",IF(ISTEXT(I481),I481,IF(ISTEXT(Checklist!$H$6),Checklist!$H$6,\"NO Determiner!!\")))","v":""},{"$f":"IF(LEN($F481)<1,\"\",IF(ISTEXT(J481),J481,IF(ISTEXT(Checklist!$H$7),Checklist!$H$7,\"Field record / observation\")))","v":""},"","",null,"","","","","","","","","","","","",null,null,null,null,null,null,null,null,null,null,null,null,null,null,null,null,null,null,null,380,"Carex x grahamii",null,null,2578,"Asplenium x ticinense","D.E.Meyer","A. adiantum-nigrum x onopteris","Aspleniaceae",null,2578,"Asplenium x ticinense_2578",null,null,null,null,null,null,null,"Asplenium x ticinense_2578"]
["",null,null,null,"","","",null,null,null,null,null,null,null,null,"","","",{"$f":"IF(LEN($F482)<1,\"\",IF(ISBLANK(Checklist!$H$2),\"\",Checklist!$H$2))","v":""},{"$f":"IF(LEN($F482)<1,\"\",IF(ISTEXT(H482),H482,IF(ISTEXT(Checklist!$H$3),Checklist!$H$3,\"NO Grid Ref!!\")))","v":""},{"$f":"IF(LEN($F482)<1,\"\",IF(ISBLANK(Checklist!$H$4),\"NO VC!!\",Checklist!$H$4))","v":""},{"$f":"IF(LEN($F482)<1,\"\",IF(ISBLANK(Checklist!$H$5),\"NO Date!!\",Checklist!$H$5))","v":""},{"$f":"IF(LEN($F482)<1,\"\",IF(ISBLANK(Checklist!$H$6),\"NO Recorder!!\",Checklist!$H$6))","v":""},{"$f":"IF(LEN($F482)<1,\"\",IF(ISTEXT(I482),I482,IF(ISTEXT(Checklist!$H$6),Checklist!$H$6,\"NO Determiner!!\")))","v":""},{"$f":"IF(LEN($F482)<1,\"\",IF(ISTEXT(J482),J482,IF(ISTEXT(Checklist!$H$7),Checklist!$H$7,\"Field record / observation\")))","v":""},"","",null,"","","","","","","","","","","","",null,null,null,null,null,null,null,null,null,null,null,null,null,null,null,null,null,null,null,381,"Carex hirta",null,null,201,"Aster agg.",null,"Michaelmas Daisy","Asteraceae",null,201,"Aster agg._201",null,null,null,null,null,null,null,"Aster agg._201"]
["",null,null,null,"","","",null,null,null,null,null,null,null,null,"","","",{"$f":"IF(LEN($F483)<1,\"\",IF(ISBLANK(Checklist!$H$2),\"\",Checklist!$H$2))","v":""},{"$f":"IF(LEN($F483)<1,\"\",IF(ISTEXT(H483),H483,IF(ISTEXT(Checklist!$H$3),Checklist!$H$3,\"NO Grid Ref!!\")))","v":""},{"$f":"IF(LEN($F483)<1,\"\",IF(ISBLANK(Checklist!$H$4),\"NO VC!!\",Checklist!$H$4))","v":""},{"$f":"IF(LEN($F483)<1,\"\",IF(ISBLANK(Checklist!$H$5),\"NO Date!!\",Checklist!$H$5))","v":""},{"$f":"IF(LEN($F483)<1,\"\",IF(ISBLANK(Checklist!$H$6),\"NO Recorder!!\",Checklist!$H$6))","v":""},{"$f":"IF(LEN($F483)<1,\"\",IF(ISTEXT(I483),I483,IF(ISTEXT(Checklist!$H$6),Checklist!$H$6,\"NO Determiner!!\")))","v":""},{"$f":"IF(LEN($F483)<1,\"\",IF(ISTEXT(J483),J483,IF(ISTEXT(Checklist!$H$7),Checklist!$H$7,\"Field record / observation\")))","v":""},"","",null,"","","","","","","","","","","","",null,null,null,null,null,null,null,null,null,null,null,null,null,null,null,null,null,null,null,382,"Carex hostiana",null,null,7957,"Aster amellus","L.","European Michaelmas-daisy","Asteraceae",null,7957,"Aster amellus_7957",null,null,null,null,null,null,null,"Aster amellus_7957"]
["",null,null,null,"","","",null,null,null,null,null,null,null,null,"","","",{"$f":"IF(LEN($F484)<1,\"\",IF(ISBLANK(Checklist!$H$2),\"\",Checklist!$H$2))","v":""},{"$f":"IF(LEN($F484)<1,\"\",IF(ISTEXT(H484),H484,IF(ISTEXT(Checklist!$H$3),Checklist!$H$3,\"NO Grid Ref!!\")))","v":""},{"$f":"IF(LEN($F484)<1,\"\",IF(ISBLANK(Checklist!$H$4),\"NO VC!!\",Checklist!$H$4))","v":""},{"$f":"IF(LEN($F484)<1,\"\",IF(ISBLANK(Checklist!$H$5),\"NO Date!!\",Checklist!$H$5))","v":""},{"$f":"IF(LEN($F484)<1,\"\",IF(ISBLANK(Checklist!$H$6),\"NO Recorder!!\",Checklist!$H$6))","v":""},{"$f":"IF(LEN($F484)<1,\"\",IF(ISTEXT(I484),I484,IF(ISTEXT(Checklist!$H$6),Checklist!$H$6,\"NO Determiner!!\")))","v":""},{"$f":"IF(LEN($F484)<1,\"\",IF(ISTEXT(J484),J484,IF(ISTEXT(Checklist!$H$7),Checklist!$H$7,\"Field record / observation\")))","v":""},"","",null,"","","","","","","","","","","","",null,null,null,null,null,null,null,null,null,null,null,null,null,null,null,null,null,null,null,383,"Carex humilis",null,null,7958,"Aster concinnus","Willd.","Narrow-leaved Smooth-aster","Asteraceae",null,7958,"Aster concinnus_7958",null,null,null,null,null,null,null,"Aster concinnus_7958"]
["",null,null,null,"","","",null,null,null,null,null,null,null,null,"","","",{"$f":"IF(LEN($F485)<1,\"\",IF(ISBLANK(Checklist!$H$2),\"\",Checklist!$H$2))","v":""},{"$f":"IF(LEN($F485)<1,\"\",IF(ISTEXT(H485),H485,IF(ISTEXT(Checklist!$H$3),Checklist!$H$3,\"NO Grid Ref!!\")))","v":""},{"$f":"IF(LEN($F485)<1,\"\",IF(ISBLANK(Checklist!$H$4),\"NO VC!!\",Checklist!$H$4))","v":""},{"$f":"IF(LEN($F485)<1,\"\",IF(ISBLANK(Checklist!$H$5),\"NO Date!!\",Checklist!$H$5))","v":""},{"$f":"IF(LEN($F485)<1,\"\",IF(ISBLANK(Checklist!$H$6),\"NO Recorder!!\",Checklist!$H$6))","v":""},{"$f":"IF(LEN($F485)<1,\"\",IF(ISTEXT(I485),I485,IF(ISTEXT(Checklist!$H$6),Checklist!$H$6,\"NO Determiner!!\")))","v":""},{"$f":"IF(LEN($F485)<1,\"\",IF(ISTEXT(J485),J485,IF(ISTEXT(Checklist!$H$7),Checklist!$H$7,\"Field record / observation\")))","v":""},"","",null,"","","","","","","","","","","","",null,null,null,null,null,null,null,null,null,null,null,null,null,null,null,null,null,null,null,384,"Carex lachenalii",null,null,7959,"Aster dumosus","L.","Bushy Aster","Asteraceae",null,7959,"Aster dumosus_7959",null,null,null,null,null,null,null,"Aster dumosus_7959"]
["",null,null,null,"","","",null,null,null,null,null,null,null,null,"","","",{"$f":"IF(LEN($F486)<1,\"\",IF(ISBLANK(Checklist!$H$2),\"\",Checklist!$H$2))","v":""},{"$f":"IF(LEN($F486)<1,\"\",IF(ISTEXT(H486),H486,IF(ISTEXT(Checklist!$H$3),Checklist!$H$3,\"NO Grid Ref!!\")))","v":""},{"$f":"IF(LEN($F486)<1,\"\",IF(ISBLANK(Checklist!$H$4),\"NO VC!!\",Checklist!$H$4))","v":""},{"$f":"IF(LEN($F486)<1,\"\",IF(ISBLANK(Checklist!$H$5),\"NO Date!!\",Checklist!$H$5))","v":""},{"$f":"IF(LEN($F486)<1,\"\",IF(ISBLANK(Checklist!$H$6),\"NO Recorder!!\",Checklist!$H$6))","v":""},{"$f":"IF(LEN($F486)<1,\"\",IF(ISTEXT(I486),I486,IF(ISTEXT(Checklist!$H$6),Checklist!$H$6,\"NO Determiner!!\")))","v":""},{"$f":"IF(LEN($F486)<1,\"\",IF(ISTEXT(J486),J486,IF(ISTEXT(Checklist!$H$7),Checklist!$H$7,\"Field record / observation\")))","v":""},"","",null,"","","","","","","","","","","","",null,null,null,null,null,null,null,null,null,null,null,null,null,null,null,null,null,null,null,385,"Carex laevigata",null,null,7960,"Aster foliaceus","Lindley",null,"Asteraceae",null,7960,"Aster foliaceus_7960",null,null,null,null,null,null,null,"Aster foliaceus_7960"]
["",null,null,null,"","","",null,null,null,null,null,null,null,null,"","","",{"$f":"IF(LEN($F487)<1,\"\",IF(ISBLANK(Checklist!$H$2),\"\",Checklist!$H$2))","v":""},{"$f":"IF(LEN($F487)<1,\"\",IF(ISTEXT(H487),H487,IF(ISTEXT(Checklist!$H$3),Checklist!$H$3,\"NO Grid Ref!!\")))","v":""},{"$f":"IF(LEN($F487)<1,\"\",IF(ISBLANK(Checklist!$H$4),\"NO VC!!\",Checklist!$H$4))","v":""},{"$f":"IF(LEN($F487)<1,\"\",IF(ISBLANK(Checklist!$H$5),\"NO Date!!\",Checklist!$H$5))","v":""},{"$f":"IF(LEN($F487)<1,\"\",IF(ISBLANK(Checklist!$H$6),\"NO Recorder!!\",Checklist!$H$6))","v":""},{"$f":"IF(LEN($F487)<1,\"\",IF(ISTEXT(I487),I487,IF(ISTEXT(Checklist!$H$6),Checklist!$H$6,\"NO Determiner!!\")))","v":""},{"$f":"IF(LEN($F487)<1,\"\",IF(ISTEXT(J487),J487,IF(ISTEXT(Checklist!$H$7),Checklist!$H$7,\"Field record / observation\")))","v":""},"","",null,"","","","","","","","","","","","",null,null,null,null,null,null,null,null,null,null,null,null,null,null,null,null,null,null,null,386,"Carex lasiocarpa",null,null,196,"Aster laevis","L.","Glaucous Michaelmas-daisy","Asteraceae",null,196,"Aster laevis_196",null,null,null,null,null,null,null,"Aster laevis_196"]
["",null,null,null,"","","",null,null,null,null,null,null,null,null,"","","",{"$f":"IF(LEN($F488)<1,\"\",IF(ISBLANK(Checklist!$H$2),\"\",Checklist!$H$2))","v":""},{"$f":"IF(LEN($F488)<1,\"\",IF(ISTEXT(H488),H488,IF(ISTEXT(Checklist!$H$3),Checklist!$H$3,\"NO Grid Ref!!\")))","v":""},{"$f":"IF(LEN($F488)<1,\"\",IF(ISBLANK(Checklist!$H$4),\"NO VC!!\",Checklist!$H$4))","v":""},{"$f":"IF(LEN($F488)<1,\"\",IF(ISBLANK(Checklist!$H$5),\"NO Date!!\",Checklist!$H$5))","v":""},{"$f":"IF(LEN($F488)<1,\"\",IF(ISBLANK(Checklist!$H$6),\"NO Recorder!!\",Checklist!$H$6))","v":""},{"$f":"IF(LEN($F488)<1,\"\",IF(ISTEXT(I488),I488,IF(ISTEXT(Checklist!$H$6),Checklist!$H$6,\"NO Determiner!!\")))","v":""},{"$f":"IF(LEN($F488)<1,\"\",IF(ISTEXT(J488),J488,IF(ISTEXT(Checklist!$H$7),Checklist!$H$7,\"Field record / observation\")))","v":""},"","",null,"","","","","","","","","","","","",null,null,null,null,null,null,null,null,null,null,null,null,null,null,null,null,null,null,null,387,"Carex lepidocarpa",null,null,197,"Aster lanceolatus","Willd.","Narrow-leaved Michaelmas-daisy","Asteraceae",null,197,"Aster lanceolatus_197",null,null,null,null,null,null,null,"Aster lanceolatus_197"]
["",null,null,null,"","","",null,null,null,null,null,null,null,null,"","","",{"$f":"IF(LEN($F489)<1,\"\",IF(ISBLANK(Checklist!$H$2),\"\",Checklist!$H$2))","v":""},{"$f":"IF(LEN($F489)<1,\"\",IF(ISTEXT(H489),H489,IF(ISTEXT(Checklist!$H$3),Checklist!$H$3,\"NO Grid Ref!!\")))","v":""},{"$f":"IF(LEN($F489)<1,\"\",IF(ISBLANK(Checklist!$H$4),\"NO VC!!\",Checklist!$H$4))","v":""},{"$f":"IF(LEN($F489)<1,\"\",IF(ISBLANK(Checklist!$H$5),\"NO Date!!\",Checklist!$H$5))","v":""},{"$f":"IF(LEN($F489)<1,\"\",IF(ISBLANK(Checklist!$H$6),\"NO Recorder!!\",Checklist!$H$6))","v":""},{"$f":"IF(LEN($F489)<1,\"\",IF(ISTEXT(I489),I489,IF(ISTEXT(Checklist!$H$6),Checklist!$H$6,\"NO Determiner!!\")))","v":""},{"$f":"IF(LEN($F489)<1,\"\",IF(ISTEXT(J489),J489,IF(ISTEXT(Checklist!$H$7),Checklist!$H$7,\"Field record / observation\")))","v":""},"","",null,"","","","","","","","","","","","",null,null,null,null,null,null,null,null,null,null,null,null,null,null,null,null,null,null,null,387.1,"Carex lepidocarpa subsp. lepidocarpa",null,null,1166,"Aster linosyris","(L.) Bernh.","Goldilocks Aster","Asteraceae","Rare",1166,"Aster linosyris_1166",null,null,null,null,null,null,null,"Aster linosyris_1166"]
["",null,null,null,"","","",null,null,null,null,null,null,null,null,"","","",{"$f":"IF(LEN($F490)<1,\"\",IF(ISBLANK(Checklist!$H$2),\"\",Checklist!$H$2))","v":""},{"$f":"IF(LEN($F490)<1,\"\",IF(ISTEXT(H490),H490,IF(ISTEXT(Checklist!$H$3),Checklist!$H$3,\"NO Grid Ref!!\")))","v":""},{"$f":"IF(LEN($F490)<1,\"\",IF(ISBLANK(Checklist!$H$4),\"NO VC!!\",Checklist!$H$4))","v":""},{"$f":"IF(LEN($F490)<1,\"\",IF(ISBLANK(Checklist!$H$5),\"NO Date!!\",Checklist!$H$5))","v":""},{"$f":"IF(LEN($F490)<1,\"\",IF(ISBLANK(Checklist!$H$6),\"NO Recorder!!\",Checklist!$H$6))","v":""},{"$f":"IF(LEN($F490)<1,\"\",IF(ISTEXT(I490),I490,IF(ISTEXT(Checklist!$H$6),Checklist!$H$6,\"NO Determiner!!\")))","v":""},{"$f":"IF(LEN($F490)<1,\"\",IF(ISTEXT(J490),J490,IF(ISTEXT(Checklist!$H$7),Checklist!$H$7,\"Field record / observation\")))","v":""},"","",null,"","","","","","","","","","","","",null,null,null,null,null,null,null,null,null,null,null,null,null,null,null,null,null,null,null,387.2,"Carex lepidocarpa subsp. scotica",null,null,200,"Aster novae-angliae","L.","Hairy Michaelmas-daisy","Asteraceae",null,200,"Aster novae-angliae_200",null,null,null,null,null,null,null,"Aster novae-angliae_200"]
["",null,null,null,"","","",null,null,null,null,null,null,null,null,"","","",{"$f":"IF(LEN($F491)<1,\"\",IF(ISBLANK(Checklist!$H$2),\"\",Checklist!$H$2))","v":""},{"$f":"IF(LEN($F491)<1,\"\",IF(ISTEXT(H491),H491,IF(ISTEXT(Checklist!$H$3),Checklist!$H$3,\"NO Grid Ref!!\")))","v":""},{"$f":"IF(LEN($F491)<1,\"\",IF(ISBLANK(Checklist!$H$4),\"NO VC!!\",Checklist!$H$4))","v":""},{"$f":"IF(LEN($F491)<1,\"\",IF(ISBLANK(Checklist!$H$5),\"NO Date!!\",Checklist!$H$5))","v":""},{"$f":"IF(LEN($F491)<1,\"\",IF(ISBLANK(Checklist!$H$6),\"NO Recorder!!\",Checklist!$H$6))","v":""},{"$f":"IF(LEN($F491)<1,\"\",IF(ISTEXT(I491),I491,IF(ISTEXT(Checklist!$H$6),Checklist!$H$6,\"NO Determiner!!\")))","v":""},{"$f":"IF(LEN($F491)<1,\"\",IF(ISTEXT(J491),J491,IF(ISTEXT(Checklist!$H$7),Checklist!$H$7,\"Field record / observation\")))","v":""},"","",null,"","","","","","","","","","","","",null,null,null,null,null,null,null,null,null,null,null,null,null,null,null,null,null,null,null,388,"Carex limosa",null,null,4494,"Aster novi-belgii","L.","Confused Michaelmas-daisy","Asteraceae",null,4494,"Aster novi-belgii_4494",null,null,null,null,null,null,null,"Aster novi-belgii_4494"]
["",null,null,null,"","","",null,null,null,null,null,null,null,null,"","","",{"$f":"IF(LEN($F492)<1,\"\",IF(ISBLANK(Checklist!$H$2),\"\",Checklist!$H$2))","v":""},{"$f":"IF(LEN($F492)<1,\"\",IF(ISTEXT(H492),H492,IF(ISTEXT(Checklist!$H$3),Checklist!$H$3,\"NO Grid Ref!!\")))","v":""},{"$f":"IF(LEN($F492)<1,\"\",IF(ISBLANK(Checklist!$H$4),\"NO VC!!\",Checklist!$H$4))","v":""},{"$f":"IF(LEN($F492)<1,\"\",IF(ISBLANK(Checklist!$H$5),\"NO Date!!\",Checklist!$H$5))","v":""},{"$f":"IF(LEN($F492)<1,\"\",IF(ISBLANK(Checklist!$H$6),\"NO Recorder!!\",Checklist!$H$6))","v":""},{"$f":"IF(LEN($F492)<1,\"\",IF(ISTEXT(I492),I492,IF(ISTEXT(Checklist!$H$6),Checklist!$H$6,\"NO Determiner!!\")))","v":""},{"$f":"IF(LEN($F492)<1,\"\",IF(ISTEXT(J492),J492,IF(ISTEXT(Checklist!$H$7),Checklist!$H$7,\"Field record / observation\")))","v":""},"","",null,"","","","","","","","","","","","",null,null,null,null,null,null,null,null,null,null,null,null,null,null,null,null,null,null,null,389,"Carex maritima",null,null,"No BRC","Aster pilosus","Willd.","Frost Michaelmas-daisy","Asteraceae",null,"No BRC","Aster pilosus_No BRC",null,null,null,null,null,null,null,"Aster pilosus_No BRC"]
["",null,null,null,"","","",null,null,null,null,null,null,null,null,"","","",{"$f":"IF(LEN($F493)<1,\"\",IF(ISBLANK(Checklist!$H$2),\"\",Checklist!$H$2))","v":""},{"$f":"IF(LEN($F493)<1,\"\",IF(ISTEXT(H493),H493,IF(ISTEXT(Checklist!$H$3),Checklist!$H$3,\"NO Grid Ref!!\")))","v":""},{"$f":"IF(LEN($F493)<1,\"\",IF(ISBLANK(Checklist!$H$4),\"NO VC!!\",Checklist!$H$4))","v":""},{"$f":"IF(LEN($F493)<1,\"\",IF(ISBLANK(Checklist!$H$5),\"NO Date!!\",Checklist!$H$5))","v":""},{"$f":"IF(LEN($F493)<1,\"\",IF(ISBLANK(Checklist!$H$6),\"NO Recorder!!\",Checklist!$H$6))","v":""},{"$f":"IF(LEN($F493)<1,\"\",IF(ISTEXT(I493),I493,IF(ISTEXT(Checklist!$H$6),Checklist!$H$6,\"NO Determiner!!\")))","v":""},{"$f":"IF(LEN($F493)<1,\"\",IF(ISTEXT(J493),J493,IF(ISTEXT(Checklist!$H$7),Checklist!$H$7,\"Field record / observation\")))","v":""},"","",null,"","","","","","","","","","","","",null,null,null,null,null,null,null,null,null,null,null,null,null,null,null,null,null,null,null,390,"Carex microglochin",null,null,202,"Aster puniceus","L.","Red-stalk Aster","Asteraceae",null,202,"Aster puniceus_202",null,null,null,null,null,null,null,"Aster puniceus_202"]
["",null,null,null,"","","",null,null,null,null,null,null,null,null,"","","",{"$f":"IF(LEN($F494)<1,\"\",IF(ISBLANK(Checklist!$H$2),\"\",Checklist!$H$2))","v":""},{"$f":"IF(LEN($F494)<1,\"\",IF(ISTEXT(H494),H494,IF(ISTEXT(Checklist!$H$3),Checklist!$H$3,\"NO Grid Ref!!\")))","v":""},{"$f":"IF(LEN($F494)<1,\"\",IF(ISBLANK(Checklist!$H$4),\"NO VC!!\",Checklist!$H$4))","v":""},{"$f":"IF(LEN($F494)<1,\"\",IF(ISBLANK(Checklist!$H$5),\"NO Date!!\",Checklist!$H$5))","v":""},{"$f":"IF(LEN($F494)<1,\"\",IF(ISBLANK(Checklist!$H$6),\"NO Recorder!!\",Checklist!$H$6))","v":""},{"$f":"IF(LEN($F494)<1,\"\",IF(ISTEXT(I494),I494,IF(ISTEXT(Checklist!$H$6),Checklist!$H$6,\"NO Determiner!!\")))","v":""},{"$f":"IF(LEN($F494)<1,\"\",IF(ISTEXT(J494),J494,IF(ISTEXT(Checklist!$H$7),Checklist!$H$7,\"Field record / observation\")))","v":""},"","",null,"","","","","","","","","","","","",null,null,null,null,null,null,null,null,null,null,null,null,null,null,null,null,null,null,null,391,"Carex montana",null,null,199,"Aster schreberi","Nees","Nettle-leaved Michaelmas-daisy","Asteraceae",null,199,"Aster schreberi_199",null,null,null,null,null,null,null,"Aster schreberi_199"]
["",null,null,null,"","","",null,null,null,null,null,null,null,null,"","","",{"$f":"IF(LEN($F495)<1,\"\",IF(ISBLANK(Checklist!$H$2),\"\",Checklist!$H$2))","v":""},{"$f":"IF(LEN($F495)<1,\"\",IF(ISTEXT(H495),H495,IF(ISTEXT(Checklist!$H$3),Checklist!$H$3,\"NO Grid Ref!!\")))","v":""},{"$f":"IF(LEN($F495)<1,\"\",IF(ISBLANK(Checklist!$H$4),\"NO VC!!\",Checklist!$H$4))","v":""},{"$f":"IF(LEN($F495)<1,\"\",IF(ISBLANK(Checklist!$H$5),\"NO Date!!\",Checklist!$H$5))","v":""},{"$f":"IF(LEN($F495)<1,\"\",IF(ISBLANK(Checklist!$H$6),\"NO Recorder!!\",Checklist!$H$6))","v":""},{"$f":"IF(LEN($F495)<1,\"\",IF(ISTEXT(I495),I495,IF(ISTEXT(Checklist!$H$6),Checklist!$H$6,\"NO Determiner!!\")))","v":""},{"$f":"IF(LEN($F495)<1,\"\",IF(ISTEXT(J495),J495,IF(ISTEXT(Checklist!$H$7),Checklist!$H$7,\"Field record / observation\")))","v":""},"","",null,"","","","","","","","","","","","",null,null,null,null,null,null,null,null,null,null,null,null,null,null,null,null,null,null,null,393,"Carex nigra",null,null,7961,"Aster sedifolius","Linnaeus",null,"Asteraceae",null,7961,"Aster sedifolius_7961",null,null,null,null,null,null,null,"Aster sedifolius_7961"]
["",null,null,null,"","","",null,null,null,null,null,null,null,null,"","","",{"$f":"IF(LEN($F496)<1,\"\",IF(ISBLANK(Checklist!$H$2),\"\",Checklist!$H$2))","v":""},{"$f":"IF(LEN($F496)<1,\"\",IF(ISTEXT(H496),H496,IF(ISTEXT(Checklist!$H$3),Checklist!$H$3,\"NO Grid Ref!!\")))","v":""},{"$f":"IF(LEN($F496)<1,\"\",IF(ISBLANK(Checklist!$H$4),\"NO VC!!\",Checklist!$H$4))","v":""},{"$f":"IF(LEN($F496)<1,\"\",IF(ISBLANK(Checklist!$H$5),\"NO Date!!\",Checklist!$H$5))","v":""},{"$f":"IF(LEN($F496)<1,\"\",IF(ISBLANK(Checklist!$H$6),\"NO Recorder!!\",Checklist!$H$6))","v":""},{"$f":"IF(LEN($F496)<1,\"\",IF(ISTEXT(I496),I496,IF(ISTEXT(Checklist!$H$6),Checklist!$H$6,\"NO Determiner!!\")))","v":""},{"$f":"IF(LEN($F496)<1,\"\",IF(ISTEXT(J496),J496,IF(ISTEXT(Checklist!$H$7),Checklist!$H$7,\"Field record / observation\")))","v":""},"","",null,"","","","","","","","","","","","",null,null,null,null,null,null,null,null,null,null,null,null,null,null,null,null,null,null,null,394,"Carex norvegica",null,null,"No BRC","Aster squamatus","(Spreng) Hieron",null,"Asteraceae",null,"No BRC","Aster squamatus_No BRC",null,null,null,null,null,null,null,"Aster squamatus_No BRC"]
["",null,null,null,"","","",null,null,null,null,null,null,null,null,"","","",{"$f":"IF(LEN($F497)<1,\"\",IF(ISBLANK(Checklist!$H$2),\"\",Checklist!$H$2))","v":""},{"$f":"IF(LEN($F497)<1,\"\",IF(ISTEXT(H497),H497,IF(ISTEXT(Checklist!$H$3),Checklist!$H$3,\"NO Grid Ref!!\")))","v":""},{"$f":"IF(LEN($F497)<1,\"\",IF(ISBLANK(Checklist!$H$4),\"NO VC!!\",Checklist!$H$4))","v":""},{"$f":"IF(LEN($F497)<1,\"\",IF(ISBLANK(Checklist!$H$5),\"NO Date!!\",Checklist!$H$5))","v":""},{"$f":"IF(LEN($F497)<1,\"\",IF(ISBLANK(Checklist!$H$6),\"NO Recorder!!\",Checklist!$H$6))","v":""},{"$f":"IF(LEN($F497)<1,\"\",IF(ISTEXT(I497),I497,IF(ISTEXT(Checklist!$H$6),Checklist!$H$6,\"NO Determiner!!\")))","v":""},{"$f":"IF(LEN($F497)<1,\"\",IF(ISTEXT(J497),J497,IF(ISTEXT(Checklist!$H$7),Checklist!$H$7,\"Field record / observation\")))","v":""},"","",null,"","","","","","","","","","","","",null,null,null,null,null,null,null,null,null,null,null,null,null,null,null,null,null,null,null,395,"Carex ornithopoda",null,null,204,"Aster tripolium","Linnaeus","Sea Aster","Asteraceae",null,204,"Aster tripolium_204",null,null,null,null,null,null,null,"Aster tripolium_204"]
["",null,null,null,"","","",null,null,null,null,null,null,null,null,"","","",{"$f":"IF(LEN($F498)<1,\"\",IF(ISBLANK(Checklist!$H$2),\"\",Checklist!$H$2))","v":""},{"$f":"IF(LEN($F498)<1,\"\",IF(ISTEXT(H498),H498,IF(ISTEXT(Checklist!$H$3),Checklist!$H$3,\"NO Grid Ref!!\")))","v":""},{"$f":"IF(LEN($F498)<1,\"\",IF(ISBLANK(Checklist!$H$4),\"NO VC!!\",Checklist!$H$4))","v":""},{"$f":"IF(LEN($F498)<1,\"\",IF(ISBLANK(Checklist!$H$5),\"NO Date!!\",Checklist!$H$5))","v":""},{"$f":"IF(LEN($F498)<1,\"\",IF(ISBLANK(Checklist!$H$6),\"NO Recorder!!\",Checklist!$H$6))","v":""},{"$f":"IF(LEN($F498)<1,\"\",IF(ISTEXT(I498),I498,IF(ISTEXT(Checklist!$H$6),Checklist!$H$6,\"NO Determiner!!\")))","v":""},{"$f":"IF(LEN($F498)<1,\"\",IF(ISTEXT(J498),J498,IF(ISTEXT(Checklist!$H$7),Checklist!$H$7,\"Field record / observation\")))","v":""},"","",null,"","","","","","","","","","","","",null,null,null,null,null,null,null,null,null,null,null,null,null,null,null,null,null,null,null,396,"Carex otrubae",null,null,204.1,"Aster tripolium var. discoideus",null,"Sea Aster","Asteraceae",null,204.1,"Aster tripolium var. discoideus_204.1",null,null,null,null,null,null,null,"Aster tripolium var. discoideus_204.1"]
["",null,null,null,"","","",null,null,null,null,null,null,null,null,"","","",{"$f":"IF(LEN($F499)<1,\"\",IF(ISBLANK(Checklist!$H$2),\"\",Checklist!$H$2))","v":""},{"$f":"IF(LEN($F499)<1,\"\",IF(ISTEXT(H499),H499,IF(ISTEXT(Checklist!$H$3),Checklist!$H$3,\"NO Grid Ref!!\")))","v":""},{"$f":"IF(LEN($F499)<1,\"\",IF(ISBLANK(Checklist!$H$4),\"NO VC!!\",Checklist!$H$4))","v":""},{"$f":"IF(LEN($F499)<1,\"\",IF(ISBLANK(Checklist!$H$5),\"NO Date!!\",Checklist!$H$5))","v":""},{"$f":"IF(LEN($F499)<1,\"\",IF(ISBLANK(Checklist!$H$6),\"NO Recorder!!\",Checklist!$H$6))","v":""},{"$f":"IF(LEN($F499)<1,\"\",IF(ISTEXT(I499),I499,IF(ISTEXT(Checklist!$H$6),Checklist!$H$6,\"NO Determiner!!\")))","v":""},{"$f":"IF(LEN($F499)<1,\"\",IF(ISTEXT(J499),J499,IF(ISTEXT(Checklist!$H$7),Checklist!$H$7,\"Field record / observation\")))","v":""},"","",null,"","","","","","","","","","","","",null,null,null,null,null,null,null,null,null,null,null,null,null,null,null,null,null,null,null,397,"Carex leporina",null,null,204.2,"Aster tripolium var. tripolium",null,null,"Asteraceae",null,204.2,"Aster tripolium var. tripolium_204.2",null,null,null,null,null,null,null,"Aster tripolium var. tripolium_204.2"]
["",null,null,null,"","","",null,null,null,null,null,null,null,null,"","","",{"$f":"IF(LEN($F500)<1,\"\",IF(ISBLANK(Checklist!$H$2),\"\",Checklist!$H$2))","v":""},{"$f":"IF(LEN($F500)<1,\"\",IF(ISTEXT(H500),H500,IF(ISTEXT(Checklist!$H$3),Checklist!$H$3,\"NO Grid Ref!!\")))","v":""},{"$f":"IF(LEN($F500)<1,\"\",IF(ISBLANK(Checklist!$H$4),\"NO VC!!\",Checklist!$H$4))","v":""},{"$f":"IF(LEN($F500)<1,\"\",IF(ISBLANK(Checklist!$H$5),\"NO Date!!\",Checklist!$H$5))","v":""},{"$f":"IF(LEN($F500)<1,\"\",IF(ISBLANK(Checklist!$H$6),\"NO Recorder!!\",Checklist!$H$6))","v":""},{"$f":"IF(LEN($F500)<1,\"\",IF(ISTEXT(I500),I500,IF(ISTEXT(Checklist!$H$6),Checklist!$H$6,\"NO Determiner!!\")))","v":""},{"$f":"IF(LEN($F500)<1,\"\",IF(ISTEXT(J500),J500,IF(ISTEXT(Checklist!$H$7),Checklist!$H$7,\"Field record / observation\")))","v":""},"","",null,"","","","","","","","","","","","",null,null,null,null,null,null,null,null,null,null,null,null,null,null,null,null,null,null,null,398,"Carex muricata",null,null,203,"Aster x salignus","Willd.","Michaelmas Daisy (A. lanceolatus x novi-belgii)","Asteraceae",null,203,"Aster x salignus_203",null,null,null,null,null,null,null,"Aster x salignus_203"]
[null,null,null,null,null,null,null,null,null,"Unpreserved specimen","Sporophyte",null,null,null,null,null,null,null,null,null,null,null,null,null,null,null,null,null,null,null,null,null,null,null,null,null,null,null,null,null,null,null,null,null,null,null,null,null,null,null,null,null,null,null,null,null,null,null,null,405,"Carex pilulifera",null,null,207,"Astragalus danicus","Retz.","Purple Milk-vetch","Fabaceae","Endangered",207,"Astragalus danicus_207",null,null,null,null,null,null,null,"Astragalus danicus_207"]
[null,null,null,null,null,null,null,null,null,null,null,null,null,null,null,null,null,null,null,null,null,null,null,null,null,null,null,null,null,null,null,null,null,null,null,null,null,null,null,null,null,null,null,null,null,null,null,null,null,null,null,null,null,null,null,null,null,null,null,422,"Carex trinervis",null,null,216,"Atriplex laciniata","Linnaeus","Frosted Orache","Chenopodiaceae",null,216,"Atriplex laciniata_216",null,null,null,null,null,null,null,"Atriplex laciniata_216"]
[null,null,null,null,null,null,null,null,null,null,null,null,null,null,null,null,null,null,null,null,null,null,null,null,null,null,null,null,null,null,null,null,null,null,null,null,null,null,null,null,null,null,null,null,null,null,null,null,null,null,null,null,null,null,null,null,null,null,null,429,"Carpobrotus edulis",null,null,950,"Atriplex portulacoides","L.","Sea-purslane","Chenopodiaceae",null,950,"Atriplex portulacoides_950",null,null,null,null,null,null,null,"Atriplex portulacoides_950"]
[null,null,null,null,null,null,null,null,null,null,null,null,null,null,null,null,null,null,null,null,null,null,null,null,null,null,null,null,null,null,null,null,null,null,null,null,null,null,null,null,null,null,null,null,null,null,null,null,null,null,null,null,null,null,null,null,null,null,null,438,"Centaurea aspera",null,null,7180,"Avena barbata","Pott ex Link","Slender Oat","Poaceae",null,7180,"Avena barbata_7180",null,null,null,null,null,null,null,"Avena barbata_7180"]
[null,null,null,null,null,null,null,null,null,null,null,null,null,null,null,null,null,null,null,null,null,null,null,null,null,null,null,null,null,null,null,null,null,null,null,null,null,null,null,null,null,null,null,null,null,null,null,null,null,null,null,null,null,null,null,null,null,null,null,444.1,"Centaurea nigra var. nemoralis",null,null,2911,"Avena x hybrida","Peterm.","A. fatua x sativa","Poaceae",null,2911,"Avena x hybrida_2911",null,null,null,null,null,null,null,"Avena x hybrida_2911"]
[null,null,null,null,null,null,null,null,null,null,null,null,null,null,null,null,null,null,null,null,null,null,null,null,null,null,null,null,null,null,null,null,null,null,null,null,null,null,null,null,null,null,null,null,null,null,null,null,null,null,null,null,null,null,null,null,null,null,null,460,"Cerastium alpinum",null,null,231,"Bellis perennis","Linnaeus","Daisy","Asteraceae",null,231,"Bellis perennis_231",null,null,null,null,null,null,null,"Bellis perennis_231"]
[null,null,null,null,null,null,null,null,null,null,null,null,null,null,null,null,null,null,null,null,null,null,null,null,null,null,null,null,null,null,null,null,null,null,null,null,null,null,null,null,null,null,null,null,null,null,null,null,null,null,null,null,null,null,null,null,null,null,null,470,"Cerastium tomentosum",null,null,234,"Berula erecta","(Hudson) Cov.","Lesser Water-parsnip","Apiaceae",null,234,"Berula erecta_234",null,null,null,null,null,null,null,"Berula erecta_234"]
[null,null,null,null,null,null,null,null,null,null,null,null,null,null,null,null,null,null,null,null,null,null,null,null,null,null,null,null,null,null,null,null,null,null,null,null,null,null,null,null,null,null,null,null,null,null,null,null,null,null,null,null,null,null,null,null,null,null,null,475,"Chaerophyllum aureum",null,null,235.2,"Beta vulgaris subsp. vulgaris",null,"Root Beet","Chenopodiaceae",null,235.2,"Beta vulgaris subsp. vulgaris_235.2",null,null,null,null,null,null,null,"Beta vulgaris subsp. vulgaris_235.2"]
[null,null,null,null,null,null,null,null,null,null,null,null,null,null,null,null,null,null,null,null,null,null,null,null,null,null,null,null,null,null,null,null,null,null,null,null,null,null,null,null,null,null,null,null,null,null,null,null,null,null,null,null,null,null,null,null,null,null,null,489,"Chenopodium hircinum",null,null,241,"Bidens cernua","Linnaeus","Nodding Bur-marigold","Asteraceae",null,241,"Bidens cernua_241",null,null,null,null,null,null,null,"Bidens cernua_241"]
[null,null,null,null,null,null,null,null,null,null,null,null,null,null,null,null,null,null,null,null,null,null,null,null,null,null,null,null,null,null,null,null,null,null,null,null,null,null,null,null,null,null,null,null,null,null,null,null,null,null,null,null,null,null,null,null,null,null,null,497,"Chenopodium suecicum",null,null,242,"Bidens tripartita","Linnaeus","Trifid Bur-marigold","Asteraceae",null,242,"Bidens tripartita_242",null,null,null,null,null,null,null,"Bidens tripartita_242"]
[null,null,null,null,null,null,null,null,null,null,null,null,null,null,null,null,null,null,null,null,null,null,null,null,null,null,null,null,null,null,null,null,null,null,null,null,null,null,null,null,null,null,null,null,null,null,null,null,null,null,null,null,null,null,null,null,null,null,null,515.20000000000005,"Cirsium arvense var. setosum",null,null,7193,"Brachyglottis x jubar","P.D. Sell","Shrub Ragwort (?B.laxifolia x B. compacta)","Asteraceae",null,7193,"Brachyglottis x jubar_7193",null,null,null,null,null,null,null,"Brachyglottis x jubar_7193"]
[null,null,null,null,null,null,null,null,null,null,null,null,null,null,null,null,null,null,null,null,null,null,null,null,null,null,null,null,null,null,null,null,null,null,null,null,null,null,null,null,null,null,null,null,null,null,null,null,null,null,null,null,null,null,null,null,null,null,null,517,"Cirsium eriophorum",null,null,"No BRC","Brachypodium pinnatum agg.",null,"Tor-grass","Poaceae",null,"No BRC",{"$f":"CONCATENATE(BM644,\"_\",BL644)","v":"Brachypodium pinnatum agg._No BRC"},null,null,null,null,null,null,null,"Brachypodium pinnatum agg._No BRC"]
[null,null,null,null,null,null,null,null,null,null,null,null,null,null,null,null,null,null,null,null,null,null,null,null,null,null,null,null,null,null,null,null,null,null,null,null,null,null,null,null,null,null,null,null,null,null,null,null,null,null,null,null,null,null,null,null,null,null,null,538,"Colchicum autumnale",null,null,253.1,"Brassica oleracea var. oleracea",null,null,"Brassicaceae","Nationally Scarce",253.1,"Brassica oleracea var. oleracea_253.1",null,null,null,null,null,null,null,"Brassica oleracea var. oleracea_253.1"]
[null,null,null,null,null,null,null,null,null,null,null,null,null,null,null,null,null,null,null,null,null,null,null,null,null,null,null,null,null,null,null,null,null,null,null,null,null,null,null,null,null,null,null,null,null,null,null,null,null,null,null,null,null,null,null,null,null,null,null,544.1,"Convolvulus arvensis var. arvensis",null,null,6009,"Brassica repanda","(Willd.) DC.",null,"Brassicaceae",null,6009,"Brassica repanda_6009",null,null,null,null,null,null,null,"Brassica repanda_6009"]
[null,null,null,null,null,null,null,null,null,null,null,null,null,null,null,null,null,null,null,null,null,null,null,null,null,null,null,null,null,null,null,null,null,null,null,null,null,null,null,null,null,null,null,null,null,null,null,null,null,null,null,null,null,null,null,null,null,null,null,559,"Cotoneaster frigidus",null,null,2907,"Bromus commutatus x racemosus",null,null,"Poaceae",null,2907,"Bromus commutatus x racemosus_2907",null,null,null,null,null,null,null,"Bromus commutatus x racemosus_2907"]
[null,null,null,null,null,null,null,null,null,null,null,null,null,null,null,null,null,null,null,null,null,null,null,null,null,null,null,null,null,null,null,null,null,null,null,null,null,null,null,null,null,null,null,null,null,null,null,null,null,null,null,null,null,null,null,null,null,null,null,577,"Crepis setosa",null,null,277,"Buddleja davidii","Franch.","Butterfly-bush","Buddlejaceae",null,277,"Buddleja davidii_277",null,null,null,null,null,null,null,"Buddleja davidii_277"]
[null,null,null,null,null,null,null,null,null,null,null,null,null,null,null,null,null,null,null,null,null,null,null,null,null,null,null,null,null,null,null,null,null,null,null,null,null,null,null,null,null,null,null,null,null,null,null,null,null,null,null,null,null,null,null,null,null,null,null,579,"Crithmum maritimum",null,null,281,"Bunias orientalis","Linnaeus","Warty-cabbage","Brassicaceae",null,281,"Bunias orientalis_281",null,null,null,null,null,null,null,"Bunias orientalis_281"]
[null,null,null,null,null,null,null,null,null,null,null,null,null,null,null,null,null,null,null,null,null,null,null,null,null,null,null,null,null,null,null,null,null,null,null,null,null,null,null,null,null,null,null,null,null,null,null,null,null,null,null,null,null,null,null,null,null,null,null,595,"Cynoglossum germanicum",null,null,294,"Calamagrostis stricta","(Timm) Koeler","Narrow Small-reed","Poaceae","Vulnerable",294,"Calamagrostis stricta_294",null,null,null,null,null,null,null,"Calamagrostis stricta_294"]
[null,null,null,null,null,null,null,null,null,null,null,null,null,null,null,null,null,null,null,null,null,null,null,null,null,null,null,null,null,null,null,null,null,null,null,null,null,null,null,null,null,null,null,null,null,null,null,null,null,null,null,null,null,null,null,null,null,null,null,602,"Cystopteris dickieana",null,null,300,"Calendula officinalis","Linnaeus","Pot Marigold","Asteraceae",null,300,"Calendula officinalis_300",null,null,null,null,null,null,null,"Calendula officinalis_300"]
[null,null,null,null,null,null,null,null,null,null,null,null,null,null,null,null,null,null,null,null,null,null,null,null,null,null,null,null,null,null,null,null,null,null,null,null,null,null,null,null,null,null,null,null,null,null,null,null,null,null,null,null,null,null,null,null,null,null,null,609.6,"Dactylorhiza incarnata subsp. pulchella",null,null,2289,"Callitriche palustris","L.","Narrow-fruited Water-starwort","Callitrichaceae","Rare",2289,"Callitriche palustris_2289",null,null,null,null,null,null,null,"Callitriche palustris_2289"]
[null,null,null,null,null,null,null,null,null,null,null,null,null,null,null,null,null,null,null,null,null,null,null,null,null,null,null,null,null,null,null,null,null,null,null,null,null,null,null,null,null,null,null,null,null,null,null,null,null,null,null,null,null,null,null,null,null,null,null,619.20000000000005,"Datura stramonium var. inermis",null,null,311.5,"Calystegia sepium subsp. spectabilis","Brummitt",null,"Convolvulaceae",null,311.5,"Calystegia sepium subsp. spectabilis_311.5",null,null,null,null,null,null,null,"Calystegia sepium subsp. spectabilis_311.5"]
[null,null,null,null,null,null,null,null,null,null,null,null,null,null,null,null,null,null,null,null,null,null,null,null,null,null,null,null,null,null,null,null,null,null,null,null,null,null,null,null,null,null,null,null,null,null,null,null,null,null,null,null,null,null,null,null,null,null,null,621,"Daucus carota subsp. gummifer",null,null,313.5,"Calystegia silvatica subsp. fraterniflora",null,null,"Convolvulaceae",null,313.5,"Calystegia silvatica subsp. fraterniflora_313.5",null,null,null,null,null,null,null,"Calystegia silvatica subsp. fraterniflora_313.5"]
[null,null,null,null,null,null,null,null,null,null,null,null,null,null,null,null,null,null,null,null,null,null,null,null,null,null,null,null,null,null,null,null,null,null,null,null,null,null,null,null,null,null,null,null,null,null,null,null,null,null,null,null,null,null,null,null,null,null,null,638,"Dianthus plumarius",null,null,4396,"Campanula lactiflora","M.Bieb.","Milky Bellflower","Campanulaceae",null,4396,"Campanula lactiflora_4396",null,null,null,null,null,null,null,"Campanula lactiflora_4396"]
[null,null,null,null,null,null,null,null,null,null,null,null,null,null,null,null,null,null,null,null,null,null,null,null,null,null,null,null,null,null,null,null,null,null,null,null,null,null,null,null,null,null,null,null,null,null,null,null,null,null,null,null,null,null,null,null,null,null,null,645,"Diplotaxis tenuifolia",null,null,7202,"Campanula pyramidalis","Linnaeus","Chimney Bellflower","Campanulaceae",null,7202,"Campanula pyramidalis_7202",null,null,null,null,null,null,null,"Campanula pyramidalis_7202"]
[null,null,null,null,null,null,null,null,null,null,null,null,null,null,null,null,null,null,null,null,null,null,null,null,null,null,null,null,null,null,null,null,null,null,null,null,null,null,null,null,null,null,null,null,null,null,null,null,null,null,null,null,null,null,null,null,null,null,null,657,"Drosera rotundifolia",null,null,328,"Cardamine flexuosa","With.","Wavy Bitter-cress","Brassicaceae",null,328,"Cardamine flexuosa_328",null,null,null,null,null,null,null,"Cardamine flexuosa_328"]
[null,null,null,null,null,null,null,null,null,null,null,null,null,null,null,null,null,null,null,null,null,null,null,null,null,null,null,null,null,null,null,null,null,null,null,null,null,null,null,null,null,null,null,null,null,null,null,null,null,null,null,null,null,null,null,null,null,null,null,662.2,"Dryopteris borreri",null,null,2557,"Cardamine raphanifolia","Pourret","Greater Cuckooflower","Brassicaceae",null,2557,"Cardamine raphanifolia_2557",null,null,null,null,null,null,null,"Cardamine raphanifolia_2557"]
[null,null,null,null,null,null,null,null,null,null,null,null,null,null,null,null,null,null,null,null,null,null,null,null,null,null,null,null,null,null,null,null,null,null,null,null,null,null,null,null,null,null,null,null,null,null,null,null,null,null,null,null,null,null,null,null,null,null,null,679,"Eleogiton fluitans",null,null,345,"Carex atrata","L.","Black Alpine-sedge","Cyperaceae","Nationally Scarce",345,"Carex atrata_345",null,null,null,null,null,null,null,"Carex atrata_345"]
[null,null,null,null,null,null,null,null,null,null,null,null,null,null,null,null,null,null,null,null,null,null,null,null,null,null,null,null,null,null,null,null,null,null,null,null,null,null,null,null,null,null,null,null,null,null,null,null,null,null,null,null,null,null,null,null,null,null,null,695,"Epilobium montanum",null,null,361,"Carex demissa","Hornem.","Common Yellow-sedge","Cyperaceae",null,361,"Carex demissa_361",null,null,null,null,null,null,null,"Carex demissa_361"]
[null,null,null,null,null,null,null,null,null,null,null,null,null,null,null,null,null,null,null,null,null,null,null,null,null,null,null,null,null,null,null,null,null,null,null,null,null,null,null,null,null,null,null,null,null,null,null,null,null,null,null,null,null,null,null,null,null,null,null,702,"Epipactis atrorubens",null,null,"No BRC","Carex distans x demissa",null,null,"Cyperaceae",null,"No BRC","Carex distans x demissa_No BRC",null,null,null,null,null,null,null,"Carex distans x demissa_No BRC"]
[null,null,null,null,null,null,null,null,null,null,null,null,null,null,null,null,null,null,null,null,null,null,null,null,null,null,null,null,null,null,null,null,null,null,null,null,null,null,null,null,null,null,null,null,null,null,null,null,null,null,null,null,null,null,null,null,null,null,null,715,"Equisetum x litorale",null,null,381,"Carex hirta","Linnaeus","Hairy Sedge","Cyperaceae",null,381,"Carex hirta_381",null,null,null,null,null,null,null,"Carex hirta_381"]
[null,null,null,null,null,null,null,null,null,null,null,null,null,null,null,null,null,null,null,null,null,null,null,null,null,null,null,null,null,null,null,null,null,null,null,null,null,null,null,null,null,null,null,null,null,null,null,null,null,null,null,null,null,null,null,null,null,null,null,722,"Equisetum x trachyodon",null,null,385,"Carex laevigata","Smith","Smooth-stalked Sedge","Cyperaceae",null,385,"Carex laevigata_385",null,null,null,null,null,null,null,"Carex laevigata_385"]
[null,null,null,null,null,null,null,null,null,null,null,null,null,null,null,null,null,null,null,null,null,null,null,null,null,null,null,null,null,null,null,null,null,null,null,null,null,null,null,null,null,null,null,null,null,null,null,null,null,null,null,null,null,null,null,null,null,null,null,742,"Eriophorum gracile",null,null,7118,"Carex oederi","Retz.","Small-fruited Yellow-sedge","Cyperaceae",null,7118,"Carex oederi_7118",null,null,null,null,null,null,null,"Carex oederi_7118"]
[null,null,null,null,null,null,null,null,null,null,null,null,null,null,null,null,null,null,null,null,null,null,null,null,null,null,null,null,null,null,null,null,null,null,null,null,null,null,null,null,null,null,null,null,null,null,null,null,null,null,null,null,null,null,null,null,null,null,null,756,"Erucastrum gallicum",null,null,409,"Carex punctata","Gaudin","Dotted Sedge","Cyperaceae","Nationally Scarce",409,"Carex punctata_409",null,null,null,null,null,null,null,"Carex punctata_409"]
[null,null,null,null,null,null,null,null,null,null,null,null,null,null,null,null,null,null,null,null,null,null,null,null,null,null,null,null,null,null,null,null,null,null,null,null,null,null,null,null,null,null,null,null,null,null,null,null,null,null,null,null,null,null,null,null,null,null,null,763,"Eupatorium cannabinum",null,null,415,"Carex rupestris","All.","Rock Sedge","Cyperaceae","Nationally Scarce",415,"Carex rupestris_415",null,null,null,null,null,null,null,"Carex rupestris_415"]
[null,null,null,null,null,null,null,null,null,null,null,null,null,null,null,null,null,null,null,null,null,null,null,null,null,null,null,null,null,null,null,null,null,null,null,null,null,null,null,null,null,null,null,null,null,null,null,null,null,null,null,null,null,null,null,null,null,null,null,781,"Euphorbia stricta",null,null,2881,"Carex x deserta","Merino","C. binervis x laevigata","Cyperaceae","Vulnerable",2881,"Carex x deserta_2881",null,null,null,null,null,null,null,"Carex x deserta_2881"]
[null,null,null,null,null,null,null,null,null,null,null,null,null,null,null,null,null,null,null,null,null,null,null,null,null,null,null,null,null,null,null,null,null,null,null,null,null,null,null,null,null,null,null,null,null,null,null,null,null,null,null,null,null,null,null,null,null,null,null,785,"Euphrasia arctica subsp. borealis",null,null,2889,"Carex x evoluta","Hartman","C. lasiocarpa x riparia","Cyperaceae","Vulnerable",2889,"Carex x evoluta_2889",null,null,null,null,null,null,null,"Carex x evoluta_2889"]
[null,null,null,null,null,null,null,null,null,null,null,null,null,null,null,null,null,null,null,null,null,null,null,null,null,null,null,null,null,null,null,null,null,null,null,null,null,null,null,null,null,null,null,null,null,null,null,null,null,null,null,null,null,null,null,null,null,null,null,808,"Exaculum pusillum",null,null,"No BRC","Carex x spiculosa","Fr.","C. recta x nigra","Cyperaceae",null,"No BRC","Carex x spiculosa_No BRC",null,null,null,null,null,null,null,"Carex x spiculosa_No BRC"]
[null,null,null,null,null,null,null,null,null,null,null,null,null,null,null,null,null,null,null,null,null,null,null,null,null,null,null,null,null,null,null,null,null,null,null,null,null,null,null,null,null,null,null,null,null,null,null,null,null,null,null,null,null,null,null,null,null,null,null,822.2,"Festuca filiformis",null,null,430,"Carum carvi","L.","Caraway","Apiaceae","Endangered",430,"Carum carvi_430",null,null,null,null,null,null,null,"Carum carvi_430"]
[null,null,null,null,null,null,null,null,null,null,null,null,null,null,null,null,null,null,null,null,null,null,null,null,null,null,null,null,null,null,null,null,null,null,null,null,null,null,null,null,null,null,null,null,null,null,null,null,null,null,null,null,null,null,null,null,null,null,null,825.2,"Festuca rubra subsp. commutata",null,null,433.1,"Catabrosa aquatica var. aquatica",null,null,"Poaceae",null,433.1,"Catabrosa aquatica var. aquatica_433.1",null,null,null,null,null,null,null,"Catabrosa aquatica var. aquatica_433.1"]
[null,null,null,null,null,null,null,null,null,null,null,null,null,null,null,null,null,null,null,null,null,null,null,null,null,null,null,null,null,null,null,null,null,null,null,null,null,null,null,null,null,null,null,null,null,null,null,null,null,null,null,null,null,null,null,null,null,null,null,827,"Filago lutescens",null,null,435.2,"Catapodium rigidum subsp. rigidum",null,"Fern-grass","Poaceae",null,435.2,"Catapodium rigidum subsp. rigidum_435.2",null,null,null,null,null,null,null,"Catapodium rigidum subsp. rigidum_435.2"]
[null,null,null,null,null,null,null,null,null,null,null,null,null,null,null,null,null,null,null,null,null,null,null,null,null,null,null,null,null,null,null,null,null,null,null,null,null,null,null,null,null,null,null,null,null,null,null,null,null,null,null,null,null,null,null,null,null,null,null,844,"Fuchsia magellanica",null,null,"No BRC","Centaurea cineraria","L.","Silver Knapweed","Asteraceae",null,"No BRC","Centaurea cineraria_No BRC",null,null,null,null,null,null,null,"Centaurea cineraria_No BRC"]
[null,null,null,null,null,null,null,null,null,null,null,null,null,null,null,null,null,null,null,null,null,null,null,null,null,null,null,null,null,null,null,null,null,null,null,null,null,null,null,null,null,null,null,null,null,null,null,null,null,null,null,null,null,null,null,null,null,null,null,851.1,"Fumaria muralis subsp. muralis var. muralis",null,null,446,"Centaurea scabiosa","Linnaeus","Greater Knapweed","Asteraceae",null,446,"Centaurea scabiosa_446",null,null,null,null,null,null,null,"Centaurea scabiosa_446"]
[null,null,null,null,null,null,null,null,null,null,null,null,null,null,null,null,null,null,null,null,null,null,null,null,null,null,null,null,null,null,null,null,null,null,null,null,null,null,null,null,null,null,null,null,null,null,null,null,null,null,null,null,null,null,null,null,null,null,null,853,"Fumaria occidentalis",null,null,447,"Centaurea solstitialis","Linnaeus","Yellow Star-thistle","Asteraceae",null,447,"Centaurea solstitialis_447",null,null,null,null,null,null,null,"Centaurea solstitialis_447"]
[null,null,null,null,null,null,null,null,null,null,null,null,null,null,null,null,null,null,null,null,null,null,null,null,null,null,null,null,null,null,null,null,null,null,null,null,null,null,null,null,null,null,null,null,null,null,null,null,null,null,null,null,null,null,null,null,null,null,null,862.2,"Lamiastrum galeobdolon subsp. montanum",null,null,"No BRC","Cephalaria elata","(Hornem.) Schrad.",null,"Dipsacaceae",null,"No BRC","Cephalaria elata_No BRC",null,null,null,null,null,null,null,"Cephalaria elata_No BRC"]
[null,null,null,null,null,null,null,null,null,null,null,null,null,null,null,null,null,null,null,null,null,null,null,null,null,null,null,null,null,null,null,null,null,null,null,null,null,null,null,null,null,null,null,null,null,null,null,null,null,null,null,null,null,null,null,null,null,null,null,867,"Galeopsis speciosa",null,null,462,"Cerastium diffusum","Pers.","Sea Mouse-ear","Caryophyllaceae",null,462,"Cerastium diffusum_462",null,null,null,null,null,null,null,"Cerastium diffusum_462"]
[null,null,null,null,null,null,null,null,null,null,null,null,null,null,null,null,null,null,null,null,null,null,null,null,null,null,null,null,null,null,null,null,null,null,null,null,null,null,null,null,null,null,null,null,null,null,null,null,null,null,null,null,null,null,null,null,null,null,null,883,"Galium pumilum sens. lat.",null,null,2694,"Cerastium x richardsonii","Druce","C. nigrescens x fontanum","Caryophyllaceae",null,2694,"Cerastium x richardsonii_2694",null,null,null,null,null,null,null,"Cerastium x richardsonii_2694"]
[null,null,null,null,null,null,null,null,null,null,null,null,null,null,null,null,null,null,null,null,null,null,null,null,null,null,null,null,null,null,null,null,null,null,null,null,null,null,null,null,null,null,null,null,null,null,null,null,null,null,null,null,null,null,null,null,null,null,null,893.2,"Genista tinctoria subsp. tinctoria",null,null,7219,"Chaenorhinum origanifolium","(Linnaeus) Kostel.","Malling Toadflax","Scrophulariaceae",null,7219,"Chaenorhinum origanifolium_7219",null,null,null,null,null,null,null,"Chaenorhinum origanifolium_7219"]
[null,null,null,null,null,null,null,null,null,null,null,null,null,null,null,null,null,null,null,null,null,null,null,null,null,null,null,null,null,null,null,null,null,null,null,null,null,null,null,null,null,null,null,null,null,null,null,null,null,null,null,null,null,null,null,null,null,null,null,898.2,"Gentianella amarella subsp. hibernica",null,null,"No BRC","Chamaemelum mixtum","(L.) All.",null,"Asteraceae",null,"No BRC","Chamaemelum mixtum_No BRC",null,null,null,null,null,null,null,"Chamaemelum mixtum_No BRC"]
[null,null,null,null,null,null,null,null,null,null,null,null,null,null,null,null,null,null,null,null,null,null,null,null,null,null,null,null,null,null,null,null,null,null,null,null,null,null,null,null,null,null,null,null,null,null,null,null,null,null,null,null,null,null,null,null,null,"C912","C112.4",912,"Geranium nodosum",null,null,"C112.4","Chara contraria var. hispidula","A.Braun",null,"Characeae",null,112.4,"Chara contraria var. hispidula_C112.4",null,null,null,null,null,null,null,"Chara contraria var. hispidula_C112.4"]
[null,null,null,null,null,null,null,null,null,null,null,null,null,null,null,null,null,null,null,null,null,null,null,null,null,null,null,null,null,null,null,null,null,null,null,null,null,null,null,null,null,null,null,null,null,null,null,null,null,null,null,null,null,null,null,null,null,"C915.2","C106",915.2,"Geranium purpureum subsp. purpureum",null,null,"C106","Chara fragifera","Durieu","Strawberry Stonewort","Characeae","RDB3",106,"Chara fragifera_C106",null,null,null,null,null,null,null,"Chara fragifera_C106"]
[null,null,null,null,null,null,null,null,null,null,null,null,null,null,null,null,null,null,null,null,null,null,null,null,null,null,null,null,null,null,null,null,null,null,null,null,null,null,null,null,null,null,null,null,null,null,null,null,null,null,null,null,null,null,null,null,null,"C926","C107.2",926,"Gladiolus illyricus",null,null,"C107.2","Chara virgata",null,"Delicate Stonewort","Characeae",null,107.2,{"$f":"CONCATENATE(BM1156,\"_\",BL1156)","v":"Chara virgata_C107.2"},null,null,null,null,null,null,null,"Chara virgata_C107.2"]
[null,null,null,null,null,null,null,null,null,null,null,null,null,null,null,null,null,null,null,null,null,null,null,null,null,null,null,null,null,null,null,null,null,null,null,null,null,null,null,null,null,null,null,null,null,null,null,null,null,null,null,null,null,null,null,null,null,null,null,946,"Gunnera manicata",null,null,484,"Chenopodium bonus-henricus","L.","Good-King-Henry","Chenopodiaceae","Vulnerable",484,"Chenopodium bonus-henricus_484",null,null,null,null,null,null,null,"Chenopodium bonus-henricus_484"]
[null,null,null,null,null,null,null,null,null,null,null,null,null,null,null,null,null,null,null,null,null,null,null,null,null,null,null,null,null,null,null,null,null,null,null,null,null,null,null,null,null,null,null,null,null,null,null,null,null,null,null,null,null,null,null,null,null,null,null,950,"Atriplex portulacoides",null,null,489,"Chenopodium hircinum","Schrader","Foetid Goosefoot","Chenopodiaceae",null,489,"Chenopodium hircinum_489",null,null,null,null,null,null,null,"Chenopodium hircinum_489"]
[null,null,null,null,null,null,null,null,null,null,null,null,null,null,null,null,null,null,null,null,null,null,null,null,null,null,null,null,null,null,null,null,null,null,null,null,null,null,null,null,null,null,null,null,null,null,null,null,null,null,null,null,null,null,null,null,null,null,null,957,"Helianthus annuus",null,null,499,"Chenopodium x variabile","Aellen","C. album x berlandieri","Chenopodiaceae",null,499,"Chenopodium x variabile_499",null,null,null,null,null,null,null,"Chenopodium x variabile_499"]
[null,null,null,null,null,null,null,null,null,null,null,null,null,null,null,null,null,null,null,null,null,null,null,null,null,null,null,null,null,null,null,null,null,null,null,null,null,null,null,null,null,null,null,null,null,null,null,null,null,null,null,null,null,null,null,null,null,null,null,964,"Helleborus viridis",null,null,3244,"Chloris virgata","Sw.","Feathery Rhodes-grass","Poaceae",null,3244,"Chloris virgata_3244",null,null,null,null,null,null,null,"Chloris virgata_3244"]
[null,null,null,null,null,null,null,null,null,null,null,null,null,null,null,null,null,null,null,null,null,null,null,null,null,null,null,null,null,null,null,null,null,null,null,null,null,null,null,null,null,null,null,null,null,null,null,null,null,null,null,null,null,null,null,null,null,null,null,974,"Herniaria hirsuta",null,null,509,"Cichorium intybus","Linnaeus","Chicory","Asteraceae",null,509,"Cichorium intybus_509",null,null,null,null,null,null,null,"Cichorium intybus_509"]
[null,null,null,null,null,null,null,null,null,null,null,null,null,null,null,null,null,null,null,null,null,null,null,null,null,null,null,null,null,null,null,null,null,null,null,null,null,null,null,null,null,null,null,null,null,null,null,null,null,null,null,null,null,null,null,null,null,null,null,976.5,"Pilosella officinarum subsp. tricholepia",null,null,515.1,"Cirsium arvense var. arvense",null,null,"Asteraceae",null,515.1,"Cirsium arvense var. arvense_515.1",null,null,null,null,null,null,null,"Cirsium arvense var. arvense_515.1"]
[null,null,null,null,null,null,null,null,null,null,null,null,null,null,null,null,null,null,null,null,null,null,null,null,null,null,null,null,null,null,null,null,null,null,null,null,null,null,null,null,null,null,null,null,null,null,null,null,null,null,null,null,null,null,null,null,null,null,null,992.3,"Hordeum murinum subsp. murinum",null,null,7228,"Cirsium x subspinuligerum","Peterm","C. palustre x vulgare","Asteraceae",null,7228,"Cirsium x subspinuligerum_7228",null,null,null,null,null,null,null,"Cirsium x subspinuligerum_7228"]
[null,null,null,null,null,null,null,null,null,null,null,null,null,null,null,null,null,null,null,null,null,null,null,null,null,null,null,null,null,null,null,null,null,null,null,null,null,null,null,null,null,null,null,null,null,null,null,null,null,null,null,null,null,null,null,null,null,null,null,1005.2,"Hypericum x desetangsii nothosubsp. desetangsii",null,null,527,"Clematis montana","Buch.-Ham. ex DC.","Himalayan Clematis","Ranunculaceae",null,527,"Clematis montana_527",null,null,null,null,null,null,null,"Clematis montana_527"]
[null,null,null,null,null,null,null,null,null,null,null,null,null,null,null,null,null,null,null,null,null,null,null,null,null,null,null,null,null,null,null,null,null,null,null,null,null,null,null,null,null,null,null,null,null,null,null,null,null,null,null,null,null,null,null,null,null,null,null,1009,"Hypericum hircinum subsp. majus",null,null,"No BRC","Clerodendrum trichotomum","Thunb.","White Tree-jasmine","Verbenaceae",null,"No BRC","Clerodendrum trichotomum_No BRC",null,null,null,null,null,null,null,"Clerodendrum trichotomum_No BRC"]
[null,null,null,null,null,null,null,null,null,null,null,null,null,null,null,null,null,null,null,null,null,null,null,null,null,null,null,null,null,null,null,null,null,null,null,null,null,null,null,null,null,null,null,null,null,null,null,null,null,null,null,null,null,null,null,null,null,null,null,1029,"Inula britannica",null,null,5422,"Cochlearia pyrenaica","DC.","Pyrenean Scurvygrass","Brassicaceae",null,5422,"Cochlearia pyrenaica_5422",null,null,null,null,null,null,null,"Cochlearia pyrenaica_5422"]
[null,null,null,null,null,null,null,null,null,null,null,null,null,null,null,null,null,null,null,null,null,null,null,null,null,null,null,null,null,null,null,null,null,null,null,null,null,null,null,null,null,null,null,null,null,null,null,null,null,null,null,null,null,null,null,null,null,null,null,1032,"Dittrichia graveolens",null,null,2624,"Cochlearia x hollandica","Henrard","C. anglica x officinalis","Brassicaceae",null,2624,"Cochlearia x hollandica_2624",null,null,null,null,null,null,null,"Cochlearia x hollandica_2624"]
[null,null,null,null,null,null,null,null,null,null,null,null,null,null,null,null,null,null,null,null,null,null,null,null,null,null,null,null,null,null,null,null,null,null,null,null,null,null,null,null,null,null,null,null,null,null,null,null,null,null,null,null,null,null,null,null,null,null,null,1050,"Juncus acutiflorus",null,null,543,"Convallaria majalis","L.","Lily-of-the-valley","Liliaceae",null,543,"Convallaria majalis_543",null,null,null,null,null,null,null,"Convallaria majalis_543"]
[null,null,null,null,null,null,null,null,null,null,null,null,null,null,null,null,null,null,null,null,null,null,null,null,null,null,null,null,null,null,null,null,null,null,null,null,null,null,null,null,null,null,null,null,null,null,null,null,null,null,null,null,null,null,null,null,null,null,null,1063,"Juncus conglomeratus",null,null,8017,"Coreopsis verticillata","L.","Whorled Tickseed","Asteraceae",null,8017,"Coreopsis verticillata_8017",null,null,null,null,null,null,null,"Coreopsis verticillata_8017"]
[null,null,null,null,null,null,null,null,null,null,null,null,null,null,null,null,null,null,null,null,null,null,null,null,null,null,null,null,null,null,null,null,null,null,null,null,null,null,null,null,null,null,null,null,null,null,null,null,null,null,null,null,null,null,null,null,null,null,null,1067.2,"Juncus effusus var. spiralis",null,null,"No BRC","Cornus sanguinea subsp. australis","(C.A. Mey.) Jáv.","Dogwood","Cornaceae",null,"No BRC","Cornus sanguinea subsp. australis_No BRC",null,null,null,null,null,null,null,"Cornus sanguinea subsp. australis_No BRC"]
[null,null,null,null,null,null,null,null,null,null,null,null,null,null,null,null,null,null,null,null,null,null,null,null,null,null,null,null,null,null,null,null,null,null,null,null,null,null,null,null,null,null,null,null,null,null,null,null,null,null,null,null,null,null,null,null,null,null,null,1082,"Kickxia elatine",null,null,7237,"Cosmos bipinnatus","Cav.","Mexican Aster","Asteraceae",null,7237,"Cosmos bipinnatus_7237",null,null,null,null,null,null,null,"Cosmos bipinnatus_7237"]
[null,null,null,null,null,null,null,null,null,null,null,null,null,null,null,null,null,null,null,null,null,null,null,null,null,null,null,null,null,null,null,null,null,null,null,null,null,null,null,null,null,null,null,null,null,null,null,null,null,null,null,null,null,null,null,null,null,null,null,1085,"Kobresia simpliciuscula",null,null,2926,"Cotoneaster affinis","Lindley","Purpleberry Cotoneaster","Rosaceae",null,2926,"Cotoneaster affinis_2926",null,null,null,null,null,null,null,"Cotoneaster affinis_2926"]
[null,null,null,null,null,null,null,null,null,null,null,null,null,null,null,null,null,null,null,null,null,null,null,null,null,null,null,null,null,null,null,null,null,null,null,null,null,null,null,null,null,null,null,null,null,null,null,null,null,null,null,null,null,null,null,null,null,null,null,1103,"Lamium purpureum",null,null,7240,"Cotoneaster ellipticus","(Lindley) Loudon","Lindley's Cotoneaster","Rosaceae",null,7240,"Cotoneaster ellipticus_7240",null,null,null,null,null,null,null,"Cotoneaster ellipticus_7240"]
[null,null,null,null,null,null,null,null,null,null,null,null,null,null,null,null,null,null,null,null,null,null,null,null,null,null,null,null,null,null,null,null,null,null,null,null,null,null,null,null,null,null,null,null,null,null,null,null,null,null,null,null,null,null,null,null,null,null,null,1108,"Lathyrus aphaca",null,null,"No BRC","Cotoneaster glaucophyllus","Franch.","Glaucous Cotoneaster","Rosaceae",null,"No BRC","Cotoneaster glaucophyllus_No BRC",null,null,null,null,null,null,null,"Cotoneaster glaucophyllus_No BRC"]
[null,null,null,null,null,null,null,null,null,null,null,null,null,null,null,null,null,null,null,null,null,null,null,null,null,null,null,null,null,null,null,null,null,null,null,null,null,null,null,null,null,null,null,null,null,null,null,null,null,null,null,null,null,null,null,null,null,null,null,1119,"Malva arborea",null,null,7243,"Cotoneaster insculptus","Diels","Engraved Cotoneaster","Rosaceae",null,7243,"Cotoneaster insculptus_7243",null,null,null,null,null,null,null,"Cotoneaster insculptus_7243"]
[null,null,null,null,null,null,null,null,null,null,null,null,null,null,null,null,null,null,null,null,null,null,null,null,null,null,null,null,null,null,null,null,null,null,null,null,null,null,null,null,null,null,null,null,null,null,null,null,null,null,null,null,null,null,null,null,null,null,null,1127,"Spirodela polyrhiza",null,null,3382,"Cotoneaster mairei","H. Lev","Maire's Cotoneaster","Rosaceae",null,3382,"Cotoneaster mairei_3382",null,null,null,null,null,null,null,"Cotoneaster mairei_3382"]
[null,null,null,null,null,null,null,null,null,null,null,null,null,null,null,null,null,null,null,null,null,null,null,null,null,null,null,null,null,null,null,null,null,null,null,null,null,null,null,null,null,null,null,null,null,null,null,null,null,null,null,null,null,null,null,null,null,null,null,1140,"Leucojum aestivum",null,null,2952,"Cotoneaster rehderi","Pojark.","Bullate Cotoneaster","Rosaceae",null,2952,"Cotoneaster rehderi_2952",null,null,null,null,null,null,null,"Cotoneaster rehderi_2952"]
[null,null,null,null,null,null,null,null,null,null,null,null,null,null,null,null,null,null,null,null,null,null,null,null,null,null,null,null,null,null,null,null,null,null,null,null,null,null,null,null,null,null,null,null,null,null,null,null,null,null,null,null,null,null,null,null,null,null,null,1154,"Limonium vulgare",null,null,7249.2,"Cotoneaster x suecicus 'Skogholm'",null,null,"Rosaceae",null,7249.2,"Cotoneaster x suecicus 'Skogholm'_7249.2",null,null,null,null,null,null,null,"Cotoneaster x suecicus 'Skogholm'_7249.2"]
[null,null,null,null,null,null,null,null,null,null,null,null,null,null,null,null,null,null,null,null,null,null,null,null,null,null,null,null,null,null,null,null,null,null,null,null,null,null,null,null,null,null,null,null,null,null,null,null,null,null,null,null,null,null,null,null,null,null,null,1161,"Linaria repens",null,null,4478,"Crambe cordifolia","Steven","Greater Sea-kale","Brassicaceae",null,4478,"Crambe cordifolia_4478",null,null,null,null,null,null,null,"Crambe cordifolia_4478"]
[null,null,null,null,null,null,null,null,null,null,null,null,null,null,null,null,null,null,null,null,null,null,null,null,null,null,null,null,null,null,null,null,null,null,null,null,null,null,null,null,null,null,null,null,null,null,null,null,null,null,null,null,null,null,null,null,null,null,null,1175,"Littorella uniflora",null,null,570,"Crataegus laevigata","(Poiret) DC.","Midland Hawthorn","Rosaceae",null,570,"Crataegus laevigata_570",null,null,null,null,null,null,null,"Crataegus laevigata_570"]
[null,null,null,null,null,null,null,null,null,null,null,null,null,null,null,null,null,null,null,null,null,null,null,null,null,null,null,null,null,null,null,null,null,null,null,null,null,null,null,null,null,null,null,null,null,null,null,null,null,null,null,null,null,null,null,null,null,null,null,1182,"Lolium multiflorum",null,null,7260,"Crataegus submollis","Sarg.","Hairy Cockspurthorn","Rosaceae",null,7260,"Crataegus submollis_7260",null,null,null,null,null,null,null,"Crataegus submollis_7260"]
[null,null,null,null,null,null,null,null,null,null,null,null,null,null,null,null,null,null,null,null,null,null,null,null,null,null,null,null,null,null,null,null,null,null,null,null,null,null,null,null,null,null,null,null,null,null,null,null,null,null,null,null,null,null,null,null,null,null,null,1196,"Lupinus arboreus",null,null,578.1,"Crepis vesicaria subsp. taraxacifolia","(Thuill.) Thell. Ex Schinz & R. Keller","Beaked Hawk's-beard","Asteraceae",null,578.1,"Crepis vesicaria subsp. taraxacifolia_578.1",null,null,null,null,null,null,null,"Crepis vesicaria subsp. taraxacifolia_578.1"]
[null,null,null,null,null,null,null,null,null,null,null,null,null,null,null,null,null,null,null,null,null,null,null,null,null,null,null,null,null,null,null,null,null,null,null,null,null,null,null,null,null,null,null,null,null,null,null,null,null,null,null,null,null,null,null,null,null,null,null,1213,"Diphasiastrum alpinum",null,null,585,"Crocus sativus","L.","Saffron Crocus","Iridaceae",null,585,"Crocus sativus_585",null,null,null,null,null,null,null,"Crocus sativus_585"]
[null,null,null,null,null,null,null,null,null,null,null,null,null,null,null,null,null,null,null,null,null,null,null,null,null,null,null,null,null,null,null,null,null,null,null,null,null,null,null,null,null,null,null,null,null,null,null,null,null,null,null,null,null,null,null,null,null,null,null,1218,"Anchusa arvensis",null,null,582,"Crocus vernus","(Linnaeus) Hill","Spring Crocus","Iridaceae",null,582,"Crocus vernus_582",null,null,null,null,null,null,null,"Crocus vernus_582"]
[null,null,null,null,null,null,null,null,null,null,null,null,null,null,null,null,null,null,null,null,null,null,null,null,null,null,null,null,null,null,null,null,null,null,null,null,null,null,null,null,null,null,null,null,null,null,null,null,null,null,null,null,null,null,null,null,null,null,null,1233,"Malva neglecta",null,null,2408,"Cupressus macrocarpa","Hartweg ex Gordon","Monterey Cypress","Cupressaceae",null,2408,"Cupressus macrocarpa_2408",null,null,null,null,null,null,null,"Cupressus macrocarpa_2408"]
[null,null,null,null,null,null,null,null,null,null,null,null,null,null,null,null,null,null,null,null,null,null,null,null,null,null,null,null,null,null,null,null,null,null,null,null,null,null,null,null,null,null,null,null,null,null,null,null,null,null,null,null,null,null,null,null,null,null,null,1240,"Tripleurospermum disciforme",null,null,8027,"Cyathea dealbata","(G. Forst.) Sw.","Silver Tree-fern","Cyatheaceae",null,8027,"Cyathea dealbata_8027",null,null,null,null,null,null,null,"Cyathea dealbata_8027"]
[null,null,null,null,null,null,null,null,null,null,null,null,null,null,null,null,null,null,null,null,null,null,null,null,null,null,null,null,null,null,null,null,null,null,null,null,null,null,null,null,null,null,null,null,null,null,null,null,null,null,null,null,null,null,null,null,null,null,null,1253,"Medicago sativa nothosubsp. varia",null,null,7274,"Cyperus eragrostis","Lam.","Pale Galingale","Cyperaceae",null,7274,"Cyperus eragrostis_7274",null,null,null,null,null,null,null,"Cyperus eragrostis_7274"]
[null,null,null,null,null,null,null,null,null,null,null,null,null,null,null,null,null,null,null,null,null,null,null,null,null,null,null,null,null,null,null,null,null,null,null,null,null,null,null,null,null,null,null,null,null,null,null,null,null,null,null,null,null,null,null,null,null,null,null,1262,"Melica nutans",null,null,1822,"Cytisus scoparius","(Linnaeus) Link","Broom","Fabaceae",null,1822,"Cytisus scoparius_1822",null,null,null,null,null,null,null,"Cytisus scoparius_1822"]
[null,null,null,null,null,null,null,null,null,null,null,null,null,null,null,null,null,null,null,null,null,null,null,null,null,null,null,null,null,null,null,null,null,null,null,null,null,null,null,null,null,null,null,null,null,null,null,null,null,null,null,null,null,null,null,null,null,null,null,1269,"Melittis melissophyllum",null,null,8032,"Dactylis hispanica","Roth",null,"Poaceae",null,8032,"Dactylis hispanica_8032",null,null,null,null,null,null,null,"Dactylis hispanica_8032"]
[null,null,null,null,null,null,null,null,null,null,null,null,null,null,null,null,null,null,null,null,null,null,null,null,null,null,null,null,null,null,null,null,null,null,null,null,null,null,null,null,null,null,null,null,null,null,null,null,null,null,null,null,null,null,null,null,null,null,null,1282,"Mentha suaveolens",null,null,609.6,"Dactylorhiza incarnata subsp. pulchella","(Druce) Soó","Early Marsh-orchid","Orchidaceae",null,609.6,"Dactylorhiza incarnata subsp. pulchella_609.6",null,null,null,null,null,null,null,"Dactylorhiza incarnata subsp. pulchella_609.6"]
[null,null,null,null,null,null,null,null,null,null,null,null,null,null,null,null,null,null,null,null,null,null,null,null,null,null,null,null,null,null,null,null,null,null,null,null,null,null,null,null,null,null,null,null,null,null,null,null,null,null,null,null,null,null,null,null,null,null,null,1291,"Mercurialis perennis",null,null,610.1,"Dactylorhiza maculata subsp. ericetorum","(Linton) P.Hunt & Summerh.","Heath Spotted-orchid","Orchidaceae",null,610.1,"Dactylorhiza maculata subsp. ericetorum_610.1",null,null,null,null,null,null,null,"Dactylorhiza maculata subsp. ericetorum_610.1"]
[null,null,null,null,null,null,null,null,null,null,null,null,null,null,null,null,null,null,null,null,null,null,null,null,null,null,null,null,null,null,null,null,null,null,null,null,null,null,null,null,null,null,null,null,null,null,null,null,null,null,null,null,null,null,null,null,null,null,null,1307,"Molinia caerulea",null,null,2867,"Dactylorhiza x hallii","(Druce) Soó","D. maculata x praetermissa","Orchidaceae",null,2867,"Dactylorhiza x hallii_2867",null,null,null,null,null,null,null,"Dactylorhiza x hallii_2867"]
[null,null,null,null,null,null,null,null,null,null,null,null,null,null,null,null,null,null,null,null,null,null,null,null,null,null,null,null,null,null,null,null,null,null,null,null,null,null,null,null,null,null,null,null,null,null,null,null,null,null,null,null,null,null,null,null,null,null,null,1308,"Moneses uniflora",null,null,2872,"Dactylorhiza x latirella","(P.M.Hall) Soó","D. incarnata x purpurella","Orchidaceae",null,2872,"Dactylorhiza x latirella_2872",null,null,null,null,null,null,null,"Dactylorhiza x latirella_2872"]
[null,null,null,null,null,null,null,null,null,null,null,null,null,null,null,null,null,null,null,null,null,null,null,null,null,null,null,null,null,null,null,null,null,null,null,null,null,null,null,null,null,null,null,null,null,null,null,null,null,null,null,null,null,null,null,null,null,null,null,1320.2,"Myosotis ramosissima subsp. ramosissima",null,null,621,"Daucus carota subsp. gummifer",null,"Sea Carrot","Apiaceae","Nationally Scarce",621,"Daucus carota subsp. gummifer_621",null,null,null,null,null,null,null,"Daucus carota subsp. gummifer_621"]
[null,null,null,null,null,null,null,null,null,null,null,null,null,null,null,null,null,null,null,null,null,null,null,null,null,null,null,null,null,null,null,null,null,null,null,null,null,null,null,null,null,null,null,null,null,null,null,null,null,null,null,null,null,null,null,null,null,null,null,1327,"Myosurus minimus",null,null,627.6,"Deschampsia cespitosa subsp. alpina x subsp. cespitosa",null,null,"Poaceae",null,627.6,"Deschampsia cespitosa subsp. alpina x subsp. cespitosa_627.6",null,null,null,null,null,null,null,"Deschampsia cespitosa subsp. alpina x subsp. cespitosa_627.6"]
[null,null,null,null,null,null,null,null,null,null,null,null,null,null,null,null,null,null,null,null,null,null,null,null,null,null,null,null,null,null,null,null,null,null,null,null,null,null,null,null,null,null,null,null,null,null,null,null,null,null,null,null,null,null,null,null,null,null,null,1342,"Narcissus obvallaris",null,null,636,"Dianthus gallicus","Pers.","Jersey Pink","Caryophyllaceae",null,636,"Dianthus gallicus_636",null,null,null,null,null,null,null,"Dianthus gallicus_636"]
[null,null,null,null,null,null,null,null,null,null,null,null,null,null,null,null,null,null,null,null,null,null,null,null,null,null,null,null,null,null,null,null,null,null,null,null,null,null,null,null,null,null,null,null,null,null,null,null,null,null,null,null,null,null,null,null,null,null,null,1361,"Odontites vernus",null,null,3297,"Digitaria ciliaris","(Retz.) Koeler","Tropical Finger-grass","Poaceae",null,3297,"Digitaria ciliaris_3297",null,null,null,null,null,null,null,"Digitaria ciliaris_3297"]
[null,null,null,null,null,null,null,null,null,null,null,null,null,null,null,null,null,null,null,null,null,null,null,null,null,null,null,null,null,null,null,null,null,null,null,null,null,null,null,null,null,null,null,null,null,null,null,null,null,null,null,null,null,null,null,null,null,null,null,1361.3,"Odontites vernus subsp. litoralis",null,null,1213,"Diphasiastrum alpinum","(Linnaeus) Holub","Alpine Clubmoss","Lycopodiaceae",null,1213,"Diphasiastrum alpinum_1213",null,null,null,null,null,null,null,"Diphasiastrum alpinum_1213"]
[null,null,null,null,null,null,null,null,null,null,null,null,null,null,null,null,null,null,null,null,null,null,null,null,null,null,null,null,null,null,null,null,null,null,null,null,null,null,null,null,null,null,null,null,null,null,null,null,null,null,null,null,null,null,null,null,null,null,null,1381,"Ophioglossum vulgatum sens. lat.",null,null,1035,"Dittrichia viscosa","(Linnaeus) Greuter","Woody Fleabane","Asteraceae",null,1035,"Dittrichia viscosa_1035",null,null,null,null,null,null,null,"Dittrichia viscosa_1035"]
[null,null,null,null,null,null,null,null,null,null,null,null,null,null,null,null,null,null,null,null,null,null,null,null,null,null,null,null,null,null,null,null,null,null,null,null,null,null,null,null,null,null,null,null,null,null,null,null,null,null,null,null,null,null,null,null,null,null,null,1382.4,"Ophrys apifera var. friburgensis",null,null,6415,"Dorycnium hirsutum","(Linnaeus) Ser.","Canary Clover","Fabaceae",null,6415,"Dorycnium hirsutum_6415",null,null,null,null,null,null,null,"Dorycnium hirsutum_6415"]
[null,null,null,null,null,null,null,null,null,null,null,null,null,null,null,null,null,null,null,null,null,null,null,null,null,null,null,null,null,null,null,null,null,null,null,null,null,null,null,null,null,null,null,null,null,null,null,null,null,null,null,null,null,null,null,null,null,null,null,1398,"Ornithopus pinnatus",null,null,657,"Drosera rotundifolia","Linnaeus","Round-leaved Sundew","Droseraceae",null,657,"Drosera rotundifolia_657",null,null,null,null,null,null,null,"Drosera rotundifolia_657"]
[null,null,null,null,null,null,null,null,null,null,null,null,null,null,null,null,null,null,null,null,null,null,null,null,null,null,null,null,null,null,null,null,null,null,null,null,null,null,null,null,null,null,null,null,null,null,null,null,null,null,null,null,null,null,null,null,null,null,null,1414.1,"Oxalis corniculata var. corniculata",null,null,2499,"Dryopteris remota","(A.Braun ex Doell) Druce","Scaly Buckler-fern","Dryopteridaceae",null,2499,"Dryopteris remota_2499",null,null,null,null,null,null,null,"Dryopteris remota_2499"]
[null,null,null,null,null,null,null,null,null,null,null,null,null,null,null,null,null,null,null,null,null,null,null,null,null,null,null,null,null,null,null,null,null,null,null,null,null,null,null,null,null,null,null,null,null,null,null,null,null,null,null,null,null,null,null,null,null,null,null,1414.4,"Oxalis corniculata var. repens",null,null,2582,"Dryopteris x ambroseae","Fraser-Jenkins & Jermy","D. dilatata x expansa","Dryopteridaceae",null,2582,"Dryopteris x ambroseae_2582",null,null,null,null,null,null,null,"Dryopteris x ambroseae_2582"]
[null,null,null,null,null,null,null,null,null,null,null,null,null,null,null,null,null,null,null,null,null,null,null,null,null,null,null,null,null,null,null,null,null,null,null,null,null,null,null,null,null,null,null,null,null,null,null,null,null,null,null,null,null,null,null,null,null,null,null,1432,"Parapholis incurva",null,null,4146,"Eccremocarpus scaber","(D. Don) Ruiz & Pav.","Chilean Glory-flower","Bignoniaceae",null,4146,"Eccremocarpus scaber_4146",null,null,null,null,null,null,null,"Eccremocarpus scaber_4146"]
[null,null,null,null,null,null,null,null,null,null,null,null,null,null,null,null,null,null,null,null,null,null,null,null,null,null,null,null,null,null,null,null,null,null,null,null,null,null,null,null,null,null,null,null,null,null,null,null,null,null,null,null,null,null,null,null,null,null,null,1442,"Pedicularis sylvatica",null,null,2551,"Egeria densa","Planch.","Large-flowered Waterweed","Hydrocharitaceae",null,2551,"Egeria densa_2551",null,null,null,null,null,null,null,"Egeria densa_2551"]
[null,null,null,null,null,null,null,null,null,null,null,null,null,null,null,null,null,null,null,null,null,null,null,null,null,null,null,null,null,null,null,null,null,null,null,null,null,null,null,null,null,null,null,null,null,null,null,null,null,null,null,null,null,null,null,null,null,null,null,1447.1,"Petasites hybridus 'male'",null,null,"No BRC","Elatine sp.",null,null,"Elatinaceae",null,"No BRC","Elatine sp._No BRC",null,null,null,null,null,null,null,"Elatine sp._No BRC"]
[null,null,null,null,null,null,null,null,null,null,null,null,null,null,null,null,null,null,null,null,null,null,null,null,null,null,null,null,null,null,null,null,null,null,null,null,null,null,null,null,null,null,null,null,null,null,null,null,null,null,null,null,null,null,null,null,null,null,null,1453,"Thyselium palustre",null,null,7288,"Eleocharis palustris x uniglumis",null,null,"Cyperaceae",null,7288,"Eleocharis palustris x uniglumis_7288",null,null,null,null,null,null,null,"Eleocharis palustris x uniglumis_7288"]
[null,null,null,null,null,null,null,null,null,null,null,null,null,null,null,null,null,null,null,null,null,null,null,null,null,null,null,null,null,null,null,null,null,null,null,null,null,null,null,null,null,null,null,null,null,null,null,null,null,null,null,null,null,null,null,null,null,null,null,1470.1,"Picea abies subsp. abies var. abies",null,null,32.1,"Elytrigia atherica var. atherica",null,null,"Poaceae",null,32.1,"Elytrigia atherica var. atherica_32.1",null,null,null,null,null,null,null,"Elytrigia atherica var. atherica_32.1"]
[null,null,null,null,null,null,null,null,null,null,null,null,null,null,null,null,null,null,null,null,null,null,null,null,null,null,null,null,null,null,null,null,null,null,null,null,null,null,null,null,null,null,null,null,null,null,null,null,null,null,null,null,null,null,null,null,null,null,null,1482.2,"Pinus nigra subsp. nigra",null,null,6463,"Enteropogon acicularis","(Lindl.) Lazarides","Curly Windmill-grass","Poaceae",null,6463,"Enteropogon acicularis_6463",null,null,null,null,null,null,null,"Enteropogon acicularis_6463"]
[null,null,null,null,null,null,null,null,null,null,null,null,null,null,null,null,null,null,null,null,null,null,null,null,null,null,null,null,null,null,null,null,null,null,null,null,null,null,null,null,null,null,null,null,null,null,null,null,null,null,null,null,null,null,null,null,null,null,null,1485,"Plantago coronopus",null,null,2638,"Epilobium komarovianum","A.Leveille","Bronzy Willowherb","Onagraceae",null,2638,"Epilobium komarovianum_2638",null,null,null,null,null,null,null,"Epilobium komarovianum_2638"]
[null,null,null,null,null,null,null,null,null,null,null,null,null,null,null,null,null,null,null,null,null,null,null,null,null,null,null,null,null,null,null,null,null,null,null,null,null,null,null,null,null,null,null,null,null,null,null,null,null,null,null,null,null,null,null,null,null,null,null,1500,"Poa flexuosa",null,null,689,"Epilobium tetragonum subsp. tetragonum",null,"Square-stalked Willow-herb","Onagraceae",null,689,"Epilobium tetragonum subsp. tetragonum_689",null,null,null,null,null,null,null,"Epilobium tetragonum subsp. tetragonum_689"]
[null,null,null,null,null,null,null,null,null,null,null,null,null,null,null,null,null,null,null,null,null,null,null,null,null,null,null,null,null,null,null,null,null,null,null,null,null,null,null,null,null,null,null,null,null,null,null,null,null,null,null,null,null,null,null,null,null,null,null,1506.2,"Poa angustifolia",null,null,2796,"Epilobium x boissieri","Hausskn.","E. alsinifolium x anagallidifolium","Onagraceae",null,2796,"Epilobium x boissieri_2796",null,null,null,null,null,null,null,"Epilobium x boissieri_2796"]
[null,null,null,null,null,null,null,null,null,null,null,null,null,null,null,null,null,null,null,null,null,null,null,null,null,null,null,null,null,null,null,null,null,null,null,null,null,null,null,null,null,null,null,null,null,null,null,null,null,null,null,null,null,null,null,null,null,null,null,1522,"Polygonum aviculare agg.",null,null,"No BRC","Epilobium x kitcheneri","McKean","E. montanum x pedunculare","Onagraceae",null,"No BRC","Epilobium x kitcheneri_No BRC",null,null,null,null,null,null,null,"Epilobium x kitcheneri_No BRC"]
[null,null,null,null,null,null,null,null,null,null,null,null,null,null,null,null,null,null,null,null,null,null,null,null,null,null,null,null,null,null,null,null,null,null,null,null,null,null,null,null,null,null,null,null,null,null,null,null,null,null,null,null,null,null,null,null,null,null,null,1534,"Persicaria minor",null,null,2791,"Epilobium x schmidtianum","Rostkov","E. obscurum x palustre","Onagraceae",null,2791,"Epilobium x schmidtianum_2791",null,null,null,null,null,null,null,"Epilobium x schmidtianum_2791"]
[null,null,null,null,null,null,null,null,null,null,null,null,null,null,null,null,null,null,null,null,null,null,null,null,null,null,null,null,null,null,null,null,null,null,null,null,null,null,null,null,null,null,null,null,null,null,null,null,null,null,null,null,null,null,null,null,null,null,null,1541,"Fallopia sachalinensis",null,null,7855,"Epimedium x versicolor","Morren","E. grandiflorum x pinnatum","Berberidaceae",null,7855,{"$f":"CONCATENATE(BM1924,\"_\",BL1924)","v":"Epimedium x versicolor_7855"},null,null,null,null,null,null,null,"Epimedium x versicolor_7855"]
[null,null,null,null,null,null,null,null,null,null,null,null,null,null,null,null,null,null,null,null,null,null,null,null,null,null,null,null,null,null,null,null,null,null,null,null,null,null,null,null,null,null,null,null,null,null,null,null,null,null,null,null,null,null,null,null,null,null,null,1550.4,"Populus x canadensis 'Regenerata'",null,null,"No BRC","Epipactis sancta","(P.Delforge) P.Delforge","Lindisfarne Helleborine","Orchidaceae","Endangered","No BRC","Epipactis sancta_No BRC",null,null,null,null,null,null,null,"Epipactis sancta_No BRC"]
[null,null,null,null,null,null,null,null,null,null,null,null,null,null,null,null,null,null,null,null,null,null,null,null,null,null,null,null,null,null,null,null,null,null,null,null,null,null,null,null,null,null,null,null,null,null,null,null,null,null,null,null,null,null,null,null,null,null,null,1554,"Populus nigra subsp. betulifolia",null,null,714,"Equisetum hyemale","Linnaeus","Rough Horsetail","Equisetaceae",null,714,"Equisetum hyemale_714",null,null,null,null,null,null,null,"Equisetum hyemale_714"]
[null,null,null,null,null,null,null,null,null,null,null,null,null,null,null,null,null,null,null,null,null,null,null,null,null,null,null,null,null,null,null,null,null,null,null,null,null,null,null,null,null,null,null,null,null,null,null,null,null,null,null,null,null,null,null,null,null,null,null,1574,"Potamogeton pectinatus",null,null,7296,"Eragrostis curvula","(Schrader) Nees","African Love-grass","Poaceae",null,7296,"Eragrostis curvula_7296",null,null,null,null,null,null,null,"Eragrostis curvula_7296"]
[null,null,null,null,null,null,null,null,null,null,null,null,null,null,null,null,null,null,null,null,null,null,null,null,null,null,null,null,null,null,null,null,null,null,null,null,null,null,null,null,null,null,null,null,null,null,null,null,null,null,null,null,null,null,null,null,null,null,null,1588.2,"Potentilla erecta subsp. strictissima",null,null,731,"Erica tetralix","Linnaeus","Cross-leaved Heath","Ericaceae",null,731,"Erica tetralix_731",null,null,null,null,null,null,null,"Erica tetralix_731"]
[null,null,null,null,null,null,null,null,null,null,null,null,null,null,null,null,null,null,null,null,null,null,null,null,null,null,null,null,null,null,null,null,null,null,null,null,null,null,null,null,null,null,null,null,null,null,null,null,null,null,null,null,null,null,null,null,null,null,null,1595,"Potentilla rupestris",null,null,"No BRC","Erigeron acris x Conyza sumatrensis",null,null,"Asteraceae",null,"No BRC","Erigeron acris x Conyza sumatrensis_No BRC",null,null,null,null,null,null,null,"Erigeron acris x Conyza sumatrensis_No BRC"]
[null,null,null,null,null,null,null,null,null,null,null,null,null,null,null,null,null,null,null,null,null,null,null,null,null,null,null,null,null,null,null,null,null,null,null,null,null,null,null,null,null,null,null,null,null,null,null,null,null,null,null,null,null,null,null,null,null,null,null,1602,"Primula x digenea",null,null,7300,"Erigeron philadelphicus","L.","Robin's-plantain","Asteraceae",null,7300,"Erigeron philadelphicus_7300",null,null,null,null,null,null,null,"Erigeron philadelphicus_7300"]
[null,null,null,null,null,null,null,null,null,null,null,null,null,null,null,null,null,null,null,null,null,null,null,null,null,null,null,null,null,null,null,null,null,null,null,null,null,null,null,null,null,null,null,null,null,null,null,null,null,null,null,null,null,null,null,null,null,null,null,1614.2,"Prunus domestica subsp. insititia",null,null,746.1,"Erodium cicutarium subsp. cicutarium",null,"Common Stork's-bill","Geraniaceae",null,746.1,"Erodium cicutarium subsp. cicutarium_746.1",null,null,null,null,null,null,null,"Erodium cicutarium subsp. cicutarium_746.1"]
[null,null,null,null,null,null,null,null,null,null,null,null,null,null,null,null,null,null,null,null,null,null,null,null,null,null,null,null,null,null,null,null,null,null,null,null,null,null,null,null,null,null,null,null,null,null,null,null,null,null,null,null,null,null,null,null,null,null,null,1625,"Pulicaria dysenterica",null,null,755,"Eruca vesicaria","(Linnaeus) Cav.","Garden Rocket","Brassicaceae",null,755,"Eruca vesicaria_755",null,null,null,null,null,null,null,"Eruca vesicaria_755"]
[null,null,null,null,null,null,null,null,null,null,null,null,null,null,null,null,null,null,null,null,null,null,null,null,null,null,null,null,null,null,null,null,null,null,null,null,null,null,null,null,null,null,null,null,null,null,null,null,null,null,null,null,null,null,null,null,null,null,null,1628,"Pulmonaria officinalis",null,null,4477,"Erucaria hispanica",null,null,"Brassicaceae",null,4477,"Erucaria hispanica_4477",null,null,null,null,null,null,null,"Erucaria hispanica_4477"]
[null,null,null,null,null,null,null,null,null,null,null,null,null,null,null,null,null,null,null,null,null,null,null,null,null,null,null,null,null,null,null,null,null,null,null,null,null,null,null,null,null,null,null,null,null,null,null,null,null,null,null,null,null,null,null,null,null,null,null,1643.2,"Ranunculus peltatus",null,null,761,"Eschscholzia californica","Cham.","Californian Poppy","Papaveraceae",null,761,"Eschscholzia californica_761",null,null,null,null,null,null,null,"Eschscholzia californica_761"]
[null,null,null,null,null,null,null,null,null,null,null,null,null,null,null,null,null,null,null,null,null,null,null,null,null,null,null,null,null,null,null,null,null,null,null,null,null,null,null,null,null,null,null,null,null,null,null,null,null,null,null,null,null,null,null,null,null,null,null,1645,"Ranunculus auricomus",null,null,8065,"Eucalyptus gunnii","Hook.f.","Cider Gum","Myrtaceae",null,8065,"Eucalyptus gunnii_8065",null,null,null,null,null,null,null,"Eucalyptus gunnii_8065"]
[null,null,null,null,null,null,null,null,null,null,null,null,null,null,null,null,null,null,null,null,null,null,null,null,null,null,null,null,null,null,null,null,null,null,null,null,null,null,null,null,null,null,null,null,null,null,null,null,null,null,null,null,null,null,null,null,null,null,null,1651.4,"Ranunculus flammula subsp. flammula var. ovatus",null,null,764,"Euphorbia amygdaloides","Linnaeus","Wood Spurge","Euphorbiaceae",null,764,"Euphorbia amygdaloides_764",null,null,null,null,null,null,null,"Euphorbia amygdaloides_764"]
[null,null,null,null,null,null,null,null,null,null,null,null,null,null,null,null,null,null,null,null,null,null,null,null,null,null,null,null,null,null,null,null,null,null,null,null,null,null,null,null,null,null,null,null,null,null,null,null,null,null,null,null,null,null,null,null,null,null,null,1667.2,"Raphanus raphanistrum subsp. raphanistrum var. flavus",null,null,3442,"Euphorbia oblongata",null,"Balkan Spurge","Euphorbiaceae",null,3442,"Euphorbia oblongata_3442",null,null,null,null,null,null,null,"Euphorbia oblongata_3442"]
[null,null,null,null,null,null,null,null,null,null,null,null,null,null,null,null,null,null,null,null,null,null,null,null,null,null,null,null,null,null,null,null,null,null,null,null,null,null,null,null,null,null,null,null,null,null,null,null,null,null,null,null,null,null,null,null,null,null,null,1673,"Reseda luteola",null,null,780,"Euphorbia portlandica","L.","Portland Spurge","Euphorbiaceae",null,780,"Euphorbia portlandica_780",null,null,null,null,null,null,null,"Euphorbia portlandica_780"]
[null,null,null,null,null,null,null,null,null,null,null,null,null,null,null,null,null,null,null,null,null,null,null,null,null,null,null,null,null,null,null,null,null,null,null,null,null,null,null,null,null,null,null,null,null,null,null,null,null,null,null,null,null,null,null,null,null,null,null,1691,"Rhynchospora alba",null,null,"No BRC","Euphrasia arctica x frigida",null,"(only ssp. borealis involved)","Scrophulariaceae",null,"No BRC","Euphrasia arctica x frigida_No BRC",null,null,null,null,null,null,null,"Euphrasia arctica x frigida_No BRC"]
[null,null,null,null,null,null,null,null,null,null,null,null,null,null,null,null,null,null,null,null,null,null,null,null,null,null,null,null,null,null,null,null,null,null,null,null,null,null,null,null,null,null,null,null,null,null,null,null,null,null,null,null,null,null,null,null,null,null,null,1698,"Robinia pseudoacacia",null,null,"No BRC","Euphrasia arctica x rotundifolia",null,"(only ssp. borealis involved)","Scrophulariaceae",null,"No BRC","Euphrasia arctica x rotundifolia_No BRC",null,null,null,null,null,null,null,"Euphrasia arctica x rotundifolia_No BRC"]
[null,null,null,null,null,null,null,null,null,null,null,null,null,null,null,null,null,null,null,null,null,null,null,null,null,null,null,null,null,null,null,null,null,null,null,null,null,null,null,null,null,null,null,null,null,null,null,null,null,null,null,null,null,null,null,null,null,null,null,1715,"Rosa rubiginosa",null,null,7324,"Euphrasia confusa x micrantha",null,null,"Scrophulariaceae",null,7324,"Euphrasia confusa x micrantha_7324",null,null,null,null,null,null,null,"Euphrasia confusa x micrantha_7324"]
[null,null,null,null,null,null,null,null,null,null,null,null,null,null,null,null,null,null,null,null,null,null,null,null,null,null,null,null,null,null,null,null,null,null,null,null,null,null,null,null,null,null,null,null,null,null,null,null,null,null,null,null,null,null,null,null,null,null,null,1734.1,"Rumex acetosa subsp. acetosa",null,null,796,"Euphrasia micrantha","Reichb.",null,"Scrophulariaceae",null,796,"Euphrasia micrantha_796",null,null,null,null,null,null,null,"Euphrasia micrantha_796"]
[null,null,null,null,null,null,null,null,null,null,null,null,null,null,null,null,null,null,null,null,null,null,null,null,null,null,null,null,null,null,null,null,null,null,null,null,null,null,null,null,null,null,null,null,null,null,null,null,null,null,null,null,null,null,null,null,null,null,null,1737,"Rumex pseudoalpinus",null,null,"No BRC","Euphrasia nemorosa x heslop-harrisonii",null,null,"Scrophulariaceae",null,"No BRC","Euphrasia nemorosa x heslop-harrisonii_No BRC",null,null,null,null,null,null,null,"Euphrasia nemorosa x heslop-harrisonii_No BRC"]
[null,null,null,null,null,null,null,null,null,null,null,null,null,null,null,null,null,null,null,null,null,null,null,null,null,null,null,null,null,null,null,null,null,null,null,null,null,null,null,null,null,null,null,null,null,null,null,null,null,null,null,null,null,null,null,null,null,null,null,1748.2,"Rumex obtusifolius var. microcarpus",null,null,804,"Euphrasia officinalis subsp. pratensis","Schübl. & G. Martens","Rostkov's Eyebright","Scrophulariaceae","Vulnerable",804,"Euphrasia officinalis subsp. pratensis_804",null,null,null,null,null,null,null,"Euphrasia officinalis subsp. pratensis_804"]
[null,null,null,null,null,null,null,null,null,null,null,null,null,null,null,null,null,null,null,null,null,null,null,null,null,null,null,null,null,null,null,null,null,null,null,null,null,null,null,null,null,null,null,null,null,null,null,null,null,null,null,null,null,null,null,null,null,null,null,1752,"Rumex rupestris",null,null,789,"Euphrasia ostenfeldii","(Pugsley) Yeo",null,"Scrophulariaceae","Nationally Scarce",789,"Euphrasia ostenfeldii_789",null,null,null,null,null,null,null,"Euphrasia ostenfeldii_789"]
[null,null,null,null,null,null,null,null,null,null,null,null,null,null,null,null,null,null,null,null,null,null,null,null,null,null,null,null,null,null,null,null,null,null,null,null,null,null,null,null,null,null,null,null,null,null,null,null,null,null,null,null,null,null,null,null,null,null,null,1767,"Sagina procumbens",null,null,7349,"Euphrasia tetraquetra x ostenfeldii",null,null,"Scrophulariaceae",null,7349,"Euphrasia tetraquetra x ostenfeldii_7349",null,null,null,null,null,null,null,"Euphrasia tetraquetra x ostenfeldii_7349"]
[null,null,null,null,null,null,null,null,null,null,null,null,null,null,null,null,null,null,null,null,null,null,null,null,null,null,null,null,null,null,null,null,null,null,null,null,null,null,null,null,null,null,null,null,null,null,null,null,null,null,null,null,null,null,null,null,null,null,null,1774,"Salicornia dolichostachya",null,null,3449,"Euphrasia x atroviolacea","Druce & Lumb.","E. confusa x foulaensis","Scrophulariaceae",null,3449,"Euphrasia x atroviolacea_3449",null,null,null,null,null,null,null,"Euphrasia x atroviolacea_3449"]
[null,null,null,null,null,null,null,null,null,null,null,null,null,null,null,null,null,null,null,null,null,null,null,null,null,null,null,null,null,null,null,null,null,null,null,null,null,null,null,null,null,null,null,null,null,null,null,null,null,null,null,null,null,null,null,null,null,null,null,1790,"Salix cinerea subsp. cinerea",null,null,1528.1,"Fallopia japonica var. japonica",null,"Japanese Knotweed","Polygonaceae",null,1528.1,"Fallopia japonica var. japonica_1528.1",null,null,null,null,null,null,null,"Fallopia japonica var. japonica_1528.1"]
[null,null,null,null,null,null,null,null,null,null,null,null,null,null,null,null,null,null,null,null,null,null,null,null,null,null,null,null,null,null,null,null,null,null,null,null,null,null,null,null,null,null,null,null,null,null,null,null,null,null,null,null,null,null,null,null,null,null,null,1802.3,"Salix repens var. fusca",null,null,7360,"Festuca filiformis x ovina",null,null,"Poaceae",null,7360,"Festuca filiformis x ovina_7360",null,null,null,null,null,null,null,"Festuca filiformis x ovina_7360"]
[null,null,null,null,null,null,null,null,null,null,null,null,null,null,null,null,null,null,null,null,null,null,null,null,null,null,null,null,null,null,null,null,null,null,null,null,null,null,null,null,null,null,null,null,null,null,null,null,null,null,null,null,null,null,null,null,null,null,null,1807,"Salsola kali subsp. iberica",null,null,817,"Festuca longifolia","Thuill.","Blue Fescue","Poaceae","Rare",817,"Festuca longifolia_817",null,null,null,null,null,null,null,"Festuca longifolia_817"]
[null,null,null,null,null,null,null,null,null,null,null,null,null,null,null,null,null,null,null,null,null,null,null,null,null,null,null,null,null,null,null,null,null,null,null,null,null,null,null,null,null,null,null,null,null,null,null,null,null,null,null,null,null,null,null,null,null,null,null,1823,"Sarracenia purpurea",null,null,1649,"Ficaria verna","Huds.","Lesser Celandine","Ranunculaceae",null,1649,"Ficaria verna_1649",null,null,null,null,null,null,null,"Ficaria verna_1649"]
[null,null,null,null,null,null,null,null,null,null,null,null,null,null,null,null,null,null,null,null,null,null,null,null,null,null,null,null,null,null,null,null,null,null,null,null,null,null,null,null,null,null,null,null,null,null,null,null,null,null,null,null,null,null,null,null,null,null,null,1826,"Saxifraga aizoides",null,null,1649.3,"Ficaria verna subsp. ficariiformis","(F.W. Schultz) B. Walln.","Lesser Celandine","Ranunculaceae",null,1649.3,"Ficaria verna subsp. ficariiformis_1649.3",null,null,null,null,null,null,null,"Ficaria verna subsp. ficariiformis_1649.3"]
[null,null,null,null,null,null,null,null,null,null,null,null,null,null,null,null,null,null,null,null,null,null,null,null,null,null,null,null,null,null,null,null,null,null,null,null,null,null,null,null,null,null,null,null,null,null,null,null,null,null,null,null,null,null,null,null,null,null,null,1846,"Scabiosa columbaria",null,null,839,"Frangula alnus","Miller","Alder Buckthorn","Rhamnaceae",null,839,"Frangula alnus_839",null,null,null,null,null,null,null,"Frangula alnus_839"]
[null,null,null,null,null,null,null,null,null,null,null,null,null,null,null,null,null,null,null,null,null,null,null,null,null,null,null,null,null,null,null,null,null,null,null,null,null,null,null,null,null,null,null,null,null,null,null,null,null,null,null,null,null,null,null,null,null,null,null,1859,"Scirpus hudsonianus",null,null,845.3,"Fumaria bastardii var. hibernica",null,null,"Fumariaceae",null,845.3,"Fumaria bastardii var. hibernica_845.3",null,null,null,null,null,null,null,"Fumaria bastardii var. hibernica_845.3"]
[null,null,null,null,null,null,null,null,null,null,null,null,null,null,null,null,null,null,null,null,null,null,null,null,null,null,null,null,null,null,null,null,null,null,null,null,null,null,null,null,null,null,null,null,null,null,null,null,null,null,null,null,null,null,null,null,null,null,null,1863,"Scleranthus perennis",null,null,847.2,"Fumaria capreolata subsp. capreolata f. capreolata",null,null,"Fumariaceae",null,847.2,"Fumaria capreolata subsp. capreolata f. capreolata_847.2",null,null,null,null,null,null,null,"Fumaria capreolata subsp. capreolata f. capreolata_847.2"]
[null,null,null,null,null,null,null,null,null,null,null,null,null,null,null,null,null,null,null,null,null,null,null,null,null,null,null,null,null,null,null,null,null,null,null,null,null,null,null,null,null,null,null,null,null,null,null,null,null,null,null,null,null,null,null,null,null,null,null,1879.2,"Sedum forsterianum subsp. forsterianum",null,null,854.5,"Fumaria officinalis subsp. wirtgenii var. wirtgenii",null,null,"Fumariaceae",null,854.5,"Fumaria officinalis subsp. wirtgenii var. wirtgenii_854.5",null,null,null,null,null,null,null,"Fumaria officinalis subsp. wirtgenii var. wirtgenii_854.5"]
[null,null,null,null,null,null,null,null,null,null,null,null,null,null,null,null,null,null,null,null,null,null,null,null,null,null,null,null,null,null,null,null,null,null,null,null,null,null,null,null,null,null,null,null,null,null,null,null,null,null,null,null,null,null,null,null,null,null,null,1882,"Sedum rosea",null,null,856,"Fumaria parviflora","Lam.","Fine-leaved Fumitory","Fumariaceae","Vulnerable",856,"Fumaria parviflora_856",null,null,null,null,null,null,null,"Fumaria parviflora_856"]
[null,null,null,null,null,null,null,null,null,null,null,null,null,null,null,null,null,null,null,null,null,null,null,null,null,null,null,null,null,null,null,null,null,null,null,null,null,null,null,null,null,null,null,null,null,null,null,null,null,null,null,null,null,null,null,null,null,null,null,1900,"Senecio paludosus",null,null,7122.1,"Galanthus plicatus subsp. byzantinus",null,null,"Liliaceae",null,7122.1,"Galanthus plicatus subsp. byzantinus_7122.1",null,null,null,null,null,null,null,"Galanthus plicatus subsp. byzantinus_7122.1"]
[null,null,null,null,null,null,null,null,null,null,null,null,null,null,null,null,null,null,null,null,null,null,null,null,null,null,null,null,null,null,null,null,null,null,null,null,null,null,null,null,null,null,null,null,null,null,null,null,null,null,null,null,null,null,null,null,null,null,null,1913,"Sibbaldia procumbens",null,null,879,"Galium album","Mill.","Hedge Bedstraw","Rubiaceae",null,879,"Galium album_879",null,null,null,null,null,null,null,"Galium album_879"]
[null,null,null,null,null,null,null,null,null,null,null,null,null,null,null,null,null,null,null,null,null,null,null,null,null,null,null,null,null,null,null,null,null,null,null,null,null,null,null,null,null,null,null,null,null,null,null,null,null,null,null,null,null,null,null,null,null,null,null,1918.2,"Silene gallica var. quinquevulnera",null,null,183,"Galium odoratum","(L.) Scop.","Woodruff","Rubiaceae",null,183,"Galium odoratum_183",null,null,null,null,null,null,null,"Galium odoratum_183"]
[null,null,null,null,null,null,null,null,null,null,null,null,null,null,null,null,null,null,null,null,null,null,null,null,null,null,null,null,null,null,null,null,null,null,null,null,null,null,null,null,null,null,null,null,null,null,null,null,null,null,null,null,null,null,null,null,null,null,null,1925,"Silene italica",null,null,878,"Galium saxatile","Linnaeus","Heath Bedstraw","Rubiaceae",null,878,"Galium saxatile_878",null,null,null,null,null,null,null,"Galium saxatile_878"]
[null,null,null,null,null,null,null,null,null,null,null,null,null,null,null,null,null,null,null,null,null,null,null,null,null,null,null,null,null,null,null,null,null,null,null,null,null,null,null,null,null,null,null,null,null,null,null,null,null,null,null,null,null,null,null,null,null,null,null,1936,"Sisymbrium irio",null,null,2244,"Gaultheria mucronata","(Linnaeusf.) Hook. & Arn.","Prickly Heath","Ericaceae",null,2244,"Gaultheria mucronata_2244",null,null,null,null,null,null,null,"Gaultheria mucronata_2244"]
[null,null,null,null,null,null,null,null,null,null,null,null,null,null,null,null,null,null,null,null,null,null,null,null,null,null,null,null,null,null,null,null,null,null,null,null,null,null,null,null,null,null,null,null,null,null,null,null,null,null,null,null,null,null,null,null,null,null,null,1949.1,"Solanum nigrum subsp. nigrum",null,null,7380,"Gentiana acaulis","L.","Trumpet Gentian","Gentianaceae",null,7380,{"$f":"CONCATENATE(BM2436,\"_\",BL2436)","v":"Gentiana acaulis_7380"},null,null,null,null,null,null,null,"Gentiana acaulis_7380"]
[null,null,null,null,null,null,null,null,null,null,null,null,null,null,null,null,null,null,null,null,null,null,null,null,null,null,null,null,null,null,null,null,null,null,null,null,null,null,null,null,null,null,null,null,null,null,null,null,null,null,null,null,null,null,null,null,null,null,null,1953,"Sonchus asper",null,null,898,"Gentianella amarella subsp. amarella sens. lat.",null,"Autumn Gentian","Gentianaceae",null,898,"Gentianella amarella subsp. amarella sens. lat._898",null,null,null,null,null,null,null,"Gentianella amarella subsp. amarella sens. lat._898"]
[null,null,null,null,null,null,null,null,null,null,null,null,null,null,null,null,null,null,null,null,null,null,null,null,null,null,null,null,null,null,null,null,null,null,null,null,null,null,null,null,null,null,null,null,null,null,null,null,null,null,null,null,null,null,null,null,null,null,null,1967,"Sorbus lancastriensis",null,null,907,"Geranium dissectum","Linnaeus","Cut-leaved Crane's-bill","Geraniaceae",null,907,"Geranium dissectum_907",null,null,null,null,null,null,null,"Geranium dissectum_907"]
[null,null,null,null,null,null,null,null,null,null,null,null,null,null,null,null,null,null,null,null,null,null,null,null,null,null,null,null,null,null,null,null,null,null,null,null,null,null,null,null,null,null,null,null,null,null,null,null,null,null,null,null,null,null,null,null,null,null,null,1974,"Sorbus rupicola",null,null,910,"Geranium macrorrhizum","Linnaeus","Rock Crane's-bill","Geraniaceae",null,910,"Geranium macrorrhizum_910",null,null,null,null,null,null,null,"Geranium macrorrhizum_910"]
[null,null,null,null,null,null,null,null,null,null,null,null,null,null,null,null,null,null,null,null,null,null,null,null,null,null,null,null,null,null,null,null,null,null,null,null,null,null,null,null,null,null,null,null,null,null,null,null,null,null,null,null,null,null,null,null,null,null,null,1986,"Spartina x townsendii",null,null,915.2,"Geranium purpureum subsp. purpureum",null,"Little-Robin","Geraniaceae","Nationally Scarce",915.2,"Geranium purpureum subsp. purpureum_915.2",null,null,null,null,null,null,null,"Geranium purpureum subsp. purpureum_915.2"]
[null,null,null,null,null,null,null,null,null,null,null,null,null,null,null,null,null,null,null,null,null,null,null,null,null,null,null,null,null,null,null,null,null,null,null,null,null,null,null,null,null,null,null,null,null,null,null,null,null,null,null,null,null,null,null,null,null,null,null,2000,"Stachys annua",null,null,8253,"Geropogon glaber","L.","Slender Salsify","Asteraceae",null,8253,"Geropogon glaber_8253",null,null,null,null,null,null,null,"Geropogon glaber_8253"]
[null,null,null,null,null,null,null,null,null,null,null,null,null,null,null,null,null,null,null,null,null,null,null,null,null,null,null,null,null,null,null,null,null,null,null,null,null,null,null,null,null,null,null,null,null,null,null,null,null,null,null,null,null,null,null,null,null,null,null,2007,"Stellaria alsine",null,null,923,"Geum x intermedium","Ehrh.","G. rivale x urbanum","Rosaceae",null,923,"Geum x intermedium_923",null,null,null,null,null,null,null,"Geum x intermedium_923"]
[null,null,null,null,null,null,null,null,null,null,null,null,null,null,null,null,null,null,null,null,null,null,null,null,null,null,null,null,null,null,null,null,null,null,null,null,null,null,null,null,null,null,null,null,null,null,null,null,null,null,null,null,null,null,null,null,null,null,null,2022,"Symphoricarpos albus",null,null,"No BRC","Glyceria canadensis","(Michx.) Trin.","Rattlesnake-grass","Poaceae",null,"No BRC","Glyceria canadensis_No BRC",null,null,null,null,null,null,null,"Glyceria canadensis_No BRC"]
[null,null,null,null,null,null,null,null,null,null,null,null,null,null,null,null,null,null,null,null,null,null,null,null,null,null,null,null,null,null,null,null,null,null,null,null,null,null,null,null,null,null,null,null,null,null,null,null,null,null,null,null,null,null,null,null,null,null,null,2029,"Syringa vulgaris",null,null,935,"Glyceria x pedicellata","F.Towns","G. fluitans x notata","Poaceae",null,935,"Glyceria x pedicellata_935",null,null,null,null,null,null,null,"Glyceria x pedicellata_935"]
[null,null,null,null,null,null,null,null,null,null,null,null,null,null,null,null,null,null,null,null,null,null,null,null,null,null,null,null,null,null,null,null,null,null,null,null,null,null,null,null,null,null,null,null,null,null,null,null,null,null,null,null,null,null,null,null,null,null,null,2049.3000000000002,"Thalictrum minus subsp. majus",null,null,948,"Gymnadenia conopsea sens. lat.",null,"Fragrant Orchid","Orchidaceae",null,948,"Gymnadenia conopsea sens. lat._948",null,null,null,null,null,null,null,"Gymnadenia conopsea sens. lat._948"]
[null,null,null,null,null,null,null,null,null,null,null,null,null,null,null,null,null,null,null,null,null,null,null,null,null,null,null,null,null,null,null,null,null,null,null,null,null,null,null,null,null,null,null,null,null,null,null,null,null,null,null,null,null,null,null,null,null,null,null,2061,"Thymus pulegioides",null,null,952.3,"Hedera helix subsp. poetarum","(Bertol.) Nyman","Yellow-berried Ivy","Araliaceae",null,952.3,"Hedera helix subsp. poetarum_952.3",null,null,null,null,null,null,null,"Hedera helix subsp. poetarum_952.3"]
[null,null,null,null,null,null,null,null,null,null,null,null,null,null,null,null,null,null,null,null,null,null,null,null,null,null,null,null,null,null,null,null,null,null,null,null,null,null,null,null,null,null,null,null,null,null,null,null,null,null,null,null,null,null,null,null,null,null,null,2068,"Torilis arvensis",null,null,955,"Helianthemum nummularium","(Linnaeus) Miller","Common Rock-rose","Cistaceae",null,955,"Helianthemum nummularium_955",null,null,null,null,null,null,null,"Helianthemum nummularium_955"]
[null,null,null,null,null,null,null,null,null,null,null,null,null,null,null,null,null,null,null,null,null,null,null,null,null,null,null,null,null,null,null,null,null,null,null,null,null,null,null,null,null,null,null,null,null,null,null,null,null,null,null,null,null,null,null,null,null,null,null,2081,"Trifolium dubium",null,null,"No BRC","Helichrysum foetidum var. citreum",null,"Stinking Everlastingflower","Asteraceae",null,"No BRC","Helichrysum foetidum var. citreum_No BRC",null,null,null,null,null,null,null,"Helichrysum foetidum var. citreum_No BRC"]
[null,null,null,null,null,null,null,null,null,null,null,null,null,null,null,null,null,null,null,null,null,null,null,null,null,null,null,null,null,null,null,null,null,null,null,null,null,null,null,null,null,null,null,null,null,null,null,null,null,null,null,null,null,null,null,null,null,null,null,2086,"Trifolium incarnatum subsp. incarnatum",null,null,8086,"Helleborus niger","Linnaeus","Christmas-rose","Ranunculaceae",null,8086,"Helleborus niger_8086",null,null,null,null,null,null,null,"Helleborus niger_8086"]
[null,null,null,null,null,null,null,null,null,null,null,null,null,null,null,null,null,null,null,null,null,null,null,null,null,null,null,null,null,null,null,null,null,null,null,null,null,null,null,null,null,null,null,null,null,null,null,null,null,null,null,null,null,null,null,null,null,null,null,2102,"Triglochin palustris",null,null,971,"Herniaria ciliolata","Melderis","Fringed Rupturewort","Caryophyllaceae","Vulnerable",971,"Herniaria ciliolata_971",null,null,null,null,null,null,null,"Herniaria ciliolata_971"]
[null,null,null,null,null,null,null,null,null,null,null,null,null,null,null,null,null,null,null,null,null,null,null,null,null,null,null,null,null,null,null,null,null,null,null,null,null,null,null,null,null,null,null,null,null,null,null,null,null,null,null,null,null,null,null,null,null,null,null,2105,"Trisetum flavescens",null,null,973,"Herniaria glabra","L.","Smooth Rupturewort","Caryophyllaceae","Rare",973,"Herniaria glabra_973",null,null,null,null,null,null,null,"Herniaria glabra_973"]
[null,null,null,null,null,null,null,null,null,null,null,null,null,null,null,null,null,null,null,null,null,null,null,null,null,null,null,null,null,null,null,null,null,null,null,null,null,null,null,null,null,null,null,null,null,null,null,null,null,null,null,null,null,null,null,null,null,null,null,2124,"Ulmus x vegeta",null,null,3004,"Hieracium amplexicaule","L.","Sticky Hawkweed","Hieracium microspecies",null,3004,"Hieracium amplexicaule_3004",null,null,null,null,null,null,null,"Hieracium amplexicaule_3004"]
[null,null,null,null,null,null,null,null,null,null,null,null,null,null,null,null,null,null,null,null,null,null,null,null,null,null,null,null,null,null,null,null,null,null,null,null,null,null,null,null,null,null,null,null,null,null,null,null,null,null,null,null,null,null,null,null,null,null,null,2137,"Vaccinium uliginosum",null,null,"No BRC","Hieracium apheles","P.D. Sell","Hepste Hawkweed","Hieracium microspecies","Rare","No BRC","Hieracium apheles_No BRC",null,null,null,null,null,null,null,"Hieracium apheles_No BRC"]
[null,null,null,null,null,null,null,null,null,null,null,null,null,null,null,null,null,null,null,null,null,null,null,null,null,null,null,null,null,null,null,null,null,null,null,null,null,null,null,null,null,null,null,null,null,null,null,null,null,null,null,null,null,null,null,null,null,null,null,2142,"Valerianella carinata",null,null,"No BRC","Hieracium argillaceum","Jord.","Southern Hawkweed","Hieracium microspecies",null,"No BRC","Hieracium argillaceum_No BRC",null,null,null,null,null,null,null,"Hieracium argillaceum_No BRC"]
[null,null,null,null,null,null,null,null,null,null,null,null,null,null,null,null,null,null,null,null,null,null,null,null,null,null,null,null,null,null,null,null,null,null,null,null,null,null,null,null,null,null,null,null,null,null,null,null,null,null,null,null,null,null,null,null,null,null,null,2158,"Verbascum virgatum",null,null,"No BRC","Hieracium beebyanum","Pugsley","Beeby's Hawkweed","Hieracium microspecies",null,"No BRC","Hieracium beebyanum_No BRC",null,null,null,null,null,null,null,"Hieracium beebyanum_No BRC"]
[null,null,null,null,null,null,null,null,null,null,null,null,null,null,null,null,null,null,null,null,null,null,null,null,null,null,null,null,null,null,null,null,null,null,null,null,null,null,null,null,null,null,null,null,null,null,null,null,null,null,null,null,null,null,null,null,null,null,null,2161,"Veronica agrestis",null,null,3025,"Hieracium borreri","Syme","Borrer's Hawkweed","Hieracium microspecies",null,3025,"Hieracium borreri_3025",null,null,null,null,null,null,null,"Hieracium borreri_3025"]
[null,null,null,null,null,null,null,null,null,null,null,null,null,null,null,null,null,null,null,null,null,null,null,null,null,null,null,null,null,null,null,null,null,null,null,null,null,null,null,null,null,null,null,null,null,null,null,null,null,null,null,null,null,null,null,null,null,null,null,2179,"Veronica scutellata",null,null,"No BRC","Hieracium caledonicum","F. Hanb.","Caledonian Hawkweed","Hieracium microspecies","Rare","No BRC","Hieracium caledonicum_No BRC",null,null,null,null,null,null,null,"Hieracium caledonicum_No BRC"]
[null,null,null,null,null,null,null,null,null,null,null,null,null,null,null,null,null,null,null,null,null,null,null,null,null,null,null,null,null,null,null,null,null,null,null,null,null,null,null,null,null,null,null,null,null,null,null,null,null,null,null,null,null,null,null,null,null,null,null,2181.1,"Veronica spicata subsp. hybrida",null,null,3043,"Hieracium camptopetalum","(F. Hanb.) P.D. Sell & C. West","Short-flowered Hawkweed","Hieracium microspecies","Rare",3043,"Hieracium camptopetalum_3043",null,null,null,null,null,null,null,"Hieracium camptopetalum_3043"]
[null,null,null,null,null,null,null,null,null,null,null,null,null,null,null,null,null,null,null,null,null,null,null,null,null,null,null,null,null,null,null,null,null,null,null,null,null,null,null,null,null,null,null,null,null,null,null,null,null,null,null,null,null,null,null,null,null,null,null,2198,"Vicia sepium",null,null,3053,"Hieracium clovense","E.F. Linton","Clova Hawkweed","Hieracium microspecies",null,3053,"Hieracium clovense_3053",null,null,null,null,null,null,null,"Hieracium clovense_3053"]
[null,null,null,null,null,null,null,null,null,null,null,null,null,null,null,null,null,null,null,null,null,null,null,null,null,null,null,null,null,null,null,null,null,null,null,null,null,null,null,null,null,null,null,null,null,null,null,null,null,null,null,null,null,null,null,null,null,null,null,2210,"Viola hirta",null,null,"No BRC","Hieracium deargicola","P.D. Sell & D.J. Tennant","Beinn Dearg Hawkweed","Hieracium microspecies","Rare","No BRC","Hieracium deargicola_No BRC",null,null,null,null,null,null,null,"Hieracium deargicola_No BRC"]
[null,null,null,null,null,null,null,null,null,null,null,null,null,null,null,null,null,null,null,null,null,null,null,null,null,null,null,null,null,null,null,null,null,null,null,null,null,null,null,null,null,null,null,null,null,null,null,null,null,null,null,null,null,null,null,null,null,null,null,2211,"Viola lactea",null,null,"No BRC","Hieracium deganwyense","Pugsley","Deganwy Hawkweed","Hieracium microspecies",null,"No BRC","Hieracium deganwyense_No BRC",null,null,null,null,null,null,null,"Hieracium deganwyense_No BRC"]
[null,null,null,null,null,null,null,null,null,null,null,null,null,null,null,null,null,null,null,null,null,null,null,null,null,null,null,null,null,null,null,null,null,null,null,null,null,null,null,null,null,null,null,null,null,null,null,null,null,null,null,null,null,null,null,null,null,null,null,2220,"Viola tricolor",null,null,3075,"Hieracium duriceps agg.",null,"A hawkweed","Hieracium microspecies",null,3075,"Hieracium duriceps agg._3075",null,null,null,null,null,null,null,"Hieracium duriceps agg._3075"]
[null,null,null,null,null,null,null,null,null,null,null,null,null,null,null,null,null,null,null,null,null,null,null,null,null,null,null,null,null,null,null,null,null,null,null,null,null,null,null,null,null,null,null,null,null,null,null,null,null,null,null,null,null,null,null,null,null,null,null,2225,"Vulpia ciliata subsp. ambigua",null,null,"No BRC","Hieracium erubescens","Jord. ex Boreau","Red-flushed Hawkweed","Hieracium microspecies",null,"No BRC","Hieracium erubescens_No BRC",null,null,null,null,null,null,null,"Hieracium erubescens_No BRC"]
[null,null,null,null,null,null,null,null,null,null,null,null,null,null,null,null,null,null,null,null,null,null,null,null,null,null,null,null,null,null,null,null,null,null,null,null,null,null,null,null,null,null,null,null,null,null,null,null,null,null,null,null,null,null,null,null,null,null,null,2240,"Zostera noltei",null,null,"No BRC","Hieracium flocculosiforme","P.D. Sell","Small-toothed Hawkweed","Hieracium microspecies",null,"No BRC","Hieracium flocculosiforme_No BRC",null,null,null,null,null,null,null,"Hieracium flocculosiforme_No BRC"]
[null,null,null,null,null,null,null,null,null,null,null,null,null,null,null,null,null,null,null,null,null,null,null,null,null,null,null,null,null,null,null,null,null,null,null,null,null,null,null,null,null,null,null,null,null,null,null,null,null,null,null,null,null,null,null,null,null,null,null,2247,"Phleum pratense sens. lat.",null,null,3269,"Hieracium glanduliceps","P.D. Sell & C. West","Keld Head Hawkweed","Hieracium microspecies",null,3269,"Hieracium glanduliceps_3269",null,null,null,null,null,null,null,"Hieracium glanduliceps_3269"]
[null,null,null,null,null,null,null,null,null,null,null,null,null,null,null,null,null,null,null,null,null,null,null,null,null,null,null,null,null,null,null,null,null,null,null,null,null,null,null,null,null,null,null,null,null,null,null,null,null,null,null,null,null,null,null,null,null,null,null,2271,"Juncus subulatus",null,null,"No BRC","Hieracium hesperium","P.D. Sell","Donegal Hawkweed","Hieracium microspecies",null,"No BRC","Hieracium hesperium_No BRC",null,null,null,null,null,null,null,"Hieracium hesperium_No BRC"]
[null,null,null,null,null,null,null,null,null,null,null,null,null,null,null,null,null,null,null,null,null,null,null,null,null,null,null,null,null,null,null,null,null,null,null,null,null,null,null,null,null,null,null,null,null,null,null,null,null,null,null,null,null,null,null,null,null,null,null,2301,"Betula x aurata",null,null,"No BRC","Hieracium inspissatum","P.D. Sell","Crass-leaved Hawkweed","Hieracium microspecies","Rare","No BRC","Hieracium inspissatum_No BRC",null,null,null,null,null,null,null,"Hieracium inspissatum_No BRC"]
[null,null,null,null,null,null,null,null,null,null,null,null,null,null,null,null,null,null,null,null,null,null,null,null,null,null,null,null,null,null,null,null,null,null,null,null,null,null,null,null,null,null,null,null,null,null,null,null,null,null,null,null,null,null,null,null,null,null,null,2307.1,"Salix x pendulina var. pendulina",null,null,"No BRC","Hieracium jaculifolium","(F. Hanb.) Roffey","Javelin-headed Hawkweed","Hieracium microspecies","Rare","No BRC","Hieracium jaculifolium_No BRC",null,null,null,null,null,null,null,"Hieracium jaculifolium_No BRC"]
[null,null,null,null,null,null,null,null,null,null,null,null,null,null,null,null,null,null,null,null,null,null,null,null,null,null,null,null,null,null,null,null,null,null,null,null,null,null,null,null,null,null,null,null,null,null,null,null,null,null,null,null,null,null,null,null,null,null,null,2321,"Salix x ganderi",null,null,"No BRC","Hieracium latebrosum","Jord. ex Boreau","Walthamstow Hawkweed","Hieracium microspecies",null,"No BRC","Hieracium latebrosum_No BRC",null,null,null,null,null,null,null,"Hieracium latebrosum_No BRC"]
[null,null,null,null,null,null,null,null,null,null,null,null,null,null,null,null,null,null,null,null,null,null,null,null,null,null,null,null,null,null,null,null,null,null,null,null,null,null,null,null,null,null,null,null,null,null,null,null,null,null,null,null,null,null,null,null,null,null,null,2328,"Salix purpurea x triandra",null,null,"No BRC","Hieracium leyi","F. Hanb.","Ley's Hawkweed","Hieracium microspecies",null,"No BRC","Hieracium leyi_No BRC",null,null,null,null,null,null,null,"Hieracium leyi_No BRC"]
[null,null,null,null,null,null,null,null,null,null,null,null,null,null,null,null,null,null,null,null,null,null,null,null,null,null,null,null,null,null,null,null,null,null,null,null,null,null,null,null,null,null,null,null,null,null,null,null,null,null,null,null,null,null,null,null,null,null,null,2343.3000000000002,"Salix x fragilis nothovar. basfordiana",null,null,3253,"Hieracium memorabile","P.D. Sell & C. West","Memorable Hawkweed","Hieracium microspecies","Nationally Scarce",3253,"Hieracium memorabile_3253",null,null,null,null,null,null,null,"Hieracium memorabile_3253"]
[null,null,null,null,null,null,null,null,null,null,null,null,null,null,null,null,null,null,null,null,null,null,null,null,null,null,null,null,null,null,null,null,null,null,null,null,null,null,null,null,null,null,null,null,null,null,null,null,null,null,null,null,null,null,null,null,null,null,null,2356,"Salix x pontederiana",null,null,"No BRC","Hieracium neomarginatum f. marginatum",null,"Spear-leaved Hawkweed","Hieracium microspecies",null,"No BRC","Hieracium neomarginatum f. marginatum_No BRC",null,null,null,null,null,null,null,"Hieracium neomarginatum f. marginatum_No BRC"]
[null,null,null,null,null,null,null,null,null,null,null,null,null,null,null,null,null,null,null,null,null,null,null,null,null,null,null,null,null,null,null,null,null,null,null,null,null,null,null,null,null,null,null,null,null,null,null,null,null,null,null,null,null,null,null,null,null,null,null,2366,"Salix caprea x phylicifolia",null,null,3251,"Hieracium notabile","P.D. Sell & C. West","Remarkable Hawkweed","Hieracium microspecies","Endangered",3251,"Hieracium notabile_3251",null,null,null,null,null,null,null,"Hieracium notabile_3251"]
[null,null,null,null,null,null,null,null,null,null,null,null,null,null,null,null,null,null,null,null,null,null,null,null,null,null,null,null,null,null,null,null,null,null,null,null,null,null,null,null,null,null,null,null,null,null,null,null,null,null,null,null,null,null,null,null,null,null,null,2391,"Lampranthus roseus",null,null,3143,"Hieracium pachyphylloides","(Zahn) Roffey","Carboniferous Hawkweed","Hieracium microspecies","Critically endangered",3143,"Hieracium pachyphylloides_3143",null,null,null,null,null,null,null,"Hieracium pachyphylloides_3143"]
[null,null,null,null,null,null,null,null,null,null,null,null,null,null,null,null,null,null,null,null,null,null,null,null,null,null,null,null,null,null,null,null,null,null,null,null,null,null,null,null,null,null,null,null,null,null,null,null,null,null,null,null,null,null,null,null,null,null,null,2398,"Chamaecyparis lawsoniana",null,null,"No BRC","Hieracium peroblongum","P.D. Sell","Westmorland Hawkweed","Hieracium microspecies","Rare","No BRC","Hieracium peroblongum_No BRC",null,null,null,null,null,null,null,"Hieracium peroblongum_No BRC"]
[null,null,null,null,null,null,null,null,null,null,null,null,null,null,null,null,null,null,null,null,null,null,null,null,null,null,null,null,null,null,null,null,null,null,null,null,null,null,null,null,null,null,null,null,null,null,null,null,null,null,null,null,null,null,null,null,null,null,null,2413,"Cedrus deodara",null,null,"No BRC","Hieracium promontoriale","P.D. Sell","Humphrey Head Hawkweed","Hieracium microspecies","Rare","No BRC","Hieracium promontoriale_No BRC",null,null,null,null,null,null,null,"Hieracium promontoriale_No BRC"]
[null,null,null,null,null,null,null,null,null,null,null,null,null,null,null,null,null,null,null,null,null,null,null,null,null,null,null,null,null,null,null,null,null,null,null,null,null,null,null,null,null,null,null,null,null,null,null,null,null,null,null,null,null,null,null,null,null,null,null,2429,"Silene coronaria",null,null,3171,"Hieracium pycnotrichum","(W.R. Linton) Roffey","Dense-leaved Hawkweed","Hieracium microspecies","Extinct",3171,"Hieracium pycnotrichum_3171",null,null,null,null,null,null,null,"Hieracium pycnotrichum_3171"]
[null,null,null,null,null,null,null,null,null,null,null,null,null,null,null,null,null,null,null,null,null,null,null,null,null,null,null,null,null,null,null,null,null,null,null,null,null,null,null,null,null,null,null,null,null,null,null,null,null,null,null,null,null,null,null,null,null,null,null,2435,"Tellima grandiflora",null,null,"No BRC","Hieracium reticulatiforme","P.D. Sell","Reticulate-leaved Hawkweed","Hieracium microspecies",null,"No BRC","Hieracium reticulatiforme_No BRC",null,null,null,null,null,null,null,"Hieracium reticulatiforme_No BRC"]
[null,null,null,null,null,null,null,null,null,null,null,null,null,null,null,null,null,null,null,null,null,null,null,null,null,null,null,null,null,null,null,null,null,null,null,null,null,null,null,null,null,null,null,null,null,null,null,null,null,null,null,null,null,null,null,null,null,null,null,2442,"Persicaria mollis",null,null,"No BRC","Hieracium robertsii","P.D. Sell","Robert's Hawkweed","Hieracium microspecies","Rare","No BRC","Hieracium robertsii_No BRC",null,null,null,null,null,null,null,"Hieracium robertsii_No BRC"]
[null,null,null,null,null,null,null,null,null,null,null,null,null,null,null,null,null,null,null,null,null,null,null,null,null,null,null,null,null,null,null,null,null,null,null,null,null,null,null,null,null,null,null,null,null,null,null,null,null,null,null,null,null,null,null,null,null,null,null,2459,"Rumex x lousleyi",null,null,"No BRC","Hieracium scanicum","(Dahlst.) Ley","Fang-toothed Hawkweed","Hieracium microspecies",null,"No BRC","Hieracium scanicum_No BRC",null,null,null,null,null,null,null,"Hieracium scanicum_No BRC"]
[null,null,null,null,null,null,null,null,null,null,null,null,null,null,null,null,null,null,null,null,null,null,null,null,null,null,null,null,null,null,null,null,null,null,null,null,null,null,null,null,null,null,null,null,null,null,null,null,null,null,null,null,null,null,null,null,null,null,null,2479,"Potamogeton x bennettii",null,null,"No BRC","Hieracium Section Sabauda","(Fr.) Arv.-Touv.",null,"Asteraceae",null,"No BRC","Hieracium Section Sabauda_No BRC",null,null,null,null,null,null,null,"Hieracium Section Sabauda_No BRC"]
[null,null,null,null,null,null,null,null,null,null,null,null,null,null,null,null,null,null,null,null,null,null,null,null,null,null,null,null,null,null,null,null,null,null,null,null,null,null,null,null,null,null,null,null,null,null,null,null,null,null,null,null,null,null,null,null,null,null,null,2482,"Potamogeton x fluitans",null,null,"No BRC","Hieracium Section Tridentata","(Fr.) Arv.-Touv.",null,"Asteraceae",null,"No BRC","Hieracium Section Tridentata_No BRC",null,null,null,null,null,null,null,"Hieracium Section Tridentata_No BRC"]
[null,null,null,null,null,null,null,null,null,null,null,null,null,null,null,null,null,null,null,null,null,null,null,null,null,null,null,null,null,null,null,null,null,null,null,null,null,null,null,null,null,null,null,null,null,null,null,null,null,null,null,null,null,null,null,null,null,null,null,2503,"Dicksonia antarctica",null,null,3200,"Hieracium stenolepiforme","(Pugsley) P.D. Sell & C. West","Cheddar Hawkweed","Hieracium microspecies","Endangered",3200,"Hieracium stenolepiforme_3200",null,null,null,null,null,null,null,"Hieracium stenolepiforme_3200"]
[null,null,null,null,null,null,null,null,null,null,null,null,null,null,null,null,null,null,null,null,null,null,null,null,null,null,null,null,null,null,null,null,null,null,null,null,null,null,null,null,null,null,null,null,null,null,null,null,null,null,null,null,null,null,null,null,null,null,null,2510,"Atriplex glabriuscula x praecox",null,null,"No BRC","Hieracium stictum","P.D. Sell","Lance-leaved Hawkweed","Hieracium microspecies",null,"No BRC","Hieracium stictum_No BRC",null,null,null,null,null,null,null,"Hieracium stictum_No BRC"]
[null,null,null,null,null,null,null,null,null,null,null,null,null,null,null,null,null,null,null,null,null,null,null,null,null,null,null,null,null,null,null,null,null,null,null,null,null,null,null,null,null,null,null,null,null,null,null,null,null,null,null,null,null,null,null,null,null,null,null,2524,"Oxalis valdiviensis",null,null,3213,"Hieracium sublepistoides","(Zahn) Druce","Grey-bracted Hawkweed","Hieracium microspecies",null,3213,"Hieracium sublepistoides_3213",null,null,null,null,null,null,null,"Hieracium sublepistoides_3213"]
[null,null,null,null,null,null,null,null,null,null,null,null,null,null,null,null,null,null,null,null,null,null,null,null,null,null,null,null,null,null,null,null,null,null,null,null,null,null,null,null,null,null,null,null,null,null,null,null,null,null,null,null,null,null,null,null,null,null,null,2535,"Limonium loganicum",null,null,"No BRC","Hieracium sylvularum","Jord. ex Boreau","Ample-toothed Hawkweed","Hieracium microspecies",null,"No BRC","Hieracium sylvularum_No BRC",null,null,null,null,null,null,null,"Hieracium sylvularum_No BRC"]
[null,null,null,null,null,null,null,null,null,null,null,null,null,null,null,null,null,null,null,null,null,null,null,null,null,null,null,null,null,null,null,null,null,null,null,null,null,null,null,null,null,null,null,null,null,null,null,null,null,null,null,null,null,null,null,null,null,null,null,2537,"Limonium procerum",null,null,4511,"Hieracium tenuidens",null,null,"Hieracium microspecies",null,4511,"Hieracium tenuidens_4511",null,null,null,null,null,null,null,"Hieracium tenuidens_4511"]
[null,null,null,null,null,null,null,null,null,null,null,null,null,null,null,null,null,null,null,null,null,null,null,null,null,null,null,null,null,null,null,null,null,null,null,null,null,null,null,null,null,null,null,null,null,null,null,null,null,null,null,null,null,null,null,null,null,null,null,2559,"Sagina apetala",null,null,"No BRC","Hieracium umbellatum subsp. umbellatum var. umbellatum",null,"Umbellate Hawkweed","Hieracium microspecies",null,"No BRC","Hieracium umbellatum subsp. umbellatum var. umbellatum_No BRC",null,null,null,null,null,null,null,"Hieracium umbellatum subsp. umbellatum var. umbellatum_No BRC"]
[null,null,null,null,null,null,null,null,null,null,null,null,null,null,null,null,null,null,null,null,null,null,null,null,null,null,null,null,null,null,null,null,null,null,null,null,null,null,null,null,null,null,null,null,null,null,null,null,null,null,null,null,null,null,null,null,null,null,null,2566,"Brassica tournefortii",null,null,3237,"Hieracium vennicontium","Pugsley","Vennicontes's Hawkweed","Hieracium microspecies",null,3237,"Hieracium vennicontium_3237",null,null,null,null,null,null,null,"Hieracium vennicontium_3237"]
[null,null,null,null,null,null,null,null,null,null,null,null,null,null,null,null,null,null,null,null,null,null,null,null,null,null,null,null,null,null,null,null,null,null,null,null,null,null,null,null,null,null,null,null,null,null,null,null,null,null,null,null,null,null,null,null,null,null,null,2580,"Asplenium x jacksonii",null,null,977,"Hierochloe odorata","(L.) P.Beauv.","Holy-grass","Poaceae","Rare",977,"Hierochloe odorata_977",null,null,null,null,null,null,null,"Hierochloe odorata_977"]
[null,null,null,null,null,null,null,null,null,null,null,null,null,null,null,null,null,null,null,null,null,null,null,null,null,null,null,null,null,null,null,null,null,null,null,null,null,null,null,null,null,null,null,null,null,null,null,null,null,null,null,null,null,null,null,null,null,null,null,2597,"Polystichum x lonchitiforme",null,null,3137,"Hordeum euclaston","Steudel","Argentine Barley","Poaceae",null,3137,"Hordeum euclaston_3137",null,null,null,null,null,null,null,"Hordeum euclaston_3137"]
[null,null,null,null,null,null,null,null,null,null,null,null,null,null,null,null,null,null,null,null,null,null,null,null,null,null,null,null,null,null,null,null,null,null,null,null,null,null,null,null,null,null,null,null,null,null,null,null,null,null,null,null,null,null,null,null,null,null,null,2604,"Carex x limula",null,null,992.1,"Hordeum murinum subsp. leporinum",null,null,"Poaceae",null,992.1,"Hordeum murinum subsp. leporinum_992.1",null,null,null,null,null,null,null,"Hordeum murinum subsp. leporinum_992.1"]
[null,null,null,null,null,null,null,null,null,null,null,null,null,null,null,null,null,null,null,null,null,null,null,null,null,null,null,null,null,null,null,null,null,null,null,null,null,null,null,null,null,null,null,null,null,null,null,null,null,null,null,null,null,null,null,null,null,null,null,2624,"Cochlearia x hollandica",null,null,"No BRC","Hyacinthoides sp.",null,null,"Liliaceae",null,"No BRC","Hyacinthoides sp._No BRC",null,null,null,null,null,null,null,"Hyacinthoides sp._No BRC"]
[null,null,null,null,null,null,null,null,null,null,null,null,null,null,null,null,null,null,null,null,null,null,null,null,null,null,null,null,null,null,null,null,null,null,null,null,null,null,null,null,null,null,null,null,null,null,null,null,null,null,null,null,null,null,null,null,null,null,null,2631,"Mentha x villosonervata",null,null,"No BRC","Hydrangea sp.",null,null,"Hydrangeaceae",null,"No BRC","Hydrangea sp._No BRC",null,null,null,null,null,null,null,"Hydrangea sp._No BRC"]
[null,null,null,null,null,null,null,null,null,null,null,null,null,null,null,null,null,null,null,null,null,null,null,null,null,null,null,null,null,null,null,null,null,null,null,null,null,null,null,null,null,null,null,null,null,null,null,null,null,null,null,null,null,null,null,null,null,null,null,2647,"Phalaris aquatica",null,null,1009,"Hypericum hircinum","Linnaeus","Stinking Tutsan","Clusiaceae",null,1009,"Hypericum hircinum_1009",null,null,null,null,null,null,null,"Hypericum hircinum_1009"]
[null,null,null,null,null,null,null,null,null,null,null,null,null,null,null,null,null,null,null,null,null,null,null,null,null,null,null,null,null,null,null,null,null,null,null,null,null,null,null,null,null,null,null,null,null,null,null,null,null,null,null,null,null,null,null,null,null,null,null,2655,"Rorippa x hungarica",null,null,1006.1,"Hypericum maculatum subsp. maculatum",null,"Imperforate St John's-wort","Clusiaceae",null,1006.1,"Hypericum maculatum subsp. maculatum_1006.1",null,null,null,null,null,null,null,"Hypericum maculatum subsp. maculatum_1006.1"]
[null,null,null,null,null,null,null,null,null,null,null,null,null,null,null,null,null,null,null,null,null,null,null,null,null,null,null,null,null,null,null,null,null,null,null,null,null,null,null,null,null,null,null,null,null,null,null,null,null,null,null,null,null,null,null,null,null,null,null,2673,"Ranunculus circinatus x trichophyllus",null,null,1310,"Hypopitys monotropa","Crantz.","Yellow Bird's-nest","Monotropaceae","Endangered",1310,"Hypopitys monotropa_1310",null,null,null,null,null,null,null,"Hypopitys monotropa_1310"]
[null,null,null,null,null,null,null,null,null,null,null,null,null,null,null,null,null,null,null,null,null,null,null,null,null,null,null,null,null,null,null,null,null,null,null,null,null,null,null,null,null,null,null,null,null,null,null,null,null,null,null,null,null,null,null,null,null,null,null,2689,"Polygala vulgaris x calcarea",null,null,1452,"Imperatoria ostruthium","L.","Masterwort","Apiaceae","Near Threatened",1452,"Imperatoria ostruthium_1452",null,null,null,null,null,null,null,"Imperatoria ostruthium_1452"]
[null,null,null,null,null,null,null,null,null,null,null,null,null,null,null,null,null,null,null,null,null,null,null,null,null,null,null,null,null,null,null,null,null,null,null,null,null,null,null,null,null,null,null,null,null,null,null,null,null,null,null,null,null,null,null,null,null,null,null,2696,"Spergularia marina x rupicola",null,null,6744,"Inula orientalis","Lam.","Caucasian Elecampane","Asteraceae",null,6744,"Inula orientalis_6744",null,null,null,null,null,null,null,"Inula orientalis_6744"]
[null,null,null,null,null,null,null,null,null,null,null,null,null,null,null,null,null,null,null,null,null,null,null,null,null,null,null,null,null,null,null,null,null,null,null,null,null,null,null,null,null,null,null,null,null,null,null,null,null,null,null,null,null,null,null,null,null,null,null,2712.2,"Rosa canina x arvensis",null,null,1039,"Iris spuria","Linnaeus","Blue Iris","Iridaceae",null,1039,"Iris spuria_1039",null,null,null,null,null,null,null,"Iris spuria_1039"]
[null,null,null,null,null,null,null,null,null,null,null,null,null,null,null,null,null,null,null,null,null,null,null,null,null,null,null,null,null,null,null,null,null,null,null,null,null,null,null,null,null,null,null,null,null,null,null,null,null,null,null,null,null,null,null,null,null,null,null,2713.2,"Rosa micrantha x arvensis",null,null,7415,"Iris x hollandica","hort.","I. filifolia x tingitana","Iridaceae",null,7415,"Iris x hollandica_7415",null,null,null,null,null,null,null,"Iris x hollandica_7415"]
[null,null,null,null,null,null,null,null,null,null,null,null,null,null,null,null,null,null,null,null,null,null,null,null,null,null,null,null,null,null,null,null,null,null,null,null,null,null,null,null,null,null,null,null,null,null,null,null,null,null,null,null,null,null,null,null,null,null,null,2722.2,"Rosa mollis x spinosissima (fxm)",null,null,"No BRC","Jasminum polyanthum","Franch.","Pink Jasmine","Oleaceae",null,"No BRC","Jasminum polyanthum_No BRC",null,null,null,null,null,null,null,"Jasminum polyanthum_No BRC"]
[null,null,null,null,null,null,null,null,null,null,null,null,null,null,null,null,null,null,null,null,null,null,null,null,null,null,null,null,null,null,null,null,null,null,null,null,null,null,null,null,null,null,null,null,null,null,null,null,null,null,null,null,null,null,null,null,null,null,null,2727.2,"Rosa canina x caesia subsp. glauca",null,null,1058,"Juncus bulbosus","Linnaeus","Bulbous Rush","Juncaceae",null,1058,"Juncus bulbosus_1058",null,null,null,null,null,null,null,"Juncus bulbosus_1058"]
[null,null,null,null,null,null,null,null,null,null,null,null,null,null,null,null,null,null,null,null,null,null,null,null,null,null,null,null,null,null,null,null,null,null,null,null,null,null,null,null,null,null,null,null,null,null,null,null,null,null,null,null,null,null,null,null,null,null,null,2730,"Rosa x scabriuscula",null,null,1063.0999999999999,"Juncus conglomeratus var. conglomeratus",null,null,"Juncaceae",null,1063.0999999999999,"Juncus conglomeratus var. conglomeratus_1063.1",null,null,null,null,null,null,null,"Juncus conglomeratus var. conglomeratus_1063.1"]
[null,null,null,null,null,null,null,null,null,null,null,null,null,null,null,null,null,null,null,null,null,null,null,null,null,null,null,null,null,null,null,null,null,null,null,null,null,null,null,null,null,null,null,null,null,null,null,null,null,null,null,null,null,null,null,null,null,null,null,2736.2,"Rosa rubiginosa x caesia subsp. caesia",null,null,1076,"Juncus subnodulosus","Schrank","Blunt-flowered Rush","Juncaceae",null,1076,"Juncus subnodulosus_1076",null,null,null,null,null,null,null,"Juncus subnodulosus_1076"]
[null,null,null,null,null,null,null,null,null,null,null,null,null,null,null,null,null,null,null,null,null,null,null,null,null,null,null,null,null,null,null,null,null,null,null,null,null,null,null,null,null,null,null,null,null,null,null,null,null,null,null,null,null,null,null,null,null,null,null,2737.2,"Rosa rubiginosa x obtusifolia",null,null,"No BRC","Juncus tenuis var. tenuis",null,null,"Juncaceae",null,"No BRC","Juncus tenuis var. tenuis_No BRC",null,null,null,null,null,null,null,"Juncus tenuis var. tenuis_No BRC"]
[null,null,null,null,null,null,null,null,null,null,null,null,null,null,null,null,null,null,null,null,null,null,null,null,null,null,null,null,null,null,null,null,null,null,null,null,null,null,null,null,null,null,null,null,null,null,null,null,null,null,null,null,null,null,null,null,null,null,null,2744.1,"Rosa arvensis x rubiginosa (fxm)",null,null,1082,"Kickxia elatine","(Linnaeus) Dumort.","Sharp-leaved Fluellen","Scrophulariaceae",null,1082,"Kickxia elatine_1082",null,null,null,null,null,null,null,"Kickxia elatine_1082"]
[null,null,null,null,null,null,null,null,null,null,null,null,null,null,null,null,null,null,null,null,null,null,null,null,null,null,null,null,null,null,null,null,null,null,null,null,null,null,null,null,null,null,null,null,null,null,null,null,null,null,null,null,null,null,null,null,null,null,null,2759,"Epilobium x waterfallii",null,null,"No BRC","Kunzea ambigua","(Sm.) Druce","White Kunzea","Myrtaceae",null,"No BRC","Kunzea ambigua_No BRC",null,null,null,null,null,null,null,"Kunzea ambigua_No BRC"]
[null,null,null,null,null,null,null,null,null,null,null,null,null,null,null,null,null,null,null,null,null,null,null,null,null,null,null,null,null,null,null,null,null,null,null,null,null,null,null,null,null,null,null,null,null,null,null,null,null,null,null,null,null,null,null,null,null,null,null,2768,"Epilobium x rivulare",null,null,1094.0999999999999,"Lactuca serriola f. integrifolia",null,null,"Asteraceae",null,1094.0999999999999,"Lactuca serriola f. integrifolia_1094.1",null,null,null,null,null,null,null,"Lactuca serriola f. integrifolia_1094.1"]
[null,null,null,null,null,null,null,null,null,null,null,null,null,null,null,null,null,null,null,null,null,null,null,null,null,null,null,null,null,null,null,null,null,null,null,null,null,null,null,null,null,null,null,null,null,null,null,null,null,null,null,null,null,null,null,null,null,null,null,2776,"Epilobium x abortivum",null,null,1097,"Lagurus ovatus","Linnaeus","Hare's-tail","Poaceae",null,1097,"Lagurus ovatus_1097",null,null,null,null,null,null,null,"Lagurus ovatus_1097"]
[null,null,null,null,null,null,null,null,null,null,null,null,null,null,null,null,null,null,null,null,null,null,null,null,null,null,null,null,null,null,null,null,null,null,null,null,null,null,null,null,null,null,null,null,null,null,null,null,null,null,null,null,null,null,null,null,null,null,null,2795,"Epilobium x haynaldianum",null,null,2390,"Lampranthus falciformis","(Haw.) N.E.Br.","Sickle-leaved Dewplant","Aizoaceae",null,2390,"Lampranthus falciformis_2390",null,null,null,null,null,null,null,"Lampranthus falciformis_2390"]
[null,null,null,null,null,null,null,null,null,null,null,null,null,null,null,null,null,null,null,null,null,null,null,null,null,null,null,null,null,null,null,null,null,null,null,null,null,null,null,null,null,null,null,null,null,null,null,null,null,null,null,null,null,null,null,null,null,null,null,2815,"Verbascum x incanum",null,null,4379,"Lathyrus grandiflorus","Smith","Two-flowered Everlasting-pea","Fabaceae",null,4379,"Lathyrus grandiflorus_4379",null,null,null,null,null,null,null,"Lathyrus grandiflorus_4379"]
[null,null,null,null,null,null,null,null,null,null,null,null,null,null,null,null,null,null,null,null,null,null,null,null,null,null,null,null,null,null,null,null,null,null,null,null,null,null,null,null,null,null,null,null,null,null,null,null,null,null,null,null,null,null,null,null,null,null,null,2822,"Senecio x baxteri",null,null,1111,"Lathyrus latifolius","L.","Broad-leaved Everlasting-pea","Fabaceae",null,1111,"Lathyrus latifolius_1111",null,null,null,null,null,null,null,"Lathyrus latifolius_1111"]
[null,null,null,null,null,null,null,null,null,null,null,null,null,null,null,null,null,null,null,null,null,null,null,null,null,null,null,null,null,null,null,null,null,null,null,null,null,null,null,null,null,null,null,null,null,null,null,null,null,null,null,null,null,null,null,null,null,null,null,2838,"Sonchus asper x oleraceus",null,null,7866,"Lavandula x intermedia","Lois","Hybrid Lavender","Lamiaceae",null,7866,"Lavandula x intermedia_7866",null,null,null,null,null,null,null,"Lavandula x intermedia_7866"]
[null,null,null,null,null,null,null,null,null,null,null,null,null,null,null,null,null,null,null,null,null,null,null,null,null,null,null,null,null,null,null,null,null,null,null,null,null,null,null,null,null,null,null,null,null,null,null,null,null,null,null,null,null,null,null,null,null,null,null,2845,"Iris x robusta",null,null,2300,"Lemna minuta","Kunth","Least Duckweed","Lemnaceae",null,2300,"Lemna minuta_2300",null,null,null,null,null,null,null,"Lemna minuta_2300"]
[null,null,null,null,null,null,null,null,null,null,null,null,null,null,null,null,null,null,null,null,null,null,null,null,null,null,null,null,null,null,null,null,null,null,null,null,null,null,null,null,null,null,null,null,null,null,null,null,null,null,null,null,null,null,null,null,null,null,null,2861,"Dactylorhiza x kerneriorum",null,null,4489,"Lepidium divaricatum","Aiton","Divaricate Pepperwort","Brassicaceae",null,4489,"Lepidium divaricatum_4489",null,null,null,null,null,null,null,"Lepidium divaricatum_4489"]
[null,null,null,null,null,null,null,null,null,null,null,null,null,null,null,null,null,null,null,null,null,null,null,null,null,null,null,null,null,null,null,null,null,null,null,null,null,null,null,null,null,null,null,null,null,null,null,null,null,null,null,null,null,null,null,null,null,null,null,2882,"Carex laevigata x pallescens",null,null,2621,"Leucanthemum x superbum","(Bergmans ex J.Ingram) Kent","Shasta Daisy","Asteraceae",null,2621,"Leucanthemum x superbum_2621",null,null,null,null,null,null,null,"Leucanthemum x superbum_2621"]
[null,null,null,null,null,null,null,null,null,null,null,null,null,null,null,null,null,null,null,null,null,null,null,null,null,null,null,null,null,null,null,null,null,null,null,null,null,null,null,null,null,null,null,null,null,null,null,null,null,null,null,null,null,null,null,null,null,null,null,2889,"Carex x evoluta",null,null,1142,"Leycesteria formosa","Wallich.","Himalayan Honeysuckle","Caprifoliaceae",null,1142,"Leycesteria formosa_1142",null,null,null,null,null,null,null,"Leycesteria formosa_1142"]
[null,null,null,null,null,null,null,null,null,null,null,null,null,null,null,null,null,null,null,null,null,null,null,null,null,null,null,null,null,null,null,null,null,null,null,null,null,null,null,null,null,null,null,null,null,null,null,null,null,null,null,null,null,null,null,null,null,null,null,2905,"Festuca rubra x Vulpia myuros",null,null,1150,"Limonium auriculae-ursifolium","(Pourret) Druce","Broad-leaved Sea-lavender","Plumbaginaceae",null,1150,"Limonium auriculae-ursifolium_1150",null,null,null,null,null,null,null,"Limonium auriculae-ursifolium_1150"]
[null,null,null,null,null,null,null,null,null,null,null,null,null,null,null,null,null,null,null,null,null,null,null,null,null,null,null,null,null,null,null,null,null,null,null,null,null,null,null,null,null,null,null,null,null,null,null,null,null,null,null,null,null,null,null,null,null,null,null,2912,"Holcus x hybridus",null,null,2532.4,"Limonium binervosum subsp. mutatum","Ingrouille",null,"Plumbaginaceae",null,2532.4,"Limonium binervosum subsp. mutatum_2532.4",null,null,null,null,null,null,null,"Limonium binervosum subsp. mutatum_2532.4"]
[null,null,null,null,null,null,null,null,null,null,null,null,null,null,null,null,null,null,null,null,null,null,null,null,null,null,null,null,null,null,null,null,null,null,null,null,null,null,null,null,null,null,null,null,null,null,null,null,null,null,null,null,null,null,null,null,null,null,null,2934,"Cotoneaster conspicuus",null,null,1152,"Limonium recurvum","C.E. Salmon",null,"Plumbaginaceae","Vulnerable",1152,"Limonium recurvum_1152",null,null,null,null,null,null,null,"Limonium recurvum_1152"]
[null,null,null,null,null,null,null,null,null,null,null,null,null,null,null,null,null,null,null,null,null,null,null,null,null,null,null,null,null,null,null,null,null,null,null,null,null,null,null,null,null,null,null,null,null,null,null,null,null,null,null,null,null,null,null,null,null,null,null,2952,"Cotoneaster rehderi",null,null,1161,"Linaria repens","(L.) Mill.","Pale Toadflax","Scrophulariaceae",null,1161,"Linaria repens_1161",null,null,null,null,null,null,null,"Linaria repens_1161"]
[null,null,null,null,null,null,null,null,null,null,null,null,null,null,null,null,null,null,null,null,null,null,null,null,null,null,null,null,null,null,null,null,null,null,null,null,null,null,null,null,null,null,null,null,null,null,null,null,null,null,null,null,null,null,null,null,null,null,null,2963,"Equisetum x mildeanum ",null,null,1165.2,"Linnaea borealis subsp. americana",null,null,"Caprifoliaceae",null,1165.2,"Linnaea borealis subsp. americana_1165.2",null,null,null,null,null,null,null,"Linnaea borealis subsp. americana_1165.2"]
[null,null,null,null,null,null,null,null,null,null,null,null,null,null,null,null,null,null,null,null,null,null,null,null,null,null,null,null,null,null,null,null,null,null,null,null,null,null,null,null,null,null,null,null,null,null,null,null,null,null,null,null,null,null,null,null,null,null,null,2978.1,"Cedrus atlantica f. atlantica",null,null,1178,"Lobelia urens","Linnaeus","Heath Lobelia","Campanulaceae","Vulnerable",1178,"Lobelia urens_1178",null,null,null,null,null,null,null,"Lobelia urens_1178"]
[null,null,null,null,null,null,null,null,null,null,null,null,null,null,null,null,null,null,null,null,null,null,null,null,null,null,null,null,null,null,null,null,null,null,null,null,null,null,null,null,null,null,null,null,null,null,null,null,null,null,null,null,null,null,null,null,null,null,null,2982.2,"Pinus mugo subsp. uncinata",null,null,8118,"Lolium rigidum","Gaudin","Mediterranean Rye-grass","Poaceae",null,8118,"Lolium rigidum_8118",null,null,null,null,null,null,null,"Lolium rigidum_8118"]
[null,null,null,null,null,null,null,null,null,null,null,null,null,null,null,null,null,null,null,null,null,null,null,null,null,null,null,null,null,null,null,null,null,null,null,null,null,null,null,null,null,null,null,null,null,null,null,null,null,null,null,null,null,null,null,null,null,null,null,3004,"Hieracium amplexicaule",null,null,1194,"Lotus pedunculatus","Cav.","Greater Bird's-foot-trefoil","Fabaceae",null,1194,"Lotus pedunculatus_1194",null,null,null,null,null,null,null,"Lotus pedunculatus_1194"]
[null,null,null,null,null,null,null,null,null,null,null,null,null,null,null,null,null,null,null,null,null,null,null,null,null,null,null,null,null,null,null,null,null,null,null,null,null,null,null,null,null,null,null,null,null,null,null,null,null,null,null,null,null,null,null,null,null,null,null,3007,"Hieracium anglicum agg.",null,null,1193,"Lotus tenuis","Waldst. & Kit. ex Willd.","Narrow-leaved Bird's-foot-trefoil","Fabaceae",null,1193,"Lotus tenuis_1193",null,null,null,null,null,null,null,"Lotus tenuis_1193"]
[null,null,null,null,null,null,null,null,null,null,null,null,null,null,null,null,null,null,null,null,null,null,null,null,null,null,null,null,null,null,null,null,null,null,null,null,null,null,null,null,null,null,null,null,null,null,null,null,null,null,null,null,null,null,null,null,null,null,null,3023.2,"Hieracium umbellatum subsp. umbellatum",null,null,1201,"Luzula campestris","(Linnaeus) DC.","Field Wood-rush","Juncaceae",null,1201,"Luzula campestris_1201",null,null,null,null,null,null,null,"Luzula campestris_1201"]
[null,null,null,null,null,null,null,null,null,null,null,null,null,null,null,null,null,null,null,null,null,null,null,null,null,null,null,null,null,null,null,null,null,null,null,null,null,null,null,null,null,null,null,null,null,null,null,null,null,null,null,null,null,null,null,null,null,null,null,3039,"Hieracium callistophyllum",null,null,"No BRC","Lycium barbarum agg.",null,"Duke of Argyll's Tea Plant (agg.)","Solanaceae",null,"No BRC","Lycium barbarum agg._No BRC",null,null,null,null,null,null,null,"Lycium barbarum agg._No BRC"]
[null,null,null,null,null,null,null,null,null,null,null,null,null,null,null,null,null,null,null,null,null,null,null,null,null,null,null,null,null,null,null,null,null,null,null,null,null,null,null,null,null,null,null,null,null,null,null,null,null,null,null,null,null,null,null,null,null,null,null,3046,"Hieracium carneddorum",null,null,1219,"Lycopus europaeus","L.","Gypsywort","Lamiaceae",null,1219,"Lycopus europaeus_1219",null,null,null,null,null,null,null,"Lycopus europaeus_1219"]
[null,null,null,null,null,null,null,null,null,null,null,null,null,null,null,null,null,null,null,null,null,null,null,null,null,null,null,null,null,null,null,null,null,null,null,null,null,null,null,null,null,null,null,null,null,null,null,null,null,null,null,null,null,null,null,null,null,null,null,3066,"Hieracium dewari",null,null,8124,"Madia glomerata","Hook.","Mountain Tarweed","Asteraceae",null,8124,"Madia glomerata_8124",null,null,null,null,null,null,null,"Madia glomerata_8124"]
[null,null,null,null,null,null,null,null,null,null,null,null,null,null,null,null,null,null,null,null,null,null,null,null,null,null,null,null,null,null,null,null,null,null,null,null,null,null,null,null,null,null,null,null,null,null,null,null,null,null,null,null,null,null,null,null,null,null,null,3069,"Hieracium dicella agg.",null,null,"No BRC","Mahonia lomariifolia","Takeda","Chinese Hollygrape","Berberidaceae",null,"No BRC","Mahonia lomariifolia_No BRC",null,null,null,null,null,null,null,"Mahonia lomariifolia_No BRC"]
[null,null,null,null,null,null,null,null,null,null,null,null,null,null,null,null,null,null,null,null,null,null,null,null,null,null,null,null,null,null,null,null,null,null,null,null,null,null,null,null,null,null,null,null,null,null,null,null,null,null,null,null,null,null,null,null,null,null,null,3085,"Hieracium fratrum",null,null,1232,"Malva moschata","Linnaeus","Musk-mallow","Malvaceae",null,1232,"Malva moschata_1232",null,null,null,null,null,null,null,"Malva moschata_1232"]
[null,null,null,null,null,null,null,null,null,null,null,null,null,null,null,null,null,null,null,null,null,null,null,null,null,null,null,null,null,null,null,null,null,null,null,null,null,null,null,null,null,null,null,null,null,null,null,null,null,null,null,null,null,null,null,null,null,null,null,3090.2,"Hieracium milesii",null,null,86,"Malva setigera","Schimp. & Spenn.","Rough Marsh-mallow","Malvaceae",null,86,"Malva setigera_86",null,null,null,null,null,null,null,"Malva setigera_86"]
[null,null,null,null,null,null,null,null,null,null,null,null,null,null,null,null,null,null,null,null,null,null,null,null,null,null,null,null,null,null,null,null,null,null,null,null,null,null,null,null,null,null,null,null,null,null,null,null,null,null,null,null,null,null,null,null,null,null,null,3105,"Hieracium hyparcticoides",null,null,4356.1000000000004,"Matthiola longipetala subsp. bicornis","(Sibth. & Sm.) P. W. Ball","Night-scented Stock","Brassicaceae",null,4356.1000000000004,"Matthiola longipetala subsp. bicornis_4356.1",null,null,null,null,null,null,null,"Matthiola longipetala subsp. bicornis_4356.1"]
[null,null,null,null,null,null,null,null,null,null,null,null,null,null,null,null,null,null,null,null,null,null,null,null,null,null,null,null,null,null,null,null,null,null,null,null,null,null,null,null,null,null,null,null,null,null,null,null,null,null,null,null,null,null,null,null,null,null,null,3124,"Hieracium lissolepium",null,null,8134,"Medicago truncatula","Gaertner","Strong-spined Medick","Fabaceae",null,8134,"Medicago truncatula_8134",null,null,null,null,null,null,null,"Medicago truncatula_8134"]
[null,null,null,null,null,null,null,null,null,null,null,null,null,null,null,null,null,null,null,null,null,null,null,null,null,null,null,null,null,null,null,null,null,null,null,null,null,null,null,null,null,null,null,null,null,null,null,null,null,null,null,null,null,null,null,null,null,null,null,3127,"Hieracium maculatum agg.",null,null,1255,"Melampyrum cristatum","L.","Crested Cow-wheat","Scrophulariaceae","Vulnerable",1255,"Melampyrum cristatum_1255",null,null,null,null,null,null,null,"Melampyrum cristatum_1255"]
[null,null,null,null,null,null,null,null,null,null,null,null,null,null,null,null,null,null,null,null,null,null,null,null,null,null,null,null,null,null,null,null,null,null,null,null,null,null,null,null,null,null,null,null,null,null,null,null,null,null,null,null,null,null,null,null,null,null,null,3144.3,"Pilosella peleteriana subsp. tenuiscapa",null,null,1281,"Mentha requienii","Benth.","Corsican Mint","Lamiaceae",null,1281,"Mentha requienii_1281",null,null,null,null,null,null,null,"Mentha requienii_1281"]
[null,null,null,null,null,null,null,null,null,null,null,null,null,null,null,null,null,null,null,null,null,null,null,null,null,null,null,null,null,null,null,null,null,null,null,null,null,null,null,null,null,null,null,null,null,null,null,null,null,null,null,null,null,null,null,null,null,null,null,3151,"Hieracium placerophylloides",null,null,1279.0999999999999,"Mentha x piperita var. citrata",null,null,"Lamiaceae",null,1279.0999999999999,"Mentha x piperita var. citrata_1279.1",null,null,null,null,null,null,null,"Mentha x piperita var. citrata_1279.1"]
[null,null,null,null,null,null,null,null,null,null,null,null,null,null,null,null,null,null,null,null,null,null,null,null,null,null,null,null,null,null,null,null,null,null,null,null,null,null,null,null,null,null,null,null,null,null,null,null,null,null,null,null,null,null,null,null,null,null,null,3165,"Hieracium pseudosarcophyllum",null,null,1292,"Mertensia maritima","(L.) Gray","Oysterplant","Boraginaceae","Near Threatened",1292,"Mertensia maritima_1292",null,null,null,null,null,null,null,"Mertensia maritima_1292"]
[null,null,null,null,null,null,null,null,null,null,null,null,null,null,null,null,null,null,null,null,null,null,null,null,null,null,null,null,null,null,null,null,null,null,null,null,null,null,null,null,null,null,null,null,null,null,null,null,null,null,null,null,null,null,null,null,null,null,null,3172,"Hieracium radyrense",null,null,1296,"Milium effusum","Linnaeus","Wood Millet","Poaceae",null,1296,"Milium effusum_1296",null,null,null,null,null,null,null,"Milium effusum_1296"]
[null,null,null,null,null,null,null,null,null,null,null,null,null,null,null,null,null,null,null,null,null,null,null,null,null,null,null,null,null,null,null,null,null,null,null,null,null,null,null,null,null,null,null,null,null,null,null,null,null,null,null,null,null,null,null,null,null,null,null,3188,"Hieracium scoticum agg.",null,null,4331,"Mimulus x robertsii","Silverside","Hybrid Monkeyflower (M. guttatus x luteus)","Scrophulariaceae",null,4331,"Mimulus x robertsii_4331",null,null,null,null,null,null,null,"Mimulus x robertsii_4331"]
[null,null,null,null,null,null,null,null,null,null,null,null,null,null,null,null,null,null,null,null,null,null,null,null,null,null,null,null,null,null,null,null,null,null,null,null,null,null,null,null,null,null,null,null,null,null,null,null,null,null,null,null,null,null,null,null,null,null,null,3208,"Hieracium subcrocatum",null,null,8139,"Monsonia brevirostrata","Knuth","Short-fruited Dysentery-herb","Geraniaceae",null,8139,"Monsonia brevirostrata_8139",null,null,null,null,null,null,null,"Monsonia brevirostrata_8139"]
[null,null,null,null,null,null,null,null,null,null,null,null,null,null,null,null,null,null,null,null,null,null,null,null,null,null,null,null,null,null,null,null,null,null,null,null,null,null,null,null,null,null,null,null,null,null,null,null,null,null,null,null,null,null,null,null,null,null,null,3213,"Hieracium sublepistoides",null,null,4491,"Moricandia arvensis","(L.) DC.","Violet Cabbage","Brassicaceae",null,4491,"Moricandia arvensis_4491",null,null,null,null,null,null,null,"Moricandia arvensis_4491"]
[null,null,null,null,null,null,null,null,null,null,null,null,null,null,null,null,null,null,null,null,null,null,null,null,null,null,null,null,null,null,null,null,null,null,null,null,null,null,null,null,null,null,null,null,null,null,null,null,null,null,null,null,null,null,null,null,null,null,null,3229,"Dactyloctenium radulans",null,null,1321,"Myosotis discolor","Pers.","Changing Forget-me-not","Boraginaceae",null,1321,"Myosotis discolor_1321",null,null,null,null,null,null,null,"Myosotis discolor_1321"]
[null,null,null,null,null,null,null,null,null,null,null,null,null,null,null,null,null,null,null,null,null,null,null,null,null,null,null,null,null,null,null,null,null,null,null,null,null,null,null,null,null,null,null,null,null,null,null,null,null,null,null,null,null,null,null,null,null,null,null,3236,"Hieracium piligerum",null,null,1323,"Myosotis secunda","Al. Murray","Creeping Forget-me-not","Boraginaceae",null,1323,"Myosotis secunda_1323",null,null,null,null,null,null,null,"Myosotis secunda_1323"]
[null,null,null,null,null,null,null,null,null,null,null,null,null,null,null,null,null,null,null,null,null,null,null,null,null,null,null,null,null,null,null,null,null,null,null,null,null,null,null,null,null,null,null,null,null,null,null,null,null,null,null,null,null,null,null,null,null,null,null,3256,"Hieracium dissimile",null,null,2614,"Narcissus agg.",null,"Cultivated Daffodil","Liliaceae",null,2614,"Narcissus agg._2614",null,null,null,null,null,null,null,"Narcissus agg._2614"]
[null,null,null,null,null,null,null,null,null,null,null,null,null,null,null,null,null,null,null,null,null,null,null,null,null,null,null,null,null,null,null,null,null,null,null,null,null,null,null,null,null,null,null,null,null,null,null,null,null,null,null,null,null,null,null,null,null,null,null,3272,"Hieracium integratum",null,null,"No BRC","Narcissus 'Dutch Master'",null,"Div. One (Pets Yellow - Trpt Yellow)","Liliaceae",null,"No BRC","Narcissus 'Dutch Master'_No BRC",null,null,null,null,null,null,null,"Narcissus 'Dutch Master'_No BRC"]
[null,null,null,null,null,null,null,null,null,null,null,null,null,null,null,null,null,null,null,null,null,null,null,null,null,null,null,null,null,null,null,null,null,null,null,null,null,null,null,null,null,null,null,null,null,null,null,null,null,null,null,null,null,null,null,null,null,null,null,3279,"Hieracium ornatilorum",null,null,"No BRC","Narcissus 'Grand Soleil d'Or'",null,"Div. Eight (Pets Yellow - Trpt Orange)","Liliaceae",null,"No BRC","Narcissus 'Grand Soleil d'Or'_No BRC",null,null,null,null,null,null,null,"Narcissus 'Grand Soleil d'Or'_No BRC"]
[null,null,null,null,null,null,null,null,null,null,null,null,null,null,null,null,null,null,null,null,null,null,null,null,null,null,null,null,null,null,null,null,null,null,null,null,null,null,null,null,null,null,null,null,null,null,null,null,null,null,null,null,null,null,null,null,null,null,null,3295,"Setaria adhaerens",null,null,"No BRC","Narcissus macrolobus","(Jord.) Pugsley","Pale-flowered Daffodil","Liliaceae",null,"No BRC","Narcissus macrolobus_No BRC",null,null,null,null,null,null,null,"Narcissus macrolobus_No BRC"]
[null,null,null,null,null,null,null,null,null,null,null,null,null,null,null,null,null,null,null,null,null,null,null,null,null,null,null,null,null,null,null,null,null,null,null,null,null,null,null,null,null,null,null,null,null,null,null,null,null,null,null,null,null,null,null,null,null,null,null,3303,"Agropyron cristatum",null,null,7455,"Narcissus papyraceus","Ker Gawl.","Paper-white Daffodil","Liliaceae",null,7455,"Narcissus papyraceus_7455",null,null,null,null,null,null,null,"Narcissus papyraceus_7455"]
[null,null,null,null,null,null,null,null,null,null,null,null,null,null,null,null,null,null,null,null,null,null,null,null,null,null,null,null,null,null,null,null,null,null,null,null,null,null,null,null,null,null,null,null,null,null,null,null,null,null,null,null,null,null,null,null,null,null,null,3324,"Rubus andegavensis",null,null,"No BRC","Narcissus 'Spellbinder'",null,"Div. One (Pets Yellow - Trpt White)","Liliaceae",null,"No BRC","Narcissus 'Spellbinder'_No BRC",null,null,null,null,null,null,null,"Narcissus 'Spellbinder'_No BRC"]
[null,null,null,null,null,null,null,null,null,null,null,null,null,null,null,null,null,null,null,null,null,null,null,null,null,null,null,null,null,null,null,null,null,null,null,null,null,null,null,null,null,null,null,null,null,null,null,null,null,null,null,null,null,null,null,null,null,null,null,3340,"Correa backhouseana",null,null,"No BRC","Narcissus x dichromus","P.D. Sell","Bicoloured Daffodil (N. moschatus x cyclamineus)","Liliaceae",null,"No BRC","Narcissus x dichromus_No BRC",null,null,null,null,null,null,null,"Narcissus x dichromus_No BRC"]
[null,null,null,null,null,null,null,null,null,null,null,null,null,null,null,null,null,null,null,null,null,null,null,null,null,null,null,null,null,null,null,null,null,null,null,null,null,null,null,null,null,null,null,null,null,null,null,null,null,null,null,null,null,null,null,null,null,null,null,3347,"Corispermum intermedium",null,null,1344,"Nardus stricta","Linnaeus","Mat-grass","Poaceae",null,1344,"Nardus stricta_1344",null,null,null,null,null,null,null,"Nardus stricta_1344"]
[null,null,null,null,null,null,null,null,null,null,null,null,null,null,null,null,null,null,null,null,null,null,null,null,null,null,null,null,null,null,null,null,null,null,null,null,null,null,null,null,null,null,null,null,null,null,null,null,null,null,null,null,null,null,null,null,null,null,null,3354,"Rubus breconensis",null,null,1348,"Nasturtium officinale agg.",null,"Water-cress","Brassicaceae",null,1348,"Nasturtium officinale agg._1348",null,null,null,null,null,null,null,"Nasturtium officinale agg._1348"]
[null,null,null,null,null,null,null,null,null,null,null,null,null,null,null,null,null,null,null,null,null,null,null,null,null,null,null,null,null,null,null,null,null,null,null,null,null,null,null,null,null,null,null,null,null,null,null,null,null,null,null,null,null,null,null,null,null,null,null,3370,"Cotoneaster cooperi",null,null,7078,"Nerine bowdenii","W. Watson",null,"Liliaceae",null,7078,"Nerine bowdenii_7078",null,null,null,null,null,null,null,"Nerine bowdenii_7078"]
[null,null,null,null,null,null,null,null,null,null,null,null,null,null,null,null,null,null,null,null,null,null,null,null,null,null,null,null,null,null,null,null,null,null,null,null,null,null,null,null,null,null,null,null,null,null,null,null,null,null,null,null,null,null,null,null,null,null,null,3390,"Cotoneaster uva-ursi",null,null,7087,"Nicotiana velutina","Wheeler","Velvet Tobacco","Solanaceae",null,7087,"Nicotiana velutina_7087",null,null,null,null,null,null,null,"Nicotiana velutina_7087"]
[null,null,null,null,null,null,null,null,null,null,null,null,null,null,null,null,null,null,null,null,null,null,null,null,null,null,null,null,null,null,null,null,null,null,null,null,null,null,null,null,null,null,null,null,null,null,null,null,null,null,null,null,null,null,null,null,null,null,null,3393,"Rubus leptothyrsos",null,null,7091,"Nigella sativa","L.","Black-cumin","Ranunculaceae",null,7091,"Nigella sativa_7091",null,null,null,null,null,null,null,"Nigella sativa_7091"]
[null,null,null,null,null,null,null,null,null,null,null,null,null,null,null,null,null,null,null,null,null,null,null,null,null,null,null,null,null,null,null,null,null,null,null,null,null,null,null,null,null,null,null,null,null,null,null,null,null,null,null,null,null,null,null,null,null,"C3413","C307",3413,"Crocus x luteus",null,null,"C307","Nitella tenuissima","(Desv.) Kutz.","Dwarf Stonewort","Characeae","RDB1",307,"Nitella tenuissima_C307",null,null,null,null,null,null,null,"Nitella tenuissima_C307"]
[null,null,null,null,null,null,null,null,null,null,null,null,null,null,null,null,null,null,null,null,null,null,null,null,null,null,null,null,null,null,null,null,null,null,null,null,null,null,null,null,null,null,null,null,null,null,null,null,null,null,null,null,null,null,null,null,null,null,null,3420,"Dipsacus x pseudosilvester",null,null,5563,"Nolana humifusa","(Gouan) I.M. Johnst.","Trailing Chilean-bellflower","Solanaceae",null,5563,"Nolana humifusa_5563",null,null,null,null,null,null,null,"Nolana humifusa_5563"]
[null,null,null,null,null,null,null,null,null,null,null,null,null,null,null,null,null,null,null,null,null,null,null,null,null,null,null,null,null,null,null,null,null,null,null,null,null,null,null,null,null,null,null,null,null,null,null,null,null,null,null,null,null,null,null,null,null,null,null,3436,"Rubus fuscoviridis",null,null,1358.2,"Nymphaea alba subsp. occidentalis","(Ostenf.) Hyl.","White Water-lily","Nymphaeaceae",null,1358.2,"Nymphaea alba subsp. occidentalis_1358.2",null,null,null,null,null,null,null,"Nymphaea alba subsp. occidentalis_1358.2"]
[null,null,null,null,null,null,null,null,null,null,null,null,null,null,null,null,null,null,null,null,null,null,null,null,null,null,null,null,null,null,null,null,null,null,null,null,null,null,null,null,null,null,null,null,null,null,null,null,null,null,null,null,null,null,null,null,null,null,null,3456,"Rubus herefordensis",null,null,1370,"Oenothera biennis","L.","Common Evening-primrose","Onagraceae",null,1370,"Oenothera biennis_1370",null,null,null,null,null,null,null,"Oenothera biennis_1370"]
[null,null,null,null,null,null,null,null,null,null,null,null,null,null,null,null,null,null,null,null,null,null,null,null,null,null,null,null,null,null,null,null,null,null,null,null,null,null,null,null,null,null,null,null,null,null,null,null,null,null,null,null,null,null,null,null,null,null,null,3459,"Rubus hibernicus",null,null,1371,"Oenothera glazioviana","P. Micheli","Large-flowered Evening-primrose","Onagraceae",null,1371,"Oenothera glazioviana_1371",null,null,null,null,null,null,null,"Oenothera glazioviana_1371"]
[null,null,null,null,null,null,null,null,null,null,null,null,null,null,null,null,null,null,null,null,null,null,null,null,null,null,null,null,null,null,null,null,null,null,null,null,null,null,null,null,null,null,null,null,null,null,null,null,null,null,null,null,null,null,null,null,null,null,null,3479,"Iris unguicularis",null,null,8157,"Ononis mitissima","Linnaeus","Mediterranean Restharrow","Fabaceae",null,8157,"Ononis mitissima_8157",null,null,null,null,null,null,null,"Ononis mitissima_8157"]
[null,null,null,null,null,null,null,null,null,null,null,null,null,null,null,null,null,null,null,null,null,null,null,null,null,null,null,null,null,null,null,null,null,null,null,null,null,null,null,null,null,null,null,null,null,null,null,null,null,null,null,null,null,null,null,null,null,null,null,3486,"Rubus iodnephes",null,null,2701,"Ononis x pseudohircina","Schur","O. repens x spinosa","Fabaceae",null,2701,"Ononis x pseudohircina_2701",null,null,null,null,null,null,null,"Ononis x pseudohircina_2701"]
[null,null,null,null,null,null,null,null,null,null,null,null,null,null,null,null,null,null,null,null,null,null,null,null,null,null,null,null,null,null,null,null,null,null,null,null,null,null,null,null,null,null,null,null,null,null,null,null,null,null,null,null,null,null,null,null,null,null,null,3502,"Rubus lettii",null,null,4347,"Ophrys insectifera x apifera",null,null,"Orchidaceae",null,4347,"Ophrys insectifera x apifera_4347",null,null,null,null,null,null,null,"Ophrys insectifera x apifera_4347"]
[null,null,null,null,null,null,null,null,null,null,null,null,null,null,null,null,null,null,null,null,null,null,null,null,null,null,null,null,null,null,null,null,null,null,null,null,null,null,null,null,null,null,null,null,null,null,null,null,null,null,null,null,null,null,null,null,null,null,null,3522,"Rubus infestisepalus",null,null,"No BRC","Ornithogalum umbellatum sens. lat.",null,"Star-of-Bethlehem (sens. lat.)","Liliaceae",null,"No BRC","Ornithogalum umbellatum sens. lat._No BRC",null,null,null,null,null,null,null,"Ornithogalum umbellatum sens. lat._No BRC"]
[null,null,null,null,null,null,null,null,null,null,null,null,null,null,null,null,null,null,null,null,null,null,null,null,null,null,null,null,null,null,null,null,null,null,null,null,null,null,null,null,null,null,null,null,null,null,null,null,null,null,null,null,null,null,null,null,null,null,null,3529,"Rubus melanodermis",null,null,1399,"Orobanche alba","Stephan ex Willd.","Thyme Broomrape","Orobanchaceae","Nationally Scarce",1399,"Orobanche alba_1399",null,null,null,null,null,null,null,"Orobanche alba_1399"]
[null,null,null,null,null,null,null,null,null,null,null,null,null,null,null,null,null,null,null,null,null,null,null,null,null,null,null,null,null,null,null,null,null,null,null,null,null,null,null,null,null,null,null,null,null,null,null,null,null,null,null,null,null,null,null,null,null,null,null,3545,"Rumex x fallacinus",null,null,7476,"Oryzopsis miliacea","(Linnaeus) Benth. & Hook. ex Asch. & Sch","Smilo-grass","Poaceae",null,7476,"Oryzopsis miliacea_7476",null,null,null,null,null,null,null,"Oryzopsis miliacea_7476"]
[null,null,null,null,null,null,null,null,null,null,null,null,null,null,null,null,null,null,null,null,null,null,null,null,null,null,null,null,null,null,null,null,null,null,null,null,null,null,null,null,null,null,null,null,null,null,null,null,null,null,null,null,null,null,null,null,null,null,null,3552,"Rubus aequalidens",null,null,1413,"Oxalis acetosella","Linnaeus","Wood-sorrel","Oxalidaceae",null,1413,"Oxalis acetosella_1413",null,null,null,null,null,null,null,"Oxalis acetosella_1413"]
[null,null,null,null,null,null,null,null,null,null,null,null,null,null,null,null,null,null,null,null,null,null,null,null,null,null,null,null,null,null,null,null,null,null,null,null,null,null,null,null,null,null,null,null,null,null,null,null,null,null,null,null,null,null,null,null,null,null,null,3568,"Rubus oxyanchus",null,null,2521,"Oxalis megalorrhiza","Jacq.","Fleshy Yellow-sorrel","Oxalidaceae",null,2521,"Oxalis megalorrhiza_2521",null,null,null,null,null,null,null,"Oxalis megalorrhiza_2521"]
[null,null,null,null,null,null,null,null,null,null,null,null,null,null,null,null,null,null,null,null,null,null,null,null,null,null,null,null,null,null,null,null,null,null,null,null,null,null,null,null,null,null,null,null,null,null,null,null,null,null,null,null,null,null,null,null,null,null,null,3575,"Symphoricarpos orbiculatus",null,null,2522,"Oxalis tetraphylla","Cav.","Four-leaved Pink-sorrel","Oxalidaceae",null,2522,"Oxalis tetraphylla_2522",null,null,null,null,null,null,null,"Oxalis tetraphylla_2522"]
[null,null,null,null,null,null,null,null,null,null,null,null,null,null,null,null,null,null,null,null,null,null,null,null,null,null,null,null,null,null,null,null,null,null,null,null,null,null,null,null,null,null,null,null,null,null,null,null,null,null,null,null,null,null,null,null,null,null,null,3598,"Abies lasiocarpa",null,null,1427,"Papaver hybridum","L.","Rough Poppy","Papaveraceae",null,1427,"Papaver hybridum_1427",null,null,null,null,null,null,null,"Papaver hybridum_1427"]
[null,null,null,null,null,null,null,null,null,null,null,null,null,null,null,null,null,null,null,null,null,null,null,null,null,null,null,null,null,null,null,null,null,null,null,null,null,null,null,null,null,null,null,null,null,null,null,null,null,null,null,null,null,null,null,null,null,null,null,3620,"Cupressus sempervirens",null,null,3518,"Parietaria officinalis",null,"Eastern Pellitory-of-the-wall","Urticaceae",null,3518,"Parietaria officinalis_3518",null,null,null,null,null,null,null,"Parietaria officinalis_3518"]
[null,null,null,null,null,null,null,null,null,null,null,null,null,null,null,null,null,null,null,null,null,null,null,null,null,null,null,null,null,null,null,null,null,null,null,null,null,null,null,null,null,null,null,null,null,null,null,null,null,null,null,null,null,null,null,null,null,null,null,3627,"Ginkgo biloba",null,null,7478,"Parthenocissus inserta","(A. Kern.) Fritsch","False Virginia-creeper","Vitaceae",null,7478,"Parthenocissus inserta_7478",null,null,null,null,null,null,null,"Parthenocissus inserta_7478"]
[null,null,null,null,null,null,null,null,null,null,null,null,null,null,null,null,null,null,null,null,null,null,null,null,null,null,null,null,null,null,null,null,null,null,null,null,null,null,null,null,null,null,null,null,null,null,null,null,null,null,null,null,null,null,null,null,null,null,null,3658,"Rubus subinermoides",null,null,4158,"Pelargonium x hortorum","L.H. Bailey","Zonal Geranium (P. inquinans x zonale)","Geraniaceae",null,4158,"Pelargonium x hortorum_4158",null,null,null,null,null,null,null,"Pelargonium x hortorum_4158"]
[null,null,null,null,null,null,null,null,null,null,null,null,null,null,null,null,null,null,null,null,null,null,null,null,null,null,null,null,null,null,null,null,null,null,null,null,null,null,null,null,null,null,null,null,null,null,null,null,null,null,null,null,null,null,null,null,null,null,null,3666,"Rubus tenuiarmatus",null,null,8161,"Pericallis cruenta","(L'Hér.) Bolle","Cineraria","Asteraceae",null,8161,"Pericallis cruenta_8161",null,null,null,null,null,null,null,"Pericallis cruenta_8161"]
[null,null,null,null,null,null,null,null,null,null,null,null,null,null,null,null,null,null,null,null,null,null,null,null,null,null,null,null,null,null,null,null,null,null,null,null,null,null,null,null,null,null,null,null,null,null,null,null,null,null,null,null,null,null,null,null,null,null,null,3698,"Rubus babingtonii",null,null,1542,"Persicaria sagittata","(L.) H. Gross ex Nakai","American Tear-thumb","Polygonaceae",null,1542,"Persicaria sagittata_1542",null,null,null,null,null,null,null,"Persicaria sagittata_1542"]
[null,null,null,null,null,null,null,null,null,null,null,null,null,null,null,null,null,null,null,null,null,null,null,null,null,null,null,null,null,null,null,null,null,null,null,null,null,null,null,null,null,null,null,null,null,null,null,null,null,null,null,null,null,null,null,null,null,null,null,3714,"Rubus cotteswoldensis",null,null,1447,"Petasites hybridus","(Linnaeus) P.Gaertner, Meyer & Scherb.","Butterbur","Asteraceae",null,1447,"Petasites hybridus_1447",null,null,null,null,null,null,null,"Petasites hybridus_1447"]
[null,null,null,null,null,null,null,null,null,null,null,null,null,null,null,null,null,null,null,null,null,null,null,null,null,null,null,null,null,null,null,null,null,null,null,null,null,null,null,null,null,null,null,null,null,null,null,null,null,null,null,null,null,null,null,null,null,null,null,3721,"Rubus distractiformis",null,null,5409,"Petrorhagia saxifraga","(L.) Link","Tunicflower","Caryophyllaceae",null,5409,"Petrorhagia saxifraga_5409",null,null,null,null,null,null,null,"Petrorhagia saxifraga_5409"]
[null,null,null,null,null,null,null,null,null,null,null,null,null,null,null,null,null,null,null,null,null,null,null,null,null,null,null,null,null,null,null,null,null,null,null,null,null,null,null,null,null,null,null,null,null,null,null,null,null,null,null,null,null,null,null,null,null,null,null,3741,"Rubus lasiodermis",null,null,"No BRC","Philadelphus sp.",null,null,"Hydrangeaceae",null,"No BRC","Philadelphus sp._No BRC",null,null,null,null,null,null,null,"Philadelphus sp._No BRC"]
[null,null,null,null,null,null,null,null,null,null,null,null,null,null,null,null,null,null,null,null,null,null,null,null,null,null,null,null,null,null,null,null,null,null,null,null,null,null,null,null,null,null,null,null,null,null,null,null,null,null,null,null,null,null,null,null,null,null,null,3743,"Rubus longus",null,null,1459,"Phleum arenarium","Linnaeus","Sand Cat's-tail","Poaceae",null,1459,"Phleum arenarium_1459",null,null,null,null,null,null,null,"Phleum arenarium_1459"]
[null,null,null,null,null,null,null,null,null,null,null,null,null,null,null,null,null,null,null,null,null,null,null,null,null,null,null,null,null,null,null,null,null,null,null,null,null,null,null,null,null,null,null,null,null,null,null,null,null,null,null,null,null,null,null,null,null,null,null,3764,"Rubus porphyrocaulis",null,null,8169,"Physalis ixocarpa","Brot. ex Hornem.","Tomatillo","Solanaceae",null,8169,"Physalis ixocarpa_8169",null,null,null,null,null,null,null,"Physalis ixocarpa_8169"]
[null,null,null,null,null,null,null,null,null,null,null,null,null,null,null,null,null,null,null,null,null,null,null,null,null,null,null,null,null,null,null,null,null,null,null,null,null,null,null,null,null,null,null,null,null,null,null,null,null,null,null,null,null,null,null,null,null,null,null,3780,"Rubus tumulorum",null,null,1470.4,"Picea abies subsp. abies",null,null,"Pinaceae",null,1470.4,"Picea abies subsp. abies_1470.4",null,null,null,null,null,null,null,"Picea abies subsp. abies_1470.4"]
[null,null,null,null,null,null,null,null,null,null,null,null,null,null,null,null,null,null,null,null,null,null,null,null,null,null,null,null,null,null,null,null,null,null,null,null,null,null,null,null,null,null,null,null,null,null,null,null,null,null,null,null,null,null,null,null,null,null,null,3787,"Rubus wolley-dodii",null,null,2412,"Picea omorika","(Pancic) Purk.","Serbian Spruce","Pinaceae",null,2412,"Picea omorika_2412",null,null,null,null,null,null,null,"Picea omorika_2412"]
[null,null,null,null,null,null,null,null,null,null,null,null,null,null,null,null,null,null,null,null,null,null,null,null,null,null,null,null,null,null,null,null,null,null,null,null,null,null,null,null,null,null,null,null,null,null,null,null,null,null,null,null,null,null,null,null,null,null,null,3797,"Cotoneaster hsingshangensis",null,null,"No BRC","Picris hieracioides subsp. grandiflora","(Ten.) Arcang.","Hawkweed Oxtongue","Asteraceae",null,"No BRC","Picris hieracioides subsp. grandiflora_No BRC",null,null,null,null,null,null,null,"Picris hieracioides subsp. grandiflora_No BRC"]
[null,null,null,null,null,null,null,null,null,null,null,null,null,null,null,null,null,null,null,null,null,null,null,null,null,null,null,null,null,null,null,null,null,null,null,null,null,null,null,null,null,null,null,null,null,null,null,null,null,null,null,null,null,null,null,null,null,null,null,3812,"Taraxacum austriacum",null,null,3083.1,"Pilosella flagellaris subsp. flagellaris",null,"Shetland Mouse-ear-hawkweed","Asteraceae",null,3083.1,"Pilosella flagellaris subsp. flagellaris_3083.1",null,null,null,null,null,null,null,"Pilosella flagellaris subsp. flagellaris_3083.1"]
[null,null,null,null,null,null,null,null,null,null,null,null,null,null,null,null,null,null,null,null,null,null,null,null,null,null,null,null,null,null,null,null,null,null,null,null,null,null,null,null,null,null,null,null,null,null,null,null,null,null,null,null,null,null,null,null,null,null,null,3846,"Taraxacum expallidiforme",null,null,1476,"Pimpinella saxifraga","Linnaeus","Burnet-saxifrage","Apiaceae",null,1476,"Pimpinella saxifraga_1476",null,null,null,null,null,null,null,"Pimpinella saxifraga_1476"]
[null,null,null,null,null,null,null,null,null,null,null,null,null,null,null,null,null,null,null,null,null,null,null,null,null,null,null,null,null,null,null,null,null,null,null,null,null,null,null,null,null,null,null,null,null,null,null,null,null,null,null,null,null,null,null,null,null,null,null,3853,"Taraxacum glauciniforme",null,null,2402.1,"Pinus contorta subsp. contorta",null,null,"Pinaceae",null,2402.1,"Pinus contorta subsp. contorta_2402.1",null,null,null,null,null,null,null,"Pinus contorta subsp. contorta_2402.1"]
[null,null,null,null,null,null,null,null,null,null,null,null,null,null,null,null,null,null,null,null,null,null,null,null,null,null,null,null,null,null,null,null,null,null,null,null,null,null,null,null,null,null,null,null,null,null,null,null,null,null,null,null,null,null,null,null,null,null,null,3874,"Taraxacum latisectum",null,null,2414,"Pinus radiata","D.Don","Monterey Pine","Pinaceae",null,2414,"Pinus radiata_2414",null,null,null,null,null,null,null,"Pinus radiata_2414"]
[null,null,null,null,null,null,null,null,null,null,null,null,null,null,null,null,null,null,null,null,null,null,null,null,null,null,null,null,null,null,null,null,null,null,null,null,null,null,null,null,null,null,null,null,null,null,null,null,null,null,null,null,null,null,null,null,null,null,null,3881,"Taraxacum marklundii",null,null,2984,"Pinus wallichiana","A.B.Jackson","Bhutan Pine","Pinaceae",null,2984,"Pinus wallichiana_2984",null,null,null,null,null,null,null,"Pinus wallichiana_2984"]
[null,null,null,null,null,null,null,null,null,null,null,null,null,null,null,null,null,null,null,null,null,null,null,null,null,null,null,null,null,null,null,null,null,null,null,null,null,null,null,null,null,null,null,null,null,null,null,null,null,null,null,null,null,null,null,null,null,null,null,3899,"Taraxacum placidum",null,null,1488.2,"Plantago major subsp. major",null,"Greater Plantain","Plantaginaceae",null,1488.2,"Plantago major subsp. major_1488.2",null,null,null,null,null,null,null,"Plantago major subsp. major_1488.2"]
[null,null,null,null,null,null,null,null,null,null,null,null,null,null,null,null,null,null,null,null,null,null,null,null,null,null,null,null,null,null,null,null,null,null,null,null,null,null,null,null,null,null,null,null,null,null,null,null,null,null,null,null,null,null,null,null,null,null,null,3922,"Taraxacum stictophyllum",null,null,1506.2,"Poa angustifolia","Linnaeus","Narrow-leaved Meadow-grass","Poaceae",null,1506.2,"Poa angustifolia_1506.2",null,null,null,null,null,null,null,"Poa angustifolia_1506.2"]
[null,null,null,null,null,null,null,null,null,null,null,null,null,null,null,null,null,null,null,null,null,null,null,null,null,null,null,null,null,null,null,null,null,null,null,null,null,null,null,null,null,null,null,null,null,null,null,null,null,null,null,null,null,null,null,null,null,null,null,3930,"Taraxacum tenebricans",null,null,1501,"Poa glauca","Vahl","Glaucous Meadow-grass","Poaceae","Vulnerable",1501,"Poa glauca_1501",null,null,null,null,null,null,null,"Poa glauca_1501"]
[null,null,null,null,null,null,null,null,null,null,null,null,null,null,null,null,null,null,null,null,null,null,null,null,null,null,null,null,null,null,null,null,null,null,null,null,null,null,null,null,null,null,null,null,null,null,null,null,null,null,null,null,null,null,null,null,null,null,null,3947,"Taraxacum caudatulum",null,null,1509.1,"Polycarpon tetraphyllum var. tetraphyllum",null,null,"Caryophyllaceae",null,1509.1,"Polycarpon tetraphyllum var. tetraphyllum_1509.1",null,null,null,null,null,null,null,"Polycarpon tetraphyllum var. tetraphyllum_1509.1"]
[null,null,null,null,null,null,null,null,null,null,null,null,null,null,null,null,null,null,null,null,null,null,null,null,null,null,null,null,null,null,null,null,null,null,null,null,null,null,null,null,null,null,null,null,null,null,null,null,null,null,null,null,null,null,null,null,null,null,null,3954,"Taraxacum corynodes",null,null,2689,"Polygala vulgaris x calcarea",null,null,"Polygalaceae",null,2689,"Polygala vulgaris x calcarea_2689",null,null,null,null,null,null,null,"Polygala vulgaris x calcarea_2689"]
[null,null,null,null,null,null,null,null,null,null,null,null,null,null,null,null,null,null,null,null,null,null,null,null,null,null,null,null,null,null,null,null,null,null,null,null,null,null,null,null,null,null,null,null,null,null,null,null,null,null,null,null,null,null,null,null,null,null,null,3970,"Taraxacum interveniens",null,null,1540,"Polygonum rurivagum","Jord. ex Boreau","Cornfield Knotgrass","Polygonaceae",null,1540,"Polygonum rurivagum_1540",null,null,null,null,null,null,null,"Polygonum rurivagum_1540"]
[null,null,null,null,null,null,null,null,null,null,null,null,null,null,null,null,null,null,null,null,null,null,null,null,null,null,null,null,null,null,null,null,null,null,null,null,null,null,null,null,null,null,null,null,null,null,null,null,null,null,null,null,null,null,null,null,null,null,null,3990,"Taraxacum ochrochlorum",null,null,2597,"Polystichum x lonchitiforme","(Halascy) Becherer","P. lonchitis x setiferum","Dryopteridaceae",null,2597,"Polystichum x lonchitiforme_2597",null,null,null,null,null,null,null,"Polystichum x lonchitiforme_2597"]
[null,null,null,null,null,null,null,null,null,null,null,null,null,null,null,null,null,null,null,null,null,null,null,null,null,null,null,null,null,null,null,null,null,null,null,null,null,null,null,null,null,null,null,null,null,null,null,null,null,null,null,null,null,null,null,null,null,null,null,3997,"Taraxacum pannulatum",null,null,7877,"Populus nigra 'Gigantea'",null,null,"Salicaceae",null,7877,"Populus nigra 'Gigantea'_7877",null,null,null,null,null,null,null,"Populus nigra 'Gigantea'_7877"]
[null,null,null,null,null,null,null,null,null,null,null,null,null,null,null,null,null,null,null,null,null,null,null,null,null,null,null,null,null,null,null,null,null,null,null,null,null,null,null,null,null,null,null,null,null,null,null,null,null,null,null,null,null,null,null,null,null,null,null,4013,"Taraxacum scoticum",null,null,1550.6,"Populus x canadensis 'Robusta'",null,null,"Salicaceae",null,1550.6,"Populus x canadensis 'Robusta'_1550.6",null,null,null,null,null,null,null,"Populus x canadensis 'Robusta'_1550.6"]
[null,null,null,null,null,null,null,null,null,null,null,null,null,null,null,null,null,null,null,null,null,null,null,null,null,null,null,null,null,null,null,null,null,null,null,null,null,null,null,null,null,null,null,null,null,null,null,null,null,null,null,null,null,null,null,null,null,null,null,4020,"Taraxacum subhamatum",null,null,1557,"Potamogeton acutifolius","Link","Sharp-leaved Pondweed","Potamogetonaceae","Critically endangered",1557,"Potamogeton acutifolius_1557",null,null,null,null,null,null,null,"Potamogeton acutifolius_1557"]
[null,null,null,null,null,null,null,null,null,null,null,null,null,null,null,null,null,null,null,null,null,null,null,null,null,null,null,null,null,null,null,null,null,null,null,null,null,null,null,null,null,null,null,null,null,null,null,null,null,null,null,null,null,null,null,null,null,null,null,4047,"Cercis siliquastrum",null,null,1581,"Potamogeton trichoides","Cham. & Schldl.","Hairlike Pondweed","Potamogetonaceae",null,1581,"Potamogeton trichoides_1581",null,null,null,null,null,null,null,"Potamogeton trichoides_1581"]
[null,null,null,null,null,null,null,null,null,null,null,null,null,null,null,null,null,null,null,null,null,null,null,null,null,null,null,null,null,null,null,null,null,null,null,null,null,null,null,null,null,null,null,null,null,null,null,null,null,null,null,null,null,null,null,null,null,null,null,4062,"Gilia capitata",null,null,1560,"Potamogeton x billupsii","Fryer","P. coloratus x gramineus","Potamogetonaceae","Vulnerable",1560,"Potamogeton x billupsii_1560",null,null,null,null,null,null,null,"Potamogeton x billupsii_1560"]
[null,null,null,null,null,null,null,null,null,null,null,null,null,null,null,null,null,null,null,null,null,null,null,null,null,null,null,null,null,null,null,null,null,null,null,null,null,null,null,null,null,null,null,null,null,null,null,null,null,null,null,null,null,null,null,null,null,null,null,4145,"Cyperus involucratus",null,null,5464,"Potamogeton x schreberi",null,"P. natans x nodosus","Potamogetonaceae","Vulnerable",5464,"Potamogeton x schreberi_5464",null,null,null,null,null,null,null,"Potamogeton x schreberi_5464"]
[null,null,null,null,null,null,null,null,null,null,null,null,null,null,null,null,null,null,null,null,null,null,null,null,null,null,null,null,null,null,null,null,null,null,null,null,null,null,null,null,null,null,null,null,null,null,null,null,null,null,null,null,null,null,null,null,null,null,null,4176,"Liriodendron tulipifera",null,null,1586,"Potentilla inclinata","Villars","Grey Cinquefoil","Rosaceae",null,1586,"Potentilla inclinata_1586",null,null,null,null,null,null,null,"Potentilla inclinata_1586"]
[null,null,null,null,null,null,null,null,null,null,null,null,null,null,null,null,null,null,null,null,null,null,null,null,null,null,null,null,null,null,null,null,null,null,null,null,null,null,null,null,null,null,null,null,null,null,null,null,null,null,null,null,null,null,null,null,null,null,null,4194,"Rubus vagensis",null,null,7497,"Potentilla rivalis","Nutt. ex Torrey & A.Gray","Brook Cinquefoil","Rosaceae",null,7497,"Potentilla rivalis_7497",null,null,null,null,null,null,null,"Potentilla rivalis_7497"]
[null,null,null,null,null,null,null,null,null,null,null,null,null,null,null,null,null,null,null,null,null,null,null,null,null,null,null,null,null,null,null,null,null,null,null,null,null,null,null,null,null,null,null,null,null,null,null,null,null,null,null,null,null,null,null,null,null,null,null,4305.2,"Pleioblastus pygmaeus var. pygmaeus",null,null,7501,"Primula florindae","Kingdom-Ward","Tibetan Cowslip","Primulaceae",null,7501,"Primula florindae_7501",null,null,null,null,null,null,null,"Primula florindae_7501"]
[null,null,null,null,null,null,null,null,null,null,null,null,null,null,null,null,null,null,null,null,null,null,null,null,null,null,null,null,null,null,null,null,null,null,null,null,null,null,null,null,null,null,null,null,null,null,null,null,null,null,null,null,null,null,null,null,null,null,null,4308,"Sasa palmata",null,null,"No BRC","Primula prolifera","Wall.","Yunnan Cowslip","Primulaceae",null,"No BRC","Primula prolifera_No BRC",null,null,null,null,null,null,null,"Primula prolifera_No BRC"]
[null,null,null,null,null,null,null,null,null,null,null,null,null,null,null,null,null,null,null,null,null,null,null,null,null,null,null,null,null,null,null,null,null,null,null,null,null,null,null,null,null,null,null,null,null,null,null,null,null,null,null,null,null,null,null,null,null,null,null,4329,"Mimulus x burnetii",null,null,1612.2,"Prunus cerasifera var. pissardii",null,null,"Rosaceae",null,1612.2,"Prunus cerasifera var. pissardii_1612.2",null,null,null,null,null,null,null,"Prunus cerasifera var. pissardii_1612.2"]
[null,null,null,null,null,null,null,null,null,null,null,null,null,null,null,null,null,null,null,null,null,null,null,null,null,null,null,null,null,null,null,null,null,null,null,null,null,null,null,null,null,null,null,null,null,null,null,null,null,null,null,null,null,null,null,null,null,null,null,4337,"Amsinckia lycopsoides",null,null,7506,"Prunus incisa","Thunb. ex Murray","Fuji Cherry","Rosaceae",null,7506,"Prunus incisa_7506",null,null,null,null,null,null,null,"Prunus incisa_7506"]
[null,null,null,null,null,null,null,null,null,null,null,null,null,null,null,null,null,null,null,null,null,null,null,null,null,null,null,null,null,null,null,null,null,null,null,null,null,null,null,null,null,null,null,null,null,null,null,null,null,null,null,null,null,null,null,null,null,null,null,4352,"Camelina sativa",null,null,2850,"Pseudorchis albida x Gymnadenia borealis",null,null,"Orchidaceae",null,2850,"Pseudorchis albida x Gymnadenia borealis_2850",null,null,null,null,null,null,null,"Pseudorchis albida x Gymnadenia borealis_2850"]
[null,null,null,null,null,null,null,null,null,null,null,null,null,null,null,null,null,null,null,null,null,null,null,null,null,null,null,null,null,null,null,null,null,null,null,null,null,null,null,null,null,null,null,null,null,null,null,null,null,null,null,null,null,null,null,null,null,null,null,4370,"Viburnum tinus",null,null,7511,"Pterocarya fraxinifolia","(Poiret) Spach","Caucasian Wingnut","Juglandaceae",null,7511,"Pterocarya fraxinifolia_7511",null,null,null,null,null,null,null,"Pterocarya fraxinifolia_7511"]
[null,null,null,null,null,null,null,null,null,null,null,null,null,null,null,null,null,null,null,null,null,null,null,null,null,null,null,null,null,null,null,null,null,null,null,null,null,null,null,null,null,null,null,null,null,null,null,null,null,null,null,null,null,null,null,null,null,null,null,4373,"Campanula gieseckiana",null,null,1620.1,"Puccinellia distans subsp. borealis","(Holmb.) W.E. Hughes","Northern Saltmarsh-grass","Poaceae","Nationally Scarce",1620.1,"Puccinellia distans subsp. borealis_1620.1",null,null,null,null,null,null,null,"Puccinellia distans subsp. borealis_1620.1"]
[null,null,null,null,null,null,null,null,null,null,null,null,null,null,null,null,null,null,null,null,null,null,null,null,null,null,null,null,null,null,null,null,null,null,null,null,null,null,null,null,null,null,null,null,null,null,null,null,null,null,null,null,null,null,null,null,null,null,null,4391,"Coprosma repens",null,null,7919,"Pyracantha coccinea x rogersiana",null,"Hybrid Firethorn","Rosaceae",null,7919,"Pyracantha coccinea x rogersiana_7919",null,null,null,null,null,null,null,"Pyracantha coccinea x rogersiana_7919"]
[null,null,null,null,null,null,null,null,null,null,null,null,null,null,null,null,null,null,null,null,null,null,null,null,null,null,null,null,null,null,null,null,null,null,null,null,null,null,null,null,null,null,null,null,null,null,null,null,null,null,null,null,null,null,null,null,null,null,null,4398,"Tropaeolum majus",null,null,5185,"Pyrus agg.",null,"Pear","Rosaceae",null,5185,"Pyrus agg._5185",null,null,null,null,null,null,null,"Pyrus agg._5185"]
[null,null,null,null,null,null,null,null,null,null,null,null,null,null,null,null,null,null,null,null,null,null,null,null,null,null,null,null,null,null,null,null,null,null,null,null,null,null,null,null,null,null,null,null,null,null,null,null,null,null,null,null,null,null,null,null,null,null,null,4417,"Amaranthus bouchonii",null,null,1640,"Quercus robur","L.","Pedunculate Oak","Fagaceae",null,1640,"Quercus robur_1640",null,null,null,null,null,null,null,"Quercus robur_1640"]
[null,null,null,null,null,null,null,null,null,null,null,null,null,null,null,null,null,null,null,null,null,null,null,null,null,null,null,null,null,null,null,null,null,null,null,null,null,null,null,null,null,null,null,null,null,null,null,null,null,null,null,null,null,null,null,null,null,null,null,4424,"Carthamus tinctorius",null,null,7886,"Quercus x turneri","Willd.","Q. ilex x robur","Fagaceae",null,7886,"Quercus x turneri_7886",null,null,null,null,null,null,null,"Quercus x turneri_7886"]
[null,null,null,null,null,null,null,null,null,null,null,null,null,null,null,null,null,null,null,null,null,null,null,null,null,null,null,null,null,null,null,null,null,null,null,null,null,null,null,null,null,null,null,null,null,null,null,null,null,null,null,null,null,null,null,null,null,null,null,4441,"Rubus caesius x vestitus",null,null,7524,"Ranunculus baudotii x peltatus",null,null,"Ranunculaceae",null,7524,"Ranunculus baudotii x peltatus_7524",null,null,null,null,null,null,null,"Ranunculus baudotii x peltatus_7524"]
[null,null,null,null,null,null,null,null,null,null,null,null,null,null,null,null,null,null,null,null,null,null,null,null,null,null,null,null,null,null,null,null,null,null,null,null,null,null,null,null,null,null,null,null,null,null,null,null,null,null,null,null,null,null,null,null,null,null,null,4466,"Euphrasia x venusta",null,null,1650,"Ranunculus paludosus","Poiret","Jersey Buttercup","Ranunculaceae",null,1650,"Ranunculus paludosus_1650",null,null,null,null,null,null,null,"Ranunculus paludosus_1650"]
[null,null,null,null,null,null,null,null,null,null,null,null,null,null,null,null,null,null,null,null,null,null,null,null,null,null,null,null,null,null,null,null,null,null,null,null,null,null,null,null,null,null,null,null,null,null,null,null,null,null,null,null,null,null,null,null,null,null,null,4474,"Epilobium x brunnatum",null,null,1643.7,"Ranunculus penicillatus subsp. pseudofluitans var. vertumnus","(Syme) S.D. Webster","var vertumnus","Ranunculaceae",null,1643.7,"Ranunculus penicillatus subsp. pseudofluitans var. vertumnus_1643.7",null,null,null,null,null,null,null,"Ranunculus penicillatus subsp. pseudofluitans var. vertumnus_1643.7"]
[null,null,null,null,null,null,null,null,null,null,null,null,null,null,null,null,null,null,null,null,null,null,null,null,null,null,null,null,null,null,null,null,null,null,null,null,null,null,null,null,null,null,null,null,null,null,null,null,null,null,null,null,null,null,null,null,null,null,null,4489,"Lepidium divaricatum",null,null,2561,"Ranunculus x levenensis","Druce ex Gornall","R. flammula x reptans","Ranunculaceae",null,2561,"Ranunculus x levenensis_2561",null,null,null,null,null,null,null,"Ranunculus x levenensis_2561"]
[null,null,null,null,null,null,null,null,null,null,null,null,null,null,null,null,null,null,null,null,null,null,null,null,null,null,null,null,null,null,null,null,null,null,null,null,null,null,null,null,null,null,null,null,null,null,null,null,null,null,null,null,null,null,null,null,null,null,null,4498,"Hieracium exotericum",null,null,1666,"Raphanus raphanistrum subsp. maritimus","(Smith) Thell.","Sea Radish","Brassicaceae",null,1666,"Raphanus raphanistrum subsp. maritimus_1666",null,null,null,null,null,null,null,"Raphanus raphanistrum subsp. maritimus_1666"]
[null,null,null,null,null,null,null,null,null,null,null,null,null,null,null,null,null,null,null,null,null,null,null,null,null,null,null,null,null,null,null,null,null,null,null,null,null,null,null,null,null,null,null,null,null,null,null,null,null,null,null,null,null,null,null,null,null,null,null,4518,"Crepis praemorsa",null,null,2615,"Rheum x rhabarbarum","L.","Rhubarb","Polygonaceae",null,2615,"Rheum x rhabarbarum_2615",null,null,null,null,null,null,null,"Rheum x rhabarbarum_2615"]
[null,null,null,null,null,null,null,null,null,null,null,null,null,null,null,null,null,null,null,null,null,null,null,null,null,null,null,null,null,null,null,null,null,null,null,null,null,null,null,null,null,null,null,null,null,null,null,null,null,null,null,null,null,null,null,null,null,null,null,4597.1000000000004,"Rosa micrantha x tomentosa (f x m)",null,null,"No BRC","Rhus copallina","L.","Shining Sumach","Anacardiaceae",null,"No BRC","Rhus copallina_No BRC",null,null,null,null,null,null,null,"Rhus copallina_No BRC"]
[null,null,null,null,null,null,null,null,null,null,null,null,null,null,null,null,null,null,null,null,null,null,null,null,null,null,null,null,null,null,null,null,null,null,null,null,null,null,null,null,null,null,null,null,null,null,null,null,null,null,null,null,null,null,null,null,null,null,null,4599.2,"Rosa stylosa x obtusifolia",null,null,"No BRC","Ribes divaricatum","Douglas","Coast Gooseberry","Grossulariaceae",null,"No BRC","Ribes divaricatum_No BRC",null,null,null,null,null,null,null,"Ribes divaricatum_No BRC"]
[null,null,null,null,null,null,null,null,null,null,null,null,null,null,null,null,null,null,null,null,null,null,null,null,null,null,null,null,null,null,null,null,null,null,null,null,null,null,null,null,null,null,null,null,null,null,null,null,null,null,null,null,null,null,null,null,null,null,null,4605,"Rosa x rouyana",null,null,1702,"Rorippa austriaca","(Crantz) Besser","Austrian Yellow-cress","Brassicaceae",null,1702,"Rorippa austriaca_1702",null,null,null,null,null,null,null,"Rorippa austriaca_1702"]
[null,null,null,null,null,null,null,null,null,null,null,null,null,null,null,null,null,null,null,null,null,null,null,null,null,null,null,null,null,null,null,null,null,null,null,null,null,null,null,null,null,null,null,null,null,null,null,null,null,null,null,null,null,null,null,null,null,null,null,4607.1000000000004,"Rosa rubiginosa x stylosa",null,null,2654,"Rorippa x erythrocaulis","Borbas","Thames Yellow-cress (R. palustris x amphibia)","Brassicaceae","Vulnerable",2654,"Rorippa x erythrocaulis_2654",null,null,null,null,null,null,null,"Rorippa x erythrocaulis_2654"]
[null,null,null,null,null,null,null,null,null,null,null,null,null,null,null,null,null,null,null,null,null,null,null,null,null,null,null,null,null,null,null,null,null,null,null,null,null,null,null,null,null,null,null,null,null,null,null,null,null,null,null,null,null,null,null,null,null,null,null,4614,"Rosa agrestis x tomentosa",null,null,2713.1,"Rosa arvensis x micrantha","Duffort ex Rouy","Rosa x vituperabilis (f x m)","Rosaceae",null,2713.1,"Rosa arvensis x micrantha_2713.1",null,null,null,null,null,null,null,"Rosa arvensis x micrantha_2713.1"]
[null,null,null,null,null,null,null,null,null,null,null,null,null,null,null,null,null,null,null,null,null,null,null,null,null,null,null,null,null,null,null,null,null,null,null,null,null,null,null,null,null,null,null,null,null,null,null,null,null,null,null,null,null,null,null,null,null,null,null,4839,"Crocus sp.",null,null,5399.1,"Rosa caesia sens. lat. x sherardii (f x m)",null,"female x male","Rosaceae",null,5399.1,"Rosa caesia sens. lat. x sherardii (f x m)_5399.1",null,null,null,null,null,null,null,"Rosa caesia sens. lat. x sherardii (f x m)_5399.1"]
[null,null,null,null,null,null,null,null,null,null,null,null,null,null,null,null,null,null,null,null,null,null,null,null,null,null,null,null,null,null,null,null,null,null,null,null,null,null,null,null,null,null,null,null,null,null,null,null,null,null,null,null,null,null,null,null,null,null,null,5390.1,"Rosa agrestis x spinosissima (fxm)",null,null,4600.1000000000004,"Rosa caesia subsp. caesia x mollis (f x m)",null,"female x male","Rosaceae",null,4600.1000000000004,"Rosa caesia subsp. caesia x mollis (f x m)_4600.1",null,null,null,null,null,null,null,"Rosa caesia subsp. caesia x mollis (f x m)_4600.1"]
[null,null,null,null,null,null,null,null,null,null,null,null,null,null,null,null,null,null,null,null,null,null,null,null,null,null,null,null,null,null,null,null,null,null,null,null,null,null,null,null,null,null,null,null,null,null,null,null,null,null,null,null,null,null,null,null,null,null,null,5402,"Rosa caesia sens. lat. x rubiginosa",null,null,4609.1000000000004,"Rosa caesia subsp. glauca x obtusifolia (f x m)",null,"female x male","Rosaceae",null,4609.1000000000004,"Rosa caesia subsp. glauca x obtusifolia (f x m)_4609.1",null,null,null,null,null,null,null,"Rosa caesia subsp. glauca x obtusifolia (f x m)_4609.1"]
[null,null,null,null,null,null,null,null,null,null,null,null,null,null,null,null,null,null,null,null,null,null,null,null,null,null,null,null,null,null,null,null,null,null,null,null,null,null,null,null,null,null,null,null,null,null,null,null,null,null,null,null,null,null,null,null,null,null,null,5409,"Petrorhagia saxifraga",null,null,2733.1,"Rosa caesia subsp. glauca x tomentosa",null,"Rosa x rogersii (f x m)","Rosaceae",null,2733.1,"Rosa caesia subsp. glauca x tomentosa_2733.1",null,null,null,null,null,null,null,"Rosa caesia subsp. glauca x tomentosa_2733.1"]
[null,null,null,null,null,null,null,null,null,null,null,null,null,null,null,null,null,null,null,null,null,null,null,null,null,null,null,null,null,null,null,null,null,null,null,null,null,null,null,null,null,null,null,null,null,null,null,null,null,null,null,null,null,null,null,null,null,null,null,5430,"Festuca lemanii",null,null,2715.1,"Rosa canina x spinosissima (fxm)","Templeton","Rosa x hibernica","Rosaceae",null,2715.1,"Rosa canina x spinosissima (fxm)_2715.1",null,null,null,null,null,null,null,"Rosa canina x spinosissima (fxm)_2715.1"]
[null,null,null,null,null,null,null,null,null,null,null,null,null,null,null,null,null,null,null,null,null,null,null,null,null,null,null,null,null,null,null,null,null,null,null,null,null,null,null,null,null,null,null,null,null,null,null,null,null,null,null,null,null,null,null,null,null,null,null,5433,"Ligularia dentata",null,null,8193,"Rosa centifolia","L.","Cabbage Rose","Rosaceae",null,8193,"Rosa centifolia_8193",null,null,null,null,null,null,null,"Rosa centifolia_8193"]
[null,null,null,null,null,null,null,null,null,null,null,null,null,null,null,null,null,null,null,null,null,null,null,null,null,null,null,null,null,null,null,null,null,null,null,null,null,null,null,null,null,null,null,null,null,null,null,null,null,null,null,null,null,null,null,null,null,null,null,5466,"Taraxacum maculatum",null,null,5400.2,"Rosa mollis x caesia sens. lat.",null,"Rosa x glaucoides","Rosaceae",null,5400.2,"Rosa mollis x caesia sens. lat._5400.2",null,null,null,null,null,null,null,"Rosa mollis x caesia sens. lat._5400.2"]
[null,null,null,null,null,null,null,null,null,null,null,null,null,null,null,null,null,null,null,null,null,null,null,null,null,null,null,null,null,null,null,null,null,null,null,null,null,null,null,null,null,null,null,null,null,null,null,null,null,null,null,null,null,null,null,null,null,null,null,5474,"Daucus carota",null,null,4613,"Rosa mollis x tomentosa",null,"(fxm or mxf)","Rosaceae",null,4613,"Rosa mollis x tomentosa_4613",null,null,null,null,null,null,null,"Rosa mollis x tomentosa_4613"]
[null,null,null,null,null,null,null,null,null,null,null,null,null,null,null,null,null,null,null,null,null,null,null,null,null,null,null,null,null,null,null,null,null,null,null,null,null,null,null,null,null,null,null,null,null,null,null,null,null,null,null,null,null,null,null,null,null,null,null,5549,"Cleretum bellidiforme",null,null,4612.1000000000004,"Rosa obtusifolia x tomentosa (f x m)",null,"female x male","Rosaceae",null,4612.1000000000004,"Rosa obtusifolia x tomentosa (f x m)_4612.1",null,null,null,null,null,null,null,"Rosa obtusifolia x tomentosa (f x m)_4612.1"]
[null,null,null,null,null,null,null,null,null,null,null,null,null,null,null,null,null,null,null,null,null,null,null,null,null,null,null,null,null,null,null,null,null,null,null,null,null,null,null,null,null,null,null,null,null,null,null,null,null,null,null,null,null,null,null,null,null,null,null,5676,"Ipomoea batatas",null,null,9544.2000000000007,"Rosa rugosa x spinosissima (fxm)",null,null,"Rosaceae",null,9544.2000000000007,"Rosa rugosa x spinosissima (fxm)_9544.2",null,null,null,null,null,null,null,"Rosa rugosa x spinosissima (fxm)_9544.2"]
[null,null,null,null,null,null,null,null,null,null,null,null,null,null,null,null,null,null,null,null,null,null,null,null,null,null,null,null,null,null,null,null,null,null,null,null,null,null,null,null,null,null,null,null,null,null,null,null,null,null,null,null,null,null,null,null,null,null,null,5701,"Abutilon pictum",null,null,4596,"Rosa setigera","Michaux","Prairie Rose","Rosaceae",null,4596,"Rosa setigera_4596",null,null,null,null,null,null,null,"Rosa setigera_4596"]
[null,null,null,null,null,null,null,null,null,null,null,null,null,null,null,null,null,null,null,null,null,null,null,null,null,null,null,null,null,null,null,null,null,null,null,null,null,null,null,null,null,null,null,null,null,null,null,null,null,null,null,null,null,null,null,null,null,null,null,5749,"Aethionema saxatile",null,null,2718.2,"Rosa spinosissima x caesia subsp. caesia (fxm)","(Wolley-Dod) Wolley-Dod","Rosa x margerisonii","Rosaceae",null,2718.2,"Rosa spinosissima x caesia subsp. caesia (fxm)_2718.2",null,null,null,null,null,null,null,"Rosa spinosissima x caesia subsp. caesia (fxm)_2718.2"]
[null,null,null,null,null,null,null,null,null,null,null,null,null,null,null,null,null,null,null,null,null,null,null,null,null,null,null,null,null,null,null,null,null,null,null,null,null,null,null,null,null,null,null,null,null,null,null,null,null,null,null,null,null,null,null,null,null,null,null,5815,"Amaranthus tuberculatus",null,null,9544.1,"Rosa spinosissima x rugosa (fxm)",null,null,"Rosaceae",null,9544.1,"Rosa spinosissima x rugosa (fxm)_9544.1",null,null,null,null,null,null,null,"Rosa spinosissima x rugosa (fxm)_9544.1"]
[null,null,null,null,null,null,null,null,null,null,null,null,null,null,null,null,null,null,null,null,null,null,null,null,null,null,null,null,null,null,null,null,null,null,null,null,null,null,null,null,null,null,null,null,null,null,null,null,null,null,null,null,null,null,null,null,null,null,null,6177,"Cirsium rivulare",null,null,2730.2,"Rosa tomentosa x canina",null,"Rosa x scabriuscula (f x m)","Rosaceae",null,2730.2,"Rosa tomentosa x canina_2730.2",null,null,null,null,null,null,null,"Rosa tomentosa x canina_2730.2"]
[null,null,null,null,null,null,null,null,null,null,null,null,null,null,null,null,null,null,null,null,null,null,null,null,null,null,null,null,null,null,null,null,null,null,null,null,null,null,null,null,null,null,null,null,null,null,null,null,null,null,null,null,null,null,null,null,null,null,null,6913,"Lobelia gracilis",null,null,2729,"Rosa x dumetorum","Thuill.","Rosa canina x obtusifolia (fxm or mxf)","Rosaceae",null,2729,"Rosa x dumetorum_2729",null,null,null,null,null,null,null,"Rosa x dumetorum_2729"]
[null,null,null,null,null,null,null,null,null,null,null,null,null,null,null,null,null,null,null,null,null,null,null,null,null,null,null,null,null,null,null,null,null,null,null,null,null,null,null,null,null,null,null,null,null,null,null,null,null,null,null,null,null,null,null,null,null,null,null,7006,"Elymus caninus",null,null,5401,"Rosa x margerisonii","(Wolley-Dod) Wolley-Dod","Rosa spinosissima x caesia sens. lat. (fxm or mxf)","Rosaceae",null,5401,"Rosa x margerisonii_5401",null,null,null,null,null,null,null,"Rosa x margerisonii_5401"]
[null,null,null,null,null,null,null,null,null,null,null,null,null,null,null,null,null,null,null,null,null,null,null,null,null,null,null,null,null,null,null,null,null,null,null,null,null,null,null,null,null,null,null,null,null,null,null,null,null,null,null,null,null,null,null,null,null,null,null,7116,"Anthemis punctata",null,null,2713,"Rosa x vituperabilis","Duffort ex Rouy","Rosa arvensis x micrantha (fxm or mxf)","Rosaceae",null,2713,"Rosa x vituperabilis_2713",null,null,null,null,null,null,null,"Rosa x vituperabilis_2713"]
[null,null,null,null,null,null,null,null,null,null,null,null,null,null,null,null,null,null,null,null,null,null,null,null,null,null,null,null,null,null,null,null,null,null,null,null,null,null,null,null,null,null,null,null,null,null,null,null,null,null,null,null,null,null,null,null,null,null,null,7121.1,"Euphorbia characias subsp. characias",null,null,3306,"Rubus acutifrons","Ley",null,"Rubus microspecies",null,3306,"Rubus acutifrons_3306",null,null,null,null,null,null,null,"Rubus acutifrons_3306"]
[null,null,null,null,null,null,null,null,null,null,null,null,null,null,null,null,null,null,null,null,null,null,null,null,null,null,null,null,null,null,null,null,null,null,null,null,null,null,null,null,null,null,null,null,null,null,null,null,null,null,null,null,null,null,null,null,null,null,null,7135,"Aconitum lycoctonum",null,null,3694,"Rubus anglofuscus","Edees",null,"Rubus microspecies",null,3694,"Rubus anglofuscus_3694",null,null,null,null,null,null,null,"Rubus anglofuscus_3694"]
[null,null,null,null,null,null,null,null,null,null,null,null,null,null,null,null,null,null,null,null,null,null,null,null,null,null,null,null,null,null,null,null,null,null,null,null,null,null,null,null,null,null,null,null,null,null,null,null,null,null,null,null,null,null,null,null,null,null,null,7142,"Agrostis stolonifera x vinealis",null,null,4177,"Rubus ariconiensis","Chaboiss.",null,"Rubus microspecies",null,4177,"Rubus ariconiensis_4177",null,null,null,null,null,null,null,"Rubus ariconiensis_4177"]
[null,null,null,null,null,null,null,null,null,null,null,null,null,null,null,null,null,null,null,null,null,null,null,null,null,null,null,null,null,null,null,null,null,null,null,null,null,null,null,null,null,null,null,null,null,null,null,null,null,null,null,null,null,null,null,null,null,null,null,7162,"Aralia racemosa",null,null,3349,"Rubus boraeanus","Genev.",null,"Rubus microspecies",null,3349,"Rubus boraeanus_3349",null,null,null,null,null,null,null,"Rubus boraeanus_3349"]
[null,null,null,null,null,null,null,null,null,null,null,null,null,null,null,null,null,null,null,null,null,null,null,null,null,null,null,null,null,null,null,null,null,null,null,null,null,null,null,null,null,null,null,null,null,null,null,null,null,null,null,null,null,null,null,null,null,null,null,7178,"Astragalus cicer",null,null,"No BRC","Rubus campaniensis","Chaboiss.",null,"Rubus microspecies",null,"No BRC","Rubus campaniensis_No BRC",null,null,null,null,null,null,null,"Rubus campaniensis_No BRC"]
[null,null,null,null,null,null,null,null,null,null,null,null,null,null,null,null,null,null,null,null,null,null,null,null,null,null,null,null,null,null,null,null,null,null,null,null,null,null,null,null,null,null,null,null,null,null,null,null,null,null,null,null,null,null,null,null,null,null,null,7185,"Berberis gagnepainii",null,null,3709,"Rubus castrensis","Wolley-Dod",null,"Rubus microspecies","Rare",3709,"Rubus castrensis_3709",null,null,null,null,null,null,null,"Rubus castrensis_3709"]
[null,null,null,null,null,null,null,null,null,null,null,null,null,null,null,null,null,null,null,null,null,null,null,null,null,null,null,null,null,null,null,null,null,null,null,null,null,null,null,null,null,null,null,null,null,null,null,null,null,null,null,null,null,null,null,null,null,null,null,7201,"Campanula alliariifolia",null,null,3712,"Rubus coombensis","Rilstone",null,"Rubus microspecies",null,3712,"Rubus coombensis_3712",null,null,null,null,null,null,null,"Rubus coombensis_3712"]
[null,null,null,null,null,null,null,null,null,null,null,null,null,null,null,null,null,null,null,null,null,null,null,null,null,null,null,null,null,null,null,null,null,null,null,null,null,null,null,null,null,null,null,null,null,null,null,null,null,null,null,null,null,null,null,null,null,null,null,7208,"Carex x alsatica",null,null,3385,"Rubus criniger","(E.F.Linton) Rogers",null,"Rubus microspecies",null,3385,"Rubus criniger_3385",null,null,null,null,null,null,null,"Rubus criniger_3385"]
[null,null,null,null,null,null,null,null,null,null,null,null,null,null,null,null,null,null,null,null,null,null,null,null,null,null,null,null,null,null,null,null,null,null,null,null,null,null,null,null,null,null,null,null,null,null,null,null,null,null,null,null,null,null,null,null,null,null,null,7228,"Cirsium x subspinuligerum",null,null,3724,"Rubus dumnoniensis","Bab.",null,"Rubus microspecies",null,3724,"Rubus dumnoniensis_3724",null,null,null,null,null,null,null,"Rubus dumnoniensis_3724"]
[null,null,null,null,null,null,null,null,null,null,null,null,null,null,null,null,null,null,null,null,null,null,null,null,null,null,null,null,null,null,null,null,null,null,null,null,null,null,null,null,null,null,null,null,null,null,null,null,null,null,null,null,null,null,null,null,null,null,null,7244,"Cotoneaster laetevirens",null,null,3427,"Rubus fissus","Lindley",null,"Rubus microspecies",null,3427,"Rubus fissus_3427",null,null,null,null,null,null,null,"Rubus fissus_3427"]
[null,null,null,null,null,null,null,null,null,null,null,null,null,null,null,null,null,null,null,null,null,null,null,null,null,null,null,null,null,null,null,null,null,null,null,null,null,null,null,null,null,null,null,null,null,null,null,null,null,null,null,null,null,null,null,null,null,null,null,7249.2,"Cotoneaster x suecicus 'Skogholm'",null,null,3730,"Rubus fuscicaulis","Edees",null,"Rubus microspecies",null,3730,"Rubus fuscicaulis_3730",null,null,null,null,null,null,null,"Rubus fuscicaulis_3730"]
[null,null,null,null,null,null,null,null,null,null,null,null,null,null,null,null,null,null,null,null,null,null,null,null,null,null,null,null,null,null,null,null,null,null,null,null,null,null,null,null,null,null,null,null,null,null,null,null,null,null,null,null,null,null,null,null,null,null,null,7269,"Cyclamen coum",null,null,5661,"Rubus hindii","A.L. Bull",null,"Rubus microspecies",null,5661,"Rubus hindii_5661",null,null,null,null,null,null,null,"Rubus hindii_5661"]
[null,null,null,null,null,null,null,null,null,null,null,null,null,null,null,null,null,null,null,null,null,null,null,null,null,null,null,null,null,null,null,null,null,null,null,null,null,null,null,null,null,null,null,null,null,null,null,null,null,null,null,null,null,null,null,null,null,null,null,7272,"Cynodon incompletus",null,null,3470,"Rubus hylocharis","W.C.R.Watson",null,"Rubus microspecies",null,3470,{"$f":"CONCATENATE(BM5316,\"_\",BL5316)","v":"Rubus hylocharis_3470"},null,null,null,null,null,null,null,"Rubus hylocharis_3470"]
[null,null,null,null,null,null,null,null,null,null,null,null,null,null,null,null,null,null,null,null,null,null,null,null,null,null,null,null,null,null,null,null,null,null,null,null,null,null,null,null,null,null,null,null,null,null,null,null,null,null,null,null,null,null,null,null,null,null,null,7292,"Epilobium tetragonum",null,null,3739,"Rubus lacustris","Rogers",null,"Rubus microspecies",null,3739,"Rubus lacustris_3739",null,null,null,null,null,null,null,"Rubus lacustris_3739"]
[null,null,null,null,null,null,null,null,null,null,null,null,null,null,null,null,null,null,null,null,null,null,null,null,null,null,null,null,null,null,null,null,null,null,null,null,null,null,null,null,null,null,null,null,null,null,null,null,null,null,null,null,null,null,null,null,null,null,null,7306,"Euphorbia x pseudoesula",null,null,3507,"Rubus lindebergii","P.J.Mueller",null,"Rubus microspecies",null,3507,"Rubus lindebergii_3507",null,null,null,null,null,null,null,"Rubus lindebergii_3507"]
[null,null,null,null,null,null,null,null,null,null,null,null,null,null,null,null,null,null,null,null,null,null,null,null,null,null,null,null,null,null,null,null,null,null,null,null,null,null,null,null,null,null,null,null,null,null,null,null,null,null,null,null,null,null,null,null,null,null,null,7313,"Euphrasia arctica x marshallii",null,null,3513,"Rubus longithyrsiger","Lees ex Focke",null,"Rubus microspecies",null,3513,"Rubus longithyrsiger_3513",null,null,null,null,null,null,null,"Rubus longithyrsiger_3513"]
[null,null,null,null,null,null,null,null,null,null,null,null,null,null,null,null,null,null,null,null,null,null,null,null,null,null,null,null,null,null,null,null,null,null,null,null,null,null,null,null,null,null,null,null,null,null,null,null,null,null,null,null,null,null,null,null,null,null,null,7320,"Euphrasia campbelliae x rotundfolia",null,null,3529,"Rubus melanodermis","Focke",null,"Rubus microspecies",null,3529,"Rubus melanodermis_3529",null,null,null,null,null,null,null,"Rubus melanodermis_3529"]
[null,null,null,null,null,null,null,null,null,null,null,null,null,null,null,null,null,null,null,null,null,null,null,null,null,null,null,null,null,null,null,null,null,null,null,null,null,null,null,null,null,null,null,null,null,null,null,null,null,null,null,null,null,null,null,null,null,null,null,7336,"Euphrasia frigida x scottica",null,null,3544,"Rubus murrayi","Sudre",null,"Rubus microspecies",null,3544,"Rubus murrayi_3544",null,null,null,null,null,null,null,"Rubus murrayi_3544"]
[null,null,null,null,null,null,null,null,null,null,null,null,null,null,null,null,null,null,null,null,null,null,null,null,null,null,null,null,null,null,null,null,null,null,null,null,null,null,null,null,null,null,null,null,null,null,null,null,null,null,null,null,null,null,null,null,null,null,null,7356,"Euphrasia x haussknechtii",null,null,3568,"Rubus oxyanchus","Sudre",null,"Rubus microspecies",null,3568,"Rubus oxyanchus_3568",null,null,null,null,null,null,null,"Rubus oxyanchus_3568"]
[null,null,null,null,null,null,null,null,null,null,null,null,null,null,null,null,null,null,null,null,null,null,null,null,null,null,null,null,null,null,null,null,null,null,null,null,null,null,null,null,null,null,null,null,null,null,null,null,null,null,null,null,null,null,null,null,null,null,null,7359,"Festuca armoricana",null,null,3570,"Rubus pallidus","Weihe",null,"Rubus microspecies",null,3570,"Rubus pallidus_3570",null,null,null,null,null,null,null,"Rubus pallidus_3570"]
[null,null,null,null,null,null,null,null,null,null,null,null,null,null,null,null,null,null,null,null,null,null,null,null,null,null,null,null,null,null,null,null,null,null,null,null,null,null,null,null,null,null,null,null,null,null,null,null,null,null,null,null,null,null,null,null,null,null,null,7377,"Genista aetnensis",null,null,3763,"Rubus plymensis","(Focke) Edees & Newton",null,"Rubus microspecies",null,3763,"Rubus plymensis_3763",null,null,null,null,null,null,null,"Rubus plymensis_3763"]
[null,null,null,null,null,null,null,null,null,null,null,null,null,null,null,null,null,null,null,null,null,null,null,null,null,null,null,null,null,null,null,null,null,null,null,null,null,null,null,null,null,null,null,null,null,null,null,null,null,null,null,null,null,null,null,null,null,null,null,7385,"Geranium psilostemon",null,null,"No BRC","Rubus procerus","sensu Edees & A. Newton, Watson et al.",null,"Rubus microspecies",null,"No BRC","Rubus procerus_No BRC",null,null,null,null,null,null,null,"Rubus procerus_No BRC"]
[null,null,null,null,null,null,null,null,null,null,null,null,null,null,null,null,null,null,null,null,null,null,null,null,null,null,null,null,null,null,null,null,null,null,null,null,null,null,null,null,null,null,null,null,null,null,null,null,null,null,null,null,null,null,null,null,null,null,null,7401,"Hieracium insigne",null,null,3607,"Rubus ramosus","Bloxam ex Briggs",null,"Rubus microspecies",null,3607,"Rubus ramosus_3607",null,null,null,null,null,null,null,"Rubus ramosus_3607"]
[null,null,null,null,null,null,null,null,null,null,null,null,null,null,null,null,null,null,null,null,null,null,null,null,null,null,null,null,null,null,null,null,null,null,null,null,null,null,null,null,null,null,null,null,null,null,null,null,null,null,null,null,null,null,null,null,null,null,null,7421,"Juncus x alpiniformis",null,null,3639,"Rubus scissus","W.C.R.Watson",null,"Rubus microspecies",null,3639,"Rubus scissus_3639",null,null,null,null,null,null,null,"Rubus scissus_3639"]
[null,null,null,null,null,null,null,null,null,null,null,null,null,null,null,null,null,null,null,null,null,null,null,null,null,null,null,null,null,null,null,null,null,null,null,null,null,null,null,null,null,null,null,null,null,null,null,null,null,null,null,null,null,null,null,null,null,null,null,7429,"Leptospermum lanigerum",null,null,"No BRC","Rubus sempernitens","D.E. Allen & Margetts",null,"Rubus microspecies",null,"No BRC","Rubus sempernitens_No BRC",null,null,null,null,null,null,null,"Rubus sempernitens_No BRC"]
[null,null,null,null,null,null,null,null,null,null,null,null,null,null,null,null,null,null,null,null,null,null,null,null,null,null,null,null,null,null,null,null,null,null,null,null,null,null,null,null,null,null,null,null,null,null,null,null,null,null,null,null,null,null,null,null,null,null,null,7445,"Lysichiton camtschatcensis",null,null,3650,"Rubus spadix","W.C.R.Watson",null,"Rubus microspecies","Rare",3650,"Rubus spadix_3650",null,null,null,null,null,null,null,"Rubus spadix_3650"]
[null,null,null,null,null,null,null,null,null,null,null,null,null,null,null,null,null,null,null,null,null,null,null,null,null,null,null,null,null,null,null,null,null,null,null,null,null,null,null,null,null,null,null,null,null,null,null,null,null,null,null,null,null,null,null,null,null,null,null,7452,"Morus nigra",null,null,3771,"Rubus subopacus","Sudre",null,"Rubus microspecies",null,3771,"Rubus subopacus_3771",null,null,null,null,null,null,null,"Rubus subopacus_3771"]
[null,null,null,null,null,null,null,null,null,null,null,null,null,null,null,null,null,null,null,null,null,null,null,null,null,null,null,null,null,null,null,null,null,null,null,null,null,null,null,null,null,null,null,null,null,null,null,null,null,null,null,null,null,null,null,null,null,null,null,7471,"Olearia paniculata",null,null,3778,"Rubus tricolor","Focke","Chinese Bramble","Rosaceae",null,3778,"Rubus tricolor_3778",null,null,null,null,null,null,null,"Rubus tricolor_3778"]
[null,null,null,null,null,null,null,null,null,null,null,null,null,null,null,null,null,null,null,null,null,null,null,null,null,null,null,null,null,null,null,null,null,null,null,null,null,null,null,null,null,null,null,null,null,null,null,null,null,null,null,null,null,null,null,null,null,null,null,7490,"Phymatodes diversifolia",null,null,3685,"Rubus warrenii","Sudre",null,"Rubus microspecies",null,3685,"Rubus warrenii_3685",null,null,null,null,null,null,null,"Rubus warrenii_3685"]
[null,null,null,null,null,null,null,null,null,null,null,null,null,null,null,null,null,null,null,null,null,null,null,null,null,null,null,null,null,null,null,null,null,null,null,null,null,null,null,null,null,null,null,null,null,null,null,null,null,null,null,null,null,null,null,null,null,null,null,7498,"Potentilla x italica",null,null,7890,"Rubus x paxii","Focke","R. idaeus x phoenicolasius","Rosaceae",null,7890,"Rubus x paxii_7890",null,null,null,null,null,null,null,"Rubus x paxii_7890"]
[null,null,null,null,null,null,null,null,null,null,null,null,null,null,null,null,null,null,null,null,null,null,null,null,null,null,null,null,null,null,null,null,null,null,null,null,null,null,null,null,null,null,null,null,null,null,null,null,null,null,null,null,null,null,null,null,null,null,null,7514,"Puccinellia x krusemaniana",null,null,2573,"Rumex confertus","Willd.","Russian Dock","Polygonaceae",null,2573,"Rumex confertus_2573",null,null,null,null,null,null,null,"Rumex confertus_2573"]
[null,null,null,null,null,null,null,null,null,null,null,null,null,null,null,null,null,null,null,null,null,null,null,null,null,null,null,null,null,null,null,null,null,null,null,null,null,null,null,null,null,null,null,null,null,null,null,null,null,null,null,null,null,null,null,null,null,null,null,7522,"Ramonda myconi",null,null,2478,"Rumex crispus x rupestris",null,null,"Polygonaceae",null,2478,"Rumex crispus x rupestris_2478",null,null,null,null,null,null,null,"Rumex crispus x rupestris_2478"]
[null,null,null,null,null,null,null,null,null,null,null,null,null,null,null,null,null,null,null,null,null,null,null,null,null,null,null,null,null,null,null,null,null,null,null,null,null,null,null,null,null,null,null,null,null,null,null,null,null,null,null,null,null,null,null,null,null,null,null,7541,"Rubus gallofuscus",null,null,1757,"Rumex salicifolius","Weinm.","Willow-leaved Dock","Polygonaceae",null,1757,"Rumex salicifolius_1757",null,null,null,null,null,null,null,"Rumex salicifolius_1757"]
[null,null,null,null,null,null,null,null,null,null,null,null,null,null,null,null,null,null,null,null,null,null,null,null,null,null,null,null,null,null,null,null,null,null,null,null,null,null,null,null,null,null,null,null,null,null,null,null,null,null,null,null,null,null,null,null,null,null,null,7544,"Rubus stenopetalus",null,null,1753.2,"Rumex sanguineus var. viridis",null,"Wood Dock","Polygonaceae",null,1753.2,"Rumex sanguineus var. viridis_1753.2",null,null,null,null,null,null,null,"Rumex sanguineus var. viridis_1753.2"]
[null,null,null,null,null,null,null,null,null,null,null,null,null,null,null,null,null,null,null,null,null,null,null,null,null,null,null,null,null,null,null,null,null,null,null,null,null,null,null,null,null,null,null,null,null,null,null,null,null,null,null,null,null,null,null,null,null,null,null,7564,"Saxifraga rotundifolia",null,null,2458,"Rumex x knafii","Celak","R. conglomeratus x maritimus","Polygonaceae",null,2458,"Rumex x knafii_2458",null,null,null,null,null,null,null,"Rumex x knafii_2458"]
[null,null,null,null,null,null,null,null,null,null,null,null,null,null,null,null,null,null,null,null,null,null,null,null,null,null,null,null,null,null,null,null,null,null,null,null,null,null,null,null,null,null,null,null,null,null,null,null,null,null,null,null,null,null,null,null,null,null,null,7580,"Senecio ovatus",null,null,2471,"Rumex x skofitzii","Blocki","R. confertus x crispus","Polygonaceae",null,2471,"Rumex x skofitzii_2471",null,null,null,null,null,null,null,"Rumex x skofitzii_2471"]
[null,null,null,null,null,null,null,null,null,null,null,null,null,null,null,null,null,null,null,null,null,null,null,null,null,null,null,null,null,null,null,null,null,null,null,null,null,null,null,null,null,null,null,null,null,null,null,null,null,null,null,null,null,null,null,null,null,null,null,7587,"Sisyrinchium striatum",null,null,1759,"Ruppia cirrhosa","(Petagna) Grande","Spiral Tasselweed","Ruppiaceae","Near Threatened",1759,"Ruppia cirrhosa_1759",null,null,null,null,null,null,null,"Ruppia cirrhosa_1759"]
[null,null,null,null,null,null,null,null,null,null,null,null,null,null,null,null,null,null,null,null,null,null,null,null,null,null,null,null,null,null,null,null,null,null,null,null,null,null,null,null,null,null,null,null,null,null,null,null,null,null,null,null,null,null,null,null,null,null,null,7607,"Symphytum caucasicum",null,null,2695,"Sagina x micrantha","Boreau ex E.Martin","S. procumbens x subulata","Caryophyllaceae",null,2695,"Sagina x micrantha_2695",null,null,null,null,null,null,null,"Sagina x micrantha_2695"]
[null,null,null,null,null,null,null,null,null,null,null,null,null,null,null,null,null,null,null,null,null,null,null,null,null,null,null,null,null,null,null,null,null,null,null,null,null,null,null,null,null,null,null,null,null,null,null,null,null,null,null,null,null,null,null,null,null,null,null,7610,"Taraxacum aberrans",null,null,4500,"Sagittaria latifolia","Willd.","Duck-potato","Alismataceae",null,4500,"Sagittaria latifolia_4500",null,null,null,null,null,null,null,"Sagittaria latifolia_4500"]
[null,null,null,null,null,null,null,null,null,null,null,null,null,null,null,null,null,null,null,null,null,null,null,null,null,null,null,null,null,null,null,null,null,null,null,null,null,null,null,null,null,null,null,null,null,null,null,null,null,null,null,null,null,null,null,null,null,null,null,7630,"Taraxacum porrigens",null,null,1784.2,"Salix alba var. caerulea",null,null,"Salicaceae",null,1784.2,"Salix alba var. caerulea_1784.2",null,null,null,null,null,null,null,"Salix alba var. caerulea_1784.2"]
[null,null,null,null,null,null,null,null,null,null,null,null,null,null,null,null,null,null,null,null,null,null,null,null,null,null,null,null,null,null,null,null,null,null,null,null,null,null,null,null,null,null,null,null,null,null,null,null,null,null,null,null,null,null,null,null,null,null,null,7647,"Tradescantia fluminensis",null,null,1791,"Salix daphnoides","Villars","European Violet-willow","Salicaceae",null,1791,"Salix daphnoides_1791",null,null,null,null,null,null,null,"Salix daphnoides_1791"]
[null,null,null,null,null,null,null,null,null,null,null,null,null,null,null,null,null,null,null,null,null,null,null,null,null,null,null,null,null,null,null,null,null,null,null,null,null,null,null,null,null,null,null,null,null,null,null,null,null,null,null,null,null,null,null,null,null,null,null,7649,"Trifolium incarnatum",null,null,7553,"Salix eriocephala","Michaux","Heart-leaved Willow","Salicaceae",null,7553,"Salix eriocephala_7553",null,null,null,null,null,null,null,"Salix eriocephala_7553"]
[null,null,null,null,null,null,null,null,null,null,null,null,null,null,null,null,null,null,null,null,null,null,null,null,null,null,null,null,null,null,null,null,null,null,null,null,null,null,null,null,null,null,null,null,null,null,null,null,null,null,null,null,null,null,null,null,null,null,null,7673,"X Agropogon robinsonii",null,null,4558,"Salix sp.",null,"a sallow","Salicaceae",null,4558,"Salix sp._4558",null,null,null,null,null,null,null,"Salix sp._4558"]
[null,null,null,null,null,null,null,null,null,null,null,null,null,null,null,null,null,null,null,null,null,null,null,null,null,null,null,null,null,null,null,null,null,null,null,null,null,null,null,null,null,null,null,null,null,null,null,null,null,null,null,null,null,null,null,null,null,null,null,7676,"X Pseudanthera breadalbanensis",null,null,1804.1,"Salix triandra var. triandra",null,null,"Salicaceae",null,1804.1,"Salix triandra var. triandra_1804.1",null,null,null,null,null,null,null,"Salix triandra var. triandra_1804.1"]
[null,null,null,null,null,null,null,null,null,null,null,null,null,null,null,null,null,null,null,null,null,null,null,null,null,null,null,null,null,null,null,null,null,null,null,null,null,null,null,null,null,null,null,null,null,null,null,null,null,null,null,null,null,null,null,null,null,null,null,7835,"Rumex dentatus",null,null,2318,"Salix x forbyana","Smith","S. cinerea x purpurea x viminalis","Salicaceae",null,2318,"Salix x forbyana_2318",null,null,null,null,null,null,null,"Salix x forbyana_2318"]
[null,null,null,null,null,null,null,null,null,null,null,null,null,null,null,null,null,null,null,null,null,null,null,null,null,null,null,null,null,null,null,null,null,null,null,null,null,null,null,null,null,null,null,null,null,null,null,null,null,null,null,null,null,null,null,null,null,null,null,7846,"Dysphania x bontei",null,null,2343.4,"Salix x fragilis nothovar. fragilis",null,"S. euxina x alba var. caerulea","Salicaceae",null,2343.4,"Salix x fragilis nothovar. fragilis_2343.4",null,null,null,null,null,null,null,"Salix x fragilis nothovar. fragilis_2343.4"]
[null,null,null,null,null,null,null,null,null,null,null,null,null,null,null,null,null,null,null,null,null,null,null,null,null,null,null,null,null,null,null,null,null,null,null,null,null,null,null,null,null,null,null,null,null,null,null,null,null,null,null,null,null,null,null,null,null,null,null,7881,"Populus x berolinensis",null,null,2332,"Salix x margarita","F.B.White","S. aurita x herbacea","Salicaceae",null,2332,"Salix x margarita_2332",null,null,null,null,null,null,null,"Salix x margarita_2332"]
[null,null,null,null,null,null,null,null,null,null,null,null,null,null,null,null,null,null,null,null,null,null,null,null,null,null,null,null,null,null,null,null,null,null,null,null,null,null,null,null,null,null,null,null,null,null,null,null,null,null,null,null,null,null,null,null,null,null,null,7895,"Salvia x sylvestris",null,null,2336,"Salix x notha","Andersson","S. myrsinites x phylicifolia","Salicaceae",null,2336,"Salix x notha_2336",null,null,null,null,null,null,null,"Salix x notha_2336"]
[null,null,null,null,null,null,null,null,null,null,null,null,null,null,null,null,null,null,null,null,null,null,null,null,null,null,null,null,null,null,null,null,null,null,null,null,null,null,null,null,null,null,null,null,null,null,null,null,null,null,null,null,null,null,null,null,null,null,null,7915,"Lolium multiflorum x rigidum",null,null,2348,"Salix x secerneta","F.B.White","S. phylicifolia x purpurea","Salicaceae",null,2348,"Salix x secerneta_2348",null,null,null,null,null,null,null,"Salix x secerneta_2348"]
[null,null,null,null,null,null,null,null,null,null,null,null,null,null,null,null,null,null,null,null,null,null,null,null,null,null,null,null,null,null,null,null,null,null,null,null,null,null,null,null,null,null,null,null,null,null,null,null,null,null,null,null,null,null,null,null,null,null,null,7936,"Albizia lophantha",null,null,7557,"Salvia glutinosa","Linnaeus","Sticky Clary","Lamiaceae",null,7557,"Salvia glutinosa_7557",null,null,null,null,null,null,null,"Salvia glutinosa_7557"]
[null,null,null,null,null,null,null,null,null,null,null,null,null,null,null,null,null,null,null,null,null,null,null,null,null,null,null,null,null,null,null,null,null,null,null,null,null,null,null,null,null,null,null,null,null,null,null,null,null,null,null,null,null,null,null,null,null,null,null,7943,"Ambrosia trifida",null,null,8203,"Salvia splendens","Ker Gawler","Scarlet Sage","Lamiaceae",null,8203,"Salvia splendens_8203",null,null,null,null,null,null,null,"Salvia splendens_8203"]
[null,null,null,null,null,null,null,null,null,null,null,null,null,null,null,null,null,null,null,null,null,null,null,null,null,null,null,null,null,null,null,null,null,null,null,null,null,null,null,null,null,null,null,null,null,null,null,null,null,null,null,null,null,null,null,null,null,null,null,7959,"Aster dumosus",null,null,7561,"Sanguisorba canadensis","Linnaeus","White Burnet","Rosaceae",null,7561,"Sanguisorba canadensis_7561",null,null,null,null,null,null,null,"Sanguisorba canadensis_7561"]
[null,null,null,null,null,null,null,null,null,null,null,null,null,null,null,null,null,null,null,null,null,null,null,null,null,null,null,null,null,null,null,null,null,null,null,null,null,null,null,null,null,null,null,null,null,null,null,null,null,null,null,null,null,null,null,null,null,null,null,7966,"Atriplex suberecta",null,null,1777,"Sarcocornia perennis","(Miller) A.J.Scott","Perennial Glasswort","Chenopodiaceae","Nationally Scarce",1777,"Sarcocornia perennis_1777",null,null,null,null,null,null,null,"Sarcocornia perennis_1777"]
[null,null,null,null,null,null,null,null,null,null,null,null,null,null,null,null,null,null,null,null,null,null,null,null,null,null,null,null,null,null,null,null,null,null,null,null,null,null,null,null,null,null,null,null,null,null,null,null,null,null,null,null,null,null,null,null,null,null,null,7988,"Carthamus lanatus",null,null,1836,"Saxifraga nivalis","L.","Alpine Saxifrage","Saxifragaceae","Nationally Scarce",1836,"Saxifraga nivalis_1836",null,null,null,null,null,null,null,"Saxifraga nivalis_1836"]
[null,null,null,null,null,null,null,null,null,null,null,null,null,null,null,null,null,null,null,null,null,null,null,null,null,null,null,null,null,null,null,null,null,null,null,null,null,null,null,null,null,null,null,null,null,null,null,null,null,null,null,null,null,null,null,null,null,null,null,8005,"Cistus incanus",null,null,1841,"Saxifraga x urbium","D.Webb","S. spathularis x umbrosa","Saxifragaceae",null,1841,"Saxifraga x urbium_1841",null,null,null,null,null,null,null,"Saxifraga x urbium_1841"]
[null,null,null,null,null,null,null,null,null,null,null,null,null,null,null,null,null,null,null,null,null,null,null,null,null,null,null,null,null,null,null,null,null,null,null,null,null,null,null,null,null,null,null,null,null,null,null,null,null,null,null,null,null,null,null,null,null,null,null,8012,"Clethra arborea",null,null,2897,"Schedonorus x aschersonianus","(Dörfl.) Holub","S. pratensis x arundinaceus","Poaceae",null,2897,"Schedonorus x aschersonianus_2897",null,null,null,null,null,null,null,"Schedonorus x aschersonianus_2897"]
[null,null,null,null,null,null,null,null,null,null,null,null,null,null,null,null,null,null,null,null,null,null,null,null,null,null,null,null,null,null,null,null,null,null,null,null,null,null,null,null,null,null,null,null,null,null,null,null,null,null,null,null,null,null,null,null,null,null,null,8028,"Cyclamen graecum",null,null,1856,"Scilla autumnalis","L.","Autumn Squill","Liliaceae","Nationally Scarce",1856,"Scilla autumnalis_1856",null,null,null,null,null,null,null,"Scilla autumnalis_1856"]
[null,null,null,null,null,null,null,null,null,null,null,null,null,null,null,null,null,null,null,null,null,null,null,null,null,null,null,null,null,null,null,null,null,null,null,null,null,null,null,null,null,null,null,null,null,null,null,null,null,null,null,null,null,null,null,null,null,null,null,8035,"Datura ferox",null,null,"No BRC","Scilla mischtschenkoana","Grossh.","White Squill","Liliaceae",null,"No BRC","Scilla mischtschenkoana_No BRC",null,null,null,null,null,null,null,"Scilla mischtschenkoana_No BRC"]
[null,null,null,null,null,null,null,null,null,null,null,null,null,null,null,null,null,null,null,null,null,null,null,null,null,null,null,null,null,null,null,null,null,null,null,null,null,null,null,null,null,null,null,null,null,null,null,null,null,null,null,null,null,null,null,null,null,null,null,8057,"Erodium botrys",null,null,1129,"Scorzoneroides autumnalis","(L.) Moench","Autumn Hawkbit","Asteraceae",null,1129,"Scorzoneroides autumnalis_1129",null,null,null,null,null,null,null,"Scorzoneroides autumnalis_1129"]
[null,null,null,null,null,null,null,null,null,null,null,null,null,null,null,null,null,null,null,null,null,null,null,null,null,null,null,null,null,null,null,null,null,null,null,null,null,null,null,null,null,null,null,null,null,null,null,null,null,null,null,null,null,null,null,null,null,null,null,8073,"Forsythia suspensa",null,null,4369,"Secale cereale","Linnaeus","Rye","Poaceae",null,4369,"Secale cereale_4369",null,null,null,null,null,null,null,"Secale cereale_4369"]
[null,null,null,null,null,null,null,null,null,null,null,null,null,null,null,null,null,null,null,null,null,null,null,null,null,null,null,null,null,null,null,null,null,null,null,null,null,null,null,null,null,null,null,null,null,null,null,null,null,null,null,null,null,null,null,null,null,null,null,8084,"Heliopsis scabra",null,null,7571,"Sedum confusum","Hemsley","Lesser Mexican-stonecrop","Crassulaceae",null,7571,"Sedum confusum_7571",null,null,null,null,null,null,null,"Sedum confusum_7571"]
[null,null,null,null,null,null,null,null,null,null,null,null,null,null,null,null,null,null,null,null,null,null,null,null,null,null,null,null,null,null,null,null,null,null,null,null,null,null,null,null,null,null,null,null,null,null,null,null,null,null,null,null,null,null,null,null,null,null,null,8102,"Jasminum officinale",null,null,8214,"Sedum spathulifolium","Hook.","Colorado Stonecrop","Crassulaceae",null,8214,"Sedum spathulifolium_8214",null,null,null,null,null,null,null,"Sedum spathulifolium_8214"]
[null,null,null,null,null,null,null,null,null,null,null,null,null,null,null,null,null,null,null,null,null,null,null,null,null,null,null,null,null,null,null,null,null,null,null,null,null,null,null,null,null,null,null,null,null,null,null,null,null,null,null,null,null,null,null,null,null,null,null,8109,"Lathyrus odoratus",null,null,1885.3,"Sedum telephium subsp. maximum","(L.) Krock.",null,"Crassulaceae",null,1885.3,"Sedum telephium subsp. maximum_1885.3",null,null,null,null,null,null,null,"Sedum telephium subsp. maximum_1885.3"]
[null,null,null,null,null,null,null,null,null,null,null,null,null,null,null,null,null,null,null,null,null,null,null,null,null,null,null,null,null,null,null,null,null,null,null,null,null,null,null,null,null,null,null,null,null,null,null,null,null,null,null,null,null,null,null,null,null,null,null,8128,"Tripleurospermum decipiens",null,null,7578,"Senecio grandiflorus","P.Bergius","Purple Ragwort","Asteraceae",null,7578,"Senecio grandiflorus_7578",null,null,null,null,null,null,null,"Senecio grandiflorus_7578"]
[null,null,null,null,null,null,null,null,null,null,null,null,null,null,null,null,null,null,null,null,null,null,null,null,null,null,null,null,null,null,null,null,null,null,null,null,null,null,null,null,null,null,null,null,null,null,null,null,null,null,null,null,null,null,null,null,null,null,null,8133,"Medicago praecox",null,null,"No BRC","Senecio jacobaea var. flosculosus","Lam.",null,"Asteraceae",null,"No BRC","Senecio jacobaea var. flosculosus_No BRC",null,null,null,null,null,null,null,"Senecio jacobaea var. flosculosus_No BRC"]
[null,null,null,null,null,null,null,null,null,null,null,null,null,null,null,null,null,null,null,null,null,null,null,null,null,null,null,null,null,null,null,null,null,null,null,null,null,null,null,null,null,null,null,null,null,null,null,null,null,null,null,null,null,null,null,null,null,null,null,8154,"Olearia solandri",null,null,2612,"Senecio x ostenfeldii","Druce","S. jacobea x aquaticus","Asteraceae",null,2612,"Senecio x ostenfeldii_2612",null,null,null,null,null,null,null,"Senecio x ostenfeldii_2612"]
[null,null,null,null,null,null,null,null,null,null,null,null,null,null,null,null,null,null,null,null,null,null,null,null,null,null,null,null,null,null,null,null,null,null,null,null,null,null,null,null,null,null,null,null,null,null,null,null,null,null,null,null,null,null,null,null,null,null,null,8161,"Pericallis cruenta",null,null,1906,"Serratula tinctoria","Linnaeus","Saw-wort","Asteraceae",null,1906,"Serratula tinctoria_1906",null,null,null,null,null,null,null,"Serratula tinctoria_1906"]
[null,null,null,null,null,null,null,null,null,null,null,null,null,null,null,null,null,null,null,null,null,null,null,null,null,null,null,null,null,null,null,null,null,null,null,null,null,null,null,null,null,null,null,null,null,null,null,null,null,null,null,null,null,null,null,null,null,null,null,8178,"Populus balsamifera",null,null,8219,"Sida rhombifolia","Linnaeus","Queensland-hemp","Malvaceae",null,8219,"Sida rhombifolia_8219",null,null,null,null,null,null,null,"Sida rhombifolia_8219"]
[null,null,null,null,null,null,null,null,null,null,null,null,null,null,null,null,null,null,null,null,null,null,null,null,null,null,null,null,null,null,null,null,null,null,null,null,null,null,null,null,null,null,null,null,null,null,null,null,null,null,null,null,null,null,null,null,null,null,null,8201,"Salvia officinalis",null,null,8223,"Silene cretica","Linnaeus",null,"Caryophyllaceae",null,8223,"Silene cretica_8223",null,null,null,null,null,null,null,"Silene cretica_8223"]
[null,null,null,null,null,null,null,null,null,null,null,null,null,null,null,null,null,null,null,null,null,null,null,null,null,null,null,null,null,null,null,null,null,null,null,null,null,null,null,null,null,null,null,null,null,null,null,null,null,null,null,null,null,null,null,null,null,null,null,8204,"Sanvitalia procumbens",null,null,1259,"Silene dioica","(Linnaeus) Clairv.","Red Campion","Caryophyllaceae",null,1259,"Silene dioica_1259",null,null,null,null,null,null,null,"Silene dioica_1259"]
[null,null,null,null,null,null,null,null,null,null,null,null,null,null,null,null,null,null,null,null,null,null,null,null,null,null,null,null,null,null,null,null,null,null,null,null,null,null,null,null,null,null,null,null,null,null,null,null,null,null,null,null,null,null,null,null,null,null,null,8225,"Sinapis flexuosa",null,null,2221,"Silene suecica","(Lodd.) Greuter & Burdet","Alpine Catchfly","Caryophyllaceae","Vulnerable",2221,"Silene suecica_2221",null,null,null,null,null,null,null,"Silene suecica_2221"]
[null,null,null,null,null,null,null,null,null,null,null,null,null,null,null,null,null,null,null,null,null,null,null,null,null,null,null,null,null,null,null,null,null,null,null,null,null,null,null,null,null,null,null,null,null,null,null,null,null,null,null,null,null,null,null,null,null,null,null,8234,"Spilanthes oleracea",null,null,1260,"Silene x hampeana","Meusel & K.Werner","Pink Campion (S. dioica x latifolia)","Caryophyllaceae",null,1260,{"$f":"CONCATENATE(BM6084,\"_\",BL6084)","v":"Silene x hampeana_1260"},null,null,null,null,null,null,null,"Silene x hampeana_1260"]
[null,null,null,null,null,null,null,null,null,null,null,null,null,null,null,null,null,null,null,null,null,null,null,null,null,null,null,null,null,null,null,null,null,null,null,null,null,null,null,null,null,null,null,null,null,null,null,null,null,null,null,null,null,null,null,null,null,null,null,8251,"Trachyspermum ammi",null,null,1937,"Sisymbrium loeselii","Linnaeus","False London-rocket","Brassicaceae",null,1937,"Sisymbrium loeselii_1937",null,null,null,null,null,null,null,"Sisymbrium loeselii_1937"]
[null,null,null,null,null,null,null,null,null,null,null,null,null,null,null,null,null,null,null,null,null,null,null,null,null,null,null,null,null,null,null,null,null,null,null,null,null,null,null,null,null,null,null,null,null,null,null,null,null,null,null,null,null,null,null,null,null,null,null,8271,"Veronica paniculata",null,null,2538,"Solanum americanum","Mill.","Small-flowered Nightshade","Solanaceae",null,2538,"Solanum americanum_2538",null,null,null,null,null,null,null,"Solanum americanum_2538"]
[null,null,null,null,null,null,null,null,null,null,null,null,null,null,null,null,null,null,null,null,null,null,null,null,null,null,null,null,null,null,null,null,null,null,null,null,null,null,null,null,null,null,null,null,null,null,null,null,null,null,null,null,null,null,null,null,null,null,null,8274,"Vicia narbonensis",null,null,2539,"Solanum chenopodioides","Lam.","Tall Nightshade","Solanaceae",null,2539,"Solanum chenopodioides_2539",null,null,null,null,null,null,null,"Solanum chenopodioides_2539"]
[null,null,null,null,null,null,null,null,null,null,null,null,null,null,null,null,null,null,null,null,null,null,null,null,null,null,null,null,null,null,null,null,null,null,null,null,null,null,null,null,null,null,null,null,null,null,null,null,null,null,null,null,null,null,null,null,null,null,null,8591,"Prunella grandiflora",null,null,1948,"Solanum villosum","Mill.","Red Nightshade","Solanaceae",null,1948,"Solanum villosum_1948",null,null,null,null,null,null,null,"Solanum villosum_1948"]
[null,null,null,null,null,null,null,null,null,null,null,null,null,null,null,null,null,null,null,null,null,null,null,null,null,null,null,null,null,null,null,null,null,null,null,null,null,null,null,null,null,null,null,null,null,null,null,null,null,null,null,null,null,null,null,null,null,null,null,8659,"Rosa palustris",null,null,"No BRC","Solidago canadensis subsp. canadensis",null,"Canadian Goldenrod","Asteraceae",null,"No BRC","Solidago canadensis subsp. canadensis_No BRC",null,null,null,null,null,null,null,"Solidago canadensis subsp. canadensis_No BRC"]
[null,null,null,null,null,null,null,null,null,null,null,null,null,null,null,null,null,null,null,null,null,null,null,null,null,null,null,null,null,null,null,null,null,null,null,null,null,null,null,null,null,null,null,null,null,null,null,null,null,null,null,null,null,null,null,null,null,null,null,9091,"Zauschneria californica ",null,null,2838,"Sonchus asper x oleraceus",null,null,"Asteraceae",null,2838,"Sonchus asper x oleraceus_2838",null,null,null,null,null,null,null,"Sonchus asper x oleraceus_2838"]
[null,null,null,null,null,null,null,null,null,null,null,null,null,null,null,null,null,null,null,null,null,null,null,null,null,null,null,null,null,null,null,null,null,null,null,null,null,null,null,null,null,null,null,null,null,null,null,null,null,null,null,null,null,null,null,null,null,null,null,9190,"Hieracium pseudorigens",null,null,7592,"Sorbaria tomentosa","(Lindley) Rehder","Himalayan Sorbaria","Rosaceae",null,7592,"Sorbaria tomentosa_7592",null,null,null,null,null,null,null,"Sorbaria tomentosa_7592"]
[null,null,null,null,null,null,null,null,null,null,null,null,null,null,null,null,null,null,null,null,null,null,null,null,null,null,null,null,null,null,null,null,null,null,null,null,null,null,null,null,null,null,null,null,null,null,null,null,null,null,null,null,null,null,null,null,null,null,null,"C101.3","Chara aspera var. aspera",null,null,1965,"Sorbus hibernica","E.F. Warb.","Irish Whitebeam","Rosaceae",null,1965,"Sorbus hibernica_1965",null,null,null,null,null,null,null,"Sorbus hibernica_1965"]
[null,null,null,null,null,null,null,null,null,null,null,null,null,null,null,null,null,null,null,null,null,null,null,null,null,null,null,null,null,null,null,null,null,null,null,null,null,null,null,null,null,null,null,null,null,null,null,null,null,null,null,null,null,null,null,null,null,null,null,"C108","Chara hispida var. hispida or var. major",null,null,1973,"Sorbus pseudofennica","E.Warb.","Arran Service-tree","Rosaceae","Vulnerable",1973,"Sorbus pseudofennica_1973",null,null,null,null,null,null,null,"Sorbus pseudofennica_1973"]
[null,null,null,null,null,null,null,null,null,null,null,null,null,null,null,null,null,null,null,null,null,null,null,null,null,null,null,null,null,null,null,null,null,null,null,null,null,null,null,null,null,null,null,null,null,null,null,null,null,null,null,null,null,null,null,null,null,null,null,"C109","Chara muscosa",null,null,"No BRC","Sorbus stenophylla","M. Proctor","Llanthony Whitebeam","Rosaceae",null,"No BRC","Sorbus stenophylla_No BRC",null,null,null,null,null,null,null,"Sorbus stenophylla_No BRC"]
[null,null,null,null,null,null,null,null,null,null,null,null,null,null,null,null,null,null,null,null,null,null,null,null,null,null,null,null,null,null,null,null,null,null,null,null,null,null,null,null,null,null,null,null,null,null,null,null,null,null,null,null,null,null,null,null,null,null,null,"C112.9","Chara vulgaris var. refracta",null,null,3299,"Sorghum bicolor","(Linnaeus) Moench","Great Millet","Poaceae",null,3299,"Sorghum bicolor_3299",null,null,null,null,null,null,null,"Sorghum bicolor_3299"]
[null,null,null,null,null,null,null,null,null,null,null,null,null,null,null,null,null,null,null,null,null,null,null,null,null,null,null,null,null,null,null,null,null,null,null,null,null,null,null,null,null,null,null,null,null,null,null,null,null,null,null,null,null,null,null,null,null,null,null,"C302.2","Nitella flexilis var. crassa",null,null,1981.3,"Sparganium erectum subsp. microcarpum","(Neuman) Domin","Branched Bur-reed","Sparganiaceae",null,1981.3,"Sparganium erectum subsp. microcarpum_1981.3",null,null,null,null,null,null,null,"Sparganium erectum subsp. microcarpum_1981.3"]
[null,null,null,null,null,null,null,null,null,null,null,null,null,null,null,null,null,null,null,null,null,null,null,null,null,null,null,null,null,null,null,null,null,null,null,null,null,null,null,null,null,null,null,null,null,null,null,null,null,null,null,null,null,null,null,null,null,null,null,"C502.1","Tolypella nidifica var. glomerata",null,null,1990,"Spergularia marina","(L.) Griseb.","Lesser Sea-spurrey","Caryophyllaceae",null,1990,"Spergularia marina_1990",null,null,null,null,null,null,null,"Spergularia marina_1990"]
[null,null,null,null,null,null,null,null,null,null,null,null,null,null,null,null,null,null,null,null,null,null,null,null,null,null,null,null,null,null,null,null,null,null,null,null,null,null,null,null,null,null,null,null,null,null,null,null,null,null,null,null,null,null,null,null,null,null,null,"No BRC","Agastache rugosa",null,null,2659,"Spiraea salicifolia","Linnaeus","Bridewort","Rosaceae",null,2659,"Spiraea salicifolia_2659",null,null,null,null,null,null,null,"Spiraea salicifolia_2659"]
[null,null,null,null,null,null,null,null,null,null,null,null,null,null,null,null,null,null,null,null,null,null,null,null,null,null,null,null,null,null,null,null,null,null,null,null,null,null,null,null,null,null,null,null,null,null,null,null,null,null,null,null,null,null,null,null,null,null,null,"No BRC","Alnus hirsuta",null,null,2662,"Spiraea x rosalba","Dippel","Intermediate Bridewort","Rosaceae",null,2662,"Spiraea x rosalba_2662",null,null,null,null,null,null,null,"Spiraea x rosalba_2662"]
[null,null,null,null,null,null,null,null,null,null,null,null,null,null,null,null,null,null,null,null,null,null,null,null,null,null,null,null,null,null,null,null,null,null,null,null,null,null,null,null,null,null,null,null,null,null,null,null,null,null,null,null,null,null,null,null,null,null,null,"No BRC","Atriplex sp.",null,null,2006,"Staphylea pinnata","Linnaeus","Bladdernut","Staphyleaceae",null,2006,"Staphylea pinnata_2006",null,null,null,null,null,null,null,"Staphylea pinnata_2006"]
[null,null,null,null,null,null,null,null,null,null,null,null,null,null,null,null,null,null,null,null,null,null,null,null,null,null,null,null,null,null,null,null,null,null,null,null,null,null,null,null,null,null,null,null,null,null,null,null,null,null,null,null,null,null,null,null,null,null,null,"No BRC","Ballota acetabulosa",null,null,2010,"Stellaria holostea","Linnaeus","Greater Stitchwort","Caryophyllaceae",null,2010,"Stellaria holostea_2010",null,null,null,null,null,null,null,"Stellaria holostea_2010"]
[null,null,null,null,null,null,null,null,null,null,null,null,null,null,null,null,null,null,null,null,null,null,null,null,null,null,null,null,null,null,null,null,null,null,null,null,null,null,null,null,null,null,null,null,null,null,null,null,null,null,null,null,null,null,null,null,null,null,null,"No BRC","Callitriche sp.",null,null,2022,"Symphoricarpos albus","(Linnaeus) S.F.Blake","Snowberry","Caprifoliaceae",null,2022,"Symphoricarpos albus_2022",null,null,null,null,null,null,null,"Symphoricarpos albus_2022"]
[null,null,null,null,null,null,null,null,null,null,null,null,null,null,null,null,null,null,null,null,null,null,null,null,null,null,null,null,null,null,null,null,null,null,null,null,null,null,null,null,null,null,null,null,null,null,null,null,null,null,null,null,null,null,null,null,null,null,null,"No BRC","Carex x gogeliana",null,null,2028,"Symphytum tuberosum","Linnaeus","Tuberous Comfrey","Boraginaceae",null,2028,"Symphytum tuberosum_2028",null,null,null,null,null,null,null,"Symphytum tuberosum_2028"]
[null,null,null,null,null,null,null,null,null,null,null,null,null,null,null,null,null,null,null,null,null,null,null,null,null,null,null,null,null,null,null,null,null,null,null,null,null,null,null,null,null,null,null,null,null,null,null,null,null,null,null,null,null,null,null,null,null,null,null,"No BRC","Centaurea cineraria",null,null,8242,"Tagetes minuta","Linnaeus","Southern Marigold","Asteraceae",null,8242,"Tagetes minuta_8242",null,null,null,null,null,null,null,"Tagetes minuta_8242"]
[null,null,null,null,null,null,null,null,null,null,null,null,null,null,null,null,null,null,null,null,null,null,null,null,null,null,null,null,null,null,null,null,null,null,null,null,null,null,null,null,null,null,null,null,null,null,null,null,null,null,null,null,null,null,null,null,null,null,null,"No BRC","Centaurea nigra subsp. rivularis",null,null,503,"Tanacetum parthenium","(Linnaeus) Schultz-Bip.","Feverfew","Asteraceae",null,503,"Tanacetum parthenium_503",null,null,null,null,null,null,null,"Tanacetum parthenium_503"]
[null,null,null,null,null,null,null,null,null,null,null,null,null,null,null,null,null,null,null,null,null,null,null,null,null,null,null,null,null,null,null,null,null,null,null,null,null,null,null,null,null,null,null,null,null,null,null,null,null,null,null,null,null,null,null,null,null,null,null,"No BRC","Cornus sanguinea subsp. australis",null,null,7612,"Taraxacum amplum","Markl.",null,"Taraxacum microspecies",null,7612,"Taraxacum amplum_7612",null,null,null,null,null,null,null,"Taraxacum amplum_7612"]
[null,null,null,null,null,null,null,null,null,null,null,null,null,null,null,null,null,null,null,null,null,null,null,null,null,null,null,null,null,null,null,null,null,null,null,null,null,null,null,null,null,null,null,null,null,null,null,null,null,null,null,null,null,null,null,null,null,null,null,"No BRC","Crambe hispanica",null,null,3946,"Taraxacum cambricum","A.Richards",null,"Taraxacum microspecies",null,3946,"Taraxacum cambricum_3946",null,null,null,null,null,null,null,"Taraxacum cambricum_3946"]
[null,null,null,null,null,null,null,null,null,null,null,null,null,null,null,null,null,null,null,null,null,null,null,null,null,null,null,null,null,null,null,null,null,null,null,null,null,null,null,null,null,null,null,null,null,null,null,null,null,null,null,null,null,null,null,null,null,null,null,"No BRC","Crataegus rhipidophylla",null,null,3948,"Taraxacum celticum","A.Richards",null,"Taraxacum microspecies",null,3948,"Taraxacum celticum_3948",null,null,null,null,null,null,null,"Taraxacum celticum_3948"]
[null,null,null,null,null,null,null,null,null,null,null,null,null,null,null,null,null,null,null,null,null,null,null,null,null,null,null,null,null,null,null,null,null,null,null,null,null,null,null,null,null,null,null,null,null,null,null,null,null,null,null,null,null,null,null,null,null,null,null,"No BRC","Diascia sp.",null,null,3956,"Taraxacum densilobum","Dahlst.",null,"Taraxacum microspecies",null,3956,"Taraxacum densilobum_3956",null,null,null,null,null,null,null,"Taraxacum densilobum_3956"]
[null,null,null,null,null,null,null,null,null,null,null,null,null,null,null,null,null,null,null,null,null,null,null,null,null,null,null,null,null,null,null,null,null,null,null,null,null,null,null,null,null,null,null,null,null,null,null,null,null,null,null,null,null,null,null,null,null,null,null,"No BRC","Dryopteris oreades x borreri",null,null,3840,"Taraxacum dunense","Soest.",null,"Taraxacum microspecies",null,3840,"Taraxacum dunense_3840",null,null,null,null,null,null,null,"Taraxacum dunense_3840"]
[null,null,null,null,null,null,null,null,null,null,null,null,null,null,null,null,null,null,null,null,null,null,null,null,null,null,null,null,null,null,null,null,null,null,null,null,null,null,null,null,null,null,null,null,null,null,null,null,null,null,null,null,null,null,null,null,null,null,null,"No BRC","Epilobium x montaniforme",null,null,3851,"Taraxacum fulviforme","Dahlst.",null,"Taraxacum microspecies",null,3851,"Taraxacum fulviforme_3851",null,null,null,null,null,null,null,"Taraxacum fulviforme_3851"]
[null,null,null,null,null,null,null,null,null,null,null,null,null,null,null,null,null,null,null,null,null,null,null,null,null,null,null,null,null,null,null,null,null,null,null,null,null,null,null,null,null,null,null,null,null,null,null,null,null,null,null,null,null,null,null,null,null,null,null,"No BRC","Eupatorium purpureum",null,null,3862,"Taraxacum hygrophilum","Soest",null,"Taraxacum microspecies","Vulnerable",3862,"Taraxacum hygrophilum_3862",null,null,null,null,null,null,null,"Taraxacum hygrophilum_3862"]
[null,null,null,null,null,null,null,null,null,null,null,null,null,null,null,null,null,null,null,null,null,null,null,null,null,null,null,null,null,null,null,null,null,null,null,null,null,null,null,null,null,null,null,null,null,null,null,null,null,null,null,null,null,null,null,null,null,null,null,"No BRC","Euphrasia arctica x ostenfeldii",null,null,3971,"Taraxacum intumescens","Hagl.",null,"Taraxacum microspecies",null,3971,"Taraxacum intumescens_3971",null,null,null,null,null,null,null,"Taraxacum intumescens_3971"]
[null,null,null,null,null,null,null,null,null,null,null,null,null,null,null,null,null,null,null,null,null,null,null,null,null,null,null,null,null,null,null,null,null,null,null,null,null,null,null,null,null,null,null,null,null,null,null,null,null,null,null,null,null,null,null,null,null,null,null,"No BRC","Festuca sp.",null,null,3979,"Taraxacum leptaleum","M.Christiansen",null,"Taraxacum microspecies",null,3979,"Taraxacum leptaleum_3979",null,null,null,null,null,null,null,"Taraxacum leptaleum_3979"]
[null,null,null,null,null,null,null,null,null,null,null,null,null,null,null,null,null,null,null,null,null,null,null,null,null,null,null,null,null,null,null,null,null,null,null,null,null,null,null,null,null,null,null,null,null,null,null,null,null,null,null,null,null,null,null,null,null,null,null,"No BRC","Galium mollugo subsp. mollugo",null,null,3877,"Taraxacum litorale",null,null,"Taraxacum microspecies",null,3877,"Taraxacum litorale_3877",null,null,null,null,null,null,null,"Taraxacum litorale_3877"]
[null,null,null,null,null,null,null,null,null,null,null,null,null,null,null,null,null,null,null,null,null,null,null,null,null,null,null,null,null,null,null,null,null,null,null,null,null,null,null,null,null,null,null,null,null,null,null,null,null,null,null,null,null,null,null,null,null,null,null,"No BRC","Helianthemum canum",null,null,3884,"Taraxacum naevosiforme","Dahlst.",null,"Taraxacum microspecies",null,3884,"Taraxacum naevosiforme_3884",null,null,null,null,null,null,null,"Taraxacum naevosiforme_3884"]
[null,null,null,null,null,null,null,null,null,null,null,null,null,null,null,null,null,null,null,null,null,null,null,null,null,null,null,null,null,null,null,null,null,null,null,null,null,null,null,null,null,null,null,null,null,null,null,null,null,null,null,null,null,null,null,null,null,null,null,"No BRC","Hieracium apiculatidens",null,null,3894,"Taraxacum pallescens","Dahlst.",null,"Taraxacum microspecies",null,3894,"Taraxacum pallescens_3894",null,null,null,null,null,null,null,"Taraxacum pallescens_3894"]
[null,null,null,null,null,null,null,null,null,null,null,null,null,null,null,null,null,null,null,null,null,null,null,null,null,null,null,null,null,null,null,null,null,null,null,null,null,null,null,null,null,null,null,null,null,null,null,null,null,null,null,null,null,null,null,null,null,null,null,"No BRC","Hieracium armadalense",null,null,3898,"Taraxacum pectinatiforme","Lindb.f.",null,"Taraxacum microspecies",null,3898,"Taraxacum pectinatiforme_3898",null,null,null,null,null,null,null,"Taraxacum pectinatiforme_3898"]
[null,null,null,null,null,null,null,null,null,null,null,null,null,null,null,null,null,null,null,null,null,null,null,null,null,null,null,null,null,null,null,null,null,null,null,null,null,null,null,null,null,null,null,null,null,null,null,null,null,null,null,null,null,null,null,null,null,null,null,"No BRC","Hieracium britannicoides",null,null,4002,"Taraxacum pseudohamatum","Dahlst.",null,"Taraxacum microspecies",null,4002,"Taraxacum pseudohamatum_4002",null,null,null,null,null,null,null,"Taraxacum pseudohamatum_4002"]
[null,null,null,null,null,null,null,null,null,null,null,null,null,null,null,null,null,null,null,null,null,null,null,null,null,null,null,null,null,null,null,null,null,null,null,null,null,null,null,null,null,null,null,null,null,null,null,null,null,null,null,null,null,null,null,null,null,null,null,"No BRC","Hieracium cerinthiforme",null,null,3911,"Taraxacum pycnostictum","M.Christiansen",null,"Taraxacum microspecies",null,3911,"Taraxacum pycnostictum_3911",null,null,null,null,null,null,null,"Taraxacum pycnostictum_3911"]
[null,null,null,null,null,null,null,null,null,null,null,null,null,null,null,null,null,null,null,null,null,null,null,null,null,null,null,null,null,null,null,null,null,null,null,null,null,null,null,null,null,null,null,null,null,null,null,null,null,null,null,null,null,null,null,null,null,null,null,"No BRC","Hieracium dumosum",null,null,7636,"Taraxacum semiglobosum","Lindb.f.",null,"Taraxacum microspecies",null,7636,"Taraxacum semiglobosum_7636",null,null,null,null,null,null,null,"Taraxacum semiglobosum_7636"]
[null,null,null,null,null,null,null,null,null,null,null,null,null,null,null,null,null,null,null,null,null,null,null,null,null,null,null,null,null,null,null,null,null,null,null,null,null,null,null,null,null,null,null,null,null,null,null,null,null,null,null,null,null,null,null,null,null,null,null,"No BRC","Hieracium elevatum",null,null,4015,"Taraxacum sinuatum","Dahlst.",null,"Taraxacum microspecies",null,4015,"Taraxacum sinuatum_4015",null,null,null,null,null,null,null,"Taraxacum sinuatum_4015"]
[null,null,null,null,null,null,null,null,null,null,null,null,null,null,null,null,null,null,null,null,null,null,null,null,null,null,null,null,null,null,null,null,null,null,null,null,null,null,null,null,null,null,null,null,null,null,null,null,null,null,null,null,null,null,null,null,null,null,null,"No BRC","Hieracium hesperium",null,null,3927,"Taraxacum subundulatum","Dahlst.",null,"Taraxacum microspecies",null,3927,{"$f":"CONCATENATE(BM6596,\"_\",BL6596)","v":"Taraxacum subundulatum_3927"},null,null,null,null,null,null,null,"Taraxacum subundulatum_3927"]
[null,null,null,null,null,null,null,null,null,null,null,null,null,null,null,null,null,null,null,null,null,null,null,null,null,null,null,null,null,null,null,null,null,null,null,null,null,null,null,null,null,null,null,null,null,null,null,null,null,null,null,null,null,null,null,null,null,null,null,"No BRC","Hieracium lagganense",null,null,4035,"Taraxacum webbii","A.Richards",null,"Taraxacum microspecies",null,4035,"Taraxacum webbii_4035",null,null,null,null,null,null,null,"Taraxacum webbii_4035"]
[null,null,null,null,null,null,null,null,null,null,null,null,null,null,null,null,null,null,null,null,null,null,null,null,null,null,null,null,null,null,null,null,null,null,null,null,null,null,null,null,null,null,null,null,null,null,null,null,null,null,null,null,null,null,null,null,null,null,null,"No BRC","Hieracium leptodon",null,null,2039.3,"Taxus baccata f. fasciculata",null,"Irish Yew","Taxaceae",null,2039.3,"Taxus baccata f. fasciculata_2039.3",null,null,null,null,null,null,null,"Taxus baccata f. fasciculata_2039.3"]
[null,null,null,null,null,null,null,null,null,null,null,null,null,null,null,null,null,null,null,null,null,null,null,null,null,null,null,null,null,null,null,null,null,null,null,null,null,null,null,null,null,null,null,null,null,null,null,null,null,null,null,null,null,null,null,null,null,null,null,"No BRC","Hieracium nitidum",null,null,7642,"Thalictrum delavayi","Franchet","Chinese Meadow-rue","Ranunculaceae",null,7642,"Thalictrum delavayi_7642",null,null,null,null,null,null,null,"Thalictrum delavayi_7642"]
[null,null,null,null,null,null,null,null,null,null,null,null,null,null,null,null,null,null,null,null,null,null,null,null,null,null,null,null,null,null,null,null,null,null,null,null,null,null,null,null,null,null,null,null,null,null,null,null,null,null,null,null,null,null,null,null,null,null,null,"No BRC","Hieracium onychodontum",null,null,2049,"Thalictrum minus","Linnaeus","Lesser Meadow-rue","Ranunculaceae",null,2049,"Thalictrum minus_2049",null,null,null,null,null,null,null,"Thalictrum minus_2049"]
[null,null,null,null,null,null,null,null,null,null,null,null,null,null,null,null,null,null,null,null,null,null,null,null,null,null,null,null,null,null,null,null,null,null,null,null,null,null,null,null,null,null,null,null,null,null,null,null,null,null,null,null,null,null,null,null,null,null,null,"No BRC","Hieracium reayense",null,null,"No BRC","Tilia americana","L.","American Lime","Tiliaceae",null,"No BRC","Tilia americana_No BRC",null,null,null,null,null,null,null,"Tilia americana_No BRC"]
[null,null,null,null,null,null,null,null,null,null,null,null,null,null,null,null,null,null,null,null,null,null,null,null,null,null,null,null,null,null,null,null,null,null,null,null,null,null,null,null,null,null,null,null,null,null,null,null,null,null,null,null,null,null,null,null,null,null,null,"No BRC","Hieracium Section Alpestria",null,null,2067,"Tordylium maximum","L.","Hartwort","Apiaceae",null,2067,"Tordylium maximum_2067",null,null,null,null,null,null,null,"Tordylium maximum_2067"]
[null,null,null,null,null,null,null,null,null,null,null,null,null,null,null,null,null,null,null,null,null,null,null,null,null,null,null,null,null,null,null,null,null,null,null,null,null,null,null,null,null,null,null,null,null,null,null,null,null,null,null,null,null,null,null,null,null,null,null,"No BRC","Hieracium Section Hieracium",null,null,2071,"Trachystemon orientalis","(Linnaeus) Don","Abraham-Isaac-Jacob","Boraginaceae",null,2071,"Trachystemon orientalis_2071",null,null,null,null,null,null,null,"Trachystemon orientalis_2071"]
[null,null,null,null,null,null,null,null,null,null,null,null,null,null,null,null,null,null,null,null,null,null,null,null,null,null,null,null,null,null,null,null,null,null,null,null,null,null,null,null,null,null,null,null,null,null,null,null,null,null,null,null,null,null,null,null,null,null,null,"No BRC","Hieracium subbritannicum",null,null,1858,"Trichophorum germanicum agg.",null,"Deergrass","Cyperaceae",null,1858,"Trichophorum germanicum agg._1858",null,null,null,null,null,null,null,"Trichophorum germanicum agg._1858"]
[null,null,null,null,null,null,null,null,null,null,null,null,null,null,null,null,null,null,null,null,null,null,null,null,null,null,null,null,null,null,null,null,null,null,null,null,null,null,null,null,null,null,null,null,null,null,null,null,null,null,null,null,null,null,null,null,null,null,null,"No BRC","Hieracium sublasiophyllum",null,null,2076,"Trientalis europaea","L.","Chickweed-wintergreen","Primulaceae",null,2076,"Trientalis europaea_2076",null,null,null,null,null,null,null,"Trientalis europaea_2076"]
[null,null,null,null,null,null,null,null,null,null,null,null,null,null,null,null,null,null,null,null,null,null,null,null,null,null,null,null,null,null,null,null,null,null,null,null,null,null,null,null,null,null,null,null,null,null,null,null,null,null,null,null,null,null,null,null,null,null,null,"No BRC","Hieracium umbellatum subsp. umbellatum var. coronopifolium",null,null,2086,"Trifolium incarnatum subsp. incarnatum",null,"Crimson Clover","Fabaceae",null,2086,"Trifolium incarnatum subsp. incarnatum_2086",null,null,null,null,null,null,null,"Trifolium incarnatum subsp. incarnatum_2086"]
[null,null,null,null,null,null,null,null,null,null,null,null,null,null,null,null,null,null,null,null,null,null,null,null,null,null,null,null,null,null,null,null,null,null,null,null,null,null,null,null,null,null,null,null,null,null,null,null,null,null,null,null,null,null,null,null,null,null,null,"No BRC","Hieracium vinifolium",null,null,2103,"Trifolium ornithopodioides","L.","Bird's-foot Clover","Fabaceae",null,2103,"Trifolium ornithopodioides_2103",null,null,null,null,null,null,null,"Trifolium ornithopodioides_2103"]
[null,null,null,null,null,null,null,null,null,null,null,null,null,null,null,null,null,null,null,null,null,null,null,null,null,null,null,null,null,null,null,null,null,null,null,null,null,null,null,null,null,null,null,null,null,null,null,null,null,null,null,null,null,null,null,null,null,null,null,"No BRC","Isoetes sp.",null,null,2099.1,"Trifolium subterraneum var. subterraneum",null,null,"Fabaceae",null,2099.1,"Trifolium subterraneum var. subterraneum_2099.1",null,null,null,null,null,null,null,"Trifolium subterraneum var. subterraneum_2099.1"]
[null,null,null,null,null,null,null,null,null,null,null,null,null,null,null,null,null,null,null,null,null,null,null,null,null,null,null,null,null,null,null,null,null,null,null,null,null,null,null,null,null,null,null,null,null,null,null,null,null,null,null,null,null,null,null,null,null,null,null,"No BRC","Knautia macedonica",null,null,8265,"Trigonella foenum-graecum","Linnaeus","Fenugreek","Fabaceae",null,8265,"Trigonella foenum-graecum_8265",null,null,null,null,null,null,null,"Trigonella foenum-graecum_8265"]
[null,null,null,null,null,null,null,null,null,null,null,null,null,null,null,null,null,null,null,null,null,null,null,null,null,null,null,null,null,null,null,null,null,null,null,null,null,null,null,null,null,null,null,null,null,null,null,null,null,null,null,null,null,null,null,null,null,null,null,"No BRC","Ligustrum x vicaryi",null,null,4393,"Tristagma uniflorum","(Lindley) Traub.","Spring Starflower","Liliaceae",null,4393,"Tristagma uniflorum_4393",null,null,null,null,null,null,null,"Tristagma uniflorum_4393"]
[null,null,null,null,null,null,null,null,null,null,null,null,null,null,null,null,null,null,null,null,null,null,null,null,null,null,null,null,null,null,null,null,null,null,null,null,null,null,null,null,null,null,null,null,null,null,null,null,null,null,null,null,null,null,null,null,null,null,null,"No BRC","Medicago littoralis",null,null,2108,"Turritis glabra","L.","Tower Mustard","Brassicaceae","Endangered",2108,"Turritis glabra_2108",null,null,null,null,null,null,null,"Turritis glabra_2108"]
[null,null,null,null,null,null,null,null,null,null,null,null,null,null,null,null,null,null,null,null,null,null,null,null,null,null,null,null,null,null,null,null,null,null,null,null,null,null,null,null,null,null,null,null,null,null,null,null,null,null,null,null,null,null,null,null,null,null,null,"No BRC","Morus alba",null,null,2113,"Ulex gallii","Planchon","Western Gorse","Fabaceae",null,2113,"Ulex gallii_2113",null,null,null,null,null,null,null,"Ulex gallii_2113"]
[null,null,null,null,null,null,null,null,null,null,null,null,null,null,null,null,null,null,null,null,null,null,null,null,null,null,null,null,null,null,null,null,null,null,null,null,null,null,null,null,null,null,null,null,null,null,null,null,null,null,null,null,null,null,null,null,null,null,null,"No BRC","Narcissus 'Dutch Master'",null,null,2121,"Ulmus plotii","Druce","Plot's Elm","Ulmaceae",null,2121,"Ulmus plotii_2121",null,null,null,null,null,null,null,"Ulmus plotii_2121"]
[null,null,null,null,null,null,null,null,null,null,null,null,null,null,null,null,null,null,null,null,null,null,null,null,null,null,null,null,null,null,null,null,null,null,null,null,null,null,null,null,null,null,null,null,null,null,null,null,null,null,null,null,null,null,null,null,null,null,null,"No BRC","Narcissus 'Grand Soleil d'Or'",null,null,2120,"Ulmus x hollandica","Miller","Dutch Elm (U. glabra x minor x plotii)","Ulmaceae",null,2120,"Ulmus x hollandica_2120",null,null,null,null,null,null,null,"Ulmus x hollandica_2120"]
[null,null,null,null,null,null,null,null,null,null,null,null,null,null,null,null,null,null,null,null,null,null,null,null,null,null,null,null,null,null,null,null,null,null,null,null,null,null,null,null,null,null,null,null,null,null,null,null,null,null,null,null,null,null,null,null,null,null,null,"No BRC","Narcissus 'Minnow'",null,null,2131,"Utricularia australis","R.Br.","Bladderwort","Lentibulariaceae",null,2131,"Utricularia australis_2131",null,null,null,null,null,null,null,"Utricularia australis_2131"]
[null,null,null,null,null,null,null,null,null,null,null,null,null,null,null,null,null,null,null,null,null,null,null,null,null,null,null,null,null,null,null,null,null,null,null,null,null,null,null,null,null,null,null,null,null,null,null,null,null,null,null,null,null,null,null,null,null,null,null,"No BRC","Narcissus 'Sundial'",null,null,2140,"Valeriana officinalis","Linnaeus","Common Valerian","Valerianaceae",null,2140,"Valeriana officinalis_2140",null,null,null,null,null,null,null,"Valeriana officinalis_2140"]
[null,null,null,null,null,null,null,null,null,null,null,null,null,null,null,null,null,null,null,null,null,null,null,null,null,null,null,null,null,null,null,null,null,null,null,null,null,null,null,null,null,null,null,null,null,null,null,null,null,null,null,null,null,null,null,null,null,null,null,"No BRC","Narcissus 'Vulcan'",null,null,2143,"Valerianella dentata","(L.) Pollich","Narrow-fruited Cornsalad","Valerianaceae","Endangered",2143,"Valerianella dentata_2143",null,null,null,null,null,null,null,"Valerianella dentata_2143"]
[null,null,null,null,null,null,null,null,null,null,null,null,null,null,null,null,null,null,null,null,null,null,null,null,null,null,null,null,null,null,null,null,null,null,null,null,null,null,null,null,null,null,null,null,null,null,null,null,null,null,null,null,null,null,null,null,null,null,null,"No BRC","Ornithogalum arabicum",null,null,2149,"Verbascum lychnitis","L.","White Mullein","Scrophulariaceae","Nationally Scarce",2149,"Verbascum lychnitis_2149",null,null,null,null,null,null,null,"Verbascum lychnitis_2149"]
[null,null,null,null,null,null,null,null,null,null,null,null,null,null,null,null,null,null,null,null,null,null,null,null,null,null,null,null,null,null,null,null,null,null,null,null,null,null,null,null,null,null,null,null,null,null,null,null,null,null,null,null,null,null,null,null,null,null,null,"No BRC","Ozothamnus antennaria",null,null,2152,"Verbascum phoeniceum","Linnaeus","Purple Mullein","Scrophulariaceae",null,2152,"Verbascum phoeniceum_2152",null,null,null,null,null,null,null,"Verbascum phoeniceum_2152"]
[null,null,null,null,null,null,null,null,null,null,null,null,null,null,null,null,null,null,null,null,null,null,null,null,null,null,null,null,null,null,null,null,null,null,null,null,null,null,null,null,null,null,null,null,null,null,null,null,null,null,null,null,null,null,null,null,null,null,null,"No BRC","Picris hieracioides subsp. hieracioides",null,null,2810,"Verbascum x thapsi","Linnaeus","V. lychnitis x thapsus","Scrophulariaceae",null,2810,"Verbascum x thapsi_2810",null,null,null,null,null,null,null,"Verbascum x thapsi_2810"]
[null,null,null,null,null,null,null,null,null,null,null,null,null,null,null,null,null,null,null,null,null,null,null,null,null,null,null,null,null,null,null,null,null,null,null,null,null,null,null,null,null,null,null,null,null,null,null,null,null,null,null,null,null,null,null,null,null,null,null,"No BRC","Polystichum tsus-simense",null,null,2167,"Veronica catenata","Pennell","Pink Water-speedwell","Scrophulariaceae",null,2167,"Veronica catenata_2167",null,null,null,null,null,null,null,"Veronica catenata_2167"]
[null,null,null,null,null,null,null,null,null,null,null,null,null,null,null,null,null,null,null,null,null,null,null,null,null,null,null,null,null,null,null,null,null,null,null,null,null,null,null,null,null,null,null,null,null,null,null,null,null,null,null,null,null,null,null,null,null,null,null,"No BRC","Primula juliae",null,null,4079,"Veronica gentianoides","J. Vahl","Gentian Speedwell","Scrophulariaceae",null,4079,"Veronica gentianoides_4079",null,null,null,null,null,null,null,"Veronica gentianoides_4079"]
[null,null,null,null,null,null,null,null,null,null,null,null,null,null,null,null,null,null,null,null,null,null,null,null,null,null,null,null,null,null,null,null,null,null,null,null,null,null,null,null,null,null,null,null,null,null,null,null,null,null,null,null,null,null,null,null,null,null,null,"No BRC","Rhus copallina",null,null,2179.1999999999998,"Veronica scutellata var. scutellata",null,null,"Scrophulariaceae",null,2179.1999999999998,"Veronica scutellata var. scutellata_2179.2",null,null,null,null,null,null,null,"Veronica scutellata var. scutellata_2179.2"]
[null,null,null,null,null,null,null,null,null,null,null,null,null,null,null,null,null,null,null,null,null,null,null,null,null,null,null,null,null,null,null,null,null,null,null,null,null,null,null,null,null,null,null,null,null,null,null,null,null,null,null,null,null,null,null,null,null,null,null,"No BRC","Rosa glauca",null,null,2181.1999999999998,"Veronica spicata subsp. spicata",null,null,"Scrophulariaceae","Rare",2181.1999999999998,"Veronica spicata subsp. spicata_2181.2",null,null,null,null,null,null,null,"Veronica spicata subsp. spicata_2181.2"]
[null,null,null,null,null,null,null,null,null,null,null,null,null,null,null,null,null,null,null,null,null,null,null,null,null,null,null,null,null,null,null,null,null,null,null,null,null,null,null,null,null,null,null,null,null,null,null,null,null,null,null,null,null,null,null,null,null,null,null,"No BRC","Rubus pergratus",null,null,2188,"Vicia cassubica","L.","Danzig Vetch","Fabaceae",null,2188,"Vicia cassubica_2188",null,null,null,null,null,null,null,"Vicia cassubica_2188"]
[null,null,null,null,null,null,null,null,null,null,null,null,null,null,null,null,null,null,null,null,null,null,null,null,null,null,null,null,null,null,null,null,null,null,null,null,null,null,null,null,null,null,null,null,null,null,null,null,null,null,null,null,null,null,null,null,null,null,null,"No BRC","Rubus Section Corylifolii",null,null,2191,"Vicia hirsuta","(Linnaeus) Gray","Hairy Tare","Fabaceae",null,2191,"Vicia hirsuta_2191",null,null,null,null,null,null,null,"Vicia hirsuta_2191"]
[null,null,null,null,null,null,null,null,null,null,null,null,null,null,null,null,null,null,null,null,null,null,null,null,null,null,null,null,null,null,null,null,null,null,null,null,null,null,null,null,null,null,null,null,null,null,null,null,null,null,null,null,null,null,null,null,null,null,null,"No BRC","Rubus villosior",null,null,2197,"Vicia sativa subsp. sativa",null,"Common Vetch","Fabaceae",null,2197,"Vicia sativa subsp. sativa_2197",null,null,null,null,null,null,null,"Vicia sativa subsp. sativa_2197"]
[null,null,null,null,null,null,null,null,null,null,null,null,null,null,null,null,null,null,null,null,null,null,null,null,null,null,null,null,null,null,null,null,null,null,null,null,null,null,null,null,null,null,null,null,null,null,null,null,null,null,null,null,null,null,null,null,null,null,null,"No BRC","Salix lapponum x myrsinites x herbacea",null,null,2204.1,"Vinca major var. major",null,"Greater Periwinkle","Apocynaceae",null,2204.1,"Vinca major var. major_2204.1",null,null,null,null,null,null,null,"Vinca major var. major_2204.1"]
[null,null,null,null,null,null,null,null,null,null,null,null,null,null,null,null,null,null,null,null,null,null,null,null,null,null,null,null,null,null,null,null,null,null,null,null,null,null,null,null,null,null,null,null,null,null,null,null,null,null,null,null,null,null,null,null,null,null,null,"No BRC","Salix myrsinifolia x arbuscula",null,null,2204.1999999999998,"Vinca major var. oxyloba","Stearn","Greater Periwinkle","Apocynaceae",null,2204.1999999999998,"Vinca major var. oxyloba_2204.2",null,null,null,null,null,null,null,"Vinca major var. oxyloba_2204.2"]
[null,null,null,null,null,null,null,null,null,null,null,null,null,null,null,null,null,null,null,null,null,null,null,null,null,null,null,null,null,null,null,null,null,null,null,null,null,null,null,null,null,null,null,null,null,null,null,null,null,null,null,null,null,null,null,null,null,null,null,"No BRC","Salix myrsinifolia x phylicifolia x arbuscula",null,null,2205,"Vinca minor","Linnaeus","Lesser Periwinkle","Apocynaceae",null,2205,"Vinca minor_2205",null,null,null,null,null,null,null,"Vinca minor_2205"]
[null,null,null,null,null,null,null,null,null,null,null,null,null,null,null,null,null,null,null,null,null,null,null,null,null,null,null,null,null,null,null,null,null,null,null,null,null,null,null,null,null,null,null,null,null,null,null,null,null,null,null,null,null,null,null,null,null,null,null,"No BRC","Salix purpurea x viminalis x repens",null,null,2206,"Viola arvensis","Murray","Field Pansy","Violaceae",null,2206,"Viola arvensis_2206",null,null,null,null,null,null,null,"Viola arvensis_2206"]
[null,null,null,null,null,null,null,null,null,null,null,null,null,null,null,null,null,null,null,null,null,null,null,null,null,null,null,null,null,null,null,null,null,null,null,null,null,null,null,null,null,null,null,null,null,null,null,null,null,null,null,null,null,null,null,null,null,null,null,"No BRC","Salix x fragilis 'fragilis'",null,null,2207,"Viola canina","L.","Heath Dog-violet","Violaceae","Near Threatened",2207,"Viola canina_2207",null,null,null,null,null,null,null,"Viola canina_2207"]
[null,null,null,null,null,null,null,null,null,null,null,null,null,null,null,null,null,null,null,null,null,null,null,null,null,null,null,null,null,null,null,null,null,null,null,null,null,null,null,null,null,null,null,null,null,null,null,null,null,null,null,null,null,null,null,null,null,null,null,"No BRC","Salix x fragilis 'furcata'",null,null,2207.1,"Viola canina subsp. canina",null,"Heath Dog-violet","Violaceae","Near Threatened",2207.1,"Viola canina subsp. canina_2207.1",null,null,null,null,null,null,null,"Viola canina subsp. canina_2207.1"]
[null,null,null,null,null,null,null,null,null,null,null,null,null,null,null,null,null,null,null,null,null,null,null,null,null,null,null,null,null,null,null,null,null,null,null,null,null,null,null,null,null,null,null,null,null,null,null,null,null,null,null,null,null,null,null,null,null,null,null,"No BRC","Salix x fragilis 'russelliana'",null,null,2207.1999999999998,"Viola canina subsp. montana","(Linnaeus) Hartm.","Heath Dog-violet","Violaceae","Endangered",2207.1999999999998,"Viola canina subsp. montana_2207.2",null,null,null,null,null,null,null,"Viola canina subsp. montana_2207.2"]
[null,null,null,null,null,null,null,null,null,null,null,null,null,null,null,null,null,null,null,null,null,null,null,null,null,null,null,null,null,null,null,null,null,null,null,null,null,null,null,null,null,null,null,null,null,null,null,null,null,null,null,null,null,null,null,null,null,null,null,"No BRC","Salix x permixta",null,null,2686,"Viola canina x lactea","Savoure","V. x militaris","Violaceae",null,2686,"Viola canina x lactea_2686",null,null,null,null,null,null,null,"Viola canina x lactea_2686"]
[null,null,null,null,null,null,null,null,null,null,null,null,null,null,null,null,null,null,null,null,null,null,null,null,null,null,null,null,null,null,null,null,null,null,null,null,null,null,null,null,null,null,null,null,null,null,null,null,null,null,null,null,null,null,null,null,null,null,null,"No BRC","Salvia coccinea",null,null,2437,"Viola cornuta","Linnaeus","Horned Pansy","Violaceae",null,2437,"Viola cornuta_2437",null,null,null,null,null,null,null,"Viola cornuta_2437"]
[null,null,null,null,null,null,null,null,null,null,null,null,null,null,null,null,null,null,null,null,null,null,null,null,null,null,null,null,null,null,null,null,null,null,null,null,null,null,null,null,null,null,null,null,null,null,null,null,null,null,null,null,null,null,null,null,null,null,null,"No BRC","Salvia microphylla",null,null,2210,"Viola hirta","Linnaeus","Hairy Violet","Violaceae",null,2210,"Viola hirta_2210",null,null,null,null,null,null,null,"Viola hirta_2210"]
[null,null,null,null,null,null,null,null,null,null,null,null,null,null,null,null,null,null,null,null,null,null,null,null,null,null,null,null,null,null,null,null,null,null,null,null,null,null,null,null,null,null,null,null,null,null,null,null,null,null,null,null,null,null,null,null,null,null,null,"No BRC","Salvia verbenaca subsp. horminoides",null,null,2210.1,"Viola hirta subsp. calcarea","(Bab.) E.F. Warb.","Hairy Violet","Violaceae",null,2210.1,"Viola hirta subsp. calcarea_2210.1",null,null,null,null,null,null,null,"Viola hirta subsp. calcarea_2210.1"]
[null,null,null,null,null,null,null,null,null,null,null,null,null,null,null,null,null,null,null,null,null,null,null,null,null,null,null,null,null,null,null,null,null,null,null,null,null,null,null,null,null,null,null,null,null,null,null,null,null,null,null,null,null,null,null,null,null,null,null,"No BRC","Salvia verbenaca subsp. verbenaca",null,null,2210.1999999999998,"Viola hirta subsp. hirta",null,"Hairy Violet","Violaceae",null,2210.1999999999998,"Viola hirta subsp. hirta_2210.2",null,null,null,null,null,null,null,"Viola hirta subsp. hirta_2210.2"]
[null,null,null,null,null,null,null,null,null,null,null,null,null,null,null,null,null,null,null,null,null,null,null,null,null,null,null,null,null,null,null,null,null,null,null,null,null,null,null,null,null,null,null,null,null,null,null,null,null,null,null,null,null,null,null,null,null,null,null,"No BRC","Scilla mischtschenkoana",null,null,2213,"Viola kitaibeliana","Schultes","Dwarf Pansy","Violaceae","Near Threatened",2213,"Viola kitaibeliana_2213",null,null,null,null,null,null,null,"Viola kitaibeliana_2213"]
[null,null,null,null,null,null,null,null,null,null,null,null,null,null,null,null,null,null,null,null,null,null,null,null,null,null,null,null,null,null,null,null,null,null,null,null,null,null,null,null,null,null,null,null,null,null,null,null,null,null,null,null,null,null,null,null,null,null,null,"No BRC","Sedum 'Herbstfreude'",null,null,2211,"Viola lactea","Sm.","Pale Dog-violet","Violaceae","Vulnerable",2211,"Viola lactea_2211",null,null,null,null,null,null,null,"Viola lactea_2211"]
[null,null,null,null,null,null,null,null,null,null,null,null,null,null,null,null,null,null,null,null,null,null,null,null,null,null,null,null,null,null,null,null,null,null,null,null,null,null,null,null,null,null,null,null,null,null,null,null,null,null,null,null,null,null,null,null,null,null,null,"No BRC","Sedum kamtschaticum var. ellacombeanum",null,null,2212,"Viola lutea","Hudson","Mountain Pansy","Violaceae",null,2212,"Viola lutea_2212",null,null,null,null,null,null,null,"Viola lutea_2212"]
[null,null,null,null,null,null,null,null,null,null,null,null,null,null,null,null,null,null,null,null,null,null,null,null,null,null,null,null,null,null,null,null,null,null,null,null,null,null,null,null,null,null,null,null,null,null,null,null,null,null,null,null,null,null,null,null,null,null,null,"No BRC","Selaginella sp.",null,null,"No BRC","Viola lutea x arvensis",null,null,"Violaceae",null,"No BRC","Viola lutea x arvensis_No BRC",null,null,null,null,null,null,null,"Viola lutea x arvensis_No BRC"]
[null,null,null,null,null,null,null,null,null,null,null,null,null,null,null,null,null,null,null,null,null,null,null,null,null,null,null,null,null,null,null,null,null,null,null,null,null,null,null,null,null,null,null,null,null,null,null,null,null,null,null,null,null,null,null,null,null,null,null,"No BRC","Senecio aquaticus subsp. aquaticus",null,null,2688,"Viola lutea x tricolor",null,null,"Violaceae",null,2688,"Viola lutea x tricolor_2688",null,null,null,null,null,null,null,"Viola lutea x tricolor_2688"]
[null,null,null,null,null,null,null,null,null,null,null,null,null,null,null,null,null,null,null,null,null,null,null,null,null,null,null,null,null,null,null,null,null,null,null,null,null,null,null,null,null,null,null,null,null,null,null,null,null,null,null,null,null,null,null,null,null,null,null,"No BRC","Senecio aquaticus subsp. ornatus",null,null,2214,"Viola odorata","Linnaeus","Sweet Violet","Violaceae",null,2214,"Viola odorata_2214",null,null,null,null,null,null,null,"Viola odorata_2214"]
[null,null,null,null,null,null,null,null,null,null,null,null,null,null,null,null,null,null,null,null,null,null,null,null,null,null,null,null,null,null,null,null,null,null,null,null,null,null,null,null,null,null,null,null,null,null,null,null,null,null,null,null,null,null,null,null,null,null,null,"No BRC","Senecio eboracensis",null,null,2214.1,"Viola odorata var. dumetorum",null,null,"Violaceae",null,2214.1,"Viola odorata var. dumetorum_2214.1",null,null,null,null,null,null,null,"Viola odorata var. dumetorum_2214.1"]
[null,null,null,null,null,null,null,null,null,null,null,null,null,null,null,null,null,null,null,null,null,null,null,null,null,null,null,null,null,null,null,null,null,null,null,null,null,null,null,null,null,null,null,null,null,null,null,null,null,null,null,null,null,null,null,null,null,null,null,"No BRC","Senecio jacobaea var. flosculosus",null,null,2214.1999999999998,"Viola odorata var. imberbis",null,null,"Violaceae",null,2214.1999999999998,"Viola odorata var. imberbis_2214.2",null,null,null,null,null,null,null,"Viola odorata var. imberbis_2214.2"]
[null,null,null,null,null,null,null,null,null,null,null,null,null,null,null,null,null,null,null,null,null,null,null,null,null,null,null,null,null,null,null,null,null,null,null,null,null,null,null,null,null,null,null,null,null,null,null,null,null,null,null,null,null,null,null,null,null,null,null,"No BRC","Senecio palustris",null,null,2214.3000000000002,"Viola odorata var. immaculata",null,null,"Violaceae",null,2214.3000000000002,"Viola odorata var. immaculata_2214.3",null,null,null,null,null,null,null,"Viola odorata var. immaculata_2214.3"]
[null,null,null,null,null,null,null,null,null,null,null,null,null,null,null,null,null,null,null,null,null,null,null,null,null,null,null,null,null,null,null,null,null,null,null,null,null,null,null,null,null,null,null,null,null,null,null,null,null,null,null,null,null,null,null,null,null,null,null,"No BRC","Senecio petasitis",null,null,2214.4,"Viola odorata var. odorata",null,null,"Violaceae",null,2214.4,"Viola odorata var. odorata_2214.4",null,null,null,null,null,null,null,"Viola odorata var. odorata_2214.4"]
[null,null,null,null,null,null,null,null,null,null,null,null,null,null,null,null,null,null,null,null,null,null,null,null,null,null,null,null,null,null,null,null,null,null,null,null,null,null,null,null,null,null,null,null,null,null,null,null,null,null,null,null,null,null,null,null,null,null,null,"No BRC","Silene catholica",null,null,2214.5,"Viola odorata var. praecox",null,null,"Violaceae",null,2214.5,"Viola odorata var. praecox_2214.5",null,null,null,null,null,null,null,"Viola odorata var. praecox_2214.5"]
[null,null,null,null,null,null,null,null,null,null,null,null,null,null,null,null,null,null,null,null,null,null,null,null,null,null,null,null,null,null,null,null,null,null,null,null,null,null,null,null,null,null,null,null,null,null,null,null,null,null,null,null,null,null,null,null,null,null,null,"No BRC","Silene colorata",null,null,2214.6,"Viola odorata var. subcarnea",null,null,"Violaceae",null,2214.6,"Viola odorata var. subcarnea_2214.6",null,null,null,null,null,null,null,"Viola odorata var. subcarnea_2214.6"]
[null,null,null,null,null,null,null,null,null,null,null,null,null,null,null,null,null,null,null,null,null,null,null,null,null,null,null,null,null,null,null,null,null,null,null,null,null,null,null,null,null,null,null,null,null,null,null,null,null,null,null,null,null,null,null,null,null,null,null,"No BRC","Sinarundinaria anceps",null,null,2214.6999999999998,"Viola odorata var. sulfurea",null,null,"Violaceae",null,2214.6999999999998,"Viola odorata var. sulfurea_2214.7",null,null,null,null,null,null,null,"Viola odorata var. sulfurea_2214.7"]
[null,null,null,null,null,null,null,null,null,null,null,null,null,null,null,null,null,null,null,null,null,null,null,null,null,null,null,null,null,null,null,null,null,null,null,null,null,null,null,null,null,null,null,null,null,null,null,null,null,null,null,null,null,null,null,null,null,null,null,"No BRC","Sinarundinaria nitida",null,null,2215,"Viola palustris","Linnaeus","Marsh Violet","Violaceae",null,2215,"Viola palustris_2215",null,null,null,null,null,null,null,"Viola palustris_2215"]
[null,null,null,null,null,null,null,null,null,null,null,null,null,null,null,null,null,null,null,null,null,null,null,null,null,null,null,null,null,null,null,null,null,null,null,null,null,null,null,null,null,null,null,null,null,null,null,null,null,null,null,null,null,null,null,null,null,null,null,"No BRC","Solanum capsicastrum",null,null,2215.1,"Viola palustris subsp. juressi","(Link ex Wein) P. Fourn.",null,"Violaceae",null,2215.1,"Viola palustris subsp. juressi_2215.1",null,null,null,null,null,null,null,"Viola palustris subsp. juressi_2215.1"]
[null,null,null,null,null,null,null,null,null,null,null,null,null,null,null,null,null,null,null,null,null,null,null,null,null,null,null,null,null,null,null,null,null,null,null,null,null,null,null,null,null,null,null,null,null,null,null,null,null,null,null,null,null,null,null,null,null,null,null,"No BRC","Solidago canadensis subsp. altissima",null,null,2215.1999999999998,"Viola palustris subsp. palustris","Linnaeus","Marsh Violet","Violaceae",null,2215.1999999999998,"Viola palustris subsp. palustris_2215.2",null,null,null,null,null,null,null,"Viola palustris subsp. palustris_2215.2"]
[null,null,null,null,null,null,null,null,null,null,null,null,null,null,null,null,null,null,null,null,null,null,null,null,null,null,null,null,null,null,null,null,null,null,null,null,null,null,null,null,null,null,null,null,null,null,null,null,null,null,null,null,null,null,null,null,null,null,null,"No BRC","Solidago canadensis subsp. canadensis",null,null,2216,"Viola persicifolia","Schreber","Fen Violet","Violaceae","Endangered",2216,"Viola persicifolia_2216",null,null,null,null,null,null,null,"Viola persicifolia_2216"]
[null,null,null,null,null,null,null,null,null,null,null,null,null,null,null,null,null,null,null,null,null,null,null,null,null,null,null,null,null,null,null,null,null,null,null,null,null,null,null,null,null,null,null,null,null,null,null,null,null,null,null,null,null,null,null,null,null,null,null,"No BRC","Sonchus tenerrimus",null,null,2217,"Viola reichenbachiana","Jord. ex Boreau","Early Dog-violet","Violaceae",null,2217,"Viola reichenbachiana_2217",null,null,null,null,null,null,null,"Viola reichenbachiana_2217"]
[null,null,null,null,null,null,null,null,null,null,null,null,null,null,null,null,null,null,null,null,null,null,null,null,null,null,null,null,null,null,null,null,null,null,null,null,null,null,null,null,null,null,null,null,null,null,null,null,null,null,null,null,null,null,null,null,null,null,null,"No BRC","Sorbus admonitor",null,null,2218,"Viola riviniana","Reichb.","Common Dog-violet","Violaceae",null,2218,"Viola riviniana_2218",null,null,null,null,null,null,null,"Viola riviniana_2218"]
[null,null,null,null,null,null,null,null,null,null,null,null,null,null,null,null,null,null,null,null,null,null,null,null,null,null,null,null,null,null,null,null,null,null,null,null,null,null,null,null,null,null,null,null,null,null,null,null,null,null,null,null,null,null,null,null,null,null,null,"No BRC","Sorbus cambrensis",null,null,"No BRC","Viola riviniana 'Purpurea Group'",null,null,"Violaceae",null,"No BRC","Viola riviniana 'Purpurea Group'_No BRC",null,null,null,null,null,null,null,"Viola riviniana 'Purpurea Group'_No BRC"]
[null,null,null,null,null,null,null,null,null,null,null,null,null,null,null,null,null,null,null,null,null,null,null,null,null,null,null,null,null,null,null,null,null,null,null,null,null,null,null,null,null,null,null,null,null,null,null,null,null,null,null,null,null,null,null,null,null,null,null,"No BRC","Sorbus cheddarensis",null,null,2218.1,"Viola riviniana subsp. minor","(Murb. ex Gregory) Valent.",null,"Violaceae",null,2218.1,"Viola riviniana subsp. minor_2218.1",null,null,null,null,null,null,null,"Viola riviniana subsp. minor_2218.1"]
[null,null,null,null,null,null,null,null,null,null,null,null,null,null,null,null,null,null,null,null,null,null,null,null,null,null,null,null,null,null,null,null,null,null,null,null,null,null,null,null,null,null,null,null,null,null,null,null,null,null,null,null,null,null,null,null,null,null,null,"No BRC","Sorbus cuneifolia",null,null,2218.1999999999998,"Viola riviniana subsp. riviniana",null,null,"Violaceae",null,2218.1999999999998,"Viola riviniana subsp. riviniana_2218.2",null,null,null,null,null,null,null,"Viola riviniana subsp. riviniana_2218.2"]
[null,null,null,null,null,null,null,null,null,null,null,null,null,null,null,null,null,null,null,null,null,null,null,null,null,null,null,null,null,null,null,null,null,null,null,null,null,null,null,null,null,null,null,null,null,null,null,null,null,null,null,null,null,null,null,null,null,null,null,"No BRC","Sorbus eminentiformis",null,null,2685,"Viola riviniana x lactea",null,null,"Violaceae",null,2685,"Viola riviniana x lactea_2685",null,null,null,null,null,null,null,"Viola riviniana x lactea_2685"]
[null,null,null,null,null,null,null,null,null,null,null,null,null,null,null,null,null,null,null,null,null,null,null,null,null,null,null,null,null,null,null,null,null,null,null,null,null,null,null,null,null,null,null,null,null,null,null,null,null,null,null,null,null,null,null,null,null,null,null,"No BRC","Sorbus eminentoides",null,null,2219,"Viola rupestris","Schmidt","Teesdale Violet","Violaceae","Rare",2219,"Viola rupestris_2219",null,null,null,null,null,null,null,"Viola rupestris_2219"]
[null,null,null,null,null,null,null,null,null,null,null,null,null,null,null,null,null,null,null,null,null,null,null,null,null,null,null,null,null,null,null,null,null,null,null,null,null,null,null,null,null,null,null,null,null,null,null,null,null,null,null,null,null,null,null,null,null,null,null,"No BRC","Sorbus leighensis",null,null,"No BRC","Viola sp.",null,null,"Violaceae",null,"No BRC","Viola sp._No BRC",null,null,null,null,null,null,null,"Viola sp._No BRC"]
[null,null,null,null,null,null,null,null,null,null,null,null,null,null,null,null,null,null,null,null,null,null,null,null,null,null,null,null,null,null,null,null,null,null,null,null,null,null,null,null,null,null,null,null,null,null,null,null,null,null,null,null,null,null,null,null,null,null,null,"No BRC","Sorbus margaretae",null,null,2220,"Viola tricolor","L.","Wild Pansy","Violaceae","Near Threatened",2220,"Viola tricolor_2220",null,null,null,null,null,null,null,"Viola tricolor_2220"]
[null,null,null,null,null,null,null,null,null,null,null,null,null,null,null,null,null,null,null,null,null,null,null,null,null,null,null,null,null,null,null,null,null,null,null,null,null,null,null,null,null,null,null,null,null,null,null,null,null,null,null,null,null,null,null,null,null,null,null,"No BRC","Sorbus mougeotii",null,null,2220.1,"Viola tricolor subsp. curtisii","(E. Forst) Syme",null,"Violaceae",null,2220.1,{"$f":"CONCATENATE(BM7044,\"_\",BL7044)","v":"Viola tricolor subsp. curtisii_2220.1"},null,null,null,null,null,null,null,"Viola tricolor subsp. curtisii_2220.1"]
[null,null,null,null,null,null,null,null,null,null,null,null,null,null,null,null,null,null,null,null,null,null,null,null,null,null,null,null,null,null,null,null,null,null,null,null,null,null,null,null,null,null,null,null,null,null,null,null,null,null,null,null,null,null,null,null,null,null,null,"No BRC","Sorbus parviloba",null,null,2220.3000000000002,"Viola tricolor subsp. tricolor",null,"Wild Pansy","Violaceae","Near Threatened",2220.3000000000002,"Viola tricolor subsp. tricolor_2220.3",null,null,null,null,null,null,null,"Viola tricolor subsp. tricolor_2220.3"]
[null,null,null,null,null,null,null,null,null,null,null,null,null,null,null,null,null,null,null,null,null,null,null,null,null,null,null,null,null,null,null,null,null,null,null,null,null,null,null,null,null,null,null,null,null,null,null,null,null,null,null,null,null,null,null,null,null,null,null,"No BRC","Sorbus pseudomeinichii",null,null,2683,"Viola x bavarica","Schrank","V. reichenbachiana x riviniana","Violaceae",null,2683,"Viola x bavarica_2683",null,null,null,null,null,null,null,"Viola x bavarica_2683"]
[null,null,null,null,null,null,null,null,null,null,null,null,null,null,null,null,null,null,null,null,null,null,null,null,null,null,null,null,null,null,null,null,null,null,null,null,null,null,null,null,null,null,null,null,null,null,null,null,null,null,null,null,null,null,null,null,null,null,null,"No BRC","Sorbus rupicoloides",null,null,2682,"Viola x burnatii","Gremli","V. riviniana x rupestris","Violaceae","Vulnerable",2682,"Viola x burnatii_2682",null,null,null,null,null,null,null,"Viola x burnatii_2682"]
[null,null,null,null,null,null,null,null,null,null,null,null,null,null,null,null,null,null,null,null,null,null,null,null,null,null,null,null,null,null,null,null,null,null,null,null,null,null,null,null,null,null,null,null,null,null,null,null,null,null,null,null,null,null,null,null,null,null,null,"No BRC","Sorbus saxicola",null,null,2209,"Viola x contempta","Jordan","V. arvensis x tricolor","Violaceae",null,2209,"Viola x contempta_2209",null,null,null,null,null,null,null,"Viola x contempta_2209"]
[null,null,null,null,null,null,null,null,null,null,null,null,null,null,null,null,null,null,null,null,null,null,null,null,null,null,null,null,null,null,null,null,null,null,null,null,null,null,null,null,null,null,null,null,null,null,null,null,null,null,null,null,null,null,null,null,null,null,null,"No BRC","Sorbus scannelliana",null,null,2684,"Viola x intersita","G.Beck","V. canina x riviniana","Violaceae",null,2684,"Viola x intersita_2684",null,null,null,null,null,null,null,"Viola x intersita_2684"]
[null,null,null,null,null,null,null,null,null,null,null,null,null,null,null,null,null,null,null,null,null,null,null,null,null,null,null,null,null,null,null,null,null,null,null,null,null,null,null,null,null,null,null,null,null,null,null,null,null,null,null,null,null,null,null,null,null,null,null,"No BRC","Sorbus stenophylla",null,null,7670,"Viola x mixta","A.Kerner","V. canina x reichenbachiana","Violaceae",null,7670,"Viola x mixta_7670",null,null,null,null,null,null,null,"Viola x mixta_7670"]
[null,null,null,null,null,null,null,null,null,null,null,null,null,null,null,null,null,null,null,null,null,null,null,null,null,null,null,null,null,null,null,null,null,null,null,null,null,null,null,null,null,null,null,null,null,null,null,null,null,null,null,null,null,null,null,null,null,null,null,"No BRC","Sorbus stirtoniana",null,null,2687,"Viola x ritschliana","W.Becker","V. canina x persicifolia","Violaceae",null,2687,"Viola x ritschliana_2687",null,null,null,null,null,null,null,"Viola x ritschliana_2687"]
[null,null,null,null,null,null,null,null,null,null,null,null,null,null,null,null,null,null,null,null,null,null,null,null,null,null,null,null,null,null,null,null,null,null,null,null,null,null,null,null,null,null,null,null,null,null,null,null,null,null,null,null,null,null,null,null,null,null,null,"No BRC","Sorbus whiteana",null,null,2208,"Viola x scabra","F.Braun","V. hirta x odorata","Violaceae",null,2208,"Viola x scabra_2208",null,null,null,null,null,null,null,"Viola x scabra_2208"]
[null,null,null,null,null,null,null,null,null,null,null,null,null,null,null,null,null,null,null,null,null,null,null,null,null,null,null,null,null,null,null,null,null,null,null,null,null,null,null,null,null,null,null,null,null,null,null,null,null,null,null,null,null,null,null,null,null,null,null,"No BRC","Sorbus x avonensis",null,null,2438,"Viola x wittrockiana","Gams ex Kappert","Garden Pansy","Violaceae",null,2438,"Viola x wittrockiana_2438",null,null,null,null,null,null,null,"Viola x wittrockiana_2438"]
[null,null,null,null,null,null,null,null,null,null,null,null,null,null,null,null,null,null,null,null,null,null,null,null,null,null,null,null,null,null,null,null,null,null,null,null,null,null,null,null,null,null,null,null,null,null,null,null,null,null,null,null,null,null,null,null,null,null,null,"No BRC","Sorbus x houstoniae",null,null,2223,"Viscum album","Linnaeus","Mistletoe","Viscaceae",null,2223,"Viscum album_2223",null,null,null,null,null,null,null,"Viscum album_2223"]
[null,null,null,null,null,null,null,null,null,null,null,null,null,null,null,null,null,null,null,null,null,null,null,null,null,null,null,null,null,null,null,null,null,null,null,null,null,null,null,null,null,null,null,null,null,null,null,null,null,null,null,null,null,null,null,null,null,null,null,"No BRC","Sorbus x motleyi",null,null,8276,"Vitis coignetiae","Pulliat ex Planch.","Crimson-glory-vine","Vitaceae",null,8276,"Vitis coignetiae_8276",null,null,null,null,null,null,null,"Vitis coignetiae_8276"]
[null,null,null,null,null,null,null,null,null,null,null,null,null,null,null,null,null,null,null,null,null,null,null,null,null,null,null,null,null,null,null,null,null,null,null,null,null,null,null,null,null,null,null,null,null,null,null,null,null,null,null,null,null,null,null,null,null,null,null,"No BRC","Sorbus x proctoriana",null,null,2224,"Vitis vinifera","Linnaeus","Grape-vine","Vitaceae",null,2224,"Vitis vinifera_2224",null,null,null,null,null,null,null,"Vitis vinifera_2224"]
[null,null,null,null,null,null,null,null,null,null,null,null,null,null,null,null,null,null,null,null,null,null,null,null,null,null,null,null,null,null,null,null,null,null,null,null,null,null,null,null,null,null,null,null,null,null,null,null,null,null,null,null,null,null,null,null,null,null,null,"No BRC","Sorbus x robertsonii",null,null,2226,"Vulpia bromoides","(L.) Gray","Squirreltail Fescue","Poaceae",null,2226,"Vulpia bromoides_2226",null,null,null,null,null,null,null,"Vulpia bromoides_2226"]
[null,null,null,null,null,null,null,null,null,null,null,null,null,null,null,null,null,null,null,null,null,null,null,null,null,null,null,null,null,null,null,null,null,null,null,null,null,null,null,null,null,null,null,null,null,null,null,null,null,null,null,null,null,null,null,null,null,null,null,"No BRC","Sparganium sp.",null,null,5468,"Vulpia ciliata","Dumort.","Bearded Fescue","Poaceae",null,5468,"Vulpia ciliata_5468",null,null,null,null,null,null,null,"Vulpia ciliata_5468"]
[null,null,null,null,null,null,null,null,null,null,null,null,null,null,null,null,null,null,null,null,null,null,null,null,null,null,null,null,null,null,null,null,null,null,null,null,null,null,null,null,null,null,null,null,null,null,null,null,null,null,null,null,null,null,null,null,null,null,null,"No BRC","Spartina patens",null,null,2225,"Vulpia ciliata subsp. ambigua","(Le Gall) Stace & Auquier","Purple Fescue","Poaceae","Nationally Scarce",2225,"Vulpia ciliata subsp. ambigua_2225",null,null,null,null,null,null,null,"Vulpia ciliata subsp. ambigua_2225"]
[null,null,null,null,null,null,null,null,null,null,null,null,null,null,null,null,null,null,null,null,null,null,null,null,null,null,null,null,null,null,null,null,null,null,null,null,null,null,null,null,null,null,null,null,null,null,null,null,null,null,null,null,null,null,null,null,null,null,null,"No BRC","Spiraea salicifolia agg.",null,null,5469,"Vulpia ciliata subsp. ciliata",null,null,"Poaceae",null,5469,"Vulpia ciliata subsp. ciliata_5469",null,null,null,null,null,null,null,"Vulpia ciliata subsp. ciliata_5469"]
[null,null,null,null,null,null,null,null,null,null,null,null,null,null,null,null,null,null,null,null,null,null,null,null,null,null,null,null,null,null,null,null,null,null,null,null,null,null,null,null,null,null,null,null,null,null,null,null,null,null,null,null,null,null,null,null,null,null,null,"No BRC","Stachys sp.",null,null,2227,"Vulpia fasciculata","(Forsskaol) Fritsch","Dune Fescue","Poaceae","Nationally Scarce",2227,"Vulpia fasciculata_2227",null,null,null,null,null,null,null,"Vulpia fasciculata_2227"]
[null,null,null,null,null,null,null,null,null,null,null,null,null,null,null,null,null,null,null,null,null,null,null,null,null,null,null,null,null,null,null,null,null,null,null,null,null,null,null,null,null,null,null,null,null,null,null,null,null,null,null,null,null,null,null,null,null,null,null,"No BRC","Stipa variabilis",null,null,"No BRC","Vulpia ligustica","(All.) Link",null,"Poaceae",null,"No BRC","Vulpia ligustica_No BRC",null,null,null,null,null,null,null,"Vulpia ligustica_No BRC"]
[null,null,null,null,null,null,null,null,null,null,null,null,null,null,null,null,null,null,null,null,null,null,null,null,null,null,null,null,null,null,null,null,null,null,null,null,null,null,null,null,null,null,null,null,null,null,null,null,null,null,null,null,null,null,null,null,null,null,null,"No BRC","Sutera cordata",null,null,8277,"Vulpia muralis","(Kunth) Nees",null,"Poaceae",null,8277,"Vulpia muralis_8277",null,null,null,null,null,null,null,"Vulpia muralis_8277"]
[null,null,null,null,null,null,null,null,null,null,null,null,null,null,null,null,null,null,null,null,null,null,null,null,null,null,null,null,null,null,null,null,null,null,null,null,null,null,null,null,null,null,null,null,null,null,null,null,null,null,null,null,null,null,null,null,null,null,null,"No BRC","Symphoricarpos x doorenbosii",null,null,2228,"Vulpia myuros","(Linnaeus) C.Gmelin","Rat's-tail Fescue","Poaceae",null,2228,"Vulpia myuros_2228",null,null,null,null,null,null,null,"Vulpia myuros_2228"]
[null,null,null,null,null,null,null,null,null,null,null,null,null,null,null,null,null,null,null,null,null,null,null,null,null,null,null,null,null,null,null,null,null,null,null,null,null,null,null,null,null,null,null,null,null,null,null,null,null,null,null,null,null,null,null,null,null,null,null,"No BRC","Symphytum asperum x caucasicum",null,null,2228.1999999999998,"Vulpia myuros f. hirsuta",null,null,"Poaceae",null,2228.1999999999998,"Vulpia myuros f. hirsuta_2228.2",null,null,null,null,null,null,null,"Vulpia myuros f. hirsuta_2228.2"]
[null,null,null,null,null,null,null,null,null,null,null,null,null,null,null,null,null,null,null,null,null,null,null,null,null,null,null,null,null,null,null,null,null,null,null,null,null,null,null,null,null,null,null,null,null,null,null,null,null,null,null,null,null,null,null,null,null,null,null,"No BRC","Symphytum officinale subsp. bohemicum",null,null,2228.3000000000002,"Vulpia myuros f. megalura",null,null,"Poaceae",null,2228.3000000000002,"Vulpia myuros f. megalura_2228.3",null,null,null,null,null,null,null,"Vulpia myuros f. megalura_2228.3"]
[null,null,null,null,null,null,null,null,null,null,null,null,null,null,null,null,null,null,null,null,null,null,null,null,null,null,null,null,null,null,null,null,null,null,null,null,null,null,null,null,null,null,null,null,null,null,null,null,null,null,null,null,null,null,null,null,null,null,null,"No BRC","Symphytum sp.",null,null,2228.1,"Vulpia myuros f. myuros",null,null,"Poaceae",null,2228.1,"Vulpia myuros f. myuros_2228.1",null,null,null,null,null,null,null,"Vulpia myuros f. myuros_2228.1"]
[null,null,null,null,null,null,null,null,null,null,null,null,null,null,null,null,null,null,null,null,null,null,null,null,null,null,null,null,null,null,null,null,null,null,null,null,null,null,null,null,null,null,null,null,null,null,null,null,null,null,null,null,null,null,null,null,null,null,null,"No BRC","Symphytum x hidcotense 'Hidcote Pink'",null,null,2263,"Vulpia unilateralis","(L.) Stace","Mat-grass Fescue","Poaceae","Nationally Scarce",2263,"Vulpia unilateralis_2263",null,null,null,null,null,null,null,"Vulpia unilateralis_2263"]
[null,null,null,null,null,null,null,null,null,null,null,null,null,null,null,null,null,null,null,null,null,null,null,null,null,null,null,null,null,null,null,null,null,null,null,null,null,null,null,null,null,null,null,null,null,null,null,null,null,null,null,null,null,null,null,null,null,null,null,"No BRC","Symphytum x norvicense",null,null,2230,"Wahlenbergia hederacea","(L.) Reichb.","Ivy-leaved Bellflower","Campanulaceae","Near Threatened",2230,"Wahlenbergia hederacea_2230",null,null,null,null,null,null,null,"Wahlenbergia hederacea_2230"]
[null,null,null,null,null,null,null,null,null,null,null,null,null,null,null,null,null,null,null,null,null,null,null,null,null,null,null,null,null,null,null,null,null,null,null,null,null,null,null,null,null,null,null,null,null,null,null,null,null,null,null,null,null,null,null,null,null,null,null,"No BRC","Taraxacum akteum",null,null,"No BRC","Wahlenbergia marginata","(Thunb.) A. DC.","Southern Rockbell","Campanulaceae",null,"No BRC","Wahlenbergia marginata_No BRC",null,null,null,null,null,null,null,"Wahlenbergia marginata_No BRC"]
[null,null,null,null,null,null,null,null,null,null,null,null,null,null,null,null,null,null,null,null,null,null,null,null,null,null,null,null,null,null,null,null,null,null,null,null,null,null,null,null,null,null,null,null,null,null,null,null,null,null,null,null,null,null,null,null,null,null,null,"No BRC","Taraxacum breconense",null,null,9075,"Wahlenbergia nutabunda","(Guss.) A. DC.",null,"Campanulaceae",null,9075,"Wahlenbergia nutabunda_9075",null,null,null,null,null,null,null,"Wahlenbergia nutabunda_9075"]
[null,null,null,null,null,null,null,null,null,null,null,null,null,null,null,null,null,null,null,null,null,null,null,null,null,null,null,null,null,null,null,null,null,null,null,null,null,null,null,null,null,null,null,null,null,null,null,null,null,null,null,null,null,null,null,null,null,null,null,"No BRC","Taraxacum coartatum",null,null,7127,"Watsonia borbonica","(Pourret) Goldblatt","Bugle-lily","Iridaceae",null,7127,"Watsonia borbonica_7127",null,null,null,null,null,null,null,"Watsonia borbonica_7127"]
[null,null,null,null,null,null,null,null,null,null,null,null,null,null,null,null,null,null,null,null,null,null,null,null,null,null,null,null,null,null,null,null,null,null,null,null,null,null,null,null,null,null,null,null,null,null,null,null,null,null,null,null,null,null,null,null,null,null,null,"No BRC","Taraxacum edmondsonianum",null,null,4460,"Weigela florida","(Bunge) A.DC.","Weigelia","Caprifoliaceae",null,4460,"Weigela florida_4460",null,null,null,null,null,null,null,"Weigela florida_4460"]
[null,null,null,null,null,null,null,null,null,null,null,null,null,null,null,null,null,null,null,null,null,null,null,null,null,null,null,null,null,null,null,null,null,null,null,null,null,null,null,null,null,null,null,null,null,null,null,null,null,null,null,null,null,null,null,null,null,null,null,"No BRC","Taraxacum geirhildae",null,null,2231,"Wolffia arrhiza","(L.) Horkel ex Wimm.","Rootless Duckweed","Lemnaceae","Vulnerable",2231,"Wolffia arrhiza_2231",null,null,null,null,null,null,null,"Wolffia arrhiza_2231"]
[null,null,null,null,null,null,null,null,null,null,null,null,null,null,null,null,null,null,null,null,null,null,null,null,null,null,null,null,null,null,null,null,null,null,null,null,null,null,null,null,null,null,null,null,null,null,null,null,null,null,null,null,null,null,null,null,null,null,null,"No BRC","Taraxacum haworthianum",null,null,2232,"Woodsia alpina","(Bolton) Gray","Alpine Woodsia","Woodsiaceae","Rare",2232,"Woodsia alpina_2232",null,null,null,null,null,null,null,"Woodsia alpina_2232"]
[null,null,null,null,null,null,null,null,null,null,null,null,null,null,null,null,null,null,null,null,null,null,null,null,null,null,null,null,null,null,null,null,null,null,null,null,null,null,null,null,null,null,null,null,null,null,null,null,null,null,null,null,null,null,null,null,null,null,null,"No BRC","Taraxacum hirsutissimum",null,null,2233,"Woodsia ilvensis","(Linnaeus) R.Br.","Oblong Woodsia","Woodsiaceae","Endangered",2233,"Woodsia ilvensis_2233",null,null,null,null,null,null,null,"Woodsia ilvensis_2233"]
[null,null,null,null,null,null,null,null,null,null,null,null,null,null,null,null,null,null,null,null,null,null,null,null,null,null,null,null,null,null,null,null,null,null,null,null,null,null,null,null,null,null,null,null,null,null,null,null,null,null,null,null,null,null,null,null,null,null,null,"No BRC","Taraxacum limbatum",null,null,8278,"Woodwardia radicans","(Linnaeus) Smith","Chain Fern","Blechnaceae",null,8278,"Woodwardia radicans_8278",null,null,null,null,null,null,null,"Woodwardia radicans_8278"]
[null,null,null,null,null,null,null,null,null,null,null,null,null,null,null,null,null,null,null,null,null,null,null,null,null,null,null,null,null,null,null,null,null,null,null,null,null,null,null,null,null,null,null,null,null,null,null,null,null,null,null,null,null,null,null,null,null,null,null,"No BRC","Taraxacum microspecies",null,null,25,"X Agropogon lutosus","(Poir.) P. Fourn.","Perennial Beard-grass (A. stolonifera x P. monspeliensis)","Poaceae",null,25,"X Agropogon lutosus_25",null,null,null,null,null,null,null,"X Agropogon lutosus_25"]
[null,null,null,null,null,null,null,null,null,null,null,null,null,null,null,null,null,null,null,null,null,null,null,null,null,null,null,null,null,null,null,null,null,null,null,null,null,null,null,null,null,null,null,null,null,null,null,null,null,null,null,null,null,null,null,null,null,null,null,"No BRC","Taraxacum nietoi",null,null,7673,"X Agropogon robinsonii","(Druce) Meld. & D.McLint","Agrostis stolonifera x Polypogon viridis","Poaceae",null,7673,"X Agropogon robinsonii_7673",null,null,null,null,null,null,null,"X Agropogon robinsonii_7673"]
[null,null,null,null,null,null,null,null,null,null,null,null,null,null,null,null,null,null,null,null,null,null,null,null,null,null,null,null,null,null,null,null,null,null,null,null,null,null,null,null,null,null,null,null,null,null,null,null,null,null,null,null,null,null,null,null,null,null,null,"No BRC","Taraxacum ronae",null,null,2859,"X Anacamptorchis morioides","(Brand) Stace","Orchis mascula x Anacamptis morio","Orchidaceae",null,2859,"X Anacamptorchis morioides_2859",null,null,null,null,null,null,null,"X Anacamptorchis morioides_2859"]
[null,null,null,null,null,null,null,null,null,null,null,null,null,null,null,null,null,null,null,null,null,null,null,null,null,null,null,null,null,null,null,null,null,null,null,null,null,null,null,null,null,null,null,null,null,null,null,null,null,null,null,null,null,null,null,null,null,null,null,"No BRC","Taraxacum sahlinianum",null,null,96,"X Calammophila baltica","(Flugge ex Schrader) Brand","Ammophila arenaria x Calamagrostis epigejos","Poaceae",null,96,"X Calammophila baltica_96",null,null,null,null,null,null,null,"X Calammophila baltica_96"]
[null,null,null,null,null,null,null,null,null,null,null,null,null,null,null,null,null,null,null,null,null,null,null,null,null,null,null,null,null,null,null,null,null,null,null,null,null,null,null,null,null,null,null,null,null,null,null,null,null,null,null,null,null,null,null,null,null,null,null,"No BRC","Taraxacum subericinum",null,null,2824,"X Conyzigeron huelsenii","(Vatke) Rauschert","Erigeron acris x Conyza canadensis","Asteraceae",null,2824,"X Conyzigeron huelsenii_2824",null,null,null,null,null,null,null,"X Conyzigeron huelsenii_2824"]
[null,null,null,null,null,null,null,null,null,null,null,null,null,null,null,null,null,null,null,null,null,null,null,null,null,null,null,null,null,null,null,null,null,null,null,null,null,null,null,null,null,null,null,null,null,null,null,null,null,null,null,null,null,null,null,null,null,null,null,"No BRC","Teesdalia coronopifolia",null,null,2703,"X Crataemespilus grandiflora","(Smith) Camus","Crataegus laevigata x Mespilus germanica","Rosaceae",null,2703,"X Crataemespilus grandiflora_2703",null,null,null,null,null,null,null,"X Crataemespilus grandiflora_2703"]
[null,null,null,null,null,null,null,null,null,null,null,null,null,null,null,null,null,null,null,null,null,null,null,null,null,null,null,null,null,null,null,null,null,null,null,null,null,null,null,null,null,null,null,null,null,null,null,null,null,null,null,null,null,null,null,null,null,null,null,"No BRC","Tilia americana",null,null,2967,"X Cuprocyparis leylandii","(A.B. Jacks. & Dallim.) Farjon","Leyland Cypress","Cupressaceae",null,2967,"X Cuprocyparis leylandii_2967",null,null,null,null,null,null,null,"X Cuprocyparis leylandii_2967"]
[null,null,null,null,null,null,null,null,null,null,null,null,null,null,null,null,null,null,null,null,null,null,null,null,null,null,null,null,null,null,null,null,null,null,null,null,null,null,null,null,null,null,null,null,null,null,null,null,null,null,null,null,null,null,null,null,null,null,null,"No BRC","Tilia petiolaris",null,null,"No BRC","X Dactylanthera chevallieriana","(E.G.Camus) J.M.H.Shaw","Platanthera bifolia x Dactylorhiza maculata","Orchidaceae",null,"No BRC","X Dactylanthera chevallieriana_No BRC",null,null,null,null,null,null,null,"X Dactylanthera chevallieriana_No BRC"]
[null,null,null,null,null,null,null,null,null,null,null,null,null,null,null,null,null,null,null,null,null,null,null,null,null,null,null,null,null,null,null,null,null,null,null,null,null,null,null,null,null,null,null,null,null,null,null,null,null,null,null,null,null,null,null,null,null,null,null,"No BRC","Tilia sp.",null,null,"No BRC","X Dactylodenia evansii","(Druce) Stace","Gymnadenia borealis x Dactylorhiza maculata","Orchidaceae",null,"No BRC","X Dactylodenia evansii_No BRC",null,null,null,null,null,null,null,"X Dactylodenia evansii_No BRC"]
[null,null,null,null,null,null,null,null,null,null,null,null,null,null,null,null,null,null,null,null,null,null,null,null,null,null,null,null,null,null,null,null,null,null,null,null,null,null,null,null,null,null,null,null,null,null,null,null,null,null,null,null,null,null,null,null,null,null,null,"No BRC","Tragopogon porrifolius subsp. australis",null,null,"No BRC","X Dactylodenia heinzeliana","(Reichardt) Garay & H.R.Sweet","Gymnadenia conopsea x Dactylorhiza fuchsii","Orchidaceae",null,"No BRC","X Dactylodenia heinzeliana_No BRC",null,null,null,null,null,null,null,"X Dactylodenia heinzeliana_No BRC"]
[null,null,null,null,null,null,null,null,null,null,null,null,null,null,null,null,null,null,null,null,null,null,null,null,null,null,null,null,null,null,null,null,null,null,null,null,null,null,null,null,null,null,null,null,null,null,null,null,null,null,null,null,null,null,null,null,null,null,null,"No BRC","Tragopogon porrifolius subsp. porrifolius",null,null,2852,"X Dactylodenia legrandiana","(Camus) Peitz","Gymnadenia conopsea x Dactylorhiza maculata","Orchidaceae",null,2852,"X Dactylodenia legrandiana_2852",null,null,null,null,null,null,null,"X Dactylodenia legrandiana_2852"]
[null,null,null,null,null,null,null,null,null,null,null,null,null,null,null,null,null,null,null,null,null,null,null,null,null,null,null,null,null,null,null,null,null,null,null,null,null,null,null,null,null,null,null,null,null,null,null,null,null,null,null,null,null,null,null,null,null,null,null,"No BRC","Trifolium retusum",null,null,2851,"X Dactylodenia st-quintinii","(Godfrey) J.Duvgin","Gymnadenia borealis x Dactylorhiza fuchsii","Orchidaceae",null,2851,"X Dactylodenia st-quintinii_2851",null,null,null,null,null,null,null,"X Dactylodenia st-quintinii_2851"]
[null,null,null,null,null,null,null,null,null,null,null,null,null,null,null,null,null,null,null,null,null,null,null,null,null,null,null,null,null,null,null,null,null,null,null,null,null,null,null,null,null,null,null,null,null,null,null,null,null,null,null,null,null,null,null,null,null,null,null,"No BRC","Trifolium spumosum",null,null,2854,"X Dactylodenia varia","(T & T.A.Stephenson) Aver.","Gymnadenia borealis x Dactylorhiza purpurella","Orchidaceae",null,2854,"X Dactylodenia varia_2854",null,null,null,null,null,null,null,"X Dactylodenia varia_2854"]
[null,null,null,null,null,null,null,null,null,null,null,null,null,null,null,null,null,null,null,null,null,null,null,null,null,null,null,null,null,null,null,null,null,null,null,null,null,null,null,null,null,null,null,null,null,null,null,null,null,null,null,null,null,null,null,null,null,null,null,"No BRC","Tripleurospermum maritimum subsp. maritimum var. maritimum",null,null,2853,"X Dactylodenia wintoni","(Druce) Peitz","Gymnadenia conopsea x Dactylorhiza praetermissa","Orchidaceae",null,2853,"X Dactylodenia wintoni_2853",null,null,null,null,null,null,null,"X Dactylodenia wintoni_2853"]
[null,null,null,null,null,null,null,null,null,null,null,null,null,null,null,null,null,null,null,null,null,null,null,null,null,null,null,null,null,null,null,null,null,null,null,null,null,null,null,null,null,null,null,null,null,null,null,null,null,null,null,null,null,null,null,null,null,null,null,"No BRC","Trisetum flavescens subsp. purpurascens",null,null,2848,"X Dactyloglossum conigerum","(Norman) Rauschert","Coeloglossum viride x Dactylorhiza maculata","Orchidaceae",null,2848,"X Dactyloglossum conigerum_2848",null,null,null,null,null,null,null,"X Dactyloglossum conigerum_2848"]
[null,null,null,null,null,null,null,null,null,null,null,null,null,null,null,null,null,null,null,null,null,null,null,null,null,null,null,null,null,null,null,null,null,null,null,null,null,null,null,null,null,null,null,null,null,null,null,null,null,null,null,null,null,null,null,null,null,null,null,"No BRC","Triteleia hyacinthina",null,null,2847,"X Dactyloglossum mixtum","(Asch. & Graebner) Rauschert","Coeloglossum viride x Dactylorhiza fuchsii","Orchidaceae",null,2847,"X Dactyloglossum mixtum_2847",null,null,null,null,null,null,null,"X Dactyloglossum mixtum_2847"]
[null,null,null,null,null,null,null,null,null,null,null,null,null,null,null,null,null,null,null,null,null,null,null,null,null,null,null,null,null,null,null,null,null,null,null,null,null,null,null,null,null,null,null,null,null,null,null,null,null,null,null,null,null,null,null,null,null,null,null,"No BRC","Triteleia laxa",null,null,2849,"X Dactyloglossum viridellum","(Hesl.-Harr. f.) Soó","Coeloglossum viride x Dactylorhiza purpurella","Orchidaceae",null,2849,"X Dactyloglossum viridellum_2849",null,null,null,null,null,null,null,"X Dactyloglossum viridellum_2849"]
[null,null,null,null,null,null,null,null,null,null,null,null,null,null,null,null,null,null,null,null,null,null,null,null,null,null,null,null,null,null,null,null,null,null,null,null,null,null,null,null,null,null,null,null,null,null,null,null,null,null,null,null,null,null,null,null,null,null,null,"No BRC","Triticum durum",null,null,2909,"X Elytrordeum langei","(K.Richter) Meld.","Elytrigia repens x Hordeum secalinum","Poaceae",null,2909,"X Elytrordeum langei_2909",null,null,null,null,null,null,null,"X Elytrordeum langei_2909"]
[null,null,null,null,null,null,null,null,null,null,null,null,null,null,null,null,null,null,null,null,null,null,null,null,null,null,null,null,null,null,null,null,null,null,null,null,null,null,null,null,null,null,null,null,null,null,null,null,null,null,null,null,null,null,null,null,null,null,null,"No BRC","Tulipa tarda",null,null,2902,"X Festulolium frederici","Cugnac & A. Camus","Festuca rubra x Lolium perenne","Poaceae",null,2902,"X Festulolium frederici_2902",null,null,null,null,null,null,null,"X Festulolium frederici_2902"]
[null,null,null,null,null,null,null,null,null,null,null,null,null,null,null,null,null,null,null,null,null,null,null,null,null,null,null,null,null,null,null,null,null,null,null,null,null,null,null,null,null,null,null,null,null,null,null,null,null,null,null,null,null,null,null,null,null,null,null,"No BRC","Ulex gallii x minor",null,null,2903,"X Festulpia hubbardii","Stace & R.Cotton","Festuca rubra x Vulpia fasciculata","Poaceae",null,2903,"X Festulpia hubbardii_2903",null,null,null,null,null,null,null,"X Festulpia hubbardii_2903"]
[null,null,null,null,null,null,null,null,null,null,null,null,null,null,null,null,null,null,null,null,null,null,null,null,null,null,null,null,null,null,null,null,null,null,null,null,null,null,null,null,null,null,null,null,null,null,null,null,null,null,null,null,null,null,null,null,null,null,null,"No BRC","Ulmus sp.",null,null,7675,"X Festulpia melderisii","Stace & R.Cotton","Festuca arenaria x Vulpia fasciculata","Poaceae",null,7675,"X Festulpia melderisii_7675",null,null,null,null,null,null,null,"X Festulpia melderisii_7675"]
[null,null,null,null,null,null,null,null,null,null,null,null,null,null,null,null,null,null,null,null,null,null,null,null,null,null,null,null,null,null,null,null,null,null,null,null,null,null,null,null,null,null,null,null,null,null,null,null,null,null,null,null,null,null,null,null,null,null,null,"No BRC","Uncinia rubra",null,null,2846,"X Gymnaglossum jacksonii","(Quirk) Rolfe","Gymnadenia conopsea x Coeloglossum viride","Orchidaceae",null,2846,"X Gymnaglossum jacksonii_2846",null,null,null,null,null,null,null,"X Gymnaglossum jacksonii_2846"]
[null,null,null,null,null,null,null,null,null,null,null,null,null,null,null,null,null,null,null,null,null,null,null,null,null,null,null,null,null,null,null,null,null,null,null,null,null,null,null,null,null,null,null,null,null,null,null,null,null,null,null,null,null,null,null,null,null,null,null,"No BRC","Urtica membranacea",null,null,2855,"X Gymnanacamptis anacamptis","(F.H.Wilms) Asch. & Graebner","Gymnadenia conopsea x Anacamptis pyramidalis","Orchidaceae",null,2855,"X Gymnanacamptis anacamptis_2855",null,null,null,null,null,null,null,"X Gymnanacamptis anacamptis_2855"]
[null,null,null,null,null,null,null,null,null,null,null,null,null,null,null,null,null,null,null,null,null,null,null,null,null,null,null,null,null,null,null,null,null,null,null,null,null,null,null,null,null,null,null,null,null,null,null,null,null,null,null,null,null,null,null,null,null,null,null,"No BRC","Utricularia bremii",null,null,7676,"X Pseudanthera breadalbanensis","McKean","Platanthera chlorantha x Pseudorchis albida","Orchidaceae",null,7676,"X Pseudanthera breadalbanensis_7676",null,null,null,null,null,null,null,"X Pseudanthera breadalbanensis_7676"]
[null,null,null,null,null,null,null,null,null,null,null,null,null,null,null,null,null,null,null,null,null,null,null,null,null,null,null,null,null,null,null,null,null,null,null,null,null,null,null,null,null,null,null,null,null,null,null,null,null,null,null,null,null,null,null,null,null,null,null,"No BRC","Utricularia sp.",null,null,4346,"X Pseudorhiza bruniana","(Brügger) P.F.Hunt","Dactylorhiza maculata x Pseudorchis albida","Orchidaceae",null,4346,"X Pseudorhiza bruniana_4346",null,null,null,null,null,null,null,"X Pseudorhiza bruniana_4346"]
[null,null,null,null,null,null,null,null,null,null,null,null,null,null,null,null,null,null,null,null,null,null,null,null,null,null,null,null,null,null,null,null,null,null,null,null,null,null,null,null,null,null,null,null,null,null,null,null,null,null,null,null,null,null,null,null,null,null,null,"No BRC","Valeriana sp.",null,null,4469,"X Schedolium braunii","(K. Richt.) Stace","Schedonorus pratensis x Lolium multiflorum","Poaceae",null,4469,"X Schedolium braunii_4469",null,null,null,null,null,null,null,"X Schedolium braunii_4469"]
[null,null,null,null,null,null,null,null,null,null,null,null,null,null,null,null,null,null,null,null,null,null,null,null,null,null,null,null,null,null,null,null,null,null,null,null,null,null,null,null,null,null,null,null,null,null,null,null,null,null,null,null,null,null,null,null,null,null,null,"No BRC","Valerianella locusta var. lasiocarpa",null,null,2901,"X Schedolium brinkmannii","(A. Braun) Holub","Schedonorus giganteus x Lolium perenne","Poaceae",null,2901,"X Schedolium brinkmannii_2901",null,null,null,null,null,null,null,"X Schedolium brinkmannii_2901"]
[null,null,null,null,null,null,null,null,null,null,null,null,null,null,null,null,null,null,null,null,null,null,null,null,null,null,null,null,null,null,null,null,null,null,null,null,null,null,null,null,null,null,null,null,null,null,null,null,null,null,null,null,null,null,null,null,null,null,null,"No BRC","Verbascum bombyciferum x nigrum",null,null,2900,"X Schedolium holmbergii","(Dörfl.) Holub","Schedonorus arundinaceus x Lolium perenne","Poaceae",null,2900,"X Schedolium holmbergii_2900",null,null,null,null,null,null,null,"X Schedolium holmbergii_2900"]
[null,null,null,null,null,null,null,null,null,null,null,null,null,null,null,null,null,null,null,null,null,null,null,null,null,null,null,null,null,null,null,null,null,null,null,null,null,null,null,null,null,null,null,null,null,null,null,null,null,null,null,null,null,null,null,null,null,null,null,"No BRC","Verbascum bombyciferum x phlomoides",null,null,4470,"X Schedolium krasanii","H. Scholz","Schedonorus arundinaceus x Lolium multiflorum","Poaceae",null,4470,"X Schedolium krasanii_4470",null,null,null,null,null,null,null,"X Schedolium krasanii_4470"]
[null,null,null,null,null,null,null,null,null,null,null,null,null,null,null,null,null,null,null,null,null,null,null,null,null,null,null,null,null,null,null,null,null,null,null,null,null,null,null,null,null,null,null,null,null,null,null,null,null,null,null,null,null,null,null,null,null,null,null,"No BRC","Verbascum chaixii subsp. austriacum",null,null,815,"X Schedolium loliaceum","(Huds.) Holub","Schedonorus pratensis x Lolium perenne","Poaceae",null,815,"X Schedolium loliaceum_815",null,null,null,null,null,null,null,"X Schedolium loliaceum_815"]
[null,null,null,null,null,null,null,null,null,null,null,null,null,null,null,null,null,null,null,null,null,null,null,null,null,null,null,null,null,null,null,null,null,null,null,null,null,null,null,null,null,null,null,null,null,null,null,null,null,null,null,null,null,null,null,null,null,null,null,"No BRC","Verbascum chaixii subsp. chaixii",null,null,7862,"X Schedolium nilssonii","Cugnac & A. Camus","Schedonorus giganteus x Lolium multiflorum","Poaceae",null,7862,{"$f":"CONCATENATE(BM7108,\"_\",BL7108)","v":"X Schedolium nilssonii_7862"},null,null,null,null,null,null,null,"X Schedolium nilssonii_7862"]
[null,null,null,null,null,null,null,null,null,null,null,null,null,null,null,null,null,null,null,null,null,null,null,null,null,null,null,null,null,null,null,null,null,null,null,null,null,null,null,null,null,null,null,null,null,null,null,null,null,null,null,null,null,null,null,null,null,null,null,"No BRC","Verbascum nigrum x speciosum",null,null,2825,"X Tripleurothemis maleolens","(P.Fourn) Stace","Anthemis cotula x Tripleurospermum inodorum","Asteraceae",null,2825,"X Tripleurothemis maleolens_2825",null,null,null,null,null,null,null,"X Tripleurothemis maleolens_2825"]
[null,null,null,null,null,null,null,null,null,null,null,null,null,null,null,null,null,null,null,null,null,null,null,null,null,null,null,null,null,null,null,null,null,null,null,null,null,null,null,null,null,null,null,null,null,null,null,null,null,null,null,null,null,null,null,null,null,null,null,"No BRC","Verbascum virgatum x nigrum",null,null,3577,"X Triticosecale rimpaui","Wittm. ex A. Camus","Triticale (Secale X Triticum)","Poaceae",null,3577,"X Triticosecale rimpaui_3577",null,null,null,null,null,null,null,"X Triticosecale rimpaui_3577"]
[null,null,null,null,null,null,null,null,null,null,null,null,null,null,null,null,null,null,null,null,null,null,null,null,null,null,null,null,null,null,null,null,null,null,null,null,null,null,null,null,null,null,null,null,null,null,null,null,null,null,null,null,null,null,null,null,null,null,null,"No BRC","Verbascum virgatum x pulverulentum",null,null,2636,"Xanthium ambrosioides","Hook. & Arn.","Argentine Cocklebur","Asteraceae",null,2636,"Xanthium ambrosioides_2636",null,null,null,null,null,null,null,"Xanthium ambrosioides_2636"]
[null,null,null,null,null,null,null,null,null,null,null,null,null,null,null,null,null,null,null,null,null,null,null,null,null,null,null,null,null,null,null,null,null,null,null,null,null,null,null,null,null,null,null,null,null,null,null,null,null,null,null,null,null,null,null,null,null,null,null,"No BRC","Verbascum x murbeckii",null,null,2235,"Xanthium spinosum","Linnaeus","Spiny Cocklebur","Asteraceae",null,2235,"Xanthium spinosum_2235",null,null,null,null,null,null,null,"Xanthium spinosum_2235"]
[null,null,null,null,null,null,null,null,null,null,null,null,null,null,null,null,null,null,null,null,null,null,null,null,null,null,null,null,null,null,null,null,null,null,null,null,null,null,null,null,null,null,null,null,null,null,null,null,null,null,null,null,null,null,null,null,null,null,null,"No BRC","Verbascum x ustulatum",null,null,2236,"Xanthium strumarium","Linnaeus","Rough Cocklebur","Asteraceae",null,2236,"Xanthium strumarium_2236",null,null,null,null,null,null,null,"Xanthium strumarium_2236"]
[null,null,null,null,null,null,null,null,null,null,null,null,null,null,null,null,null,null,null,null,null,null,null,null,null,null,null,null,null,null,null,null,null,null,null,null,null,null,null,null,null,null,null,null,null,null,null,null,null,null,null,null,null,null,null,null,null,null,null,"No BRC","Veronica subgenus Pseudoveronica",null,null,2968,"Xanthocyparis nootkatensis","(D. Don) Farjon & D.K. Harder","Nootka Cypress","Cupressaceae",null,2968,"Xanthocyparis nootkatensis_2968",null,null,null,null,null,null,null,"Xanthocyparis nootkatensis_2968"]
[null,null,null,null,null,null,null,null,null,null,null,null,null,null,null,null,null,null,null,null,null,null,null,null,null,null,null,null,null,null,null,null,null,null,null,null,null,null,null,null,null,null,null,null,null,null,null,null,null,null,null,null,null,null,null,null,null,null,null,"No BRC","Veronica x andersonii",null,null,4240,"Yucca gloriosa","L.","Spanish-dagger","Agavaceae",null,4240,"Yucca gloriosa_4240",null,null,null,null,null,null,null,"Yucca gloriosa_4240"]
[null,null,null,null,null,null,null,null,null,null,null,null,null,null,null,null,null,null,null,null,null,null,null,null,null,null,null,null,null,null,null,null,null,null,null,null,null,null,null,null,null,null,null,null,null,null,null,null,null,null,null,null,null,null,null,null,null,null,null,"No BRC","Viburnum plicatum",null,null,7671,"Yucca gloriosa var. recurvifolia","(Salisb.) Engelm.","Curved-leaved Spanish-dagger","Agavaceae",null,7671,"Yucca gloriosa var. recurvifolia_7671",null,null,null,null,null,null,null,"Yucca gloriosa var. recurvifolia_7671"]
[null,null,null,null,null,null,null,null,null,null,null,null,null,null,null,null,null,null,null,null,null,null,null,null,null,null,null,null,null,null,null,null,null,null,null,null,null,null,null,null,null,null,null,null,null,null,null,null,null,null,null,null,null,null,null,null,null,null,null,"No BRC","Vicia monantha",null,null,5419,"Yushania anceps","(Milford) W.C. Lin","Indian Fountain-bamboo","Poaceae",null,5419,"Yushania anceps_5419",null,null,null,null,null,null,null,"Yushania anceps_5419"]
[null,null,null,null,null,null,null,null,null,null,null,null,null,null,null,null,null,null,null,null,null,null,null,null,null,null,null,null,null,null,null,null,null,null,null,null,null,null,null,null,null,null,null,null,null,null,null,null,null,null,null,null,null,null,null,null,null,null,null,"No BRC","Viola lutea x arvensis",null,null,2237,"Zannichellia palustris","Linnaeus","Horned Pondweed","Zannichelliaceae",null,2237,"Zannichellia palustris_2237",null,null,null,null,null,null,null,"Zannichellia palustris_2237"]
[null,null,null,null,null,null,null,null,null,null,null,null,null,null,null,null,null,null,null,null,null,null,null,null,null,null,null,null,null,null,null,null,null,null,null,null,null,null,null,null,null,null,null,null,null,null,null,null,null,null,null,null,null,null,null,null,null,null,null,"No BRC","Viola riviniana 'Purpurea Group'",null,null,"No BRC","Zannichellia palustris subsp. palustris",null,null,"Zannichelliaceae",null,"No BRC","Zannichellia palustris subsp. palustris_No BRC",null,null,null,null,null,null,null,"Zannichellia palustris subsp. palustris_No BRC"]
[null,null,null,null,null,null,null,null,null,null,null,null,null,null,null,null,null,null,null,null,null,null,null,null,null,null,null,null,null,null,null,null,null,null,null,null,null,null,null,null,null,null,null,null,null,null,null,null,null,null,null,null,null,null,null,null,null,null,null,"No BRC","Viola sp.",null,null,"No BRC","Zannichellia palustris subsp. pedicellata","(Fr.) Syme",null,"Zannichelliaceae",null,"No BRC","Zannichellia palustris subsp. pedicellata_No BRC",null,null,null,null,null,null,null,"Zannichellia palustris subsp. pedicellata_No BRC"]
[null,null,null,null,null,null,null,null,null,null,null,null,null,null,null,null,null,null,null,null,null,null,null,null,null,null,null,null,null,null,null,null,null,null,null,null,null,null,null,null,null,null,null,null,null,null,null,null,null,null,null,null,null,null,null,null,null,null,null,"No BRC","Vulpia ligustica",null,null,7672,"Zantedeschia aethiopica","(Linnaeus) Sprengel","Altar-lily","Araceae",null,7672,"Zantedeschia aethiopica_7672",null,null,null,null,null,null,null,"Zantedeschia aethiopica_7672"]
[null,null,null,null,null,null,null,null,null,null,null,null,null,null,null,null,null,null,null,null,null,null,null,null,null,null,null,null,null,null,null,null,null,null,null,null,null,null,null,null,null,null,null,null,null,null,null,null,null,null,null,null,null,null,null,null,null,null,null,"No BRC","Wahlenbergia marginata",null,null,9091,"Zauschneria californica ","C. Presl","Californian Fuchsia","Onagraceae",null,9091,"Zauschneria californica _9091",null,null,null,null,null,null,null,"Zauschneria californica _9091"]
[null,null,null,null,null,null,null,null,null,null,null,null,null,null,null,null,null,null,null,null,null,null,null,null,null,null,null,null,null,null,null,null,null,null,null,null,null,null,null,null,null,null,null,null,null,null,null,null,null,null,null,null,null,null,null,null,null,null,null,"No BRC","X Dactylanthera chevallieriana",null,null,4439,"Zea mays","Linnaeus","Maize","Poaceae",null,4439,"Zea mays_4439",null,null,null,null,null,null,null,"Zea mays_4439"]
[null,null,null,null,null,null,null,null,null,null,null,null,null,null,null,null,null,null,null,null,null,null,null,null,null,null,null,null,null,null,null,null,null,null,null,null,null,null,null,null,null,null,null,null,null,null,null,null,null,null,null,null,null,null,null,null,null,null,null,"No BRC","X Dactylodenia evansii",null,null,"No BRC","Zelkova serrata","(Thunb.) Makino","Japanese Elm","Ulmaceae",null,"No BRC","Zelkova serrata_No BRC",null,null,null,null,null,null,null,"Zelkova serrata_No BRC"]
[null,null,null,null,null,null,null,null,null,null,null,null,null,null,null,null,null,null,null,null,null,null,null,null,null,null,null,null,null,null,null,null,null,null,null,null,null,null,null,null,null,null,null,null,null,null,null,null,null,null,null,null,null,null,null,null,null,null,null,"No BRC","X Dactylodenia heinzeliana",null,null,8279,"Zinnia elegans","Jacq.","Youth-and-age","Asteraceae",null,8279,"Zinnia elegans_8279",null,null,null,null,null,null,null,"Zinnia elegans_8279"]
[null,null,null,null,null,null,null,null,null,null,null,null,null,null,null,null,null,null,null,null,null,null,null,null,null,null,null,null,null,null,null,null,null,null,null,null,null,null,null,null,null,null,null,null,null,null,null,null,null,null,null,null,null,null,null,null,null,null,null,"No BRC","Zannichellia palustris subsp. palustris",null,null,"No BRC","Zizania latifolia","(Griseb.) Turcz. ex Stapf","Manchurian Wildrice","Poaceae",null,"No BRC","Zizania latifolia_No BRC",null,null,null,null,null,null,null,"Zizania latifolia_No BRC"]
[null,null,null,null,null,null,null,null,null,null,null,null,null,null,null,null,null,null,null,null,null,null,null,null,null,null,null,null,null,null,null,null,null,null,null,null,null,null,null,null,null,null,null,null,null,null,null,null,null,null,null,null,null,null,null,null,null,null,null,"No BRC","Zannichellia palustris subsp. pedicellata",null,null,2238,"Zostera angustifolia","(Hornem.) Reichb.","Narrow-leaved Eel-grass (Now sunk into Z marina)","Zosteraceae",null,2238,"Zostera angustifolia_2238",null,null,null,null,null,null,null,"Zostera angustifolia_2238"]
[null,null,null,null,null,null,null,null,null,null,null,null,null,null,null,null,null,null,null,null,null,null,null,null,null,null,null,null,null,null,null,null,null,null,null,null,null,null,null,null,null,null,null,null,null,null,null,null,null,null,null,null,null,null,null,null,null,null,null,"No BRC","Zelkova serrata",null,null,2239,"Zostera marina","L.","Eelgrass","Zosteraceae","Near Threatened",2239,"Zostera marina_2239",null,null,null,null,null,null,null,"Zostera marina_2239"]
[null,null,null,null,null,null,null,null,null,null,null,null,null,null,null,null,null,null,null,null,null,null,null,null,null,null,null,null,null,null,null,null,null,null,null,null,null,null,null,null,null,null,null,null,null,null,null,null,null,null,null,null,null,null,null,null,null,null,null,"No BRC","Zizania latifolia",null,null,2240,"Zostera noltei","Hornem.","Dwarf Eelgrass","Zosteraceae","Vulnerable",2240,"Zostera noltei_2240",null,null,null,null,null,null,null,"Zostera noltei_2240"]
[null,null,null,null,null,null,null,null,null,null,null,null,null,null,null,null,null,null,null,null,null,null,null,null,null,null,null,null,null,null,null,null,null,null,null,null,null,null,null,null,null,null,null,null,null,null,null,null,null,null,null,null,null,null,null,null,null,null,null,"No BRC","Zostera noltii",null,null,"No BRC","Zostera noltii",null,"Dwarf Eel-grass","Zosteraceae",null,"No BRC","Zostera noltii_No BRC",null,null,null,null,null,null,null,"Zostera noltii_No BRC"]

{"sheet":"View Records","index":2,"n_rows":1201,"n_cols":233,"rows_kept":281,"cut":true,"hidden":false,"merged":[],"bounds":{"rows_first":125,"rows_last":31,"rows_between":125,"halvings":4}}
["BRC","Taxon","Vernacular","Site","Gridref","VC","Date","Recorder","Determiner","Method","Stage","Comment",null,null,null,null,null,null,"BRC","Recorded List","Vernacular","Site","Gridref","VC","Date","Recorder","Determiner","Method","Stage","Comment",null,null,null,null,null,null,null,null,null,null,null,null,null,null,null,null,null,null,null,null,null,null,null,null,null,null,null,null,null,null,null,null,null,null,null,null,null,null,null,null,null,null,null,null,null,null,null,null,null,null,null,null,null,null,null,null,null,null,null,null,null,null,null,null,null,null,null,null,null,null,null,null,null,null,null,null,null,null,null,null,null,null,null,null,null,null,null,null,null,null,null,null,null,null,null,null,null,null,null,null,null,null,null,null,null,null,null,null,null,null,null,null,null,null,null,null,null,null,null,null,null,null,null,null,null,null,null,null,null,null,null,null,null,null,null,null,null,null,null,null,null,null,null,null,null,null,null,null,null,null,null,null,null,null,null,null,null,null,null,null,null,null,null,null,null,null,null,null,null,null,null,null,null,null,null,null,null,null,{"$f":"'View Records'!AF5","v":"BRC"},{"$f":"'View Records'!AG5","v":"Taxon"},{"$f":"'View Records'!AH5","v":"Vernacular"},{"$f":"'View Records'!AI5","v":"Site"},{"$f":"'View Records'!AJ5","v":"Gridref"},{"$f":"'View Records'!AK5","v":"VC"},{"$f":"'View Records'!AL5","v":"Recorder"},{"$f":"'View Records'!AM5","v":"Determiner"},{"$f":"'View Records'!AN5","v":"Date"},{"$f":"'View Records'!AO5","v":"Method"},{"$f":"'View Records'!AP5","v":"Stage"},"Comment",null,"BRC","Taxon","Vernacular","Site","Gridref","VC","Recorder","Determiner","Date","Method","Stage","Comment"]
[{"$f":"Checklist!AF11","v":""},{"$f":"Checklist!AG11","v":""},{"$f":"Checklist!AH11","v":""},{"$f":"Checklist!AI11","v":""},{"$f":"Checklist!AJ11","v":""},{"$f":"Checklist!AK11","v":""},{"$f":"Checklist!AL11","v":""},{"$f":"Checklist!AM11","v":""},{"$f":"Checklist!AN11","v":""},{"$f":"Checklist!AO11","v":""},{"$f":"Checklist!AP11","v":""},{"$f":"Checklist!AQ11","v":""},{"$f":"IF(A2=\"\",\"\",ROW())","v":""},{"$f":"IF(ROW(A2)-ROW(A$2)+1>COUNT($M$2:$M$1197),\"\",INDEX(A:A,SMALL($M$2:$M$1197,1+ROW(A2)-ROW(A$2))))","v":""},{"$f":"IF(ROW(L2)-ROW(L$2)+1>COUNT($M$2:$M$1197),\"\",INDEX(L:L,SMALL($M$2:$M$1197,1+ROW(L2)-ROW(L$2))))","v":""},{"$f":"IF(COUNTIF($T$2:$T$1197,\"<=\"&T2)=0,\"\",COUNTIF($T$2:$T$1197,\"<=\"&T2))","v":""},1,{"$f":"IF(ISNUMBER(P2),P2+(Q2/100000),\"\")","v":""},{"$f":"IF(N2=\"No BRC\",\"\",N2)","v":""},{"$f":"IF(ROW(B2)-ROW(B$2)+1>COUNT($M$2:$M$1197),\"\",INDEX(B:B,SMALL($M$2:$M$1197,1+ROW(B2)-ROW(B$2))))","v":""},{"$f":"IF(ROW(C2)-ROW(C$2)+1>COUNT($M$2:$M$1197),\"\",INDEX(C:C,SMALL($M$2:$M$1197,1+ROW(C2)-ROW(C$2))))","v":""},{"$f":"IF(ROW(D2)-ROW(D$2)+1>COUNT($M$2:$M$1197),\"\",INDEX(D:D,SMALL($M$2:$M$1197,1+ROW(D2)-ROW(D$2))))","v":""},{"$f":"IF(ROW(E2)-ROW(E$2)+1>COUNT($M$2:$M$1197),\"\",INDEX(E:E,SMALL($M$2:$M$1197,1+ROW(E2)-ROW(E$2))))","v":""},{"$f":"IF(ROW(F2)-ROW(F$2)+1>COUNT($M$2:$M$1197),\"\",INDEX(F:F,SMALL($M$2:$M$1197,1+ROW(F2)-ROW(F$2))))","v":""},{"$f":"IF(ROW(G2)-ROW(G$2)+1>COUNT($M$2:$M$1197),\"\",INDEX(G:G,SMALL($M$2:$M$1197,1+ROW(G2)-ROW(G$2))))","v":""},{"$f":"IF(ROW(H2)-ROW(H$2)+1>COUNT($M$2:$M$1197),\"\",INDEX(H:H,SMALL($M$2:$M$1197,1+ROW(H2)-ROW(H$2))))","v":""},{"$f":"IF(ROW(I2)-ROW(I$2)+1>COUNT($M$2:$M$1197),\"\",INDEX(I:I,SMALL($M$2:$M$1197,1+ROW(I2)-ROW(I$2))))","v":""},{"$f":"IF(ROW(J2)-ROW(J$2)+1>COUNT($M$2:$M$1197),\"\",INDEX(J:J,SMALL($M$2:$M$1197,1+ROW(J2)-ROW(J$2))))","v":""},{"$f":"IF(ROW(K2)-ROW(K$2)+1>COUNT($M$2:$M$1197),\"\",INDEX(K:K,SMALL($M$2:$M$1197,1+ROW(K2)-ROW(K$2))))","v":""},{"$f":"IF(O2=\"  --\",\"\",O2)","v":""},"Block",null,null,null,null,null,null,null,null,null,null,null,null,null,null,null,null,null,null,null,null,null,null,null,null,null,null,null,null,null,null,null,null,null,null,null,null,null,null,null,null,null,null,null,null,null,null,null,null,null,null,null,null,null,null,null,null,null,null,null,null,null,null,null,null,null,null,null,null,null,null,null,null,null,null,null,null,null,null,null,null,null,null,null,null,null,null,null,null,null,null,null,null,null,null,null,null,null,null,null,null,null,null,null,null,null,null,null,null,null,null,null,null,null,null,null,null,null,null,null,null,null,null,null,null,null,null,null,null,null,null,null,null,null,null,null,null,null,null,null,null,null,null,null,null,null,null,null,null,null,null,null,null,null,null,null,null,null,null,null,null,null,null,null,null,null,null,null,null,null,null,null,null,null,null,null,null,null,{"$f":"'View Records'!AF6","v":""},{"$f":"'View Records'!AG6","v":""},{"$f":"'View Records'!AH6","v":""},{"$f":"'View Records'!AI6","v":""},{"$f":"'View Records'!AJ6","v":""},{"$f":"'View Records'!AK6","v":""},{"$f":"'View Records'!AL6","v":""},{"$f":"'View Records'!AM6","v":""},{"$f":"'View Records'!AN6","v":""},{"$f":"'View Records'!AO6","v":""},{"$f":"'View Records'!AP6","v":""},{"$f":"'View Records'!AQ6","v":""}]
[{"$f":"Checklist!AF12","v":""},{"$f":"Checklist!AG12","v":""},{"$f":"Checklist!AH12","v":""},{"$f":"Checklist!AI12","v":""},{"$f":"Checklist!AJ12","v":""},{"$f":"Checklist!AK12","v":""},{"$f":"Checklist!AL12","v":""},{"$f":"Checklist!AM12","v":""},{"$f":"Checklist!AN12","v":""},{"$f":"Checklist!AO12","v":""},{"$f":"Checklist!AP12","v":""},{"$f":"Checklist!AQ12","v":""},{"$f":"IF(A3=\"\",\"\",ROW())","v":""},{"$f":"IF(ROW(A3)-ROW(A$2)+1>COUNT($M$2:$M$1197),\"\",INDEX(A:A,SMALL($M$2:$M$1197,1+ROW(A3)-ROW(A$2))))","v":""},{"$f":"IF(ROW(L3)-ROW(L$2)+1>COUNT($M$2:$M$1197),\"\",INDEX(L:L,SMALL($M$2:$M$1197,1+ROW(L3)-ROW(L$2))))","v":""},{"$f":"IF(COUNTIF($T$2:$T$1197,\"<=\"&T3)=0,\"\",COUNTIF($T$2:$T$1197,\"<=\"&T3))","v":""},2,{"$f":"IF(ISNUMBER(P3),P3+(Q3/100000),\"\")","v":""},"","","","","","","","","","","","","Block",null,null,null,null,null,null,null,null,null,null,null,null,null,null,null,null,null,null,null,null,null,null,null,null,null,null,null,null,null,null,null,null,null,null,null,null,null,null,null,null,null,null,null,null,null,null,null,null,null,null,null,null,null,null,null,null,null,null,null,null,null,null,null,null,null,null,null,null,null,null,null,null,null,null,null,null,null,null,null,null,null,null,null,null,null,null,null,null,null,null,null,null,null,null,null,null,null,null,null,null,null,null,null,null,null,null,null,null,null,null,null,null,null,null,null,null,null,null,null,null,null,null,null,null,null,null,null,null,null,null,null,null,null,null,null,null,null,null,null,null,null,null,null,null,null,null,null,null,null,null,null,null,null,null,null,null,null,null,null,null,null,null,null,null,null,null,null,null,null,null,null,null,null,null,null,null,null,{"$f":"'View Records'!AF7","v":""},{"$f":"'View Records'!AG7","v":""},{"$f":"'View Records'!AH7","v":""},{"$f":"'View Records'!AI7","v":""},{"$f":"'View Records'!AJ7","v":""},{"$f":"'View Records'!AK7","v":""},{"$f":"'View Records'!AL7","v":""},{"$f":"'View Records'!AM7","v":""},{"$f":"'View Records'!AN7","v":""},{"$f":"'View Records'!AO7","v":""},{"$f":"'View Records'!AP7","v":""},{"$f":"'View Records'!AQ7","v":""}]
[{"$f":"Checklist!AF13","v":""},{"$f":"Checklist!AG13","v":""},{"$f":"Checklist!AH13","v":""},{"$f":"Checklist!AI13","v":""},{"$f":"Checklist!AJ13","v":""},{"$f":"Checklist!AK13","v":""},{"$f":"Checklist!AL13","v":""},{"$f":"Checklist!AM13","v":""},{"$f":"Checklist!AN13","v":""},{"$f":"Checklist!AO13","v":""},{"$f":"Checklist!AP13","v":""},{"$f":"Checklist!AQ13","v":""},"","","","",3,"","","","","","","","","","","","","","Block",null,null,null,null,null,null,null,null,null,null,null,null,null,null,null,null,null,null,null,null,null,null,null,null,null,null,null,null,null,null,null,null,null,null,null,null,null,null,null,null,null,null,null,null,null,null,null,null,null,null,null,null,null,null,null,null,null,null,null,null,null,null,null,null,null,null,null,null,null,null,null,null,null,null,null,null,null,null,null,null,null,null,null,null,null,null,null,null,null,null,null,null,null,null,null,null,null,null,null,null,null,null,null,null,null,null,null,null,null,null,null,null,null,null,null,null,null,null,null,null,null,null,null,null,null,null,null,null,null,null,null,null,null,null,null,null,null,null,null,null,null,null,null,null,null,null,null,null,null,null,null,null,null,null,null,null,null,null,null,null,null,null,null,null,null,null,null,null,null,null,null,null,null,null,null,null,null,{"$f":"'View Records'!AF8","v":""},{"$f":"'View Records'!AG8","v":""},{"$f":"'View Records'!AH8","v":""},{"$f":"'View Records'!AI8","v":""},{"$f":"'View Records'!AJ8","v":""},{"$f":"'View Records'!AK8","v":""},{"$f":"'View Records'!AL8","v":""},{"$f":"'View Records'!AM8","v":""},{"$f":"'View Records'!AN8","v":""},{"$f":"'View Records'!AO8","v":""},{"$f":"'View Records'!AP8","v":""},{"$f":"'View Records'!AQ8","v":""}]
[{"$f":"Checklist!AF14","v":""},{"$f":"Checklist!AG14","v":""},{"$f":"Checklist!AH14","v":""},{"$f":"Checklist!AI14","v":""},{"$f":"Checklist!AJ14","v":""},{"$f":"Checklist!AK14","v":""},{"$f":"Checklist!AL14","v":""},{"$f":"Checklist!AM14","v":""},{"$f":"Checklist!AN14","v":""},{"$f":"Checklist!AO14","v":""},{"$f":"Checklist!AP14","v":""},{"$f":"Checklist!AQ14","v":""},"","","","",4,"","","","","","","","","","","","","","Block","BRC","Taxon","Vernacular","Site","Gridref","VC","Recorder","Determiner","Date","Method","Stage","Comment",null,null,null,null,null,null,null,null,null,null,null,null,null,null,null,null,null,null,null,null,null,null,null,null,null,null,null,null,null,null,null,null,null,null,null,null,null,null,null,null,null,null,null,null,null,null,null,null,null,null,null,null,null,null,null,null,null,null,null,null,null,null,null,null,null,null,null,null,null,null,null,null,null,null,null,null,null,null,null,null,null,null,null,null,null,null,null,null,null,null,null,null,null,null,null,null,null,null,null,null,null,null,null,null,null,null,null,null,null,null,null,null,null,null,null,null,null,null,null,null,null,null,null,null,null,null,null,null,null,null,null,null,null,null,null,null,null,null,null,null,null,null,null,null,null,null,null,null,null,null,null,null,null,null,null,null,null,null,null,null,null,null,null,null,null,{"$f":"'View Records'!AF9","v":""},{"$f":"'View Records'!AG9","v":""},{"$f":"'View Records'!AH9","v":""},{"$f":"'View Records'!AI9","v":""},{"$f":"'View Records'!AJ9","v":""},{"$f":"'View Records'!AK9","v":""},{"$f":"'View Records'!AL9","v":""},{"$f":"'View Records'!AM9","v":""},{"$f":"'View Records'!AN9","v":""},{"$f":"'View Records'!AO9","v":""},{"$f":"'View Records'!AP9","v":""},{"$f":"'View Records'!AQ9","v":""}]
[{"$f":"Checklist!AF15","v":""},{"$f":"Checklist!AG15","v":""},{"$f":"Checklist!AH15","v":""},{"$f":"Checklist!AI15","v":""},{"$f":"Checklist!AJ15","v":""},{"$f":"Checklist!AK15","v":""},{"$f":"Checklist!AL15","v":""},{"$f":"Checklist!AM15","v":""},{"$f":"Checklist!AN15","v":""},{"$f":"Checklist!AO15","v":""},{"$f":"Checklist!AP15","v":""},{"$f":"Checklist!AQ15","v":""},"","","","",5,"","","","","","","","","","","","","","Block",{"$f":"IF(ISNUMBER($P2),VLOOKUP(SMALL($R$2:$R$1197,ROW()-5),$R$2:$AD$1197,2,FALSE),\"\")","v":""},{"$f":"IF(ISNUMBER($P2),VLOOKUP(SMALL($R$2:$R$1197,ROW()-5),$R$2:$AD$1197,3,FALSE),\"\")","v":""},{"$f":"IF(ISNUMBER($P2),VLOOKUP(SMALL($R$2:$R$1197,ROW()-5),$R$2:$AD$1197,4,FALSE),\"\")","v":""},{"$f":"IF(ISNUMBER($P2),VLOOKUP(SMALL($R$2:$R$1197,ROW()-5),$R$2:$AD$1197,5,FALSE),\"\")","v":""},{"$f":"IF(ISNUMBER($P2),VLOOKUP(SMALL($R$2:$R$1197,ROW()-5),$R$2:$AD$1197,6,FALSE),\"\")","v":""},{"$f":"IF(ISNUMBER($P2),VLOOKUP(SMALL($R$2:$R$1197,ROW()-5),$R$2:$AD$1197,7,FALSE),\"\")","v":""},{"$f":"IF(ISNUMBER($P2),VLOOKUP(SMALL($R$2:$R$1197,ROW()-5),$R$2:$AD$1197,9,FALSE),\"\")","v":""},{"$f":"IF(ISNUMBER($P2),VLOOKUP(SMALL($R$2:$R$1197,ROW()-5),$R$2:$AD$1197,10,FALSE),\"\")","v":""},{"$f":"IF(ISNUMBER($P2),VLOOKUP(SMALL($R$2:$R$1197,ROW()-5),$R$2:$AD$1197,8,FALSE),\"\")","v":""},{"$f":"IF(ISNUMBER($P2),VLOOKUP(SMALL($R$2:$R$1197,ROW()-5),$R$2:$AD$1197,11,FALSE),\"\")","v":""},{"$f":"IF(ISNUMBER($P2),VLOOKUP(SMALL($R$2:$R$1197,ROW()-5),$R$2:$AD$1197,12,FALSE),\"\")","v":""},{"$f":"IF(ISNUMBER($P2),VLOOKUP(SMALL($R$2:$R$1197,ROW()-5),$R$2:$AD$1197,13,FALSE),\"\")","v":""},null,null,null,null,null,null,null,null,null,null,null,null,null,null,null,null,null,null,null,null,null,null,null,null,null,null,null,null,null,null,null,null,null,null,null,null,null,null,null,null,null,null,null,null,null,null,null,null,null,null,null,null,null,null,null,null,null,null,null,null,null,null,null,null,null,null,null,null,null,null,null,null,null,null,null,null,null,null,null,null,null,null,null,null,null,null,null,null,null,null,null,null,null,null,null,null,null,null,null,null,null,null,null,null,null,null,null,null,null,null,null,null,null,null,null,null,null,null,null,null,null,null,null,null,null,null,null,null,null,null,null,null,null,null,null,null,null,null,null,null,null,null,null,null,null,null,null,null,null,null,null,null,null,null,null,null,null,null,null,null,null,null,null,null,null,{"$f":"'View Records'!AF10","v":""},{"$f":"'View Records'!AG10","v":""},{"$f":"'View Records'!AH10","v":""},{"$f":"'View Records'!AI10","v":""},{"$f":"'View Records'!AJ10","v":""},{"$f":"'View Records'!AK10","v":""},{"$f":"'View Records'!AL10","v":""},{"$f":"'View Records'!AM10","v":""},{"$f":"'View Records'!AN10","v":""},{"$f":"'View Records'!AO10","v":""},{"$f":"'View Records'!AP10","v":""},{"$f":"'View Records'!AQ10","v":""}]
[{"$f":"Checklist!AF16","v":""},{"$f":"Checklist!AG16","v":""},{"$f":"Checklist!AH16","v":""},{"$f":"Checklist!AI16","v":""},{"$f":"Checklist!AJ16","v":""},{"$f":"Checklist!AK16","v":""},{"$f":"Checklist!AL16","v":""},{"$f":"Checklist!AM16","v":""},{"$f":"Checklist!AN16","v":""},{"$f":"Checklist!AO16","v":""},{"$f":"Checklist!AP16","v":""},{"$f":"Checklist!AQ16","v":""},"","","","",6,"","","","","","","","","","","","","","Block","","","","","","","","","","",{"$f":"IF(ISNUMBER($P3),VLOOKUP(SMALL($R$2:$R$1197,ROW()-5),$R$2:$AD$1197,12,FALSE),\"\")","v":""},{"$f":"IF(ISNUMBER($P3),VLOOKUP(SMALL($R$2:$R$1197,ROW()-5),$R$2:$AD$1197,13,FALSE),\"\")","v":""},null,null,null,null,null,null,null,null,null,null,null,null,null,null,null,null,null,null,null,null,null,null,null,null,null,null,null,null,null,null,null,null,null,null,null,null,null,null,null,null,null,null,null,null,null,null,null,null,null,null,null,null,null,null,null,null,null,null,null,null,null,null,null,null,null,null,null,null,null,null,null,null,null,null,null,null,null,null,null,null,null,null,null,null,null,null,null,null,null,null,null,null,null,null,null,null,null,null,null,null,null,null,null,null,null,null,null,null,null,null,null,null,null,null,null,null,null,null,null,null,null,null,null,null,null,null,null,null,null,null,null,null,null,null,null,null,null,null,null,null,null,null,null,null,null,null,null,null,null,null,null,null,null,null,null,null,null,null,null,null,null,null,null,null,null,{"$f":"'View Records'!AF11","v":""},{"$f":"'View Records'!AG11","v":""},{"$f":"'View Records'!AH11","v":""},{"$f":"'View Records'!AI11","v":""},{"$f":"'View Records'!AJ11","v":""},{"$f":"'View Records'!AK11","v":""},{"$f":"'View Records'!AL11","v":""},{"$f":"'View Records'!AM11","v":""},{"$f":"'View Records'!AN11","v":""},{"$f":"'View Records'!AO11","v":""},{"$f":"'View Records'!AP11","v":""},{"$f":"'View Records'!AQ11","v":""}]
[{"$f":"Checklist!AF17","v":""},{"$f":"Checklist!AG17","v":""},{"$f":"Checklist!AH17","v":""},{"$f":"Checklist!AI17","v":""},{"$f":"Checklist!AJ17","v":""},{"$f":"Checklist!AK17","v":""},{"$f":"Checklist!AL17","v":""},{"$f":"Checklist!AM17","v":""},{"$f":"Checklist!AN17","v":""},{"$f":"Checklist!AO17","v":""},{"$f":"Checklist!AP17","v":""},{"$f":"Checklist!AQ17","v":""},"","","","",7,"","","","","","","","","","","","","","Block","","","","","","","","","","","","",null,null,null,null,null,null,null,null,null,null,null,null,null,null,null,null,null,null,null,null,null,null,null,null,null,null,null,null,null,null,null,null,null,null,null,null,null,null,null,null,null,null,null,null,null,null,null,null,null,null,null,null,null,null,null,null,null,null,null,null,null,null,null,null,null,null,null,null,null,null,null,null,null,null,null,null,null,null,null,null,null,null,null,null,null,null,null,null,null,null,null,null,null,null,null,null,null,null,null,null,null,null,null,null,null,null,null,null,null,null,null,null,null,null,null,null,null,null,null,null,null,null,null,null,null,null,null,null,null,null,null,null,null,null,null,null,null,null,null,null,null,null,null,null,null,null,null,null,null,null,null,null,null,null,null,null,null,null,null,null,null,null,null,null,null,{"$f":"'View Records'!AF12","v":""},{"$f":"'View Records'!AG12","v":""},{"$f":"'View Records'!AH12","v":""},{"$f":"'View Records'!AI12","v":""},{"$f":"'View Records'!AJ12","v":""},{"$f":"'View Records'!AK12","v":""},{"$f":"'View Records'!AL12","v":""},{"$f":"'View Records'!AM12","v":""},{"$f":"'View Records'!AN12","v":""},{"$f":"'View Records'!AO12","v":""},{"$f":"'View Records'!AP12","v":""},{"$f":"'View Records'!AQ12","v":""}]
[{"$f":"Checklist!AF18","v":""},{"$f":"Checklist!AG18","v":""},{"$f":"Checklist!AH18","v":""},{"$f":"Checklist!AI18","v":""},{"$f":"Checklist!AJ18","v":""},{"$f":"Checklist!AK18","v":""},{"$f":"Checklist!AL18","v":""},{"$f":"Checklist!AM18","v":""},{"$f":"Checklist!AN18","v":""},{"$f":"Checklist!AO18","v":""},{"$f":"Checklist!AP18","v":""},{"$f":"Checklist!AQ18","v":""},"","","","",8,"","","","","","","","","","","","","","Block","","","","","","","","","","","","",null,null,null,null,null,null,null,null,null,null,null,null,null,null,null,null,null,null,null,null,null,null,null,null,null,null,null,null,null,null,null,null,null,null,null,null,null,null,null,null,null,null,null,null,null,null,null,null,null,null,null,null,null,null,null,null,null,null,null,null,null,null,null,null,null,null,null,null,null,null,null,null,null,null,null,null,null,null,null,null,null,null,null,null,null,null,null,null,null,null,null,null,null,null,null,null,null,null,null,null,null,null,null,null,null,null,null,null,null,null,null,null,null,null,null,null,null,null,null,null,null,null,null,null,null,null,null,null,null,null,null,null,null,null,null,null,null,null,null,null,null,null,null,null,null,null,null,null,null,null,null,null,null,null,null,null,null,null,null,null,null,null,null,null,null,{"$f":"'View Records'!AF13","v":""},{"$f":"'View Records'!AG13","v":""},{"$f":"'View Records'!AH13","v":""},{"$f":"'View Records'!AI13","v":""},{"$f":"'View Records'!AJ13","v":""},{"$f":"'View Records'!AK13","v":""},{"$f":"'View Records'!AL13","v":""},{"$f":"'View Records'!AM13","v":""},{"$f":"'View Records'!AN13","v":""},{"$f":"'View Records'!AO13","v":""},{"$f":"'View Records'!AP13","v":""},{"$f":"'View Records'!AQ13","v":""}]
[{"$f":"Checklist!AF19","v":""},{"$f":"Checklist!AG19","v":""},{"$f":"Checklist!AH19","v":""},{"$f":"Checklist!AI19","v":""},{"$f":"Checklist!AJ19","v":""},{"$f":"Checklist!AK19","v":""},{"$f":"Checklist!AL19","v":""},{"$f":"Checklist!AM19","v":""},{"$f":"Checklist!AN19","v":""},{"$f":"Checklist!AO19","v":""},{"$f":"Checklist!AP19","v":""},{"$f":"Checklist!AQ19","v":""},"","","","",9,"","","","","","","","","","","","","","Block","","","","","","","","","","","","",null,null,null,null,null,null,null,null,null,null,null,null,null,null,null,null,null,null,null,null,null,null,null,null,null,null,null,null,null,null,null,null,null,null,null,null,null,null,null,null,null,null,null,null,null,null,null,null,null,null,null,null,null,null,null,null,null,null,null,null,null,null,null,null,null,null,null,null,null,null,null,null,null,null,null,null,null,null,null,null,null,null,null,null,null,null,null,null,null,null,null,null,null,null,null,null,null,null,null,null,null,null,null,null,null,null,null,null,null,null,null,null,null,null,null,null,null,null,null,null,null,null,null,null,null,null,null,null,null,null,null,null,null,null,null,null,null,null,null,null,null,null,null,null,null,null,null,null,null,null,null,null,null,null,null,null,null,null,null,null,null,null,null,null,null,{"$f":"'View Records'!AF14","v":""},{"$f":"'View Records'!AG14","v":""},{"$f":"'View Records'!AH14","v":""},{"$f":"'View Records'!AI14","v":""},{"$f":"'View Records'!AJ14","v":""},{"$f":"'View Records'!AK14","v":""},{"$f":"'View Records'!AL14","v":""},{"$f":"'View Records'!AM14","v":""},{"$f":"'View Records'!AN14","v":""},{"$f":"'View Records'!AO14","v":""},{"$f":"'View Records'!AP14","v":""},{"$f":"'View Records'!AQ14","v":""}]
[{"$f":"Checklist!AF20","v":""},{"$f":"Checklist!AG20","v":""},{"$f":"Checklist!AH20","v":""},{"$f":"Checklist!AI20","v":""},{"$f":"Checklist!AJ20","v":""},{"$f":"Checklist!AK20","v":""},{"$f":"Checklist!AL20","v":""},{"$f":"Checklist!AM20","v":""},{"$f":"Checklist!AN20","v":""},{"$f":"Checklist!AO20","v":""},{"$f":"Checklist!AP20","v":""},{"$f":"Checklist!AQ20","v":""},"","","","",10,"","","","","","","","","","","","","","Block","","","","","","","","","","","","",null,null,null,null,null,null,null,null,null,null,null,null,null,null,null,null,null,null,null,null,null,null,null,null,null,null,null,null,null,null,null,null,null,null,null,null,null,null,null,null,null,null,null,null,null,null,null,null,null,null,null,null,null,null,null,null,null,null,null,null,null,null,null,null,null,null,null,null,null,null,null,null,null,null,null,null,null,null,null,null,null,null,null,null,null,null,null,null,null,null,null,null,null,null,null,null,null,null,null,null,null,null,null,null,null,null,null,null,null,null,null,null,null,null,null,null,null,null,null,null,null,null,null,null,null,null,null,null,null,null,null,null,null,null,null,null,null,null,null,null,null,null,null,null,null,null,null,null,null,null,null,null,null,null,null,null,null,null,null,null,null,null,null,null,null,{"$f":"'View Records'!AF15","v":""},{"$f":"'View Records'!AG15","v":""},{"$f":"'View Records'!AH15","v":""},{"$f":"'View Records'!AI15","v":""},{"$f":"'View Records'!AJ15","v":""},{"$f":"'View Records'!AK15","v":""},{"$f":"'View Records'!AL15","v":""},{"$f":"'View Records'!AM15","v":""},{"$f":"'View Records'!AN15","v":""},{"$f":"'View Records'!AO15","v":""},{"$f":"'View Records'!AP15","v":""},{"$f":"'View Records'!AQ15","v":""}]
[{"$f":"Checklist!AF21","v":""},{"$f":"Checklist!AG21","v":""},{"$f":"Checklist!AH21","v":""},{"$f":"Checklist!AI21","v":""},{"$f":"Checklist!AJ21","v":""},{"$f":"Checklist!AK21","v":""},{"$f":"Checklist!AL21","v":""},{"$f":"Checklist!AM21","v":""},{"$f":"Checklist!AN21","v":""},{"$f":"Checklist!AO21","v":""},{"$f":"Checklist!AP21","v":""},{"$f":"Checklist!AQ21","v":""},"","","","",11,"","","","","","","","","","","","","","Block","","","","","","","","","","","","",null,null,null,null,null,null,null,null,null,null,null,null,null,null,null,null,null,null,null,null,null,null,null,null,null,null,null,null,null,null,null,null,null,null,null,null,null,null,null,null,null,null,null,null,null,null,null,null,null,null,null,null,null,null,null,null,null,null,null,null,null,null,null,null,null,null,null,null,null,null,null,null,null,null,null,null,null,null,null,null,null,null,null,null,null,null,null,null,null,null,null,null,null,null,null,null,null,null,null,null,null,null,null,null,null,null,null,null,null,null,null,null,null,null,null,null,null,null,null,null,null,null,null,null,null,null,null,null,null,null,null,null,null,null,null,null,null,null,null,null,null,null,null,null,null,null,null,null,null,null,null,null,null,null,null,null,null,null,null,null,null,null,null,null,null,{"$f":"'View Records'!AF16","v":""},{"$f":"'View Records'!AG16","v":""},{"$f":"'View Records'!AH16","v":""},{"$f":"'View Records'!AI16","v":""},{"$f":"'View Records'!AJ16","v":""},{"$f":"'View Records'!AK16","v":""},{"$f":"'View Records'!AL16","v":""},{"$f":"'View Records'!AM16","v":""},{"$f":"'View Records'!AN16","v":""},{"$f":"'View Records'!AO16","v":""},{"$f":"'View Records'!AP16","v":""},{"$f":"'View Records'!AQ16","v":""}]
[{"$f":"Checklist!AF22","v":""},{"$f":"Checklist!AG22","v":""},{"$f":"Checklist!AH22","v":""},{"$f":"Checklist!AI22","v":""},{"$f":"Checklist!AJ22","v":""},{"$f":"Checklist!AK22","v":""},{"$f":"Checklist!AL22","v":""},{"$f":"Checklist!AM22","v":""},{"$f":"Checklist!AN22","v":""},{"$f":"Checklist!AO22","v":""},{"$f":"Checklist!AP22","v":""},{"$f":"Checklist!AQ22","v":""},"","","","",12,"","","","","","","","","","","","","","Block","","","","","","","","","","","","",null,null,null,null,null,null,null,null,null,null,null,null,null,null,null,null,null,null,null,null,null,null,null,null,null,null,null,null,null,null,null,null,null,null,null,null,null,null,null,null,null,null,null,null,null,null,null,null,null,null,null,null,null,null,null,null,null,null,null,null,null,null,null,null,null,null,null,null,null,null,null,null,null,null,null,null,null,null,null,null,null,null,null,null,null,null,null,null,null,null,null,null,null,null,null,null,null,null,null,null,null,null,null,null,null,null,null,null,null,null,null,null,null,null,null,null,null,null,null,null,null,null,null,null,null,null,null,null,null,null,null,null,null,null,null,null,null,null,null,null,null,null,null,null,null,null,null,null,null,null,null,null,null,null,null,null,null,null,null,null,null,null,null,null,null,{"$f":"'View Records'!AF17","v":""},{"$f":"'View Records'!AG17","v":""},{"$f":"'View Records'!AH17","v":""},{"$f":"'View Records'!AI17","v":""},{"$f":"'View Records'!AJ17","v":""},{"$f":"'View Records'!AK17","v":""},{"$f":"'View Records'!AL17","v":""},{"$f":"'View Records'!AM17","v":""},{"$f":"'View Records'!AN17","v":""},{"$f":"'View Records'!AO17","v":""},{"$f":"'View Records'!AP17","v":""},{"$f":"'View Records'!AQ17","v":""}]
[{"$f":"Checklist!AF23","v":""},{"$f":"Checklist!AG23","v":""},{"$f":"Checklist!AH23","v":""},{"$f":"Checklist!AI23","v":""},{"$f":"Checklist!AJ23","v":""},{"$f":"Checklist!AK23","v":""},{"$f":"Checklist!AL23","v":""},{"$f":"Checklist!AM23","v":""},{"$f":"Checklist!AN23","v":""},{"$f":"Checklist!AO23","v":""},{"$f":"Checklist!AP23","v":""},{"$f":"Checklist!AQ23","v":""},"","","","",13,"","","","","","","","","","","","","","Block","","","","","","","","","","","","",null,null,null,null,null,null,null,null,null,null,null,null,null,null,null,null,null,null,null,null,null,null,null,null,null,null,null,null,null,null,null,null,null,null,null,null,null,null,null,null,null,null,null,null,null,null,null,null,null,null,null,null,null,null,null,null,null,null,null,null,null,null,null,null,null,null,null,null,null,null,null,null,null,null,null,null,null,null,null,null,null,null,null,null,null,null,null,null,null,null,null,null,null,null,null,null,null,null,null,null,null,null,null,null,null,null,null,null,null,null,null,null,null,null,null,null,null,null,null,null,null,null,null,null,null,null,null,null,null,null,null,null,null,null,null,null,null,null,null,null,null,null,null,null,null,null,null,null,null,null,null,null,null,null,null,null,null,null,null,null,null,null,null,null,null,{"$f":"'View Records'!AF18","v":""},{"$f":"'View Records'!AG18","v":""},{"$f":"'View Records'!AH18","v":""},{"$f":"'View Records'!AI18","v":""},{"$f":"'View Records'!AJ18","v":""},{"$f":"'View Records'!AK18","v":""},{"$f":"'View Records'!AL18","v":""},{"$f":"'View Records'!AM18","v":""},{"$f":"'View Records'!AN18","v":""},{"$f":"'View Records'!AO18","v":""},{"$f":"'View Records'!AP18","v":""},{"$f":"'View Records'!AQ18","v":""}]
[{"$f":"Checklist!AF24","v":""},{"$f":"Checklist!AG24","v":""},{"$f":"Checklist!AH24","v":""},{"$f":"Checklist!AI24","v":""},{"$f":"Checklist!AJ24","v":""},{"$f":"Checklist!AK24","v":""},{"$f":"Checklist!AL24","v":""},{"$f":"Checklist!AM24","v":""},{"$f":"Checklist!AN24","v":""},{"$f":"Checklist!AO24","v":""},{"$f":"Checklist!AP24","v":""},{"$f":"Checklist!AQ24","v":""},"","","","",14,"","","","","","","","","","","","","","Block","","","","","","","","","","","","",null,null,null,null,null,null,null,null,null,null,null,null,null,null,null,null,null,null,null,null,null,null,null,null,null,null,null,null,null,null,null,null,null,null,null,null,null,null,null,null,null,null,null,null,null,null,null,null,null,null,null,null,null,null,null,null,null,null,null,null,null,null,null,null,null,null,null,null,null,null,null,null,null,null,null,null,null,null,null,null,null,null,null,null,null,null,null,null,null,null,null,null,null,null,null,null,null,null,null,null,null,null,null,null,null,null,null,null,null,null,null,null,null,null,null,null,null,null,null,null,null,null,null,null,null,null,null,null,null,null,null,null,null,null,null,null,null,null,null,null,null,null,null,null,null,null,null,null,null,null,null,null,null,null,null,null,null,null,null,null,null,null,null,null,null,{"$f":"'View Records'!AF19","v":""},{"$f":"'View Records'!AG19","v":""},{"$f":"'View Records'!AH19","v":""},{"$f":"'View Records'!AI19","v":""},{"$f":"'View Records'!AJ19","v":""},{"$f":"'View Records'!AK19","v":""},{"$f":"'View Records'!AL19","v":""},{"$f":"'View Records'!AM19","v":""},{"$f":"'View Records'!AN19","v":""},{"$f":"'View Records'!AO19","v":""},{"$f":"'View Records'!AP19","v":""},{"$f":"'View Records'!AQ19","v":""}]
[{"$f":"Checklist!AF25","v":""},{"$f":"Checklist!AG25","v":""},{"$f":"Checklist!AH25","v":""},{"$f":"Checklist!AI25","v":""},{"$f":"Checklist!AJ25","v":""},{"$f":"Checklist!AK25","v":""},{"$f":"Checklist!AL25","v":""},{"$f":"Checklist!AM25","v":""},{"$f":"Checklist!AN25","v":""},{"$f":"Checklist!AO25","v":""},{"$f":"Checklist!AP25","v":""},{"$f":"Checklist!AQ25","v":""},"","","","",15,"","","","","","","","","","","","","","Block","","","","","","","","","","","","",null,null,null,null,null,null,null,null,null,null,null,null,null,null,null,null,null,null,null,null,null,null,null,null,null,null,null,null,null,null,null,null,null,null,null,null,null,null,null,null,null,null,null,null,null,null,null,null,null,null,null,null,null,null,null,null,null,null,null,null,null,null,null,null,null,null,null,null,null,null,null,null,null,null,null,null,null,null,null,null,null,null,null,null,null,null,null,null,null,null,null,null,null,null,null,null,null,null,null,null,null,null,null,null,null,null,null,null,null,null,null,null,null,null,null,null,null,null,null,null,null,null,null,null,null,null,null,null,null,null,null,null,null,null,null,null,null,null,null,null,null,null,null,null,null,null,null,null,null,null,null,null,null,null,null,null,null,null,null,null,null,null,null,null,null,{"$f":"'View Records'!AF20","v":""},{"$f":"'View Records'!AG20","v":""},{"$f":"'View Records'!AH20","v":""},{"$f":"'View Records'!AI20","v":""},{"$f":"'View Records'!AJ20","v":""},{"$f":"'View Records'!AK20","v":""},{"$f":"'View Records'!AL20","v":""},{"$f":"'View Records'!AM20","v":""},{"$f":"'View Records'!AN20","v":""},{"$f":"'View Records'!AO20","v":""},{"$f":"'View Records'!AP20","v":""},{"$f":"'View Records'!AQ20","v":""}]
[{"$f":"Checklist!AF26","v":""},{"$f":"Checklist!AG26","v":""},{"$f":"Checklist!AH26","v":""},{"$f":"Checklist!AI26","v":""},{"$f":"Checklist!AJ26","v":""},{"$f":"Checklist!AK26","v":""},{"$f":"Checklist!AL26","v":""},{"$f":"Checklist!AM26","v":""},{"$f":"Checklist!AN26","v":""},{"$f":"Checklist!AO26","v":""},{"$f":"Checklist!AP26","v":""},{"$f":"Checklist!AQ26","v":""},"","","","",16,"","","","","","","","","","","","","","Block","","","","","","","","","","","","",null,null,null,null,null,null,null,null,null,null,null,null,null,null,null,null,null,null,null,null,null,null,null,null,null,null,null,null,null,null,null,null,null,null,null,null,null,null,null,null,null,null,null,null,null,null,null,null,null,null,null,null,null,null,null,null,null,null,null,null,null,null,null,null,null,null,null,null,null,null,null,null,null,null,null,null,null,null,null,null,null,null,null,null,null,null,null,null,null,null,null,null,null,null,null,null,null,null,null,null,null,null,null,null,null,null,null,null,null,null,null,null,null,null,null,null,null,null,null,null,null,null,null,null,null,null,null,null,null,null,null,null,null,null,null,null,null,null,null,null,null,null,null,null,null,null,null,null,null,null,null,null,null,null,null,null,null,null,null,null,null,null,null,null,null,{"$f":"'View Records'!AF21","v":""},{"$f":"'View Records'!AG21","v":""},{"$f":"'View Records'!AH21","v":""},{"$f":"'View Records'!AI21","v":""},{"$f":"'View Records'!AJ21","v":""},{"$f":"'View Records'!AK21","v":""},{"$f":"'View Records'!AL21","v":""},{"$f":"'View Records'!AM21","v":""},{"$f":"'View Records'!AN21","v":""},{"$f":"'View Records'!AO21","v":""},{"$f":"'View Records'!AP21","v":""},{"$f":"'View Records'!AQ21","v":""}]
[{"$f":"Checklist!AF27","v":""},{"$f":"Checklist!AG27","v":""},{"$f":"Checklist!AH27","v":""},{"$f":"Checklist!AI27","v":""},{"$f":"Checklist!AJ27","v":""},{"$f":"Checklist!AK27","v":""},{"$f":"Checklist!AL27","v":""},{"$f":"Checklist!AM27","v":""},{"$f":"Checklist!AN27","v":""},{"$f":"Checklist!AO27","v":""},{"$f":"Checklist!AP27","v":""},{"$f":"Checklist!AQ27","v":""},"","","","",17,"","","","","","","","","","","","","","Block","","","","","","","","","","","","",null,null,null,null,null,null,null,null,null,null,null,null,null,null,null,null,null,null,null,null,null,null,null,null,null,null,null,null,null,null,null,null,null,null,null,null,null,null,null,null,null,null,null,null,null,null,null,null,null,null,null,null,null,null,null,null,null,null,null,null,null,null,null,null,null,null,null,null,null,null,null,null,null,null,null,null,null,null,null,null,null,null,null,null,null,null,null,null,null,null,null,null,null,null,null,null,null,null,null,null,null,null,null,null,null,null,null,null,null,null,null,null,null,null,null,null,null,null,null,null,null,null,null,null,null,null,null,null,null,null,null,null,null,null,null,null,null,null,null,null,null,null,null,null,null,null,null,null,null,null,null,null,null,null,null,null,null,null,null,null,null,null,null,null,null,{"$f":"'View Records'!AF22","v":""},{"$f":"'View Records'!AG22","v":""},{"$f":"'View Records'!AH22","v":""},{"$f":"'View Records'!AI22","v":""},{"$f":"'View Records'!AJ22","v":""},{"$f":"'View Records'!AK22","v":""},{"$f":"'View Records'!AL22","v":""},{"$f":"'View Records'!AM22","v":""},{"$f":"'View Records'!AN22","v":""},{"$f":"'View Records'!AO22","v":""},{"$f":"'View Records'!AP22","v":""},{"$f":"'View Records'!AQ22","v":""}]
[{"$f":"Checklist!AF28","v":""},{"$f":"Checklist!AG28","v":""},{"$f":"Checklist!AH28","v":""},{"$f":"Checklist!AI28","v":""},{"$f":"Checklist!AJ28","v":""},{"$f":"Checklist!AK28","v":""},{"$f":"Checklist!AL28","v":""},{"$f":"Checklist!AM28","v":""},{"$f":"Checklist!AN28","v":""},{"$f":"Checklist!AO28","v":""},{"$f":"Checklist!AP28","v":""},{"$f":"Checklist!AQ28","v":""},"","","","",18,"","","","","","","","","","","","","","Block","","","","","","","","","","","","",null,null,null,null,null,null,null,null,null,null,null,null,null,null,null,null,null,null,null,null,null,null,null,null,null,null,null,null,null,null,null,null,null,null,null,null,null,null,null,null,null,null,null,null,null,null,null,null,null,null,null,null,null,null,null,null,null,null,null,null,null,null,null,null,null,null,null,null,null,null,null,null,null,null,null,null,null,null,null,null,null,null,null,null,null,null,null,null,null,null,null,null,null,null,null,null,null,null,null,null,null,null,null,null,null,null,null,null,null,null,null,null,null,null,null,null,null,null,null,null,null,null,null,null,null,null,null,null,null,null,null,null,null,null,null,null,null,null,null,null,null,null,null,null,null,null,null,null,null,null,null,null,null,null,null,null,null,null,null,null,null,null,null,null,null,{"$f":"'View Records'!AF23","v":""},{"$f":"'View Records'!AG23","v":""},{"$f":"'View Records'!AH23","v":""},{"$f":"'View Records'!AI23","v":""},{"$f":"'View Records'!AJ23","v":""},{"$f":"'View Records'!AK23","v":""},{"$f":"'View Records'!AL23","v":""},{"$f":"'View Records'!AM23","v":""},{"$f":"'View Records'!AN23","v":""},{"$f":"'View Records'!AO23","v":""},{"$f":"'View Records'!AP23","v":""},{"$f":"'View Records'!AQ23","v":""}]
[{"$f":"Checklist!AF29","v":""},{"$f":"Checklist!AG29","v":""},{"$f":"Checklist!AH29","v":""},{"$f":"Checklist!AI29","v":""},{"$f":"Checklist!AJ29","v":""},{"$f":"Checklist!AK29","v":""},{"$f":"Checklist!AL29","v":""},{"$f":"Checklist!AM29","v":""},{"$f":"Checklist!AN29","v":""},{"$f":"Checklist!AO29","v":""},{"$f":"Checklist!AP29","v":""},{"$f":"Checklist!AQ29","v":""},"","","","",19,"","","","","","","","","","","","","","Block","","","","","","","","","","","","",null,null,null,null,null,null,null,null,null,null,null,null,null,null,null,null,null,null,null,null,null,null,null,null,null,null,null,null,null,null,null,null,null,null,null,null,null,null,null,null,null,null,null,null,null,null,null,null,null,null,null,null,null,null,null,null,null,null,null,null,null,null,null,null,null,null,null,null,null,null,null,null,null,null,null,null,null,null,null,null,null,null,null,null,null,null,null,null,null,null,null,null,null,null,null,null,null,null,null,null,null,null,null,null,null,null,null,null,null,null,null,null,null,null,null,null,null,null,null,null,null,null,null,null,null,null,null,null,null,null,null,null,null,null,null,null,null,null,null,null,null,null,null,null,null,null,null,null,null,null,null,null,null,null,null,null,null,null,null,null,null,null,null,null,null,{"$f":"'View Records'!AF24","v":""},{"$f":"'View Records'!AG24","v":""},{"$f":"'View Records'!AH24","v":""},{"$f":"'View Records'!AI24","v":""},{"$f":"'View Records'!AJ24","v":""},{"$f":"'View Records'!AK24","v":""},{"$f":"'View Records'!AL24","v":""},{"$f":"'View Records'!AM24","v":""},{"$f":"'View Records'!AN24","v":""},{"$f":"'View Records'!AO24","v":""},{"$f":"'View Records'!AP24","v":""},{"$f":"'View Records'!AQ24","v":""}]
[{"$f":"Checklist!AF30","v":""},{"$f":"Checklist!AG30","v":""},{"$f":"Checklist!AH30","v":""},{"$f":"Checklist!AI30","v":""},{"$f":"Checklist!AJ30","v":""},{"$f":"Checklist!AK30","v":""},{"$f":"Checklist!AL30","v":""},{"$f":"Checklist!AM30","v":""},{"$f":"Checklist!AN30","v":""},{"$f":"Checklist!AO30","v":""},{"$f":"Checklist!AP30","v":""},{"$f":"Checklist!AQ30","v":""},"","","","",20,"","","","","","","","","","","","","","Block","","","","","","","","","","","","",null,null,null,null,null,null,null,null,null,null,null,null,null,null,null,null,null,null,null,null,null,null,null,null,null,null,null,null,null,null,null,null,null,null,null,null,null,null,null,null,null,null,null,null,null,null,null,null,null,null,null,null,null,null,null,null,null,null,null,null,null,null,null,null,null,null,null,null,null,null,null,null,null,null,null,null,null,null,null,null,null,null,null,null,null,null,null,null,null,null,null,null,null,null,null,null,null,null,null,null,null,null,null,null,null,null,null,null,null,null,null,null,null,null,null,null,null,null,null,null,null,null,null,null,null,null,null,null,null,null,null,null,null,null,null,null,null,null,null,null,null,null,null,null,null,null,null,null,null,null,null,null,null,null,null,null,null,null,null,null,null,null,null,null,null,{"$f":"'View Records'!AF25","v":""},{"$f":"'View Records'!AG25","v":""},{"$f":"'View Records'!AH25","v":""},{"$f":"'View Records'!AI25","v":""},{"$f":"'View Records'!AJ25","v":""},{"$f":"'View Records'!AK25","v":""},{"$f":"'View Records'!AL25","v":""},{"$f":"'View Records'!AM25","v":""},{"$f":"'View Records'!AN25","v":""},{"$f":"'View Records'!AO25","v":""},{"$f":"'View Records'!AP25","v":""},{"$f":"'View Records'!AQ25","v":""}]
[{"$f":"Checklist!AF31","v":""},{"$f":"Checklist!AG31","v":""},{"$f":"Checklist!AH31","v":""},{"$f":"Checklist!AI31","v":""},{"$f":"Checklist!AJ31","v":""},{"$f":"Checklist!AK31","v":""},{"$f":"Checklist!AL31","v":""},{"$f":"Checklist!AM31","v":""},{"$f":"Checklist!AN31","v":""},{"$f":"Checklist!AO31","v":""},{"$f":"Checklist!AP31","v":""},{"$f":"Checklist!AQ31","v":""},"","","","",21,"","","","","","","","","","","","","","Block","","","","","","","","","","","","",null,null,null,null,null,null,null,null,null,null,null,null,null,null,null,null,null,null,null,null,null,null,null,null,null,null,null,null,null,null,null,null,null,null,null,null,null,null,null,null,null,null,null,null,null,null,null,null,null,null,null,null,null,null,null,null,null,null,null,null,null,null,null,null,null,null,null,null,null,null,null,null,null,null,null,null,null,null,null,null,null,null,null,null,null,null,null,null,null,null,null,null,null,null,null,null,null,null,null,null,null,null,null,null,null,null,null,null,null,null,null,null,null,null,null,null,null,null,null,null,null,null,null,null,null,null,null,null,null,null,null,null,null,null,null,null,null,null,null,null,null,null,null,null,null,null,null,null,null,null,null,null,null,null,null,null,null,null,null,null,null,null,null,null,null,{"$f":"'View Records'!AF26","v":""},{"$f":"'View Records'!AG26","v":""},{"$f":"'View Records'!AH26","v":""},{"$f":"'View Records'!AI26","v":""},{"$f":"'View Records'!AJ26","v":""},{"$f":"'View Records'!AK26","v":""},{"$f":"'View Records'!AL26","v":""},{"$f":"'View Records'!AM26","v":""},{"$f":"'View Records'!AN26","v":""},{"$f":"'View Records'!AO26","v":""},{"$f":"'View Records'!AP26","v":""},{"$f":"'View Records'!AQ26","v":""}]
[{"$f":"Checklist!AF32","v":""},{"$f":"Checklist!AG32","v":""},{"$f":"Checklist!AH32","v":""},{"$f":"Checklist!AI32","v":""},{"$f":"Checklist!AJ32","v":""},{"$f":"Checklist!AK32","v":""},{"$f":"Checklist!AL32","v":""},{"$f":"Checklist!AM32","v":""},{"$f":"Checklist!AN32","v":""},{"$f":"Checklist!AO32","v":""},{"$f":"Checklist!AP32","v":""},{"$f":"Checklist!AQ32","v":""},"","","","",22,"","","","","","","","","","","","","","Block","","","","","","","","","","","","",null,null,null,null,null,null,null,null,null,null,null,null,null,null,null,null,null,null,null,null,null,null,null,null,null,null,null,null,null,null,null,null,null,null,null,null,null,null,null,null,null,null,null,null,null,null,null,null,null,null,null,null,null,null,null,null,null,null,null,null,null,null,null,null,null,null,null,null,null,null,null,null,null,null,null,null,null,null,null,null,null,null,null,null,null,null,null,null,null,null,null,null,null,null,null,null,null,null,null,null,null,null,null,null,null,null,null,null,null,null,null,null,null,null,null,null,null,null,null,null,null,null,null,null,null,null,null,null,null,null,null,null,null,null,null,null,null,null,null,null,null,null,null,null,null,null,null,null,null,null,null,null,null,null,null,null,null,null,null,null,null,null,null,null,null,{"$f":"'View Records'!AF27","v":""},{"$f":"'View Records'!AG27","v":""},{"$f":"'View Records'!AH27","v":""},{"$f":"'View Records'!AI27","v":""},{"$f":"'View Records'!AJ27","v":""},{"$f":"'View Records'!AK27","v":""},{"$f":"'View Records'!AL27","v":""},{"$f":"'View Records'!AM27","v":""},{"$f":"'View Records'!AN27","v":""},{"$f":"'View Records'!AO27","v":""},{"$f":"'View Records'!AP27","v":""},{"$f":"'View Records'!AQ27","v":""}]
[{"$f":"Checklist!AF33","v":""},{"$f":"Checklist!AG33","v":""},{"$f":"Checklist!AH33","v":""},{"$f":"Checklist!AI33","v":""},{"$f":"Checklist!AJ33","v":""},{"$f":"Checklist!AK33","v":""},{"$f":"Checklist!AL33","v":""},{"$f":"Checklist!AM33","v":""},{"$f":"Checklist!AN33","v":""},{"$f":"Checklist!AO33","v":""},{"$f":"Checklist!AP33","v":""},{"$f":"Checklist!AQ33","v":""},"","","","",23,"","","","","","","","","","","","","","Block","","","","","","","","","","","","",null,null,null,null,null,null,null,null,null,null,null,null,null,null,null,null,null,null,null,null,null,null,null,null,null,null,null,null,null,null,null,null,null,null,null,null,null,null,null,null,null,null,null,null,null,null,null,null,null,null,null,null,null,null,null,null,null,null,null,null,null,null,null,null,null,null,null,null,null,null,null,null,null,null,null,null,null,null,null,null,null,null,null,null,null,null,null,null,null,null,null,null,null,null,null,null,null,null,null,null,null,null,null,null,null,null,null,null,null,null,null,null,null,null,null,null,null,null,null,null,null,null,null,null,null,null,null,null,null,null,null,null,null,null,null,null,null,null,null,null,null,null,null,null,null,null,null,null,null,null,null,null,null,null,null,null,null,null,null,null,null,null,null,null,null,{"$f":"'View Records'!AF28","v":""},{"$f":"'View Records'!AG28","v":""},{"$f":"'View Records'!AH28","v":""},{"$f":"'View Records'!AI28","v":""},{"$f":"'View Records'!AJ28","v":""},{"$f":"'View Records'!AK28","v":""},{"$f":"'View Records'!AL28","v":""},{"$f":"'View Records'!AM28","v":""},{"$f":"'View Records'!AN28","v":""},{"$f":"'View Records'!AO28","v":""},{"$f":"'View Records'!AP28","v":""},{"$f":"'View Records'!AQ28","v":""}]
[{"$f":"Checklist!AF34","v":""},{"$f":"Checklist!AG34","v":""},{"$f":"Checklist!AH34","v":""},{"$f":"Checklist!AI34","v":""},{"$f":"Checklist!AJ34","v":""},{"$f":"Checklist!AK34","v":""},{"$f":"Checklist!AL34","v":""},{"$f":"Checklist!AM34","v":""},{"$f":"Checklist!AN34","v":""},{"$f":"Checklist!AO34","v":""},{"$f":"Checklist!AP34","v":""},{"$f":"Checklist!AQ34","v":""},"","","","",24,"","","","","","","","","","","","","","Block","","","","","","","","","","","","",null,null,null,null,null,null,null,null,null,null,null,null,null,null,null,null,null,null,null,null,null,null,null,null,null,null,null,null,null,null,null,null,null,null,null,null,null,null,null,null,null,null,null,null,null,null,null,null,null,null,null,null,null,null,null,null,null,null,null,null,null,null,null,null,null,null,null,null,null,null,null,null,null,null,null,null,null,null,null,null,null,null,null,null,null,null,null,null,null,null,null,null,null,null,null,null,null,null,null,null,null,null,null,null,null,null,null,null,null,null,null,null,null,null,null,null,null,null,null,null,null,null,null,null,null,null,null,null,null,null,null,null,null,null,null,null,null,null,null,null,null,null,null,null,null,null,null,null,null,null,null,null,null,null,null,null,null,null,null,null,null,null,null,null,null,{"$f":"'View Records'!AF29","v":""},{"$f":"'View Records'!AG29","v":""},{"$f":"'View Records'!AH29","v":""},{"$f":"'View Records'!AI29","v":""},{"$f":"'View Records'!AJ29","v":""},{"$f":"'View Records'!AK29","v":""},{"$f":"'View Records'!AL29","v":""},{"$f":"'View Records'!AM29","v":""},{"$f":"'View Records'!AN29","v":""},{"$f":"'View Records'!AO29","v":""},{"$f":"'View Records'!AP29","v":""},{"$f":"'View Records'!AQ29","v":""}]
[{"$f":"Checklist!AF35","v":""},{"$f":"Checklist!AG35","v":""},{"$f":"Checklist!AH35","v":""},{"$f":"Checklist!AI35","v":""},{"$f":"Checklist!AJ35","v":""},{"$f":"Checklist!AK35","v":""},{"$f":"Checklist!AL35","v":""},{"$f":"Checklist!AM35","v":""},{"$f":"Checklist!AN35","v":""},{"$f":"Checklist!AO35","v":""},{"$f":"Checklist!AP35","v":""},{"$f":"Checklist!AQ35","v":""},"","","","",25,"","","","","","","","","","","","","","Block","","","","","","","","","","","","",null,null,null,null,null,null,null,null,null,null,null,null,null,null,null,null,null,null,null,null,null,null,null,null,null,null,null,null,null,null,null,null,null,null,null,null,null,null,null,null,null,null,null,null,null,null,null,null,null,null,null,null,null,null,null,null,null,null,null,null,null,null,null,null,null,null,null,null,null,null,null,null,null,null,null,null,null,null,null,null,null,null,null,null,null,null,null,null,null,null,null,null,null,null,null,null,null,null,null,null,null,null,null,null,null,null,null,null,null,null,null,null,null,null,null,null,null,null,null,null,null,null,null,null,null,null,null,null,null,null,null,null,null,null,null,null,null,null,null,null,null,null,null,null,null,null,null,null,null,null,null,null,null,null,null,null,null,null,null,null,null,null,null,null,null,{"$f":"'View Records'!AF30","v":""},{"$f":"'View Records'!AG30","v":""},{"$f":"'View Records'!AH30","v":""},{"$f":"'View Records'!AI30","v":""},{"$f":"'View Records'!AJ30","v":""},{"$f":"'View Records'!AK30","v":""},{"$f":"'View Records'!AL30","v":""},{"$f":"'View Records'!AM30","v":""},{"$f":"'View Records'!AN30","v":""},{"$f":"'View Records'!AO30","v":""},{"$f":"'View Records'!AP30","v":""},{"$f":"'View Records'!AQ30","v":""}]
[{"$f":"Checklist!AF36","v":""},{"$f":"Checklist!AG36","v":""},{"$f":"Checklist!AH36","v":""},{"$f":"Checklist!AI36","v":""},{"$f":"Checklist!AJ36","v":""},{"$f":"Checklist!AK36","v":""},{"$f":"Checklist!AL36","v":""},{"$f":"Checklist!AM36","v":""},{"$f":"Checklist!AN36","v":""},{"$f":"Checklist!AO36","v":""},{"$f":"Checklist!AP36","v":""},{"$f":"Checklist!AQ36","v":""},"","","","",26,"","","","","","","","","","","","","","Block","","","","","","","","","","","","",null,null,null,null,null,null,null,null,null,null,null,null,null,null,null,null,null,null,null,null,null,null,null,null,null,null,null,null,null,null,null,null,null,null,null,null,null,null,null,null,null,null,null,null,null,null,null,null,null,null,null,null,null,null,null,null,null,null,null,null,null,null,null,null,null,null,null,null,null,null,null,null,null,null,null,null,null,null,null,null,null,null,null,null,null,null,null,null,null,null,null,null,null,null,null,null,null,null,null,null,null,null,null,null,null,null,null,null,null,null,null,null,null,null,null,null,null,null,null,null,null,null,null,null,null,null,null,null,null,null,null,null,null,null,null,null,null,null,null,null,null,null,null,null,null,null,null,null,null,null,null,null,null,null,null,null,null,null,null,null,null,null,null,null,null,{"$f":"'View Records'!AF31","v":""},{"$f":"'View Records'!AG31","v":""},{"$f":"'View Records'!AH31","v":""},{"$f":"'View Records'!AI31","v":""},{"$f":"'View Records'!AJ31","v":""},{"$f":"'View Records'!AK31","v":""},{"$f":"'View Records'!AL31","v":""},{"$f":"'View Records'!AM31","v":""},{"$f":"'View Records'!AN31","v":""},{"$f":"'View Records'!AO31","v":""},{"$f":"'View Records'!AP31","v":""},{"$f":"'View Records'!AQ31","v":""}]
[{"$f":"Checklist!AF37","v":""},{"$f":"Checklist!AG37","v":""},{"$f":"Checklist!AH37","v":""},{"$f":"Checklist!AI37","v":""},{"$f":"Checklist!AJ37","v":""},{"$f":"Checklist!AK37","v":""},{"$f":"Checklist!AL37","v":""},{"$f":"Checklist!AM37","v":""},{"$f":"Checklist!AN37","v":""},{"$f":"Checklist!AO37","v":""},{"$f":"Checklist!AP37","v":""},{"$f":"Checklist!AQ37","v":""},"","","","",27,"","","","","","","","","","","","","","Block","","","","","","","","","","","","",null,null,null,null,null,null,null,null,null,null,null,null,null,null,null,null,null,null,null,null,null,null,null,null,null,null,null,null,null,null,null,null,null,null,null,null,null,null,null,null,null,null,null,null,null,null,null,null,null,null,null,null,null,null,null,null,null,null,null,null,null,null,null,null,null,null,null,null,null,null,null,null,null,null,null,null,null,null,null,null,null,null,null,null,null,null,null,null,null,null,null,null,null,null,null,null,null,null,null,null,null,null,null,null,null,null,null,null,null,null,null,null,null,null,null,null,null,null,null,null,null,null,null,null,null,null,null,null,null,null,null,null,null,null,null,null,null,null,null,null,null,null,null,null,null,null,null,null,null,null,null,null,null,null,null,null,null,null,null,null,null,null,null,null,null,{"$f":"'View Records'!AF32","v":""},{"$f":"'View Records'!AG32","v":""},{"$f":"'View Records'!AH32","v":""},{"$f":"'View Records'!AI32","v":""},{"$f":"'View Records'!AJ32","v":""},{"$f":"'View Records'!AK32","v":""},{"$f":"'View Records'!AL32","v":""},{"$f":"'View Records'!AM32","v":""},{"$f":"'View Records'!AN32","v":""},{"$f":"'View Records'!AO32","v":""},{"$f":"'View Records'!AP32","v":""},{"$f":"'View Records'!AQ32","v":""}]
[{"$f":"Checklist!AF38","v":""},{"$f":"Checklist!AG38","v":""},{"$f":"Checklist!AH38","v":""},{"$f":"Checklist!AI38","v":""},{"$f":"Checklist!AJ38","v":""},{"$f":"Checklist!AK38","v":""},{"$f":"Checklist!AL38","v":""},{"$f":"Checklist!AM38","v":""},{"$f":"Checklist!AN38","v":""},{"$f":"Checklist!AO38","v":""},{"$f":"Checklist!AP38","v":""},{"$f":"Checklist!AQ38","v":""},"","","","",28,"","","","","","","","","","","","","","Block","","","","","","","","","","","","",null,null,null,null,null,null,null,null,null,null,null,null,null,null,null,null,null,null,null,null,null,null,null,null,null,null,null,null,null,null,null,null,null,null,null,null,null,null,null,null,null,null,null,null,null,null,null,null,null,null,null,null,null,null,null,null,null,null,null,null,null,null,null,null,null,null,null,null,null,null,null,null,null,null,null,null,null,null,null,null,null,null,null,null,null,null,null,null,null,null,null,null,null,null,null,null,null,null,null,null,null,null,null,null,null,null,null,null,null,null,null,null,null,null,null,null,null,null,null,null,null,null,null,null,null,null,null,null,null,null,null,null,null,null,null,null,null,null,null,null,null,null,null,null,null,null,null,null,null,null,null,null,null,null,null,null,null,null,null,null,null,null,null,null,null,{"$f":"'View Records'!AF33","v":""},{"$f":"'View Records'!AG33","v":""},{"$f":"'View Records'!AH33","v":""},{"$f":"'View Records'!AI33","v":""},{"$f":"'View Records'!AJ33","v":""},{"$f":"'View Records'!AK33","v":""},{"$f":"'View Records'!AL33","v":""},{"$f":"'View Records'!AM33","v":""},{"$f":"'View Records'!AN33","v":""},{"$f":"'View Records'!AO33","v":""},{"$f":"'View Records'!AP33","v":""},{"$f":"'View Records'!AQ33","v":""}]
[{"$f":"Checklist!AF39","v":""},{"$f":"Checklist!AG39","v":""},{"$f":"Checklist!AH39","v":""},{"$f":"Checklist!AI39","v":""},{"$f":"Checklist!AJ39","v":""},{"$f":"Checklist!AK39","v":""},{"$f":"Checklist!AL39","v":""},{"$f":"Checklist!AM39","v":""},{"$f":"Checklist!AN39","v":""},{"$f":"Checklist!AO39","v":""},{"$f":"Checklist!AP39","v":""},{"$f":"Checklist!AQ39","v":""},"","","","",29,"","","","","","","","","","","","","","Block","","","","","","","","","","","","",null,null,null,null,null,null,null,null,null,null,null,null,null,null,null,null,null,null,null,null,null,null,null,null,null,null,null,null,null,null,null,null,null,null,null,null,null,null,null,null,null,null,null,null,null,null,null,null,null,null,null,null,null,null,null,null,null,null,null,null,null,null,null,null,null,null,null,null,null,null,null,null,null,null,null,null,null,null,null,null,null,null,null,null,null,null,null,null,null,null,null,null,null,null,null,null,null,null,null,null,null,null,null,null,null,null,null,null,null,null,null,null,null,null,null,null,null,null,null,null,null,null,null,null,null,null,null,null,null,null,null,null,null,null,null,null,null,null,null,null,null,null,null,null,null,null,null,null,null,null,null,null,null,null,null,null,null,null,null,null,null,null,null,null,null,{"$f":"'View Records'!AF34","v":""},{"$f":"'View Records'!AG34","v":""},{"$f":"'View Records'!AH34","v":""},{"$f":"'View Records'!AI34","v":""},{"$f":"'View Records'!AJ34","v":""},{"$f":"'View Records'!AK34","v":""},{"$f":"'View Records'!AL34","v":""},{"$f":"'View Records'!AM34","v":""},{"$f":"'View Records'!AN34","v":""},{"$f":"'View Records'!AO34","v":""},{"$f":"'View Records'!AP34","v":""},{"$f":"'View Records'!AQ34","v":""}]
[{"$f":"Checklist!AF40","v":""},{"$f":"Checklist!AG40","v":""},{"$f":"Checklist!AH40","v":""},{"$f":"Checklist!AI40","v":""},{"$f":"Checklist!AJ40","v":""},{"$f":"Checklist!AK40","v":""},{"$f":"Checklist!AL40","v":""},{"$f":"Checklist!AM40","v":""},{"$f":"Checklist!AN40","v":""},{"$f":"Checklist!AO40","v":""},{"$f":"Checklist!AP40","v":""},{"$f":"Checklist!AQ40","v":""},"","","","",30,"","","","","","","","","","","","","","Block","","","","","","","","","","","","",null,null,null,null,null,null,null,null,null,null,null,null,null,null,null,null,null,null,null,null,null,null,null,null,null,null,null,null,null,null,null,null,null,null,null,null,null,null,null,null,null,null,null,null,null,null,null,null,null,null,null,null,null,null,null,null,null,null,null,null,null,null,null,null,null,null,null,null,null,null,null,null,null,null,null,null,null,null,null,null,null,null,null,null,null,null,null,null,null,null,null,null,null,null,null,null,null,null,null,null,null,null,null,null,null,null,null,null,null,null,null,null,null,null,null,null,null,null,null,null,null,null,null,null,null,null,null,null,null,null,null,null,null,null,null,null,null,null,null,null,null,null,null,null,null,null,null,null,null,null,null,null,null,null,null,null,null,null,null,null,null,null,null,null,null,{"$f":"'View Records'!AF35","v":""},{"$f":"'View Records'!AG35","v":""},{"$f":"'View Records'!AH35","v":""},{"$f":"'View Records'!AI35","v":""},{"$f":"'View Records'!AJ35","v":""},{"$f":"'View Records'!AK35","v":""},{"$f":"'View Records'!AL35","v":""},{"$f":"'View Records'!AM35","v":""},{"$f":"'View Records'!AN35","v":""},{"$f":"'View Records'!AO35","v":""},{"$f":"'View Records'!AP35","v":""},{"$f":"'View Records'!AQ35","v":""}]
[{"$f":"Checklist!AF41","v":""},{"$f":"Checklist!AG41","v":""},{"$f":"Checklist!AH41","v":""},{"$f":"Checklist!AI41","v":""},{"$f":"Checklist!AJ41","v":""},{"$f":"Checklist!AK41","v":""},{"$f":"Checklist!AL41","v":""},{"$f":"Checklist!AM41","v":""},{"$f":"Checklist!AN41","v":""},{"$f":"Checklist!AO41","v":""},{"$f":"Checklist!AP41","v":""},{"$f":"Checklist!AQ41","v":""},"","","","",31,"","","","","","","","","","","","","","Block","","","","","","","","","","","","",null,null,null,null,null,null,null,null,null,null,null,null,null,null,null,null,null,null,null,null,null,null,null,null,null,null,null,null,null,null,null,null,null,null,null,null,null,null,null,null,null,null,null,null,null,null,null,null,null,null,null,null,null,null,null,null,null,null,null,null,null,null,null,null,null,null,null,null,null,null,null,null,null,null,null,null,null,null,null,null,null,null,null,null,null,null,null,null,null,null,null,null,null,null,null,null,null,null,null,null,null,null,null,null,null,null,null,null,null,null,null,null,null,null,null,null,null,null,null,null,null,null,null,null,null,null,null,null,null,null,null,null,null,null,null,null,null,null,null,null,null,null,null,null,null,null,null,null,null,null,null,null,null,null,null,null,null,null,null,null,null,null,null,null,null,{"$f":"'View Records'!AF36","v":""},{"$f":"'View Records'!AG36","v":""},{"$f":"'View Records'!AH36","v":""},{"$f":"'View Records'!AI36","v":""},{"$f":"'View Records'!AJ36","v":""},{"$f":"'View Records'!AK36","v":""},{"$f":"'View Records'!AL36","v":""},{"$f":"'View Records'!AM36","v":""},{"$f":"'View Records'!AN36","v":""},{"$f":"'View Records'!AO36","v":""},{"$f":"'View Records'!AP36","v":""},{"$f":"'View Records'!AQ36","v":""}]
[{"$f":"Checklist!AF42","v":""},{"$f":"Checklist!AG42","v":""},{"$f":"Checklist!AH42","v":""},{"$f":"Checklist!AI42","v":""},{"$f":"Checklist!AJ42","v":""},{"$f":"Checklist!AK42","v":""},{"$f":"Checklist!AL42","v":""},{"$f":"Checklist!AM42","v":""},{"$f":"Checklist!AN42","v":""},{"$f":"Checklist!AO42","v":""},{"$f":"Checklist!AP42","v":""},{"$f":"Checklist!AQ42","v":""},"","","","",32,"","","","","","","","","","","","","","Block","","","","","","","","","","","","",null,null,null,null,null,null,null,null,null,null,null,null,null,null,null,null,null,null,null,null,null,null,null,null,null,null,null,null,null,null,null,null,null,null,null,null,null,null,null,null,null,null,null,null,null,null,null,null,null,null,null,null,null,null,null,null,null,null,null,null,null,null,null,null,null,null,null,null,null,null,null,null,null,null,null,null,null,null,null,null,null,null,null,null,null,null,null,null,null,null,null,null,null,null,null,null,null,null,null,null,null,null,null,null,null,null,null,null,null,null,null,null,null,null,null,null,null,null,null,null,null,null,null,null,null,null,null,null,null,null,null,null,null,null,null,null,null,null,null,null,null,null,null,null,null,null,null,null,null,null,null,null,null,null,null,null,null,null,null,null,null,null,null,null,null,{"$f":"'View Records'!AF37","v":""},{"$f":"'View Records'!AG37","v":""},{"$f":"'View Records'!AH37","v":""},{"$f":"'View Records'!AI37","v":""},{"$f":"'View Records'!AJ37","v":""},{"$f":"'View Records'!AK37","v":""},{"$f":"'View Records'!AL37","v":""},{"$f":"'View Records'!AM37","v":""},{"$f":"'View Records'!AN37","v":""},{"$f":"'View Records'!AO37","v":""},{"$f":"'View Records'!AP37","v":""},{"$f":"'View Records'!AQ37","v":""}]
[{"$f":"Checklist!AF43","v":""},{"$f":"Checklist!AG43","v":""},{"$f":"Checklist!AH43","v":""},{"$f":"Checklist!AI43","v":""},{"$f":"Checklist!AJ43","v":""},{"$f":"Checklist!AK43","v":""},{"$f":"Checklist!AL43","v":""},{"$f":"Checklist!AM43","v":""},{"$f":"Checklist!AN43","v":""},{"$f":"Checklist!AO43","v":""},{"$f":"Checklist!AP43","v":""},{"$f":"Checklist!AQ43","v":""},"","","","",33,"","","","","","","","","","","","","","Block","","","","","","","","","","","","",null,null,null,null,null,null,null,null,null,null,null,null,null,null,null,null,null,null,null,null,null,null,null,null,null,null,null,null,null,null,null,null,null,null,null,null,null,null,null,null,null,null,null,null,null,null,null,null,null,null,null,null,null,null,null,null,null,null,null,null,null,null,null,null,null,null,null,null,null,null,null,null,null,null,null,null,null,null,null,null,null,null,null,null,null,null,null,null,null,null,null,null,null,null,null,null,null,null,null,null,null,null,null,null,null,null,null,null,null,null,null,null,null,null,null,null,null,null,null,null,null,null,null,null,null,null,null,null,null,null,null,null,null,null,null,null,null,null,null,null,null,null,null,null,null,null,null,null,null,null,null,null,null,null,null,null,null,null,null,null,null,null,null,null,null,{"$f":"'View Records'!AF38","v":""},{"$f":"'View Records'!AG38","v":""},{"$f":"'View Records'!AH38","v":""},{"$f":"'View Records'!AI38","v":""},{"$f":"'View Records'!AJ38","v":""},{"$f":"'View Records'!AK38","v":""},{"$f":"'View Records'!AL38","v":""},{"$f":"'View Records'!AM38","v":""},{"$f":"'View Records'!AN38","v":""},{"$f":"'View Records'!AO38","v":""},{"$f":"'View Records'!AP38","v":""},{"$f":"'View Records'!AQ38","v":""}]
[{"$f":"Checklist!AF44","v":""},{"$f":"Checklist!AG44","v":""},{"$f":"Checklist!AH44","v":""},{"$f":"Checklist!AI44","v":""},{"$f":"Checklist!AJ44","v":""},{"$f":"Checklist!AK44","v":""},{"$f":"Checklist!AL44","v":""},{"$f":"Checklist!AM44","v":""},{"$f":"Checklist!AN44","v":""},{"$f":"Checklist!AO44","v":""},{"$f":"Checklist!AP44","v":""},{"$f":"Checklist!AQ44","v":""},"","","","",34,"","","","","","","","","","","","","","Block","","","","","","","","","","","","",null,null,null,null,null,null,null,null,null,null,null,null,null,null,null,null,null,null,null,null,null,null,null,null,null,null,null,null,null,null,null,null,null,null,null,null,null,null,null,null,null,null,null,null,null,null,null,null,null,null,null,null,null,null,null,null,null,null,null,null,null,null,null,null,null,null,null,null,null,null,null,null,null,null,null,null,null,null,null,null,null,null,null,null,null,null,null,null,null,null,null,null,null,null,null,null,null,null,null,null,null,null,null,null,null,null,null,null,null,null,null,null,null,null,null,null,null,null,null,null,null,null,null,null,null,null,null,null,null,null,null,null,null,null,null,null,null,null,null,null,null,null,null,null,null,null,null,null,null,null,null,null,null,null,null,null,null,null,null,null,null,null,null,null,null,{"$f":"'View Records'!AF39","v":""},{"$f":"'View Records'!AG39","v":""},{"$f":"'View Records'!AH39","v":""},{"$f":"'View Records'!AI39","v":""},{"$f":"'View Records'!AJ39","v":""},{"$f":"'View Records'!AK39","v":""},{"$f":"'View Records'!AL39","v":""},{"$f":"'View Records'!AM39","v":""},{"$f":"'View Records'!AN39","v":""},{"$f":"'View Records'!AO39","v":""},{"$f":"'View Records'!AP39","v":""},{"$f":"'View Records'!AQ39","v":""}]
[{"$f":"Checklist!AF45","v":""},{"$f":"Checklist!AG45","v":""},{"$f":"Checklist!AH45","v":""},{"$f":"Checklist!AI45","v":""},{"$f":"Checklist!AJ45","v":""},{"$f":"Checklist!AK45","v":""},{"$f":"Checklist!AL45","v":""},{"$f":"Checklist!AM45","v":""},{"$f":"Checklist!AN45","v":""},{"$f":"Checklist!AO45","v":""},{"$f":"Checklist!AP45","v":""},{"$f":"Checklist!AQ45","v":""},"","","","",35,"","","","","","","","","","","","","","Block","","","","","","","","","","","","",null,null,null,null,null,null,null,null,null,null,null,null,null,null,null,null,null,null,null,null,null,null,null,null,null,null,null,null,null,null,null,null,null,null,null,null,null,null,null,null,null,null,null,null,null,null,null,null,null,null,null,null,null,null,null,null,null,null,null,null,null,null,null,null,null,null,null,null,null,null,null,null,null,null,null,null,null,null,null,null,null,null,null,null,null,null,null,null,null,null,null,null,null,null,null,null,null,null,null,null,null,null,null,null,null,null,null,null,null,null,null,null,null,null,null,null,null,null,null,null,null,null,null,null,null,null,null,null,null,null,null,null,null,null,null,null,null,null,null,null,null,null,null,null,null,null,null,null,null,null,null,null,null,null,null,null,null,null,null,null,null,null,null,null,null,{"$f":"'View Records'!AF40","v":""},{"$f":"'View Records'!AG40","v":""},{"$f":"'View Records'!AH40","v":""},{"$f":"'View Records'!AI40","v":""},{"$f":"'View Records'!AJ40","v":""},{"$f":"'View Records'!AK40","v":""},{"$f":"'View Records'!AL40","v":""},{"$f":"'View Records'!AM40","v":""},{"$f":"'View Records'!AN40","v":""},{"$f":"'View Records'!AO40","v":""},{"$f":"'View Records'!AP40","v":""},{"$f":"'View Records'!AQ40","v":""}]
[{"$f":"Checklist!AF46","v":""},{"$f":"Checklist!AG46","v":""},{"$f":"Checklist!AH46","v":""},{"$f":"Checklist!AI46","v":""},{"$f":"Checklist!AJ46","v":""},{"$f":"Checklist!AK46","v":""},{"$f":"Checklist!AL46","v":""},{"$f":"Checklist!AM46","v":""},{"$f":"Checklist!AN46","v":""},{"$f":"Checklist!AO46","v":""},{"$f":"Checklist!AP46","v":""},{"$f":"Checklist!AQ46","v":""},"","","","",36,"","","","","","","","","","","","","","Block","","","","","","","","","","","","",null,null,null,null,null,null,null,null,null,null,null,null,null,null,null,null,null,null,null,null,null,null,null,null,null,null,null,null,null,null,null,null,null,null,null,null,null,null,null,null,null,null,null,null,null,null,null,null,null,null,null,null,null,null,null,null,null,null,null,null,null,null,null,null,null,null,null,null,null,null,null,null,null,null,null,null,null,null,null,null,null,null,null,null,null,null,null,null,null,null,null,null,null,null,null,null,null,null,null,null,null,null,null,null,null,null,null,null,null,null,null,null,null,null,null,null,null,null,null,null,null,null,null,null,null,null,null,null,null,null,null,null,null,null,null,null,null,null,null,null,null,null,null,null,null,null,null,null,null,null,null,null,null,null,null,null,null,null,null,null,null,null,null,null,null,{"$f":"'View Records'!AF41","v":""},{"$f":"'View Records'!AG41","v":""},{"$f":"'View Records'!AH41","v":""},{"$f":"'View Records'!AI41","v":""},{"$f":"'View Records'!AJ41","v":""},{"$f":"'View Records'!AK41","v":""},{"$f":"'View Records'!AL41","v":""},{"$f":"'View Records'!AM41","v":""},{"$f":"'View Records'!AN41","v":""},{"$f":"'View Records'!AO41","v":""},{"$f":"'View Records'!AP41","v":""},{"$f":"'View Records'!AQ41","v":""}]
[{"$f":"Checklist!AF47","v":""},{"$f":"Checklist!AG47","v":""},{"$f":"Checklist!AH47","v":""},{"$f":"Checklist!AI47","v":""},{"$f":"Checklist!AJ47","v":""},{"$f":"Checklist!AK47","v":""},{"$f":"Checklist!AL47","v":""},{"$f":"Checklist!AM47","v":""},{"$f":"Checklist!AN47","v":""},{"$f":"Checklist!AO47","v":""},{"$f":"Checklist!AP47","v":""},{"$f":"Checklist!AQ47","v":""},"","","","",37,"","","","","","","","","","","","","","Block","","","","","","","","","","","","",null,null,null,null,null,null,null,null,null,null,null,null,null,null,null,null,null,null,null,null,null,null,null,null,null,null,null,null,null,null,null,null,null,null,null,null,null,null,null,null,null,null,null,null,null,null,null,null,null,null,null,null,null,null,null,null,null,null,null,null,null,null,null,null,null,null,null,null,null,null,null,null,null,null,null,null,null,null,null,null,null,null,null,null,null,null,null,null,null,null,null,null,null,null,null,null,null,null,null,null,null,null,null,null,null,null,null,null,null,null,null,null,null,null,null,null,null,null,null,null,null,null,null,null,null,null,null,null,null,null,null,null,null,null,null,null,null,null,null,null,null,null,null,null,null,null,null,null,null,null,null,null,null,null,null,null,null,null,null,null,null,null,null,null,null,{"$f":"'View Records'!AF42","v":""},{"$f":"'View Records'!AG42","v":""},{"$f":"'View Records'!AH42","v":""},{"$f":"'View Records'!AI42","v":""},{"$f":"'View Records'!AJ42","v":""},{"$f":"'View Records'!AK42","v":""},{"$f":"'View Records'!AL42","v":""},{"$f":"'View Records'!AM42","v":""},{"$f":"'View Records'!AN42","v":""},{"$f":"'View Records'!AO42","v":""},{"$f":"'View Records'!AP42","v":""},{"$f":"'View Records'!AQ42","v":""}]
[{"$f":"Checklist!AF48","v":""},{"$f":"Checklist!AG48","v":""},{"$f":"Checklist!AH48","v":""},{"$f":"Checklist!AI48","v":""},{"$f":"Checklist!AJ48","v":""},{"$f":"Checklist!AK48","v":""},{"$f":"Checklist!AL48","v":""},{"$f":"Checklist!AM48","v":""},{"$f":"Checklist!AN48","v":""},{"$f":"Checklist!AO48","v":""},{"$f":"Checklist!AP48","v":""},{"$f":"Checklist!AQ48","v":""},"","","","",38,"","","","","","","","","","","","","","Block","","","","","","","","","","","","",null,null,null,null,null,null,null,null,null,null,null,null,null,null,null,null,null,null,null,null,null,null,null,null,null,null,null,null,null,null,null,null,null,null,null,null,null,null,null,null,null,null,null,null,null,null,null,null,null,null,null,null,null,null,null,null,null,null,null,null,null,null,null,null,null,null,null,null,null,null,null,null,null,null,null,null,null,null,null,null,null,null,null,null,null,null,null,null,null,null,null,null,null,null,null,null,null,null,null,null,null,null,null,null,null,null,null,null,null,null,null,null,null,null,null,null,null,null,null,null,null,null,null,null,null,null,null,null,null,null,null,null,null,null,null,null,null,null,null,null,null,null,null,null,null,null,null,null,null,null,null,null,null,null,null,null,null,null,null,null,null,null,null,null,null,{"$f":"'View Records'!AF43","v":""},{"$f":"'View Records'!AG43","v":""},{"$f":"'View Records'!AH43","v":""},{"$f":"'View Records'!AI43","v":""},{"$f":"'View Records'!AJ43","v":""},{"$f":"'View Records'!AK43","v":""},{"$f":"'View Records'!AL43","v":""},{"$f":"'View Records'!AM43","v":""},{"$f":"'View Records'!AN43","v":""},{"$f":"'View Records'!AO43","v":""},{"$f":"'View Records'!AP43","v":""},{"$f":"'View Records'!AQ43","v":""}]
[{"$f":"Checklist!AF49","v":""},{"$f":"Checklist!AG49","v":""},{"$f":"Checklist!AH49","v":""},{"$f":"Checklist!AI49","v":""},{"$f":"Checklist!AJ49","v":""},{"$f":"Checklist!AK49","v":""},{"$f":"Checklist!AL49","v":""},{"$f":"Checklist!AM49","v":""},{"$f":"Checklist!AN49","v":""},{"$f":"Checklist!AO49","v":""},{"$f":"Checklist!AP49","v":""},{"$f":"Checklist!AQ49","v":""},"","","","",39,"","","","","","","","","","","","","","Block","","","","","","","","","","","","",null,null,null,null,null,null,null,null,null,null,null,null,null,null,null,null,null,null,null,null,null,null,null,null,null,null,null,null,null,null,null,null,null,null,null,null,null,null,null,null,null,null,null,null,null,null,null,null,null,null,null,null,null,null,null,null,null,null,null,null,null,null,null,null,null,null,null,null,null,null,null,null,null,null,null,null,null,null,null,null,null,null,null,null,null,null,null,null,null,null,null,null,null,null,null,null,null,null,null,null,null,null,null,null,null,null,null,null,null,null,null,null,null,null,null,null,null,null,null,null,null,null,null,null,null,null,null,null,null,null,null,null,null,null,null,null,null,null,null,null,null,null,null,null,null,null,null,null,null,null,null,null,null,null,null,null,null,null,null,null,null,null,null,null,null,{"$f":"'View Records'!AF44","v":""},{"$f":"'View Records'!AG44","v":""},{"$f":"'View Records'!AH44","v":""},{"$f":"'View Records'!AI44","v":""},{"$f":"'View Records'!AJ44","v":""},{"$f":"'View Records'!AK44","v":""},{"$f":"'View Records'!AL44","v":""},{"$f":"'View Records'!AM44","v":""},{"$f":"'View Records'!AN44","v":""},{"$f":"'View Records'!AO44","v":""},{"$f":"'View Records'!AP44","v":""},{"$f":"'View Records'!AQ44","v":""}]
[{"$f":"Checklist!AF50","v":""},{"$f":"Checklist!AG50","v":""},{"$f":"Checklist!AH50","v":""},{"$f":"Checklist!AI50","v":""},{"$f":"Checklist!AJ50","v":""},{"$f":"Checklist!AK50","v":""},{"$f":"Checklist!AL50","v":""},{"$f":"Checklist!AM50","v":""},{"$f":"Checklist!AN50","v":""},{"$f":"Checklist!AO50","v":""},{"$f":"Checklist!AP50","v":""},{"$f":"Checklist!AQ50","v":""},"","","","",40,"","","","","","","","","","","","","","Block","","","","","","","","","","","","",null,null,null,null,null,null,null,null,null,null,null,null,null,null,null,null,null,null,null,null,null,null,null,null,null,null,null,null,null,null,null,null,null,null,null,null,null,null,null,null,null,null,null,null,null,null,null,null,null,null,null,null,null,null,null,null,null,null,null,null,null,null,null,null,null,null,null,null,null,null,null,null,null,null,null,null,null,null,null,null,null,null,null,null,null,null,null,null,null,null,null,null,null,null,null,null,null,null,null,null,null,null,null,null,null,null,null,null,null,null,null,null,null,null,null,null,null,null,null,null,null,null,null,null,null,null,null,null,null,null,null,null,null,null,null,null,null,null,null,null,null,null,null,null,null,null,null,null,null,null,null,null,null,null,null,null,null,null,null,null,null,null,null,null,null,{"$f":"'View Records'!AF45","v":""},{"$f":"'View Records'!AG45","v":""},{"$f":"'View Records'!AH45","v":""},{"$f":"'View Records'!AI45","v":""},{"$f":"'View Records'!AJ45","v":""},{"$f":"'View Records'!AK45","v":""},{"$f":"'View Records'!AL45","v":""},{"$f":"'View Records'!AM45","v":""},{"$f":"'View Records'!AN45","v":""},{"$f":"'View Records'!AO45","v":""},{"$f":"'View Records'!AP45","v":""},{"$f":"'View Records'!AQ45","v":""}]
[{"$f":"Checklist!AF51","v":""},{"$f":"Checklist!AG51","v":""},{"$f":"Checklist!AH51","v":""},{"$f":"Checklist!AI51","v":""},{"$f":"Checklist!AJ51","v":""},{"$f":"Checklist!AK51","v":""},{"$f":"Checklist!AL51","v":""},{"$f":"Checklist!AM51","v":""},{"$f":"Checklist!AN51","v":""},{"$f":"Checklist!AO51","v":""},{"$f":"Checklist!AP51","v":""},{"$f":"Checklist!AQ51","v":""},"","","","",41,"","","","","","","","","","","","","","Block","","","","","","","","","","","","",null,null,null,null,null,null,null,null,null,null,null,null,null,null,null,null,null,null,null,null,null,null,null,null,null,null,null,null,null,null,null,null,null,null,null,null,null,null,null,null,null,null,null,null,null,null,null,null,null,null,null,null,null,null,null,null,null,null,null,null,null,null,null,null,null,null,null,null,null,null,null,null,null,null,null,null,null,null,null,null,null,null,null,null,null,null,null,null,null,null,null,null,null,null,null,null,null,null,null,null,null,null,null,null,null,null,null,null,null,null,null,null,null,null,null,null,null,null,null,null,null,null,null,null,null,null,null,null,null,null,null,null,null,null,null,null,null,null,null,null,null,null,null,null,null,null,null,null,null,null,null,null,null,null,null,null,null,null,null,null,null,null,null,null,null,{"$f":"'View Records'!AF46","v":""},{"$f":"'View Records'!AG46","v":""},{"$f":"'View Records'!AH46","v":""},{"$f":"'View Records'!AI46","v":""},{"$f":"'View Records'!AJ46","v":""},{"$f":"'View Records'!AK46","v":""},{"$f":"'View Records'!AL46","v":""},{"$f":"'View Records'!AM46","v":""},{"$f":"'View Records'!AN46","v":""},{"$f":"'View Records'!AO46","v":""},{"$f":"'View Records'!AP46","v":""},{"$f":"'View Records'!AQ46","v":""}]
[{"$f":"Checklist!AF52","v":""},{"$f":"Checklist!AG52","v":""},{"$f":"Checklist!AH52","v":""},{"$f":"Checklist!AI52","v":""},{"$f":"Checklist!AJ52","v":""},{"$f":"Checklist!AK52","v":""},{"$f":"Checklist!AL52","v":""},{"$f":"Checklist!AM52","v":""},{"$f":"Checklist!AN52","v":""},{"$f":"Checklist!AO52","v":""},{"$f":"Checklist!AP52","v":""},{"$f":"Checklist!AQ52","v":""},"","","","",42,"","","","","","","","","","","","","","Block","","","","","","","","","","","","",null,null,null,null,null,null,null,null,null,null,null,null,null,null,null,null,null,null,null,null,null,null,null,null,null,null,null,null,null,null,null,null,null,null,null,null,null,null,null,null,null,null,null,null,null,null,null,null,null,null,null,null,null,null,null,null,null,null,null,null,null,null,null,null,null,null,null,null,null,null,null,null,null,null,null,null,null,null,null,null,null,null,null,null,null,null,null,null,null,null,null,null,null,null,null,null,null,null,null,null,null,null,null,null,null,null,null,null,null,null,null,null,null,null,null,null,null,null,null,null,null,null,null,null,null,null,null,null,null,null,null,null,null,null,null,null,null,null,null,null,null,null,null,null,null,null,null,null,null,null,null,null,null,null,null,null,null,null,null,null,null,null,null,null,null,{"$f":"'View Records'!AF47","v":""},{"$f":"'View Records'!AG47","v":""},{"$f":"'View Records'!AH47","v":""},{"$f":"'View Records'!AI47","v":""},{"$f":"'View Records'!AJ47","v":""},{"$f":"'View Records'!AK47","v":""},{"$f":"'View Records'!AL47","v":""},{"$f":"'View Records'!AM47","v":""},{"$f":"'View Records'!AN47","v":""},{"$f":"'View Records'!AO47","v":""},{"$f":"'View Records'!AP47","v":""},{"$f":"'View Records'!AQ47","v":""}]
[{"$f":"Checklist!AF53","v":""},{"$f":"Checklist!AG53","v":""},{"$f":"Checklist!AH53","v":""},{"$f":"Checklist!AI53","v":""},{"$f":"Checklist!AJ53","v":""},{"$f":"Checklist!AK53","v":""},{"$f":"Checklist!AL53","v":""},{"$f":"Checklist!AM53","v":""},{"$f":"Checklist!AN53","v":""},{"$f":"Checklist!AO53","v":""},{"$f":"Checklist!AP53","v":""},{"$f":"Checklist!AQ53","v":""},"","","","",43,"","","","","","","","","","","","","","Block","","","","","","","","","","","","",null,null,null,null,null,null,null,null,null,null,null,null,null,null,null,null,null,null,null,null,null,null,null,null,null,null,null,null,null,null,null,null,null,null,null,null,null,null,null,null,null,null,null,null,null,null,null,null,null,null,null,null,null,null,null,null,null,null,null,null,null,null,null,null,null,null,null,null,null,null,null,null,null,null,null,null,null,null,null,null,null,null,null,null,null,null,null,null,null,null,null,null,null,null,null,null,null,null,null,null,null,null,null,null,null,null,null,null,null,null,null,null,null,null,null,null,null,null,null,null,null,null,null,null,null,null,null,null,null,null,null,null,null,null,null,null,null,null,null,null,null,null,null,null,null,null,null,null,null,null,null,null,null,null,null,null,null,null,null,null,null,null,null,null,null,{"$f":"'View Records'!AF48","v":""},{"$f":"'View Records'!AG48","v":""},{"$f":"'View Records'!AH48","v":""},{"$f":"'View Records'!AI48","v":""},{"$f":"'View Records'!AJ48","v":""},{"$f":"'View Records'!AK48","v":""},{"$f":"'View Records'!AL48","v":""},{"$f":"'View Records'!AM48","v":""},{"$f":"'View Records'!AN48","v":""},{"$f":"'View Records'!AO48","v":""},{"$f":"'View Records'!AP48","v":""},{"$f":"'View Records'!AQ48","v":""}]
[{"$f":"Checklist!AF54","v":""},{"$f":"Checklist!AG54","v":""},{"$f":"Checklist!AH54","v":""},{"$f":"Checklist!AI54","v":""},{"$f":"Checklist!AJ54","v":""},{"$f":"Checklist!AK54","v":""},{"$f":"Checklist!AL54","v":""},{"$f":"Checklist!AM54","v":""},{"$f":"Checklist!AN54","v":""},{"$f":"Checklist!AO54","v":""},{"$f":"Checklist!AP54","v":""},{"$f":"Checklist!AQ54","v":""},"","","","",44,"","","","","","","","","","","","","","Block","","","","","","","","","","","","",null,null,null,null,null,null,null,null,null,null,null,null,null,null,null,null,null,null,null,null,null,null,null,null,null,null,null,null,null,null,null,null,null,null,null,null,null,null,null,null,null,null,null,null,null,null,null,null,null,null,null,null,null,null,null,null,null,null,null,null,null,null,null,null,null,null,null,null,null,null,null,null,null,null,null,null,null,null,null,null,null,null,null,null,null,null,null,null,null,null,null,null,null,null,null,null,null,null,null,null,null,null,null,null,null,null,null,null,null,null,null,null,null,null,null,null,null,null,null,null,null,null,null,null,null,null,null,null,null,null,null,null,null,null,null,null,null,null,null,null,null,null,null,null,null,null,null,null,null,null,null,null,null,null,null,null,null,null,null,null,null,null,null,null,null,{"$f":"'View Records'!AF49","v":""},{"$f":"'View Records'!AG49","v":""},{"$f":"'View Records'!AH49","v":""},{"$f":"'View Records'!AI49","v":""},{"$f":"'View Records'!AJ49","v":""},{"$f":"'View Records'!AK49","v":""},{"$f":"'View Records'!AL49","v":""},{"$f":"'View Records'!AM49","v":""},{"$f":"'View Records'!AN49","v":""},{"$f":"'View Records'!AO49","v":""},{"$f":"'View Records'!AP49","v":""},{"$f":"'View Records'!AQ49","v":""}]
[{"$f":"Checklist!AF55","v":""},{"$f":"Checklist!AG55","v":""},{"$f":"Checklist!AH55","v":""},{"$f":"Checklist!AI55","v":""},{"$f":"Checklist!AJ55","v":""},{"$f":"Checklist!AK55","v":""},{"$f":"Checklist!AL55","v":""},{"$f":"Checklist!AM55","v":""},{"$f":"Checklist!AN55","v":""},{"$f":"Checklist!AO55","v":""},{"$f":"Checklist!AP55","v":""},{"$f":"Checklist!AQ55","v":""},"","","","",45,"","","","","","","","","","","","","","Block","","","","","","","","","","","","",null,null,null,null,null,null,null,null,null,null,null,null,null,null,null,null,null,null,null,null,null,null,null,null,null,null,null,null,null,null,null,null,null,null,null,null,null,null,null,null,null,null,null,null,null,null,null,null,null,null,null,null,null,null,null,null,null,null,null,null,null,null,null,null,null,null,null,null,null,null,null,null,null,null,null,null,null,null,null,null,null,null,null,null,null,null,null,null,null,null,null,null,null,null,null,null,null,null,null,null,null,null,null,null,null,null,null,null,null,null,null,null,null,null,null,null,null,null,null,null,null,null,null,null,null,null,null,null,null,null,null,null,null,null,null,null,null,null,null,null,null,null,null,null,null,null,null,null,null,null,null,null,null,null,null,null,null,null,null,null,null,null,null,null,null,{"$f":"'View Records'!AF50","v":""},{"$f":"'View Records'!AG50","v":""},{"$f":"'View Records'!AH50","v":""},{"$f":"'View Records'!AI50","v":""},{"$f":"'View Records'!AJ50","v":""},{"$f":"'View Records'!AK50","v":""},{"$f":"'View Records'!AL50","v":""},{"$f":"'View Records'!AM50","v":""},{"$f":"'View Records'!AN50","v":""},{"$f":"'View Records'!AO50","v":""},{"$f":"'View Records'!AP50","v":""},{"$f":"'View Records'!AQ50","v":""}]
[{"$f":"Checklist!AF56","v":""},{"$f":"Checklist!AG56","v":""},{"$f":"Checklist!AH56","v":""},{"$f":"Checklist!AI56","v":""},{"$f":"Checklist!AJ56","v":""},{"$f":"Checklist!AK56","v":""},{"$f":"Checklist!AL56","v":""},{"$f":"Checklist!AM56","v":""},{"$f":"Checklist!AN56","v":""},{"$f":"Checklist!AO56","v":""},{"$f":"Checklist!AP56","v":""},{"$f":"Checklist!AQ56","v":""},"","","","",46,"","","","","","","","","","","","","","Block","","","","","","","","","","","","",null,null,null,null,null,null,null,null,null,null,null,null,null,null,null,null,null,null,null,null,null,null,null,null,null,null,null,null,null,null,null,null,null,null,null,null,null,null,null,null,null,null,null,null,null,null,null,null,null,null,null,null,null,null,null,null,null,null,null,null,null,null,null,null,null,null,null,null,null,null,null,null,null,null,null,null,null,null,null,null,null,null,null,null,null,null,null,null,null,null,null,null,null,null,null,null,null,null,null,null,null,null,null,null,null,null,null,null,null,null,null,null,null,null,null,null,null,null,null,null,null,null,null,null,null,null,null,null,null,null,null,null,null,null,null,null,null,null,null,null,null,null,null,null,null,null,null,null,null,null,null,null,null,null,null,null,null,null,null,null,null,null,null,null,null,{"$f":"'View Records'!AF51","v":""},{"$f":"'View Records'!AG51","v":""},{"$f":"'View Records'!AH51","v":""},{"$f":"'View Records'!AI51","v":""},{"$f":"'View Records'!AJ51","v":""},{"$f":"'View Records'!AK51","v":""},{"$f":"'View Records'!AL51","v":""},{"$f":"'View Records'!AM51","v":""},{"$f":"'View Records'!AN51","v":""},{"$f":"'View Records'!AO51","v":""},{"$f":"'View Records'!AP51","v":""},{"$f":"'View Records'!AQ51","v":""}]
[{"$f":"Checklist!AF57","v":""},{"$f":"Checklist!AG57","v":""},{"$f":"Checklist!AH57","v":""},{"$f":"Checklist!AI57","v":""},{"$f":"Checklist!AJ57","v":""},{"$f":"Checklist!AK57","v":""},{"$f":"Checklist!AL57","v":""},{"$f":"Checklist!AM57","v":""},{"$f":"Checklist!AN57","v":""},{"$f":"Checklist!AO57","v":""},{"$f":"Checklist!AP57","v":""},{"$f":"Checklist!AQ57","v":""},"","","","",47,"","","","","","","","","","","","","","Block","","","","","","","","","","","","",null,null,null,null,null,null,null,null,null,null,null,null,null,null,null,null,null,null,null,null,null,null,null,null,null,null,null,null,null,null,null,null,null,null,null,null,null,null,null,null,null,null,null,null,null,null,null,null,null,null,null,null,null,null,null,null,null,null,null,null,null,null,null,null,null,null,null,null,null,null,null,null,null,null,null,null,null,null,null,null,null,null,null,null,null,null,null,null,null,null,null,null,null,null,null,null,null,null,null,null,null,null,null,null,null,null,null,null,null,null,null,null,null,null,null,null,null,null,null,null,null,null,null,null,null,null,null,null,null,null,null,null,null,null,null,null,null,null,null,null,null,null,null,null,null,null,null,null,null,null,null,null,null,null,null,null,null,null,null,null,null,null,null,null,null,{"$f":"'View Records'!AF52","v":""},{"$f":"'View Records'!AG52","v":""},{"$f":"'View Records'!AH52","v":""},{"$f":"'View Records'!AI52","v":""},{"$f":"'View Records'!AJ52","v":""},{"$f":"'View Records'!AK52","v":""},{"$f":"'View Records'!AL52","v":""},{"$f":"'View Records'!AM52","v":""},{"$f":"'View Records'!AN52","v":""},{"$f":"'View Records'!AO52","v":""},{"$f":"'View Records'!AP52","v":""},{"$f":"'View Records'!AQ52","v":""}]
[{"$f":"Checklist!AF58","v":""},{"$f":"Checklist!AG58","v":""},{"$f":"Checklist!AH58","v":""},{"$f":"Checklist!AI58","v":""},{"$f":"Checklist!AJ58","v":""},{"$f":"Checklist!AK58","v":""},{"$f":"Checklist!AL58","v":""},{"$f":"Checklist!AM58","v":""},{"$f":"Checklist!AN58","v":""},{"$f":"Checklist!AO58","v":""},{"$f":"Checklist!AP58","v":""},{"$f":"Checklist!AQ58","v":""},"","","","",48,"","","","","","","","","","","","","","Block","","","","","","","","","","","","",null,null,null,null,null,null,null,null,null,null,null,null,null,null,null,null,null,null,null,null,null,null,null,null,null,null,null,null,null,null,null,null,null,null,null,null,null,null,null,null,null,null,null,null,null,null,null,null,null,null,null,null,null,null,null,null,null,null,null,null,null,null,null,null,null,null,null,null,null,null,null,null,null,null,null,null,null,null,null,null,null,null,null,null,null,null,null,null,null,null,null,null,null,null,null,null,null,null,null,null,null,null,null,null,null,null,null,null,null,null,null,null,null,null,null,null,null,null,null,null,null,null,null,null,null,null,null,null,null,null,null,null,null,null,null,null,null,null,null,null,null,null,null,null,null,null,null,null,null,null,null,null,null,null,null,null,null,null,null,null,null,null,null,null,null,{"$f":"'View Records'!AF53","v":""},{"$f":"'View Records'!AG53","v":""},{"$f":"'View Records'!AH53","v":""},{"$f":"'View Records'!AI53","v":""},{"$f":"'View Records'!AJ53","v":""},{"$f":"'View Records'!AK53","v":""},{"$f":"'View Records'!AL53","v":""},{"$f":"'View Records'!AM53","v":""},{"$f":"'View Records'!AN53","v":""},{"$f":"'View Records'!AO53","v":""},{"$f":"'View Records'!AP53","v":""},{"$f":"'View Records'!AQ53","v":""}]
[{"$f":"Checklist!AF59","v":""},{"$f":"Checklist!AG59","v":""},{"$f":"Checklist!AH59","v":""},{"$f":"Checklist!AI59","v":""},{"$f":"Checklist!AJ59","v":""},{"$f":"Checklist!AK59","v":""},{"$f":"Checklist!AL59","v":""},{"$f":"Checklist!AM59","v":""},{"$f":"Checklist!AN59","v":""},{"$f":"Checklist!AO59","v":""},{"$f":"Checklist!AP59","v":""},{"$f":"Checklist!AQ59","v":""},"","","","",49,"","","","","","","","","","","","","","Block","","","","","","","","","","","","",null,null,null,null,null,null,null,null,null,null,null,null,null,null,null,null,null,null,null,null,null,null,null,null,null,null,null,null,null,null,null,null,null,null,null,null,null,null,null,null,null,null,null,null,null,null,null,null,null,null,null,null,null,null,null,null,null,null,null,null,null,null,null,null,null,null,null,null,null,null,null,null,null,null,null,null,null,null,null,null,null,null,null,null,null,null,null,null,null,null,null,null,null,null,null,null,null,null,null,null,null,null,null,null,null,null,null,null,null,null,null,null,null,null,null,null,null,null,null,null,null,null,null,null,null,null,null,null,null,null,null,null,null,null,null,null,null,null,null,null,null,null,null,null,null,null,null,null,null,null,null,null,null,null,null,null,null,null,null,null,null,null,null,null,null,{"$f":"'View Records'!AF54","v":""},{"$f":"'View Records'!AG54","v":""},{"$f":"'View Records'!AH54","v":""},{"$f":"'View Records'!AI54","v":""},{"$f":"'View Records'!AJ54","v":""},{"$f":"'View Records'!AK54","v":""},{"$f":"'View Records'!AL54","v":""},{"$f":"'View Records'!AM54","v":""},{"$f":"'View Records'!AN54","v":""},{"$f":"'View Records'!AO54","v":""},{"$f":"'View Records'!AP54","v":""},{"$f":"'View Records'!AQ54","v":""}]
[{"$f":"Checklist!AF60","v":""},{"$f":"Checklist!AG60","v":""},{"$f":"Checklist!AH60","v":""},{"$f":"Checklist!AI60","v":""},{"$f":"Checklist!AJ60","v":""},{"$f":"Checklist!AK60","v":""},{"$f":"Checklist!AL60","v":""},{"$f":"Checklist!AM60","v":""},{"$f":"Checklist!AN60","v":""},{"$f":"Checklist!AO60","v":""},{"$f":"Checklist!AP60","v":""},{"$f":"Checklist!AQ60","v":""},"","","","",50,"","","","","","","","","","","","","","Block","","","","","","","","","","","","",null,null,null,null,null,null,null,null,null,null,null,null,null,null,null,null,null,null,null,null,null,null,null,null,null,null,null,null,null,null,null,null,null,null,null,null,null,null,null,null,null,null,null,null,null,null,null,null,null,null,null,null,null,null,null,null,null,null,null,null,null,null,null,null,null,null,null,null,null,null,null,null,null,null,null,null,null,null,null,null,null,null,null,null,null,null,null,null,null,null,null,null,null,null,null,null,null,null,null,null,null,null,null,null,null,null,null,null,null,null,null,null,null,null,null,null,null,null,null,null,null,null,null,null,null,null,null,null,null,null,null,null,null,null,null,null,null,null,null,null,null,null,null,null,null,null,null,null,null,null,null,null,null,null,null,null,null,null,null,null,null,null,null,null,null,{"$f":"'View Records'!AF55","v":""},{"$f":"'View Records'!AG55","v":""},{"$f":"'View Records'!AH55","v":""},{"$f":"'View Records'!AI55","v":""},{"$f":"'View Records'!AJ55","v":""},{"$f":"'View Records'!AK55","v":""},{"$f":"'View Records'!AL55","v":""},{"$f":"'View Records'!AM55","v":""},{"$f":"'View Records'!AN55","v":""},{"$f":"'View Records'!AO55","v":""},{"$f":"'View Records'!AP55","v":""},{"$f":"'View Records'!AQ55","v":""}]
[{"$f":"Checklist!AF61","v":""},{"$f":"Checklist!AG61","v":""},{"$f":"Checklist!AH61","v":""},{"$f":"Checklist!AI61","v":""},{"$f":"Checklist!AJ61","v":""},{"$f":"Checklist!AK61","v":""},{"$f":"Checklist!AL61","v":""},{"$f":"Checklist!AM61","v":""},{"$f":"Checklist!AN61","v":""},{"$f":"Checklist!AO61","v":""},{"$f":"Checklist!AP61","v":""},{"$f":"Checklist!AQ61","v":""},"","","","",51,"","","","","","","","","","","","","","Block","","","","","","","","","","","","",null,null,null,null,null,null,null,null,null,null,null,null,null,null,null,null,null,null,null,null,null,null,null,null,null,null,null,null,null,null,null,null,null,null,null,null,null,null,null,null,null,null,null,null,null,null,null,null,null,null,null,null,null,null,null,null,null,null,null,null,null,null,null,null,null,null,null,null,null,null,null,null,null,null,null,null,null,null,null,null,null,null,null,null,null,null,null,null,null,null,null,null,null,null,null,null,null,null,null,null,null,null,null,null,null,null,null,null,null,null,null,null,null,null,null,null,null,null,null,null,null,null,null,null,null,null,null,null,null,null,null,null,null,null,null,null,null,null,null,null,null,null,null,null,null,null,null,null,null,null,null,null,null,null,null,null,null,null,null,null,null,null,null,null,null,{"$f":"'View Records'!AF56","v":""},{"$f":"'View Records'!AG56","v":""},{"$f":"'View Records'!AH56","v":""},{"$f":"'View Records'!AI56","v":""},{"$f":"'View Records'!AJ56","v":""},{"$f":"'View Records'!AK56","v":""},{"$f":"'View Records'!AL56","v":""},{"$f":"'View Records'!AM56","v":""},{"$f":"'View Records'!AN56","v":""},{"$f":"'View Records'!AO56","v":""},{"$f":"'View Records'!AP56","v":""},{"$f":"'View Records'!AQ56","v":""}]
[{"$f":"Checklist!AF62","v":""},{"$f":"Checklist!AG62","v":""},{"$f":"Checklist!AH62","v":""},{"$f":"Checklist!AI62","v":""},{"$f":"Checklist!AJ62","v":""},{"$f":"Checklist!AK62","v":""},{"$f":"Checklist!AL62","v":""},{"$f":"Checklist!AM62","v":""},{"$f":"Checklist!AN62","v":""},{"$f":"Checklist!AO62","v":""},{"$f":"Checklist!AP62","v":""},{"$f":"Checklist!AQ62","v":""},"","","","",52,"","","","","","","","","","","","","","Block","","","","","","","","","","","","",null,null,null,null,null,null,null,null,null,null,null,null,null,null,null,null,null,null,null,null,null,null,null,null,null,null,null,null,null,null,null,null,null,null,null,null,null,null,null,null,null,null,null,null,null,null,null,null,null,null,null,null,null,null,null,null,null,null,null,null,null,null,null,null,null,null,null,null,null,null,null,null,null,null,null,null,null,null,null,null,null,null,null,null,null,null,null,null,null,null,null,null,null,null,null,null,null,null,null,null,null,null,null,null,null,null,null,null,null,null,null,null,null,null,null,null,null,null,null,null,null,null,null,null,null,null,null,null,null,null,null,null,null,null,null,null,null,null,null,null,null,null,null,null,null,null,null,null,null,null,null,null,null,null,null,null,null,null,null,null,null,null,null,null,null,{"$f":"'View Records'!AF57","v":""},{"$f":"'View Records'!AG57","v":""},{"$f":"'View Records'!AH57","v":""},{"$f":"'View Records'!AI57","v":""},{"$f":"'View Records'!AJ57","v":""},{"$f":"'View Records'!AK57","v":""},{"$f":"'View Records'!AL57","v":""},{"$f":"'View Records'!AM57","v":""},{"$f":"'View Records'!AN57","v":""},{"$f":"'View Records'!AO57","v":""},{"$f":"'View Records'!AP57","v":""},{"$f":"'View Records'!AQ57","v":""}]
[{"$f":"Checklist!AF63","v":""},{"$f":"Checklist!AG63","v":""},{"$f":"Checklist!AH63","v":""},{"$f":"Checklist!AI63","v":""},{"$f":"Checklist!AJ63","v":""},{"$f":"Checklist!AK63","v":""},{"$f":"Checklist!AL63","v":""},{"$f":"Checklist!AM63","v":""},{"$f":"Checklist!AN63","v":""},{"$f":"Checklist!AO63","v":""},{"$f":"Checklist!AP63","v":""},{"$f":"Checklist!AQ63","v":""},"","","","",53,"","","","","","","","","","","","","","Block","","","","","","","","","","","","",null,null,null,null,null,null,null,null,null,null,null,null,null,null,null,null,null,null,null,null,null,null,null,null,null,null,null,null,null,null,null,null,null,null,null,null,null,null,null,null,null,null,null,null,null,null,null,null,null,null,null,null,null,null,null,null,null,null,null,null,null,null,null,null,null,null,null,null,null,null,null,null,null,null,null,null,null,null,null,null,null,null,null,null,null,null,null,null,null,null,null,null,null,null,null,null,null,null,null,null,null,null,null,null,null,null,null,null,null,null,null,null,null,null,null,null,null,null,null,null,null,null,null,null,null,null,null,null,null,null,null,null,null,null,null,null,null,null,null,null,null,null,null,null,null,null,null,null,null,null,null,null,null,null,null,null,null,null,null,null,null,null,null,null,null,{"$f":"'View Records'!AF58","v":""},{"$f":"'View Records'!AG58","v":""},{"$f":"'View Records'!AH58","v":""},{"$f":"'View Records'!AI58","v":""},{"$f":"'View Records'!AJ58","v":""},{"$f":"'View Records'!AK58","v":""},{"$f":"'View Records'!AL58","v":""},{"$f":"'View Records'!AM58","v":""},{"$f":"'View Records'!AN58","v":""},{"$f":"'View Records'!AO58","v":""},{"$f":"'View Records'!AP58","v":""},{"$f":"'View Records'!AQ58","v":""}]
[{"$f":"Checklist!AF64","v":""},{"$f":"Checklist!AG64","v":""},{"$f":"Checklist!AH64","v":""},{"$f":"Checklist!AI64","v":""},{"$f":"Checklist!AJ64","v":""},{"$f":"Checklist!AK64","v":""},{"$f":"Checklist!AL64","v":""},{"$f":"Checklist!AM64","v":""},{"$f":"Checklist!AN64","v":""},{"$f":"Checklist!AO64","v":""},{"$f":"Checklist!AP64","v":""},{"$f":"Checklist!AQ64","v":""},"","","","",54,"","","","","","","","","","","","","","Block","","","","","","","","","","","","",null,null,null,null,null,null,null,null,null,null,null,null,null,null,null,null,null,null,null,null,null,null,null,null,null,null,null,null,null,null,null,null,null,null,null,null,null,null,null,null,null,null,null,null,null,null,null,null,null,null,null,null,null,null,null,null,null,null,null,null,null,null,null,null,null,null,null,null,null,null,null,null,null,null,null,null,null,null,null,null,null,null,null,null,null,null,null,null,null,null,null,null,null,null,null,null,null,null,null,null,null,null,null,null,null,null,null,null,null,null,null,null,null,null,null,null,null,null,null,null,null,null,null,null,null,null,null,null,null,null,null,null,null,null,null,null,null,null,null,null,null,null,null,null,null,null,null,null,null,null,null,null,null,null,null,null,null,null,null,null,null,null,null,null,null,{"$f":"'View Records'!AF59","v":""},{"$f":"'View Records'!AG59","v":""},{"$f":"'View Records'!AH59","v":""},{"$f":"'View Records'!AI59","v":""},{"$f":"'View Records'!AJ59","v":""},{"$f":"'View Records'!AK59","v":""},{"$f":"'View Records'!AL59","v":""},{"$f":"'View Records'!AM59","v":""},{"$f":"'View Records'!AN59","v":""},{"$f":"'View Records'!AO59","v":""},{"$f":"'View Records'!AP59","v":""},{"$f":"'View Records'!AQ59","v":""}]
[{"$f":"Checklist!AF65","v":""},{"$f":"Checklist!AG65","v":""},{"$f":"Checklist!AH65","v":""},{"$f":"Checklist!AI65","v":""},{"$f":"Checklist!AJ65","v":""},{"$f":"Checklist!AK65","v":""},{"$f":"Checklist!AL65","v":""},{"$f":"Checklist!AM65","v":""},{"$f":"Checklist!AN65","v":""},{"$f":"Checklist!AO65","v":""},{"$f":"Checklist!AP65","v":""},{"$f":"Checklist!AQ65","v":""},"","","","",55,"","","","","","","","","","","","","","Block","","","","","","","","","","","","",null,null,null,null,null,null,null,null,null,null,null,null,null,null,null,null,null,null,null,null,null,null,null,null,null,null,null,null,null,null,null,null,null,null,null,null,null,null,null,null,null,null,null,null,null,null,null,null,null,null,null,null,null,null,null,null,null,null,null,null,null,null,null,null,null,null,null,null,null,null,null,null,null,null,null,null,null,null,null,null,null,null,null,null,null,null,null,null,null,null,null,null,null,null,null,null,null,null,null,null,null,null,null,null,null,null,null,null,null,null,null,null,null,null,null,null,null,null,null,null,null,null,null,null,null,null,null,null,null,null,null,null,null,null,null,null,null,null,null,null,null,null,null,null,null,null,null,null,null,null,null,null,null,null,null,null,null,null,null,null,null,null,null,null,null,{"$f":"'View Records'!AF60","v":""},{"$f":"'View Records'!AG60","v":""},{"$f":"'View Records'!AH60","v":""},{"$f":"'View Records'!AI60","v":""},{"$f":"'View Records'!AJ60","v":""},{"$f":"'View Records'!AK60","v":""},{"$f":"'View Records'!AL60","v":""},{"$f":"'View Records'!AM60","v":""},{"$f":"'View Records'!AN60","v":""},{"$f":"'View Records'!AO60","v":""},{"$f":"'View Records'!AP60","v":""},{"$f":"'View Records'!AQ60","v":""}]
[{"$f":"Checklist!AF66","v":""},{"$f":"Checklist!AG66","v":""},{"$f":"Checklist!AH66","v":""},{"$f":"Checklist!AI66","v":""},{"$f":"Checklist!AJ66","v":""},{"$f":"Checklist!AK66","v":""},{"$f":"Checklist!AL66","v":""},{"$f":"Checklist!AM66","v":""},{"$f":"Checklist!AN66","v":""},{"$f":"Checklist!AO66","v":""},{"$f":"Checklist!AP66","v":""},{"$f":"Checklist!AQ66","v":""},"","","","",56,"","","","","","","","","","","","","","Block","","","","","","","","","","","","",null,null,null,null,null,null,null,null,null,null,null,null,null,null,null,null,null,null,null,null,null,null,null,null,null,null,null,null,null,null,null,null,null,null,null,null,null,null,null,null,null,null,null,null,null,null,null,null,null,null,null,null,null,null,null,null,null,null,null,null,null,null,null,null,null,null,null,null,null,null,null,null,null,null,null,null,null,null,null,null,null,null,null,null,null,null,null,null,null,null,null,null,null,null,null,null,null,null,null,null,null,null,null,null,null,null,null,null,null,null,null,null,null,null,null,null,null,null,null,null,null,null,null,null,null,null,null,null,null,null,null,null,null,null,null,null,null,null,null,null,null,null,null,null,null,null,null,null,null,null,null,null,null,null,null,null,null,null,null,null,null,null,null,null,null,{"$f":"'View Records'!AF61","v":""},{"$f":"'View Records'!AG61","v":""},{"$f":"'View Records'!AH61","v":""},{"$f":"'View Records'!AI61","v":""},{"$f":"'View Records'!AJ61","v":""},{"$f":"'View Records'!AK61","v":""},{"$f":"'View Records'!AL61","v":""},{"$f":"'View Records'!AM61","v":""},{"$f":"'View Records'!AN61","v":""},{"$f":"'View Records'!AO61","v":""},{"$f":"'View Records'!AP61","v":""},{"$f":"'View Records'!AQ61","v":""}]
[{"$f":"Checklist!AF67","v":""},{"$f":"Checklist!AG67","v":""},{"$f":"Checklist!AH67","v":""},{"$f":"Checklist!AI67","v":""},{"$f":"Checklist!AJ67","v":""},{"$f":"Checklist!AK67","v":""},{"$f":"Checklist!AL67","v":""},{"$f":"Checklist!AM67","v":""},{"$f":"Checklist!AN67","v":""},{"$f":"Checklist!AO67","v":""},{"$f":"Checklist!AP67","v":""},{"$f":"Checklist!AQ67","v":""},"","","","",57,"","","","","","","","","","","","","","Block","","","","","","","","","","","","",null,null,null,null,null,null,null,null,null,null,null,null,null,null,null,null,null,null,null,null,null,null,null,null,null,null,null,null,null,null,null,null,null,null,null,null,null,null,null,null,null,null,null,null,null,null,null,null,null,null,null,null,null,null,null,null,null,null,null,null,null,null,null,null,null,null,null,null,null,null,null,null,null,null,null,null,null,null,null,null,null,null,null,null,null,null,null,null,null,null,null,null,null,null,null,null,null,null,null,null,null,null,null,null,null,null,null,null,null,null,null,null,null,null,null,null,null,null,null,null,null,null,null,null,null,null,null,null,null,null,null,null,null,null,null,null,null,null,null,null,null,null,null,null,null,null,null,null,null,null,null,null,null,null,null,null,null,null,null,null,null,null,null,null,null,{"$f":"'View Records'!AF62","v":""},{"$f":"'View Records'!AG62","v":""},{"$f":"'View Records'!AH62","v":""},{"$f":"'View Records'!AI62","v":""},{"$f":"'View Records'!AJ62","v":""},{"$f":"'View Records'!AK62","v":""},{"$f":"'View Records'!AL62","v":""},{"$f":"'View Records'!AM62","v":""},{"$f":"'View Records'!AN62","v":""},{"$f":"'View Records'!AO62","v":""},{"$f":"'View Records'!AP62","v":""},{"$f":"'View Records'!AQ62","v":""}]
[{"$f":"Checklist!AF68","v":""},{"$f":"Checklist!AG68","v":""},{"$f":"Checklist!AH68","v":""},{"$f":"Checklist!AI68","v":""},{"$f":"Checklist!AJ68","v":""},{"$f":"Checklist!AK68","v":""},{"$f":"Checklist!AL68","v":""},{"$f":"Checklist!AM68","v":""},{"$f":"Checklist!AN68","v":""},{"$f":"Checklist!AO68","v":""},{"$f":"Checklist!AP68","v":""},{"$f":"Checklist!AQ68","v":""},"","","","",58,"","","","","","","","","","","","","","Block","","","","","","","","","","","","",null,null,null,null,null,null,null,null,null,null,null,null,null,null,null,null,null,null,null,null,null,null,null,null,null,null,null,null,null,null,null,null,null,null,null,null,null,null,null,null,null,null,null,null,null,null,null,null,null,null,null,null,null,null,null,null,null,null,null,null,null,null,null,null,null,null,null,null,null,null,null,null,null,null,null,null,null,null,null,null,null,null,null,null,null,null,null,null,null,null,null,null,null,null,null,null,null,null,null,null,null,null,null,null,null,null,null,null,null,null,null,null,null,null,null,null,null,null,null,null,null,null,null,null,null,null,null,null,null,null,null,null,null,null,null,null,null,null,null,null,null,null,null,null,null,null,null,null,null,null,null,null,null,null,null,null,null,null,null,null,null,null,null,null,null,{"$f":"'View Records'!AF63","v":""},{"$f":"'View Records'!AG63","v":""},{"$f":"'View Records'!AH63","v":""},{"$f":"'View Records'!AI63","v":""},{"$f":"'View Records'!AJ63","v":""},{"$f":"'View Records'!AK63","v":""},{"$f":"'View Records'!AL63","v":""},{"$f":"'View Records'!AM63","v":""},{"$f":"'View Records'!AN63","v":""},{"$f":"'View Records'!AO63","v":""},{"$f":"'View Records'!AP63","v":""},{"$f":"'View Records'!AQ63","v":""}]
[{"$f":"Checklist!AF69","v":""},{"$f":"Checklist!AG69","v":""},{"$f":"Checklist!AH69","v":""},{"$f":"Checklist!AI69","v":""},{"$f":"Checklist!AJ69","v":""},{"$f":"Checklist!AK69","v":""},{"$f":"Checklist!AL69","v":""},{"$f":"Checklist!AM69","v":""},{"$f":"Checklist!AN69","v":""},{"$f":"Checklist!AO69","v":""},{"$f":"Checklist!AP69","v":""},{"$f":"Checklist!AQ69","v":""},"","","","",59,"","","","","","","","","","","","","","Block","","","","","","","","","","","","",null,null,null,null,null,null,null,null,null,null,null,null,null,null,null,null,null,null,null,null,null,null,null,null,null,null,null,null,null,null,null,null,null,null,null,null,null,null,null,null,null,null,null,null,null,null,null,null,null,null,null,null,null,null,null,null,null,null,null,null,null,null,null,null,null,null,null,null,null,null,null,null,null,null,null,null,null,null,null,null,null,null,null,null,null,null,null,null,null,null,null,null,null,null,null,null,null,null,null,null,null,null,null,null,null,null,null,null,null,null,null,null,null,null,null,null,null,null,null,null,null,null,null,null,null,null,null,null,null,null,null,null,null,null,null,null,null,null,null,null,null,null,null,null,null,null,null,null,null,null,null,null,null,null,null,null,null,null,null,null,null,null,null,null,null,{"$f":"'View Records'!AF64","v":""},{"$f":"'View Records'!AG64","v":""},{"$f":"'View Records'!AH64","v":""},{"$f":"'View Records'!AI64","v":""},{"$f":"'View Records'!AJ64","v":""},{"$f":"'View Records'!AK64","v":""},{"$f":"'View Records'!AL64","v":""},{"$f":"'View Records'!AM64","v":""},{"$f":"'View Records'!AN64","v":""},{"$f":"'View Records'!AO64","v":""},{"$f":"'View Records'!AP64","v":""},{"$f":"'View Records'!AQ64","v":""}]
[{"$f":"Checklist!AF70","v":""},{"$f":"Checklist!AG70","v":""},{"$f":"Checklist!AH70","v":""},{"$f":"Checklist!AI70","v":""},{"$f":"Checklist!AJ70","v":""},{"$f":"Checklist!AK70","v":""},{"$f":"Checklist!AL70","v":""},{"$f":"Checklist!AM70","v":""},{"$f":"Checklist!AN70","v":""},{"$f":"Checklist!AO70","v":""},{"$f":"Checklist!AP70","v":""},{"$f":"Checklist!AQ70","v":""},"","","","",60,"","","","","","","","","","","","","","Block","","","","","","","","","","","","",null,null,null,null,null,null,null,null,null,null,null,null,null,null,null,null,null,null,null,null,null,null,null,null,null,null,null,null,null,null,null,null,null,null,null,null,null,null,null,null,null,null,null,null,null,null,null,null,null,null,null,null,null,null,null,null,null,null,null,null,null,null,null,null,null,null,null,null,null,null,null,null,null,null,null,null,null,null,null,null,null,null,null,null,null,null,null,null,null,null,null,null,null,null,null,null,null,null,null,null,null,null,null,null,null,null,null,null,null,null,null,null,null,null,null,null,null,null,null,null,null,null,null,null,null,null,null,null,null,null,null,null,null,null,null,null,null,null,null,null,null,null,null,null,null,null,null,null,null,null,null,null,null,null,null,null,null,null,null,null,null,null,null,null,null,{"$f":"'View Records'!AF65","v":""},{"$f":"'View Records'!AG65","v":""},{"$f":"'View Records'!AH65","v":""},{"$f":"'View Records'!AI65","v":""},{"$f":"'View Records'!AJ65","v":""},{"$f":"'View Records'!AK65","v":""},{"$f":"'View Records'!AL65","v":""},{"$f":"'View Records'!AM65","v":""},{"$f":"'View Records'!AN65","v":""},{"$f":"'View Records'!AO65","v":""},{"$f":"'View Records'!AP65","v":""},{"$f":"'View Records'!AQ65","v":""}]
[{"$f":"Checklist!AF71","v":""},{"$f":"Checklist!AG71","v":""},{"$f":"Checklist!AH71","v":""},{"$f":"Checklist!AI71","v":""},{"$f":"Checklist!AJ71","v":""},{"$f":"Checklist!AK71","v":""},{"$f":"Checklist!AL71","v":""},{"$f":"Checklist!AM71","v":""},{"$f":"Checklist!AN71","v":""},{"$f":"Checklist!AO71","v":""},{"$f":"Checklist!AP71","v":""},{"$f":"Checklist!AQ71","v":""},"","","","",61,"","","","","","","","","","","","","","Block","","","","","","","","","","","","",null,null,null,null,null,null,null,null,null,null,null,null,null,null,null,null,null,null,null,null,null,null,null,null,null,null,null,null,null,null,null,null,null,null,null,null,null,null,null,null,null,null,null,null,null,null,null,null,null,null,null,null,null,null,null,null,null,null,null,null,null,null,null,null,null,null,null,null,null,null,null,null,null,null,null,null,null,null,null,null,null,null,null,null,null,null,null,null,null,null,null,null,null,null,null,null,null,null,null,null,null,null,null,null,null,null,null,null,null,null,null,null,null,null,null,null,null,null,null,null,null,null,null,null,null,null,null,null,null,null,null,null,null,null,null,null,null,null,null,null,null,null,null,null,null,null,null,null,null,null,null,null,null,null,null,null,null,null,null,null,null,null,null,null,null,{"$f":"'View Records'!AF66","v":""},{"$f":"'View Records'!AG66","v":""},{"$f":"'View Records'!AH66","v":""},{"$f":"'View Records'!AI66","v":""},{"$f":"'View Records'!AJ66","v":""},{"$f":"'View Records'!AK66","v":""},{"$f":"'View Records'!AL66","v":""},{"$f":"'View Records'!AM66","v":""},{"$f":"'View Records'!AN66","v":""},{"$f":"'View Records'!AO66","v":""},{"$f":"'View Records'!AP66","v":""},{"$f":"'View Records'!AQ66","v":""}]
[{"$f":"Checklist!AF72","v":""},{"$f":"Checklist!AG72","v":""},{"$f":"Checklist!AH72","v":""},{"$f":"Checklist!AI72","v":""},{"$f":"Checklist!AJ72","v":""},{"$f":"Checklist!AK72","v":""},{"$f":"Checklist!AL72","v":""},{"$f":"Checklist!AM72","v":""},{"$f":"Checklist!AN72","v":""},{"$f":"Checklist!AO72","v":""},{"$f":"Checklist!AP72","v":""},{"$f":"Checklist!AQ72","v":""},"","","","",62,"","","","","","","","","","","","","","Block","","","","","","","","","","","","",null,null,null,null,null,null,null,null,null,null,null,null,null,null,null,null,null,null,null,null,null,null,null,null,null,null,null,null,null,null,null,null,null,null,null,null,null,null,null,null,null,null,null,null,null,null,null,null,null,null,null,null,null,null,null,null,null,null,null,null,null,null,null,null,null,null,null,null,null,null,null,null,null,null,null,null,null,null,null,null,null,null,null,null,null,null,null,null,null,null,null,null,null,null,null,null,null,null,null,null,null,null,null,null,null,null,null,null,null,null,null,null,null,null,null,null,null,null,null,null,null,null,null,null,null,null,null,null,null,null,null,null,null,null,null,null,null,null,null,null,null,null,null,null,null,null,null,null,null,null,null,null,null,null,null,null,null,null,null,null,null,null,null,null,null,{"$f":"'View Records'!AF67","v":""},{"$f":"'View Records'!AG67","v":""},{"$f":"'View Records'!AH67","v":""},{"$f":"'View Records'!AI67","v":""},{"$f":"'View Records'!AJ67","v":""},{"$f":"'View Records'!AK67","v":""},{"$f":"'View Records'!AL67","v":""},{"$f":"'View Records'!AM67","v":""},{"$f":"'View Records'!AN67","v":""},{"$f":"'View Records'!AO67","v":""},{"$f":"'View Records'!AP67","v":""},{"$f":"'View Records'!AQ67","v":""}]
[{"$f":"Checklist!AF73","v":""},{"$f":"Checklist!AG73","v":""},{"$f":"Checklist!AH73","v":""},{"$f":"Checklist!AI73","v":""},{"$f":"Checklist!AJ73","v":""},{"$f":"Checklist!AK73","v":""},{"$f":"Checklist!AL73","v":""},{"$f":"Checklist!AM73","v":""},{"$f":"Checklist!AN73","v":""},{"$f":"Checklist!AO73","v":""},{"$f":"Checklist!AP73","v":""},{"$f":"Checklist!AQ73","v":""},"","","","",63,"","","","","","","","","","","","","","Block","","","","","","","","","","","","",null,null,null,null,null,null,null,null,null,null,null,null,null,null,null,null,null,null,null,null,null,null,null,null,null,null,null,null,null,null,null,null,null,null,null,null,null,null,null,null,null,null,null,null,null,null,null,null,null,null,null,null,null,null,null,null,null,null,null,null,null,null,null,null,null,null,null,null,null,null,null,null,null,null,null,null,null,null,null,null,null,null,null,null,null,null,null,null,null,null,null,null,null,null,null,null,null,null,null,null,null,null,null,null,null,null,null,null,null,null,null,null,null,null,null,null,null,null,null,null,null,null,null,null,null,null,null,null,null,null,null,null,null,null,null,null,null,null,null,null,null,null,null,null,null,null,null,null,null,null,null,null,null,null,null,null,null,null,null,null,null,null,null,null,null,{"$f":"'View Records'!AF68","v":""},{"$f":"'View Records'!AG68","v":""},{"$f":"'View Records'!AH68","v":""},{"$f":"'View Records'!AI68","v":""},{"$f":"'View Records'!AJ68","v":""},{"$f":"'View Records'!AK68","v":""},{"$f":"'View Records'!AL68","v":""},{"$f":"'View Records'!AM68","v":""},{"$f":"'View Records'!AN68","v":""},{"$f":"'View Records'!AO68","v":""},{"$f":"'View Records'!AP68","v":""},{"$f":"'View Records'!AQ68","v":""}]
[{"$f":"Checklist!AF74","v":""},{"$f":"Checklist!AG74","v":""},{"$f":"Checklist!AH74","v":""},{"$f":"Checklist!AI74","v":""},{"$f":"Checklist!AJ74","v":""},{"$f":"Checklist!AK74","v":""},{"$f":"Checklist!AL74","v":""},{"$f":"Checklist!AM74","v":""},{"$f":"Checklist!AN74","v":""},{"$f":"Checklist!AO74","v":""},{"$f":"Checklist!AP74","v":""},{"$f":"Checklist!AQ74","v":""},"","","","",64,"","","","","","","","","","","","","","Block","","","","","","","","","","","","",null,null,null,null,null,null,null,null,null,null,null,null,null,null,null,null,null,null,null,null,null,null,null,null,null,null,null,null,null,null,null,null,null,null,null,null,null,null,null,null,null,null,null,null,null,null,null,null,null,null,null,null,null,null,null,null,null,null,null,null,null,null,null,null,null,null,null,null,null,null,null,null,null,null,null,null,null,null,null,null,null,null,null,null,null,null,null,null,null,null,null,null,null,null,null,null,null,null,null,null,null,null,null,null,null,null,null,null,null,null,null,null,null,null,null,null,null,null,null,null,null,null,null,null,null,null,null,null,null,null,null,null,null,null,null,null,null,null,null,null,null,null,null,null,null,null,null,null,null,null,null,null,null,null,null,null,null,null,null,null,null,null,null,null,null,{"$f":"'View Records'!AF69","v":""},{"$f":"'View Records'!AG69","v":""},{"$f":"'View Records'!AH69","v":""},{"$f":"'View Records'!AI69","v":""},{"$f":"'View Records'!AJ69","v":""},{"$f":"'View Records'!AK69","v":""},{"$f":"'View Records'!AL69","v":""},{"$f":"'View Records'!AM69","v":""},{"$f":"'View Records'!AN69","v":""},{"$f":"'View Records'!AO69","v":""},{"$f":"'View Records'!AP69","v":""},{"$f":"'View Records'!AQ69","v":""}]
[{"$f":"Checklist!AF75","v":""},{"$f":"Checklist!AG75","v":""},{"$f":"Checklist!AH75","v":""},{"$f":"Checklist!AI75","v":""},{"$f":"Checklist!AJ75","v":""},{"$f":"Checklist!AK75","v":""},{"$f":"Checklist!AL75","v":""},{"$f":"Checklist!AM75","v":""},{"$f":"Checklist!AN75","v":""},{"$f":"Checklist!AO75","v":""},{"$f":"Checklist!AP75","v":""},{"$f":"Checklist!AQ75","v":""},"","","","",65,"",{"$f":"IF(N66=\"No BRC\",\"\",N66)","v":""},{"$f":"IF(ROW(B66)-ROW(B$2)+1>COUNT($M$2:$M$1197),\"\",INDEX(B:B,SMALL($M$2:$M$1197,1+ROW(B66)-ROW(B$2))))","v":""},{"$f":"IF(ROW(C66)-ROW(C$2)+1>COUNT($M$2:$M$1197),\"\",INDEX(C:C,SMALL($M$2:$M$1197,1+ROW(C66)-ROW(C$2))))","v":""},{"$f":"IF(ROW(D66)-ROW(D$2)+1>COUNT($M$2:$M$1197),\"\",INDEX(D:D,SMALL($M$2:$M$1197,1+ROW(D66)-ROW(D$2))))","v":""},{"$f":"IF(ROW(E66)-ROW(E$2)+1>COUNT($M$2:$M$1197),\"\",INDEX(E:E,SMALL($M$2:$M$1197,1+ROW(E66)-ROW(E$2))))","v":""},{"$f":"IF(ROW(F66)-ROW(F$2)+1>COUNT($M$2:$M$1197),\"\",INDEX(F:F,SMALL($M$2:$M$1197,1+ROW(F66)-ROW(F$2))))","v":""},{"$f":"IF(ROW(G66)-ROW(G$2)+1>COUNT($M$2:$M$1197),\"\",INDEX(G:G,SMALL($M$2:$M$1197,1+ROW(G66)-ROW(G$2))))","v":""},{"$f":"IF(ROW(H66)-ROW(H$2)+1>COUNT($M$2:$M$1197),\"\",INDEX(H:H,SMALL($M$2:$M$1197,1+ROW(H66)-ROW(H$2))))","v":""},{"$f":"IF(ROW(I66)-ROW(I$2)+1>COUNT($M$2:$M$1197),\"\",INDEX(I:I,SMALL($M$2:$M$1197,1+ROW(I66)-ROW(I$2))))","v":""},{"$f":"IF(ROW(J66)-ROW(J$2)+1>COUNT($M$2:$M$1197),\"\",INDEX(J:J,SMALL($M$2:$M$1197,1+ROW(J66)-ROW(J$2))))","v":""},{"$f":"IF(ROW(K66)-ROW(K$2)+1>COUNT($M$2:$M$1197),\"\",INDEX(K:K,SMALL($M$2:$M$1197,1+ROW(K66)-ROW(K$2))))","v":""},{"$f":"IF(O66=\"  --\",\"\",O66)","v":""},"Block","","","","","","","","","","","","",null,null,null,null,null,null,null,null,null,null,null,null,null,null,null,null,null,null,null,null,null,null,null,null,null,null,null,null,null,null,null,null,null,null,null,null,null,null,null,null,null,null,null,null,null,null,null,null,null,null,null,null,null,null,null,null,null,null,null,null,null,null,null,null,null,null,null,null,null,null,null,null,null,null,null,null,null,null,null,null,null,null,null,null,null,null,null,null,null,null,null,null,null,null,null,null,null,null,null,null,null,null,null,null,null,null,null,null,null,null,null,null,null,null,null,null,null,null,null,null,null,null,null,null,null,null,null,null,null,null,null,null,null,null,null,null,null,null,null,null,null,null,null,null,null,null,null,null,null,null,null,null,null,null,null,null,null,null,null,null,null,null,null,null,null,{"$f":"'View Records'!AF70","v":""},{"$f":"'View Records'!AG70","v":""},{"$f":"'View Records'!AH70","v":""},{"$f":"'View Records'!AI70","v":""},{"$f":"'View Records'!AJ70","v":""},{"$f":"'View Records'!AK70","v":""},{"$f":"'View Records'!AL70","v":""},{"$f":"'View Records'!AM70","v":""},{"$f":"'View Records'!AN70","v":""},{"$f":"'View Records'!AO70","v":""},{"$f":"'View Records'!AP70","v":""},{"$f":"'View Records'!AQ70","v":""}]
[{"$f":"Checklist!AF76","v":""},{"$f":"Checklist!AG76","v":""},{"$f":"Checklist!AH76","v":""},{"$f":"Checklist!AI76","v":""},{"$f":"Checklist!AJ76","v":""},{"$f":"Checklist!AK76","v":""},{"$f":"Checklist!AL76","v":""},{"$f":"Checklist!AM76","v":""},{"$f":"Checklist!AN76","v":""},{"$f":"Checklist!AO76","v":""},{"$f":"Checklist!AP76","v":""},{"$f":"Checklist!AQ76","v":""},{"$f":"IF(A67=\"\",\"\",ROW())","v":""},{"$f":"IF(ROW(A67)-ROW(A$2)+1>COUNT($M$2:$M$1197),\"\",INDEX(A:A,SMALL($M$2:$M$1197,1+ROW(A67)-ROW(A$2))))","v":""},{"$f":"IF(ROW(L67)-ROW(L$2)+1>COUNT($M$2:$M$1197),\"\",INDEX(L:L,SMALL($M$2:$M$1197,1+ROW(L67)-ROW(L$2))))","v":""},{"$f":"IF(COUNTIF($T$2:$T$1197,\"<=\"&T67)=0,\"\",COUNTIF($T$2:$T$1197,\"<=\"&T67))","v":""},66,{"$f":"IF(ISNUMBER(P67),P67+(Q67/100000),\"\")","v":""},"","","","","","","","","","","","","Block","","","","","","","","","","","","",null,null,null,null,null,null,null,null,null,null,null,null,null,null,null,null,null,null,null,null,null,null,null,null,null,null,null,null,null,null,null,null,null,null,null,null,null,null,null,null,null,null,null,null,null,null,null,null,null,null,null,null,null,null,null,null,null,null,null,null,null,null,null,null,null,null,null,null,null,null,null,null,null,null,null,null,null,null,null,null,null,null,null,null,null,null,null,null,null,null,null,null,null,null,null,null,null,null,null,null,null,null,null,null,null,null,null,null,null,null,null,null,null,null,null,null,null,null,null,null,null,null,null,null,null,null,null,null,null,null,null,null,null,null,null,null,null,null,null,null,null,null,null,null,null,null,null,null,null,null,null,null,null,null,null,null,null,null,null,null,null,null,null,null,null,{"$f":"'View Records'!AF71","v":""},{"$f":"'View Records'!AG71","v":""},{"$f":"'View Records'!AH71","v":""},{"$f":"'View Records'!AI71","v":""},{"$f":"'View Records'!AJ71","v":""},{"$f":"'View Records'!AK71","v":""},{"$f":"'View Records'!AL71","v":""},{"$f":"'View Records'!AM71","v":""},{"$f":"'View Records'!AN71","v":""},{"$f":"'View Records'!AO71","v":""},{"$f":"'View Records'!AP71","v":""},{"$f":"'View Records'!AQ71","v":""}]
[{"$f":"Checklist!AF77","v":""},{"$f":"Checklist!AG77","v":""},{"$f":"Checklist!AH77","v":""},{"$f":"Checklist!AI77","v":""},{"$f":"Checklist!AJ77","v":""},{"$f":"Checklist!AK77","v":""},{"$f":"Checklist!AL77","v":""},{"$f":"Checklist!AM77","v":""},{"$f":"Checklist!AN77","v":""},{"$f":"Checklist!AO77","v":""},{"$f":"Checklist!AP77","v":""},{"$f":"Checklist!AQ77","v":""},"","","","",67,"","","","","","","","","","","","","","Block","","","","","","","","","","","","",null,null,null,null,null,null,null,null,null,null,null,null,null,null,null,null,null,null,null,null,null,null,null,null,null,null,null,null,null,null,null,null,null,null,null,null,null,null,null,null,null,null,null,null,null,null,null,null,null,null,null,null,null,null,null,null,null,null,null,null,null,null,null,null,null,null,null,null,null,null,null,null,null,null,null,null,null,null,null,null,null,null,null,null,null,null,null,null,null,null,null,null,null,null,null,null,null,null,null,null,null,null,null,null,null,null,null,null,null,null,null,null,null,null,null,null,null,null,null,null,null,null,null,null,null,null,null,null,null,null,null,null,null,null,null,null,null,null,null,null,null,null,null,null,null,null,null,null,null,null,null,null,null,null,null,null,null,null,null,null,null,null,null,null,null,{"$f":"'View Records'!AF72","v":""},{"$f":"'View Records'!AG72","v":""},{"$f":"'View Records'!AH72","v":""},{"$f":"'View Records'!AI72","v":""},{"$f":"'View Records'!AJ72","v":""},{"$f":"'View Records'!AK72","v":""},{"$f":"'View Records'!AL72","v":""},{"$f":"'View Records'!AM72","v":""},{"$f":"'View Records'!AN72","v":""},{"$f":"'View Records'!AO72","v":""},{"$f":"'View Records'!AP72","v":""},{"$f":"'View Records'!AQ72","v":""}]
[{"$f":"Checklist!AF78","v":""},{"$f":"Checklist!AG78","v":""},{"$f":"Checklist!AH78","v":""},{"$f":"Checklist!AI78","v":""},{"$f":"Checklist!AJ78","v":""},{"$f":"Checklist!AK78","v":""},{"$f":"Checklist!AL78","v":""},{"$f":"Checklist!AM78","v":""},{"$f":"Checklist!AN78","v":""},{"$f":"Checklist!AO78","v":""},{"$f":"Checklist!AP78","v":""},{"$f":"Checklist!AQ78","v":""},"","","","",68,"","","","","","","","","","","","","","Block","","","","","","","","","","","","",null,null,null,null,null,null,null,null,null,null,null,null,null,null,null,null,null,null,null,null,null,null,null,null,null,null,null,null,null,null,null,null,null,null,null,null,null,null,null,null,null,null,null,null,null,null,null,null,null,null,null,null,null,null,null,null,null,null,null,null,null,null,null,null,null,null,null,null,null,null,null,null,null,null,null,null,null,null,null,null,null,null,null,null,null,null,null,null,null,null,null,null,null,null,null,null,null,null,null,null,null,null,null,null,null,null,null,null,null,null,null,null,null,null,null,null,null,null,null,null,null,null,null,null,null,null,null,null,null,null,null,null,null,null,null,null,null,null,null,null,null,null,null,null,null,null,null,null,null,null,null,null,null,null,null,null,null,null,null,null,null,null,null,null,null,{"$f":"'View Records'!AF73","v":""},{"$f":"'View Records'!AG73","v":""},{"$f":"'View Records'!AH73","v":""},{"$f":"'View Records'!AI73","v":""},{"$f":"'View Records'!AJ73","v":""},{"$f":"'View Records'!AK73","v":""},{"$f":"'View Records'!AL73","v":""},{"$f":"'View Records'!AM73","v":""},{"$f":"'View Records'!AN73","v":""},{"$f":"'View Records'!AO73","v":""},{"$f":"'View Records'!AP73","v":""},{"$f":"'View Records'!AQ73","v":""}]
[{"$f":"Checklist!AF79","v":""},{"$f":"Checklist!AG79","v":""},{"$f":"Checklist!AH79","v":""},{"$f":"Checklist!AI79","v":""},{"$f":"Checklist!AJ79","v":""},{"$f":"Checklist!AK79","v":""},{"$f":"Checklist!AL79","v":""},{"$f":"Checklist!AM79","v":""},{"$f":"Checklist!AN79","v":""},{"$f":"Checklist!AO79","v":""},{"$f":"Checklist!AP79","v":""},{"$f":"Checklist!AQ79","v":""},"","","","",69,"","","","","","","","","","","","","","Block",{"$f":"IF(ISNUMBER($P66),VLOOKUP(SMALL($R$2:$R$1197,ROW()-5),$R$2:$AD$1197,2,FALSE),\"\")","v":""},{"$f":"IF(ISNUMBER($P66),VLOOKUP(SMALL($R$2:$R$1197,ROW()-5),$R$2:$AD$1197,3,FALSE),\"\")","v":""},{"$f":"IF(ISNUMBER($P66),VLOOKUP(SMALL($R$2:$R$1197,ROW()-5),$R$2:$AD$1197,4,FALSE),\"\")","v":""},{"$f":"IF(ISNUMBER($P66),VLOOKUP(SMALL($R$2:$R$1197,ROW()-5),$R$2:$AD$1197,5,FALSE),\"\")","v":""},{"$f":"IF(ISNUMBER($P66),VLOOKUP(SMALL($R$2:$R$1197,ROW()-5),$R$2:$AD$1197,6,FALSE),\"\")","v":""},{"$f":"IF(ISNUMBER($P66),VLOOKUP(SMALL($R$2:$R$1197,ROW()-5),$R$2:$AD$1197,7,FALSE),\"\")","v":""},{"$f":"IF(ISNUMBER($P66),VLOOKUP(SMALL($R$2:$R$1197,ROW()-5),$R$2:$AD$1197,9,FALSE),\"\")","v":""},{"$f":"IF(ISNUMBER($P66),VLOOKUP(SMALL($R$2:$R$1197,ROW()-5),$R$2:$AD$1197,10,FALSE),\"\")","v":""},{"$f":"IF(ISNUMBER($P66),VLOOKUP(SMALL($R$2:$R$1197,ROW()-5),$R$2:$AD$1197,8,FALSE),\"\")","v":""},{"$f":"IF(ISNUMBER($P66),VLOOKUP(SMALL($R$2:$R$1197,ROW()-5),$R$2:$AD$1197,11,FALSE),\"\")","v":""},"","",null,null,null,null,null,null,null,null,null,null,null,null,null,null,null,null,null,null,null,null,null,null,null,null,null,null,null,null,null,null,null,null,null,null,null,null,null,null,null,null,null,null,null,null,null,null,null,null,null,null,null,null,null,null,null,null,null,null,null,null,null,null,null,null,null,null,null,null,null,null,null,null,null,null,null,null,null,null,null,null,null,null,null,null,null,null,null,null,null,null,null,null,null,null,null,null,null,null,null,null,null,null,null,null,null,null,null,null,null,null,null,null,null,null,null,null,null,null,null,null,null,null,null,null,null,null,null,null,null,null,null,null,null,null,null,null,null,null,null,null,null,null,null,null,null,null,null,null,null,null,null,null,null,null,null,null,null,null,null,null,null,null,null,null,null,{"$f":"'View Records'!AF74","v":""},{"$f":"'View Records'!AG74","v":""},{"$f":"'View Records'!AH74","v":""},{"$f":"'View Records'!AI74","v":""},{"$f":"'View Records'!AJ74","v":""},{"$f":"'View Records'!AK74","v":""},{"$f":"'View Records'!AL74","v":""},{"$f":"'View Records'!AM74","v":""},{"$f":"'View Records'!AN74","v":""},{"$f":"'View Records'!AO74","v":""},{"$f":"'View Records'!AP74","v":""},{"$f":"'View Records'!AQ74","v":""}]
[{"$f":"Checklist!AF80","v":""},{"$f":"Checklist!AG80","v":""},{"$f":"Checklist!AH80","v":""},{"$f":"Checklist!AI80","v":""},{"$f":"Checklist!AJ80","v":""},{"$f":"Checklist!AK80","v":""},{"$f":"Checklist!AL80","v":""},{"$f":"Checklist!AM80","v":""},{"$f":"Checklist!AN80","v":""},{"$f":"Checklist!AO80","v":""},{"$f":"Checklist!AP80","v":""},{"$f":"Checklist!AQ80","v":""},"","","","",70,"","","","","","","","","","","","","","Block","","","","","","","","","","",{"$f":"IF(ISNUMBER($P67),VLOOKUP(SMALL($R$2:$R$1197,ROW()-5),$R$2:$AD$1197,12,FALSE),\"\")","v":""},{"$f":"IF(ISNUMBER($P67),VLOOKUP(SMALL($R$2:$R$1197,ROW()-5),$R$2:$AD$1197,13,FALSE),\"\")","v":""},null,null,null,null,null,null,null,null,null,null,null,null,null,null,null,null,null,null,null,null,null,null,null,null,null,null,null,null,null,null,null,null,null,null,null,null,null,null,null,null,null,null,null,null,null,null,null,null,null,null,null,null,null,null,null,null,null,null,null,null,null,null,null,null,null,null,null,null,null,null,null,null,null,null,null,null,null,null,null,null,null,null,null,null,null,null,null,null,null,null,null,null,null,null,null,null,null,null,null,null,null,null,null,null,null,null,null,null,null,null,null,null,null,null,null,null,null,null,null,null,null,null,null,null,null,null,null,null,null,null,null,null,null,null,null,null,null,null,null,null,null,null,null,null,null,null,null,null,null,null,null,null,null,null,null,null,null,null,null,null,null,null,null,null,null,{"$f":"'View Records'!AF75","v":""},{"$f":"'View Records'!AG75","v":""},{"$f":"'View Records'!AH75","v":""},{"$f":"'View Records'!AI75","v":""},{"$f":"'View Records'!AJ75","v":""},{"$f":"'View Records'!AK75","v":""},{"$f":"'View Records'!AL75","v":""},{"$f":"'View Records'!AM75","v":""},{"$f":"'View Records'!AN75","v":""},{"$f":"'View Records'!AO75","v":""},{"$f":"'View Records'!AP75","v":""},{"$f":"'View Records'!AQ75","v":""}]
[{"$f":"Checklist!AF81","v":""},{"$f":"Checklist!AG81","v":""},{"$f":"Checklist!AH81","v":""},{"$f":"Checklist!AI81","v":""},{"$f":"Checklist!AJ81","v":""},{"$f":"Checklist!AK81","v":""},{"$f":"Checklist!AL81","v":""},{"$f":"Checklist!AM81","v":""},{"$f":"Checklist!AN81","v":""},{"$f":"Checklist!AO81","v":""},{"$f":"Checklist!AP81","v":""},{"$f":"Checklist!AQ81","v":""},"","","","",71,"","","","","","","","","","","","","","Block","","","","","","","","","","","","",null,null,null,null,null,null,null,null,null,null,null,null,null,null,null,null,null,null,null,null,null,null,null,null,null,null,null,null,null,null,null,null,null,null,null,null,null,null,null,null,null,null,null,null,null,null,null,null,null,null,null,null,null,null,null,null,null,null,null,null,null,null,null,null,null,null,null,null,null,null,null,null,null,null,null,null,null,null,null,null,null,null,null,null,null,null,null,null,null,null,null,null,null,null,null,null,null,null,null,null,null,null,null,null,null,null,null,null,null,null,null,null,null,null,null,null,null,null,null,null,null,null,null,null,null,null,null,null,null,null,null,null,null,null,null,null,null,null,null,null,null,null,null,null,null,null,null,null,null,null,null,null,null,null,null,null,null,null,null,null,null,null,null,null,null,{"$f":"'View Records'!AF76","v":""},{"$f":"'View Records'!AG76","v":""},{"$f":"'View Records'!AH76","v":""},{"$f":"'View Records'!AI76","v":""},{"$f":"'View Records'!AJ76","v":""},{"$f":"'View Records'!AK76","v":""},{"$f":"'View Records'!AL76","v":""},{"$f":"'View Records'!AM76","v":""},{"$f":"'View Records'!AN76","v":""},{"$f":"'View Records'!AO76","v":""},{"$f":"'View Records'!AP76","v":""},{"$f":"'View Records'!AQ76","v":""}]
[{"$f":"Checklist!AF82","v":""},{"$f":"Checklist!AG82","v":""},{"$f":"Checklist!AH82","v":""},{"$f":"Checklist!AI82","v":""},{"$f":"Checklist!AJ82","v":""},{"$f":"Checklist!AK82","v":""},{"$f":"Checklist!AL82","v":""},{"$f":"Checklist!AM82","v":""},{"$f":"Checklist!AN82","v":""},{"$f":"Checklist!AO82","v":""},{"$f":"Checklist!AP82","v":""},{"$f":"Checklist!AQ82","v":""},"","","","",72,"","","","","","","","","","","","","","Block","","","","","","","","","","","","",null,null,null,null,null,null,null,null,null,null,null,null,null,null,null,null,null,null,null,null,null,null,null,null,null,null,null,null,null,null,null,null,null,null,null,null,null,null,null,null,null,null,null,null,null,null,null,null,null,null,null,null,null,null,null,null,null,null,null,null,null,null,null,null,null,null,null,null,null,null,null,null,null,null,null,null,null,null,null,null,null,null,null,null,null,null,null,null,null,null,null,null,null,null,null,null,null,null,null,null,null,null,null,null,null,null,null,null,null,null,null,null,null,null,null,null,null,null,null,null,null,null,null,null,null,null,null,null,null,null,null,null,null,null,null,null,null,null,null,null,null,null,null,null,null,null,null,null,null,null,null,null,null,null,null,null,null,null,null,null,null,null,null,null,null,{"$f":"'View Records'!AF77","v":""},{"$f":"'View Records'!AG77","v":""},{"$f":"'View Records'!AH77","v":""},{"$f":"'View Records'!AI77","v":""},{"$f":"'View Records'!AJ77","v":""},{"$f":"'View Records'!AK77","v":""},{"$f":"'View Records'!AL77","v":""},{"$f":"'View Records'!AM77","v":""},{"$f":"'View Records'!AN77","v":""},{"$f":"'View Records'!AO77","v":""},{"$f":"'View Records'!AP77","v":""},{"$f":"'View Records'!AQ77","v":""}]
[{"$f":"Checklist!AF83","v":""},{"$f":"Checklist!AG83","v":""},{"$f":"Checklist!AH83","v":""},{"$f":"Checklist!AI83","v":""},{"$f":"Checklist!AJ83","v":""},{"$f":"Checklist!AK83","v":""},{"$f":"Checklist!AL83","v":""},{"$f":"Checklist!AM83","v":""},{"$f":"Checklist!AN83","v":""},{"$f":"Checklist!AO83","v":""},{"$f":"Checklist!AP83","v":""},{"$f":"Checklist!AQ83","v":""},"","","","",73,"","","","","","","","","","","","","","Block","","","","","","","","","","","","",null,null,null,null,null,null,null,null,null,null,null,null,null,null,null,null,null,null,null,null,null,null,null,null,null,null,null,null,null,null,null,null,null,null,null,null,null,null,null,null,null,null,null,null,null,null,null,null,null,null,null,null,null,null,null,null,null,null,null,null,null,null,null,null,null,null,null,null,null,null,null,null,null,null,null,null,null,null,null,null,null,null,null,null,null,null,null,null,null,null,null,null,null,null,null,null,null,null,null,null,null,null,null,null,null,null,null,null,null,null,null,null,null,null,null,null,null,null,null,null,null,null,null,null,null,null,null,null,null,null,null,null,null,null,null,null,null,null,null,null,null,null,null,null,null,null,null,null,null,null,null,null,null,null,null,null,null,null,null,null,null,null,null,null,null,{"$f":"'View Records'!AF78","v":""},{"$f":"'View Records'!AG78","v":""},{"$f":"'View Records'!AH78","v":""},{"$f":"'View Records'!AI78","v":""},{"$f":"'View Records'!AJ78","v":""},{"$f":"'View Records'!AK78","v":""},{"$f":"'View Records'!AL78","v":""},{"$f":"'View Records'!AM78","v":""},{"$f":"'View Records'!AN78","v":""},{"$f":"'View Records'!AO78","v":""},{"$f":"'View Records'!AP78","v":""},{"$f":"'View Records'!AQ78","v":""}]
[{"$f":"Checklist!AF84","v":""},{"$f":"Checklist!AG84","v":""},{"$f":"Checklist!AH84","v":""},{"$f":"Checklist!AI84","v":""},{"$f":"Checklist!AJ84","v":""},{"$f":"Checklist!AK84","v":""},{"$f":"Checklist!AL84","v":""},{"$f":"Checklist!AM84","v":""},{"$f":"Checklist!AN84","v":""},{"$f":"Checklist!AO84","v":""},{"$f":"Checklist!AP84","v":""},{"$f":"Checklist!AQ84","v":""},"","","","",74,"","","","","","","","","","","","","","Block","","","","","","","","","","","","",null,null,null,null,null,null,null,null,null,null,null,null,null,null,null,null,null,null,null,null,null,null,null,null,null,null,null,null,null,null,null,null,null,null,null,null,null,null,null,null,null,null,null,null,null,null,null,null,null,null,null,null,null,null,null,null,null,null,null,null,null,null,null,null,null,null,null,null,null,null,null,null,null,null,null,null,null,null,null,null,null,null,null,null,null,null,null,null,null,null,null,null,null,null,null,null,null,null,null,null,null,null,null,null,null,null,null,null,null,null,null,null,null,null,null,null,null,null,null,null,null,null,null,null,null,null,null,null,null,null,null,null,null,null,null,null,null,null,null,null,null,null,null,null,null,null,null,null,null,null,null,null,null,null,null,null,null,null,null,null,null,null,null,null,null,{"$f":"'View Records'!AF79","v":""},{"$f":"'View Records'!AG79","v":""},{"$f":"'View Records'!AH79","v":""},{"$f":"'View Records'!AI79","v":""},{"$f":"'View Records'!AJ79","v":""},{"$f":"'View Records'!AK79","v":""},{"$f":"'View Records'!AL79","v":""},{"$f":"'View Records'!AM79","v":""},{"$f":"'View Records'!AN79","v":""},{"$f":"'View Records'!AO79","v":""},{"$f":"'View Records'!AP79","v":""},{"$f":"'View Records'!AQ79","v":""}]
[{"$f":"Checklist!AF85","v":""},{"$f":"Checklist!AG85","v":""},{"$f":"Checklist!AH85","v":""},{"$f":"Checklist!AI85","v":""},{"$f":"Checklist!AJ85","v":""},{"$f":"Checklist!AK85","v":""},{"$f":"Checklist!AL85","v":""},{"$f":"Checklist!AM85","v":""},{"$f":"Checklist!AN85","v":""},{"$f":"Checklist!AO85","v":""},{"$f":"Checklist!AP85","v":""},{"$f":"Checklist!AQ85","v":""},"","","","",75,"","","","","","","","","","","","","","Block","","","","","","","","","","","","",null,null,null,null,null,null,null,null,null,null,null,null,null,null,null,null,null,null,null,null,null,null,null,null,null,null,null,null,null,null,null,null,null,null,null,null,null,null,null,null,null,null,null,null,null,null,null,null,null,null,null,null,null,null,null,null,null,null,null,null,null,null,null,null,null,null,null,null,null,null,null,null,null,null,null,null,null,null,null,null,null,null,null,null,null,null,null,null,null,null,null,null,null,null,null,null,null,null,null,null,null,null,null,null,null,null,null,null,null,null,null,null,null,null,null,null,null,null,null,null,null,null,null,null,null,null,null,null,null,null,null,null,null,null,null,null,null,null,null,null,null,null,null,null,null,null,null,null,null,null,null,null,null,null,null,null,null,null,null,null,null,null,null,null,null,{"$f":"'View Records'!AF80","v":""},{"$f":"'View Records'!AG80","v":""},{"$f":"'View Records'!AH80","v":""},{"$f":"'View Records'!AI80","v":""},{"$f":"'View Records'!AJ80","v":""},{"$f":"'View Records'!AK80","v":""},{"$f":"'View Records'!AL80","v":""},{"$f":"'View Records'!AM80","v":""},{"$f":"'View Records'!AN80","v":""},{"$f":"'View Records'!AO80","v":""},{"$f":"'View Records'!AP80","v":""},{"$f":"'View Records'!AQ80","v":""}]
[{"$f":"Checklist!AF86","v":""},{"$f":"Checklist!AG86","v":""},{"$f":"Checklist!AH86","v":""},{"$f":"Checklist!AI86","v":""},{"$f":"Checklist!AJ86","v":""},{"$f":"Checklist!AK86","v":""},{"$f":"Checklist!AL86","v":""},{"$f":"Checklist!AM86","v":""},{"$f":"Checklist!AN86","v":""},{"$f":"Checklist!AO86","v":""},{"$f":"Checklist!AP86","v":""},{"$f":"Checklist!AQ86","v":""},"","","","",76,"","","","","","","","","","","","","","Block","","","","","","","","","","","","",null,null,null,null,null,null,null,null,null,null,null,null,null,null,null,null,null,null,null,null,null,null,null,null,null,null,null,null,null,null,null,null,null,null,null,null,null,null,null,null,null,null,null,null,null,null,null,null,null,null,null,null,null,null,null,null,null,null,null,null,null,null,null,null,null,null,null,null,null,null,null,null,null,null,null,null,null,null,null,null,null,null,null,null,null,null,null,null,null,null,null,null,null,null,null,null,null,null,null,null,null,null,null,null,null,null,null,null,null,null,null,null,null,null,null,null,null,null,null,null,null,null,null,null,null,null,null,null,null,null,null,null,null,null,null,null,null,null,null,null,null,null,null,null,null,null,null,null,null,null,null,null,null,null,null,null,null,null,null,null,null,null,null,null,null,{"$f":"'View Records'!AF81","v":""},{"$f":"'View Records'!AG81","v":""},{"$f":"'View Records'!AH81","v":""},{"$f":"'View Records'!AI81","v":""},{"$f":"'View Records'!AJ81","v":""},{"$f":"'View Records'!AK81","v":""},{"$f":"'View Records'!AL81","v":""},{"$f":"'View Records'!AM81","v":""},{"$f":"'View Records'!AN81","v":""},{"$f":"'View Records'!AO81","v":""},{"$f":"'View Records'!AP81","v":""},{"$f":"'View Records'!AQ81","v":""}]
[{"$f":"Checklist!AF87","v":""},{"$f":"Checklist!AG87","v":""},{"$f":"Checklist!AH87","v":""},{"$f":"Checklist!AI87","v":""},{"$f":"Checklist!AJ87","v":""},{"$f":"Checklist!AK87","v":""},{"$f":"Checklist!AL87","v":""},{"$f":"Checklist!AM87","v":""},{"$f":"Checklist!AN87","v":""},{"$f":"Checklist!AO87","v":""},{"$f":"Checklist!AP87","v":""},{"$f":"Checklist!AQ87","v":""},"","","","",77,"","","","","","","","","","","","","","Block","","","","","","","","","","","","",null,null,null,null,null,null,null,null,null,null,null,null,null,null,null,null,null,null,null,null,null,null,null,null,null,null,null,null,null,null,null,null,null,null,null,null,null,null,null,null,null,null,null,null,null,null,null,null,null,null,null,null,null,null,null,null,null,null,null,null,null,null,null,null,null,null,null,null,null,null,null,null,null,null,null,null,null,null,null,null,null,null,null,null,null,null,null,null,null,null,null,null,null,null,null,null,null,null,null,null,null,null,null,null,null,null,null,null,null,null,null,null,null,null,null,null,null,null,null,null,null,null,null,null,null,null,null,null,null,null,null,null,null,null,null,null,null,null,null,null,null,null,null,null,null,null,null,null,null,null,null,null,null,null,null,null,null,null,null,null,null,null,null,null,null,{"$f":"'View Records'!AF82","v":""},{"$f":"'View Records'!AG82","v":""},{"$f":"'View Records'!AH82","v":""},{"$f":"'View Records'!AI82","v":""},{"$f":"'View Records'!AJ82","v":""},{"$f":"'View Records'!AK82","v":""},{"$f":"'View Records'!AL82","v":""},{"$f":"'View Records'!AM82","v":""},{"$f":"'View Records'!AN82","v":""},{"$f":"'View Records'!AO82","v":""},{"$f":"'View Records'!AP82","v":""},{"$f":"'View Records'!AQ82","v":""}]
[{"$f":"Checklist!AF88","v":""},{"$f":"Checklist!AG88","v":""},{"$f":"Checklist!AH88","v":""},{"$f":"Checklist!AI88","v":""},{"$f":"Checklist!AJ88","v":""},{"$f":"Checklist!AK88","v":""},{"$f":"Checklist!AL88","v":""},{"$f":"Checklist!AM88","v":""},{"$f":"Checklist!AN88","v":""},{"$f":"Checklist!AO88","v":""},{"$f":"Checklist!AP88","v":""},{"$f":"Checklist!AQ88","v":""},"","","","",78,"","","","","","","","","","","","","","Block","","","","","","","","","","","","",null,null,null,null,null,null,null,null,null,null,null,null,null,null,null,null,null,null,null,null,null,null,null,null,null,null,null,null,null,null,null,null,null,null,null,null,null,null,null,null,null,null,null,null,null,null,null,null,null,null,null,null,null,null,null,null,null,null,null,null,null,null,null,null,null,null,null,null,null,null,null,null,null,null,null,null,null,null,null,null,null,null,null,null,null,null,null,null,null,null,null,null,null,null,null,null,null,null,null,null,null,null,null,null,null,null,null,null,null,null,null,null,null,null,null,null,null,null,null,null,null,null,null,null,null,null,null,null,null,null,null,null,null,null,null,null,null,null,null,null,null,null,null,null,null,null,null,null,null,null,null,null,null,null,null,null,null,null,null,null,null,null,null,null,null,{"$f":"'View Records'!AF83","v":""},{"$f":"'View Records'!AG83","v":""},{"$f":"'View Records'!AH83","v":""},{"$f":"'View Records'!AI83","v":""},{"$f":"'View Records'!AJ83","v":""},{"$f":"'View Records'!AK83","v":""},{"$f":"'View Records'!AL83","v":""},{"$f":"'View Records'!AM83","v":""},{"$f":"'View Records'!AN83","v":""},{"$f":"'View Records'!AO83","v":""},{"$f":"'View Records'!AP83","v":""},{"$f":"'View Records'!AQ83","v":""}]
[{"$f":"Checklist!AF89","v":""},{"$f":"Checklist!AG89","v":""},{"$f":"Checklist!AH89","v":""},{"$f":"Checklist!AI89","v":""},{"$f":"Checklist!AJ89","v":""},{"$f":"Checklist!AK89","v":""},{"$f":"Checklist!AL89","v":""},{"$f":"Checklist!AM89","v":""},{"$f":"Checklist!AN89","v":""},{"$f":"Checklist!AO89","v":""},{"$f":"Checklist!AP89","v":""},{"$f":"Checklist!AQ89","v":""},"","","","",79,"","","","","","","","","","","","","","Block","","","","","","","","","","","","",null,null,null,null,null,null,null,null,null,null,null,null,null,null,null,null,null,null,null,null,null,null,null,null,null,null,null,null,null,null,null,null,null,null,null,null,null,null,null,null,null,null,null,null,null,null,null,null,null,null,null,null,null,null,null,null,null,null,null,null,null,null,null,null,null,null,null,null,null,null,null,null,null,null,null,null,null,null,null,null,null,null,null,null,null,null,null,null,null,null,null,null,null,null,null,null,null,null,null,null,null,null,null,null,null,null,null,null,null,null,null,null,null,null,null,null,null,null,null,null,null,null,null,null,null,null,null,null,null,null,null,null,null,null,null,null,null,null,null,null,null,null,null,null,null,null,null,null,null,null,null,null,null,null,null,null,null,null,null,null,null,null,null,null,null,{"$f":"'View Records'!AF84","v":""},{"$f":"'View Records'!AG84","v":""},{"$f":"'View Records'!AH84","v":""},{"$f":"'View Records'!AI84","v":""},{"$f":"'View Records'!AJ84","v":""},{"$f":"'View Records'!AK84","v":""},{"$f":"'View Records'!AL84","v":""},{"$f":"'View Records'!AM84","v":""},{"$f":"'View Records'!AN84","v":""},{"$f":"'View Records'!AO84","v":""},{"$f":"'View Records'!AP84","v":""},{"$f":"'View Records'!AQ84","v":""}]
[{"$f":"Checklist!AF90","v":""},{"$f":"Checklist!AG90","v":""},{"$f":"Checklist!AH90","v":""},{"$f":"Checklist!AI90","v":""},{"$f":"Checklist!AJ90","v":""},{"$f":"Checklist!AK90","v":""},{"$f":"Checklist!AL90","v":""},{"$f":"Checklist!AM90","v":""},{"$f":"Checklist!AN90","v":""},{"$f":"Checklist!AO90","v":""},{"$f":"Checklist!AP90","v":""},{"$f":"Checklist!AQ90","v":""},"","","","",80,"","","","","","","","","","","","","","Block","","","","","","","","","","","","",null,null,null,null,null,null,null,null,null,null,null,null,null,null,null,null,null,null,null,null,null,null,null,null,null,null,null,null,null,null,null,null,null,null,null,null,null,null,null,null,null,null,null,null,null,null,null,null,null,null,null,null,null,null,null,null,null,null,null,null,null,null,null,null,null,null,null,null,null,null,null,null,null,null,null,null,null,null,null,null,null,null,null,null,null,null,null,null,null,null,null,null,null,null,null,null,null,null,null,null,null,null,null,null,null,null,null,null,null,null,null,null,null,null,null,null,null,null,null,null,null,null,null,null,null,null,null,null,null,null,null,null,null,null,null,null,null,null,null,null,null,null,null,null,null,null,null,null,null,null,null,null,null,null,null,null,null,null,null,null,null,null,null,null,null,{"$f":"'View Records'!AF85","v":""},{"$f":"'View Records'!AG85","v":""},{"$f":"'View Records'!AH85","v":""},{"$f":"'View Records'!AI85","v":""},{"$f":"'View Records'!AJ85","v":""},{"$f":"'View Records'!AK85","v":""},{"$f":"'View Records'!AL85","v":""},{"$f":"'View Records'!AM85","v":""},{"$f":"'View Records'!AN85","v":""},{"$f":"'View Records'!AO85","v":""},{"$f":"'View Records'!AP85","v":""},{"$f":"'View Records'!AQ85","v":""}]
[{"$f":"Checklist!AF91","v":""},{"$f":"Checklist!AG91","v":""},{"$f":"Checklist!AH91","v":""},{"$f":"Checklist!AI91","v":""},{"$f":"Checklist!AJ91","v":""},{"$f":"Checklist!AK91","v":""},{"$f":"Checklist!AL91","v":""},{"$f":"Checklist!AM91","v":""},{"$f":"Checklist!AN91","v":""},{"$f":"Checklist!AO91","v":""},{"$f":"Checklist!AP91","v":""},{"$f":"Checklist!AQ91","v":""},"","","","",81,"","","","","","","","","","","","","","Block","","","","","","","","","","","","",null,null,null,null,null,null,null,null,null,null,null,null,null,null,null,null,null,null,null,null,null,null,null,null,null,null,null,null,null,null,null,null,null,null,null,null,null,null,null,null,null,null,null,null,null,null,null,null,null,null,null,null,null,null,null,null,null,null,null,null,null,null,null,null,null,null,null,null,null,null,null,null,null,null,null,null,null,null,null,null,null,null,null,null,null,null,null,null,null,null,null,null,null,null,null,null,null,null,null,null,null,null,null,null,null,null,null,null,null,null,null,null,null,null,null,null,null,null,null,null,null,null,null,null,null,null,null,null,null,null,null,null,null,null,null,null,null,null,null,null,null,null,null,null,null,null,null,null,null,null,null,null,null,null,null,null,null,null,null,null,null,null,null,null,null,{"$f":"'View Records'!AF86","v":""},{"$f":"'View Records'!AG86","v":""},{"$f":"'View Records'!AH86","v":""},{"$f":"'View Records'!AI86","v":""},{"$f":"'View Records'!AJ86","v":""},{"$f":"'View Records'!AK86","v":""},{"$f":"'View Records'!AL86","v":""},{"$f":"'View Records'!AM86","v":""},{"$f":"'View Records'!AN86","v":""},{"$f":"'View Records'!AO86","v":""},{"$f":"'View Records'!AP86","v":""},{"$f":"'View Records'!AQ86","v":""}]
[{"$f":"Checklist!AF92","v":""},{"$f":"Checklist!AG92","v":""},{"$f":"Checklist!AH92","v":""},{"$f":"Checklist!AI92","v":""},{"$f":"Checklist!AJ92","v":""},{"$f":"Checklist!AK92","v":""},{"$f":"Checklist!AL92","v":""},{"$f":"Checklist!AM92","v":""},{"$f":"Checklist!AN92","v":""},{"$f":"Checklist!AO92","v":""},{"$f":"Checklist!AP92","v":""},{"$f":"Checklist!AQ92","v":""},"","","","",82,"","","","","","","","","","","","","","Block","","","","","","","","","","","","",null,null,null,null,null,null,null,null,null,null,null,null,null,null,null,null,null,null,null,null,null,null,null,null,null,null,null,null,null,null,null,null,null,null,null,null,null,null,null,null,null,null,null,null,null,null,null,null,null,null,null,null,null,null,null,null,null,null,null,null,null,null,null,null,null,null,null,null,null,null,null,null,null,null,null,null,null,null,null,null,null,null,null,null,null,null,null,null,null,null,null,null,null,null,null,null,null,null,null,null,null,null,null,null,null,null,null,null,null,null,null,null,null,null,null,null,null,null,null,null,null,null,null,null,null,null,null,null,null,null,null,null,null,null,null,null,null,null,null,null,null,null,null,null,null,null,null,null,null,null,null,null,null,null,null,null,null,null,null,null,null,null,null,null,null,{"$f":"'View Records'!AF87","v":""},{"$f":"'View Records'!AG87","v":""},{"$f":"'View Records'!AH87","v":""},{"$f":"'View Records'!AI87","v":""},{"$f":"'View Records'!AJ87","v":""},{"$f":"'View Records'!AK87","v":""},{"$f":"'View Records'!AL87","v":""},{"$f":"'View Records'!AM87","v":""},{"$f":"'View Records'!AN87","v":""},{"$f":"'View Records'!AO87","v":""},{"$f":"'View Records'!AP87","v":""},{"$f":"'View Records'!AQ87","v":""}]
[{"$f":"Checklist!AF93","v":""},{"$f":"Checklist!AG93","v":""},{"$f":"Checklist!AH93","v":""},{"$f":"Checklist!AI93","v":""},{"$f":"Checklist!AJ93","v":""},{"$f":"Checklist!AK93","v":""},{"$f":"Checklist!AL93","v":""},{"$f":"Checklist!AM93","v":""},{"$f":"Checklist!AN93","v":""},{"$f":"Checklist!AO93","v":""},{"$f":"Checklist!AP93","v":""},{"$f":"Checklist!AQ93","v":""},"","","","",83,"","","","","","","","","","","","","","Block","","","","","","","","","","","","",null,null,null,null,null,null,null,null,null,null,null,null,null,null,null,null,null,null,null,null,null,null,null,null,null,null,null,null,null,null,null,null,null,null,null,null,null,null,null,null,null,null,null,null,null,null,null,null,null,null,null,null,null,null,null,null,null,null,null,null,null,null,null,null,null,null,null,null,null,null,null,null,null,null,null,null,null,null,null,null,null,null,null,null,null,null,null,null,null,null,null,null,null,null,null,null,null,null,null,null,null,null,null,null,null,null,null,null,null,null,null,null,null,null,null,null,null,null,null,null,null,null,null,null,null,null,null,null,null,null,null,null,null,null,null,null,null,null,null,null,null,null,null,null,null,null,null,null,null,null,null,null,null,null,null,null,null,null,null,null,null,null,null,null,null,{"$f":"'View Records'!AF88","v":""},{"$f":"'View Records'!AG88","v":""},{"$f":"'View Records'!AH88","v":""},{"$f":"'View Records'!AI88","v":""},{"$f":"'View Records'!AJ88","v":""},{"$f":"'View Records'!AK88","v":""},{"$f":"'View Records'!AL88","v":""},{"$f":"'View Records'!AM88","v":""},{"$f":"'View Records'!AN88","v":""},{"$f":"'View Records'!AO88","v":""},{"$f":"'View Records'!AP88","v":""},{"$f":"'View Records'!AQ88","v":""}]
[{"$f":"Checklist!AF94","v":""},{"$f":"Checklist!AG94","v":""},{"$f":"Checklist!AH94","v":""},{"$f":"Checklist!AI94","v":""},{"$f":"Checklist!AJ94","v":""},{"$f":"Checklist!AK94","v":""},{"$f":"Checklist!AL94","v":""},{"$f":"Checklist!AM94","v":""},{"$f":"Checklist!AN94","v":""},{"$f":"Checklist!AO94","v":""},{"$f":"Checklist!AP94","v":""},{"$f":"Checklist!AQ94","v":""},"","","","",84,"","","","","","","","","","","","","","Block","","","","","","","","","","","","",null,null,null,null,null,null,null,null,null,null,null,null,null,null,null,null,null,null,null,null,null,null,null,null,null,null,null,null,null,null,null,null,null,null,null,null,null,null,null,null,null,null,null,null,null,null,null,null,null,null,null,null,null,null,null,null,null,null,null,null,null,null,null,null,null,null,null,null,null,null,null,null,null,null,null,null,null,null,null,null,null,null,null,null,null,null,null,null,null,null,null,null,null,null,null,null,null,null,null,null,null,null,null,null,null,null,null,null,null,null,null,null,null,null,null,null,null,null,null,null,null,null,null,null,null,null,null,null,null,null,null,null,null,null,null,null,null,null,null,null,null,null,null,null,null,null,null,null,null,null,null,null,null,null,null,null,null,null,null,null,null,null,null,null,null,{"$f":"'View Records'!AF89","v":""},{"$f":"'View Records'!AG89","v":""},{"$f":"'View Records'!AH89","v":""},{"$f":"'View Records'!AI89","v":""},{"$f":"'View Records'!AJ89","v":""},{"$f":"'View Records'!AK89","v":""},{"$f":"'View Records'!AL89","v":""},{"$f":"'View Records'!AM89","v":""},{"$f":"'View Records'!AN89","v":""},{"$f":"'View Records'!AO89","v":""},{"$f":"'View Records'!AP89","v":""},{"$f":"'View Records'!AQ89","v":""}]
[{"$f":"Checklist!AF95","v":""},{"$f":"Checklist!AG95","v":""},{"$f":"Checklist!AH95","v":""},{"$f":"Checklist!AI95","v":""},{"$f":"Checklist!AJ95","v":""},{"$f":"Checklist!AK95","v":""},{"$f":"Checklist!AL95","v":""},{"$f":"Checklist!AM95","v":""},{"$f":"Checklist!AN95","v":""},{"$f":"Checklist!AO95","v":""},{"$f":"Checklist!AP95","v":""},{"$f":"Checklist!AQ95","v":""},"","","","",85,"","","","","","","","","","","","","","Block","","","","","","","","","","","","",null,null,null,null,null,null,null,null,null,null,null,null,null,null,null,null,null,null,null,null,null,null,null,null,null,null,null,null,null,null,null,null,null,null,null,null,null,null,null,null,null,null,null,null,null,null,null,null,null,null,null,null,null,null,null,null,null,null,null,null,null,null,null,null,null,null,null,null,null,null,null,null,null,null,null,null,null,null,null,null,null,null,null,null,null,null,null,null,null,null,null,null,null,null,null,null,null,null,null,null,null,null,null,null,null,null,null,null,null,null,null,null,null,null,null,null,null,null,null,null,null,null,null,null,null,null,null,null,null,null,null,null,null,null,null,null,null,null,null,null,null,null,null,null,null,null,null,null,null,null,null,null,null,null,null,null,null,null,null,null,null,null,null,null,null,{"$f":"'View Records'!AF90","v":""},{"$f":"'View Records'!AG90","v":""},{"$f":"'View Records'!AH90","v":""},{"$f":"'View Records'!AI90","v":""},{"$f":"'View Records'!AJ90","v":""},{"$f":"'View Records'!AK90","v":""},{"$f":"'View Records'!AL90","v":""},{"$f":"'View Records'!AM90","v":""},{"$f":"'View Records'!AN90","v":""},{"$f":"'View Records'!AO90","v":""},{"$f":"'View Records'!AP90","v":""},{"$f":"'View Records'!AQ90","v":""}]
[{"$f":"Checklist!AF96","v":""},{"$f":"Checklist!AG96","v":""},{"$f":"Checklist!AH96","v":""},{"$f":"Checklist!AI96","v":""},{"$f":"Checklist!AJ96","v":""},{"$f":"Checklist!AK96","v":""},{"$f":"Checklist!AL96","v":""},{"$f":"Checklist!AM96","v":""},{"$f":"Checklist!AN96","v":""},{"$f":"Checklist!AO96","v":""},{"$f":"Checklist!AP96","v":""},{"$f":"Checklist!AQ96","v":""},"","","","",86,"","","","","","","","","","","","","","Block","","","","","","","","","","","","",null,null,null,null,null,null,null,null,null,null,null,null,null,null,null,null,null,null,null,null,null,null,null,null,null,null,null,null,null,null,null,null,null,null,null,null,null,null,null,null,null,null,null,null,null,null,null,null,null,null,null,null,null,null,null,null,null,null,null,null,null,null,null,null,null,null,null,null,null,null,null,null,null,null,null,null,null,null,null,null,null,null,null,null,null,null,null,null,null,null,null,null,null,null,null,null,null,null,null,null,null,null,null,null,null,null,null,null,null,null,null,null,null,null,null,null,null,null,null,null,null,null,null,null,null,null,null,null,null,null,null,null,null,null,null,null,null,null,null,null,null,null,null,null,null,null,null,null,null,null,null,null,null,null,null,null,null,null,null,null,null,null,null,null,null,{"$f":"'View Records'!AF91","v":""},{"$f":"'View Records'!AG91","v":""},{"$f":"'View Records'!AH91","v":""},{"$f":"'View Records'!AI91","v":""},{"$f":"'View Records'!AJ91","v":""},{"$f":"'View Records'!AK91","v":""},{"$f":"'View Records'!AL91","v":""},{"$f":"'View Records'!AM91","v":""},{"$f":"'View Records'!AN91","v":""},{"$f":"'View Records'!AO91","v":""},{"$f":"'View Records'!AP91","v":""},{"$f":"'View Records'!AQ91","v":""}]
[{"$f":"Checklist!AF97","v":""},{"$f":"Checklist!AG97","v":""},{"$f":"Checklist!AH97","v":""},{"$f":"Checklist!AI97","v":""},{"$f":"Checklist!AJ97","v":""},{"$f":"Checklist!AK97","v":""},{"$f":"Checklist!AL97","v":""},{"$f":"Checklist!AM97","v":""},{"$f":"Checklist!AN97","v":""},{"$f":"Checklist!AO97","v":""},{"$f":"Checklist!AP97","v":""},{"$f":"Checklist!AQ97","v":""},"","","","",87,"","","","","","","","","","","","","","Block","","","","","","","","","","","","",null,null,null,null,null,null,null,null,null,null,null,null,null,null,null,null,null,null,null,null,null,null,null,null,null,null,null,null,null,null,null,null,null,null,null,null,null,null,null,null,null,null,null,null,null,null,null,null,null,null,null,null,null,null,null,null,null,null,null,null,null,null,null,null,null,null,null,null,null,null,null,null,null,null,null,null,null,null,null,null,null,null,null,null,null,null,null,null,null,null,null,null,null,null,null,null,null,null,null,null,null,null,null,null,null,null,null,null,null,null,null,null,null,null,null,null,null,null,null,null,null,null,null,null,null,null,null,null,null,null,null,null,null,null,null,null,null,null,null,null,null,null,null,null,null,null,null,null,null,null,null,null,null,null,null,null,null,null,null,null,null,null,null,null,null,{"$f":"'View Records'!AF92","v":""},{"$f":"'View Records'!AG92","v":""},{"$f":"'View Records'!AH92","v":""},{"$f":"'View Records'!AI92","v":""},{"$f":"'View Records'!AJ92","v":""},{"$f":"'View Records'!AK92","v":""},{"$f":"'View Records'!AL92","v":""},{"$f":"'View Records'!AM92","v":""},{"$f":"'View Records'!AN92","v":""},{"$f":"'View Records'!AO92","v":""},{"$f":"'View Records'!AP92","v":""},{"$f":"'View Records'!AQ92","v":""}]
[{"$f":"Checklist!AF98","v":""},{"$f":"Checklist!AG98","v":""},{"$f":"Checklist!AH98","v":""},{"$f":"Checklist!AI98","v":""},{"$f":"Checklist!AJ98","v":""},{"$f":"Checklist!AK98","v":""},{"$f":"Checklist!AL98","v":""},{"$f":"Checklist!AM98","v":""},{"$f":"Checklist!AN98","v":""},{"$f":"Checklist!AO98","v":""},{"$f":"Checklist!AP98","v":""},{"$f":"Checklist!AQ98","v":""},"","","","",88,"","","","","","","","","","","","","","Block","","","","","","","","","","","","",null,null,null,null,null,null,null,null,null,null,null,null,null,null,null,null,null,null,null,null,null,null,null,null,null,null,null,null,null,null,null,null,null,null,null,null,null,null,null,null,null,null,null,null,null,null,null,null,null,null,null,null,null,null,null,null,null,null,null,null,null,null,null,null,null,null,null,null,null,null,null,null,null,null,null,null,null,null,null,null,null,null,null,null,null,null,null,null,null,null,null,null,null,null,null,null,null,null,null,null,null,null,null,null,null,null,null,null,null,null,null,null,null,null,null,null,null,null,null,null,null,null,null,null,null,null,null,null,null,null,null,null,null,null,null,null,null,null,null,null,null,null,null,null,null,null,null,null,null,null,null,null,null,null,null,null,null,null,null,null,null,null,null,null,null,{"$f":"'View Records'!AF93","v":""},{"$f":"'View Records'!AG93","v":""},{"$f":"'View Records'!AH93","v":""},{"$f":"'View Records'!AI93","v":""},{"$f":"'View Records'!AJ93","v":""},{"$f":"'View Records'!AK93","v":""},{"$f":"'View Records'!AL93","v":""},{"$f":"'View Records'!AM93","v":""},{"$f":"'View Records'!AN93","v":""},{"$f":"'View Records'!AO93","v":""},{"$f":"'View Records'!AP93","v":""},{"$f":"'View Records'!AQ93","v":""}]
[{"$f":"Checklist!AF99","v":""},{"$f":"Checklist!AG99","v":""},{"$f":"Checklist!AH99","v":""},{"$f":"Checklist!AI99","v":""},{"$f":"Checklist!AJ99","v":""},{"$f":"Checklist!AK99","v":""},{"$f":"Checklist!AL99","v":""},{"$f":"Checklist!AM99","v":""},{"$f":"Checklist!AN99","v":""},{"$f":"Checklist!AO99","v":""},{"$f":"Checklist!AP99","v":""},{"$f":"Checklist!AQ99","v":""},"","","","",89,"","","","","","","","","","","","","","Block","","","","","","","","","","","","",null,null,null,null,null,null,null,null,null,null,null,null,null,null,null,null,null,null,null,null,null,null,null,null,null,null,null,null,null,null,null,null,null,null,null,null,null,null,null,null,null,null,null,null,null,null,null,null,null,null,null,null,null,null,null,null,null,null,null,null,null,null,null,null,null,null,null,null,null,null,null,null,null,null,null,null,null,null,null,null,null,null,null,null,null,null,null,null,null,null,null,null,null,null,null,null,null,null,null,null,null,null,null,null,null,null,null,null,null,null,null,null,null,null,null,null,null,null,null,null,null,null,null,null,null,null,null,null,null,null,null,null,null,null,null,null,null,null,null,null,null,null,null,null,null,null,null,null,null,null,null,null,null,null,null,null,null,null,null,null,null,null,null,null,null,{"$f":"'View Records'!AF94","v":""},{"$f":"'View Records'!AG94","v":""},{"$f":"'View Records'!AH94","v":""},{"$f":"'View Records'!AI94","v":""},{"$f":"'View Records'!AJ94","v":""},{"$f":"'View Records'!AK94","v":""},{"$f":"'View Records'!AL94","v":""},{"$f":"'View Records'!AM94","v":""},{"$f":"'View Records'!AN94","v":""},{"$f":"'View Records'!AO94","v":""},{"$f":"'View Records'!AP94","v":""},{"$f":"'View Records'!AQ94","v":""}]
[{"$f":"Checklist!AF100","v":""},{"$f":"Checklist!AG100","v":""},{"$f":"Checklist!AH100","v":""},{"$f":"Checklist!AI100","v":""},{"$f":"Checklist!AJ100","v":""},{"$f":"Checklist!AK100","v":""},{"$f":"Checklist!AL100","v":""},{"$f":"Checklist!AM100","v":""},{"$f":"Checklist!AN100","v":""},{"$f":"Checklist!AO100","v":""},{"$f":"Checklist!AP100","v":""},{"$f":"Checklist!AQ100","v":""},"","","","",90,"","","","","","","","","","","","","","Block","","","","","","","","","","","","",null,null,null,null,null,null,null,null,null,null,null,null,null,null,null,null,null,null,null,null,null,null,null,null,null,null,null,null,null,null,null,null,null,null,null,null,null,null,null,null,null,null,null,null,null,null,null,null,null,null,null,null,null,null,null,null,null,null,null,null,null,null,null,null,null,null,null,null,null,null,null,null,null,null,null,null,null,null,null,null,null,null,null,null,null,null,null,null,null,null,null,null,null,null,null,null,null,null,null,null,null,null,null,null,null,null,null,null,null,null,null,null,null,null,null,null,null,null,null,null,null,null,null,null,null,null,null,null,null,null,null,null,null,null,null,null,null,null,null,null,null,null,null,null,null,null,null,null,null,null,null,null,null,null,null,null,null,null,null,null,null,null,null,null,null,{"$f":"'View Records'!AF95","v":""},{"$f":"'View Records'!AG95","v":""},{"$f":"'View Records'!AH95","v":""},{"$f":"'View Records'!AI95","v":""},{"$f":"'View Records'!AJ95","v":""},{"$f":"'View Records'!AK95","v":""},{"$f":"'View Records'!AL95","v":""},{"$f":"'View Records'!AM95","v":""},{"$f":"'View Records'!AN95","v":""},{"$f":"'View Records'!AO95","v":""},{"$f":"'View Records'!AP95","v":""},{"$f":"'View Records'!AQ95","v":""}]
[{"$f":"Checklist!AF101","v":""},{"$f":"Checklist!AG101","v":""},{"$f":"Checklist!AH101","v":""},{"$f":"Checklist!AI101","v":""},{"$f":"Checklist!AJ101","v":""},{"$f":"Checklist!AK101","v":""},{"$f":"Checklist!AL101","v":""},{"$f":"Checklist!AM101","v":""},{"$f":"Checklist!AN101","v":""},{"$f":"Checklist!AO101","v":""},{"$f":"Checklist!AP101","v":""},{"$f":"Checklist!AQ101","v":""},"","","","",91,"","","","","","","","","","","","","","Block","","","","","","","","","","","","",null,null,null,null,null,null,null,null,null,null,null,null,null,null,null,null,null,null,null,null,null,null,null,null,null,null,null,null,null,null,null,null,null,null,null,null,null,null,null,null,null,null,null,null,null,null,null,null,null,null,null,null,null,null,null,null,null,null,null,null,null,null,null,null,null,null,null,null,null,null,null,null,null,null,null,null,null,null,null,null,null,null,null,null,null,null,null,null,null,null,null,null,null,null,null,null,null,null,null,null,null,null,null,null,null,null,null,null,null,null,null,null,null,null,null,null,null,null,null,null,null,null,null,null,null,null,null,null,null,null,null,null,null,null,null,null,null,null,null,null,null,null,null,null,null,null,null,null,null,null,null,null,null,null,null,null,null,null,null,null,null,null,null,null,null,{"$f":"'View Records'!AF96","v":""},{"$f":"'View Records'!AG96","v":""},{"$f":"'View Records'!AH96","v":""},{"$f":"'View Records'!AI96","v":""},{"$f":"'View Records'!AJ96","v":""},{"$f":"'View Records'!AK96","v":""},{"$f":"'View Records'!AL96","v":""},{"$f":"'View Records'!AM96","v":""},{"$f":"'View Records'!AN96","v":""},{"$f":"'View Records'!AO96","v":""},{"$f":"'View Records'!AP96","v":""},{"$f":"'View Records'!AQ96","v":""}]
[{"$f":"Checklist!AF102","v":""},{"$f":"Checklist!AG102","v":""},{"$f":"Checklist!AH102","v":""},{"$f":"Checklist!AI102","v":""},{"$f":"Checklist!AJ102","v":""},{"$f":"Checklist!AK102","v":""},{"$f":"Checklist!AL102","v":""},{"$f":"Checklist!AM102","v":""},{"$f":"Checklist!AN102","v":""},{"$f":"Checklist!AO102","v":""},{"$f":"Checklist!AP102","v":""},{"$f":"Checklist!AQ102","v":""},"","","","",92,"","","","","","","","","","","","","","Block","","","","","","","","","","","","",null,null,null,null,null,null,null,null,null,null,null,null,null,null,null,null,null,null,null,null,null,null,null,null,null,null,null,null,null,null,null,null,null,null,null,null,null,null,null,null,null,null,null,null,null,null,null,null,null,null,null,null,null,null,null,null,null,null,null,null,null,null,null,null,null,null,null,null,null,null,null,null,null,null,null,null,null,null,null,null,null,null,null,null,null,null,null,null,null,null,null,null,null,null,null,null,null,null,null,null,null,null,null,null,null,null,null,null,null,null,null,null,null,null,null,null,null,null,null,null,null,null,null,null,null,null,null,null,null,null,null,null,null,null,null,null,null,null,null,null,null,null,null,null,null,null,null,null,null,null,null,null,null,null,null,null,null,null,null,null,null,null,null,null,null,{"$f":"'View Records'!AF97","v":""},{"$f":"'View Records'!AG97","v":""},{"$f":"'View Records'!AH97","v":""},{"$f":"'View Records'!AI97","v":""},{"$f":"'View Records'!AJ97","v":""},{"$f":"'View Records'!AK97","v":""},{"$f":"'View Records'!AL97","v":""},{"$f":"'View Records'!AM97","v":""},{"$f":"'View Records'!AN97","v":""},{"$f":"'View Records'!AO97","v":""},{"$f":"'View Records'!AP97","v":""},{"$f":"'View Records'!AQ97","v":""}]
[{"$f":"Checklist!AF103","v":""},{"$f":"Checklist!AG103","v":""},{"$f":"Checklist!AH103","v":""},{"$f":"Checklist!AI103","v":""},{"$f":"Checklist!AJ103","v":""},{"$f":"Checklist!AK103","v":""},{"$f":"Checklist!AL103","v":""},{"$f":"Checklist!AM103","v":""},{"$f":"Checklist!AN103","v":""},{"$f":"Checklist!AO103","v":""},{"$f":"Checklist!AP103","v":""},{"$f":"Checklist!AQ103","v":""},"","","","",93,"","","","","","","","","","","","","","Block","","","","","","","","","","","","",null,null,null,null,null,null,null,null,null,null,null,null,null,null,null,null,null,null,null,null,null,null,null,null,null,null,null,null,null,null,null,null,null,null,null,null,null,null,null,null,null,null,null,null,null,null,null,null,null,null,null,null,null,null,null,null,null,null,null,null,null,null,null,null,null,null,null,null,null,null,null,null,null,null,null,null,null,null,null,null,null,null,null,null,null,null,null,null,null,null,null,null,null,null,null,null,null,null,null,null,null,null,null,null,null,null,null,null,null,null,null,null,null,null,null,null,null,null,null,null,null,null,null,null,null,null,null,null,null,null,null,null,null,null,null,null,null,null,null,null,null,null,null,null,null,null,null,null,null,null,null,null,null,null,null,null,null,null,null,null,null,null,null,null,null,{"$f":"'View Records'!AF98","v":""},{"$f":"'View Records'!AG98","v":""},{"$f":"'View Records'!AH98","v":""},{"$f":"'View Records'!AI98","v":""},{"$f":"'View Records'!AJ98","v":""},{"$f":"'View Records'!AK98","v":""},{"$f":"'View Records'!AL98","v":""},{"$f":"'View Records'!AM98","v":""},{"$f":"'View Records'!AN98","v":""},{"$f":"'View Records'!AO98","v":""},{"$f":"'View Records'!AP98","v":""},{"$f":"'View Records'!AQ98","v":""}]
[{"$f":"Checklist!AF104","v":""},{"$f":"Checklist!AG104","v":""},{"$f":"Checklist!AH104","v":""},{"$f":"Checklist!AI104","v":""},{"$f":"Checklist!AJ104","v":""},{"$f":"Checklist!AK104","v":""},{"$f":"Checklist!AL104","v":""},{"$f":"Checklist!AM104","v":""},{"$f":"Checklist!AN104","v":""},{"$f":"Checklist!AO104","v":""},{"$f":"Checklist!AP104","v":""},{"$f":"Checklist!AQ104","v":""},"","","","",94,"","","","","","","","","","","","","","Block","","","","","","","","","","","","",null,null,null,null,null,null,null,null,null,null,null,null,null,null,null,null,null,null,null,null,null,null,null,null,null,null,null,null,null,null,null,null,null,null,null,null,null,null,null,null,null,null,null,null,null,null,null,null,null,null,null,null,null,null,null,null,null,null,null,null,null,null,null,null,null,null,null,null,null,null,null,null,null,null,null,null,null,null,null,null,null,null,null,null,null,null,null,null,null,null,null,null,null,null,null,null,null,null,null,null,null,null,null,null,null,null,null,null,null,null,null,null,null,null,null,null,null,null,null,null,null,null,null,null,null,null,null,null,null,null,null,null,null,null,null,null,null,null,null,null,null,null,null,null,null,null,null,null,null,null,null,null,null,null,null,null,null,null,null,null,null,null,null,null,null,{"$f":"'View Records'!AF99","v":""},{"$f":"'View Records'!AG99","v":""},{"$f":"'View Records'!AH99","v":""},{"$f":"'View Records'!AI99","v":""},{"$f":"'View Records'!AJ99","v":""},{"$f":"'View Records'!AK99","v":""},{"$f":"'View Records'!AL99","v":""},{"$f":"'View Records'!AM99","v":""},{"$f":"'View Records'!AN99","v":""},{"$f":"'View Records'!AO99","v":""},{"$f":"'View Records'!AP99","v":""},{"$f":"'View Records'!AQ99","v":""}]
[{"$f":"Checklist!AF105","v":""},{"$f":"Checklist!AG105","v":""},{"$f":"Checklist!AH105","v":""},{"$f":"Checklist!AI105","v":""},{"$f":"Checklist!AJ105","v":""},{"$f":"Checklist!AK105","v":""},{"$f":"Checklist!AL105","v":""},{"$f":"Checklist!AM105","v":""},{"$f":"Checklist!AN105","v":""},{"$f":"Checklist!AO105","v":""},{"$f":"Checklist!AP105","v":""},{"$f":"Checklist!AQ105","v":""},"","","","",95,"","","","","","","","","","","","","","Block","","","","","","","","","","","","",null,null,null,null,null,null,null,null,null,null,null,null,null,null,null,null,null,null,null,null,null,null,null,null,null,null,null,null,null,null,null,null,null,null,null,null,null,null,null,null,null,null,null,null,null,null,null,null,null,null,null,null,null,null,null,null,null,null,null,null,null,null,null,null,null,null,null,null,null,null,null,null,null,null,null,null,null,null,null,null,null,null,null,null,null,null,null,null,null,null,null,null,null,null,null,null,null,null,null,null,null,null,null,null,null,null,null,null,null,null,null,null,null,null,null,null,null,null,null,null,null,null,null,null,null,null,null,null,null,null,null,null,null,null,null,null,null,null,null,null,null,null,null,null,null,null,null,null,null,null,null,null,null,null,null,null,null,null,null,null,null,null,null,null,null,{"$f":"'View Records'!AF100","v":""},{"$f":"'View Records'!AG100","v":""},{"$f":"'View Records'!AH100","v":""},{"$f":"'View Records'!AI100","v":""},{"$f":"'View Records'!AJ100","v":""},{"$f":"'View Records'!AK100","v":""},{"$f":"'View Records'!AL100","v":""},{"$f":"'View Records'!AM100","v":""},{"$f":"'View Records'!AN100","v":""},{"$f":"'View Records'!AO100","v":""},{"$f":"'View Records'!AP100","v":""},{"$f":"'View Records'!AQ100","v":""}]
[{"$f":"Checklist!AF106","v":""},{"$f":"Checklist!AG106","v":""},{"$f":"Checklist!AH106","v":""},{"$f":"Checklist!AI106","v":""},{"$f":"Checklist!AJ106","v":""},{"$f":"Checklist!AK106","v":""},{"$f":"Checklist!AL106","v":""},{"$f":"Checklist!AM106","v":""},{"$f":"Checklist!AN106","v":""},{"$f":"Checklist!AO106","v":""},{"$f":"Checklist!AP106","v":""},{"$f":"Checklist!AQ106","v":""},"","","","",96,"","","","","","","","","","","","","","Block","","","","","","","","","","","","",null,null,null,null,null,null,null,null,null,null,null,null,null,null,null,null,null,null,null,null,null,null,null,null,null,null,null,null,null,null,null,null,null,null,null,null,null,null,null,null,null,null,null,null,null,null,null,null,null,null,null,null,null,null,null,null,null,null,null,null,null,null,null,null,null,null,null,null,null,null,null,null,null,null,null,null,null,null,null,null,null,null,null,null,null,null,null,null,null,null,null,null,null,null,null,null,null,null,null,null,null,null,null,null,null,null,null,null,null,null,null,null,null,null,null,null,null,null,null,null,null,null,null,null,null,null,null,null,null,null,null,null,null,null,null,null,null,null,null,null,null,null,null,null,null,null,null,null,null,null,null,null,null,null,null,null,null,null,null,null,null,null,null,null,null,{"$f":"'View Records'!AF101","v":""},{"$f":"'View Records'!AG101","v":""},{"$f":"'View Records'!AH101","v":""},{"$f":"'View Records'!AI101","v":""},{"$f":"'View Records'!AJ101","v":""},{"$f":"'View Records'!AK101","v":""},{"$f":"'View Records'!AL101","v":""},{"$f":"'View Records'!AM101","v":""},{"$f":"'View Records'!AN101","v":""},{"$f":"'View Records'!AO101","v":""},{"$f":"'View Records'!AP101","v":""},{"$f":"'View Records'!AQ101","v":""}]
[{"$f":"Checklist!AF107","v":""},{"$f":"Checklist!AG107","v":""},{"$f":"Checklist!AH107","v":""},{"$f":"Checklist!AI107","v":""},{"$f":"Checklist!AJ107","v":""},{"$f":"Checklist!AK107","v":""},{"$f":"Checklist!AL107","v":""},{"$f":"Checklist!AM107","v":""},{"$f":"Checklist!AN107","v":""},{"$f":"Checklist!AO107","v":""},{"$f":"Checklist!AP107","v":""},{"$f":"Checklist!AQ107","v":""},"","","","",97,"","","","","","","","","","","","","","Block","","","","","","","","","","","","",null,null,null,null,null,null,null,null,null,null,null,null,null,null,null,null,null,null,null,null,null,null,null,null,null,null,null,null,null,null,null,null,null,null,null,null,null,null,null,null,null,null,null,null,null,null,null,null,null,null,null,null,null,null,null,null,null,null,null,null,null,null,null,null,null,null,null,null,null,null,null,null,null,null,null,null,null,null,null,null,null,null,null,null,null,null,null,null,null,null,null,null,null,null,null,null,null,null,null,null,null,null,null,null,null,null,null,null,null,null,null,null,null,null,null,null,null,null,null,null,null,null,null,null,null,null,null,null,null,null,null,null,null,null,null,null,null,null,null,null,null,null,null,null,null,null,null,null,null,null,null,null,null,null,null,null,null,null,null,null,null,null,null,null,null,{"$f":"'View Records'!AF102","v":""},{"$f":"'View Records'!AG102","v":""},{"$f":"'View Records'!AH102","v":""},{"$f":"'View Records'!AI102","v":""},{"$f":"'View Records'!AJ102","v":""},{"$f":"'View Records'!AK102","v":""},{"$f":"'View Records'!AL102","v":""},{"$f":"'View Records'!AM102","v":""},{"$f":"'View Records'!AN102","v":""},{"$f":"'View Records'!AO102","v":""},{"$f":"'View Records'!AP102","v":""},{"$f":"'View Records'!AQ102","v":""}]
[{"$f":"Checklist!AF108","v":""},{"$f":"Checklist!AG108","v":""},{"$f":"Checklist!AH108","v":""},{"$f":"Checklist!AI108","v":""},{"$f":"Checklist!AJ108","v":""},{"$f":"Checklist!AK108","v":""},{"$f":"Checklist!AL108","v":""},{"$f":"Checklist!AM108","v":""},{"$f":"Checklist!AN108","v":""},{"$f":"Checklist!AO108","v":""},{"$f":"Checklist!AP108","v":""},{"$f":"Checklist!AQ108","v":""},"","","","",98,"","","","","","","","","","","","","","Block","","","","","","","","","","","","",null,null,null,null,null,null,null,null,null,null,null,null,null,null,null,null,null,null,null,null,null,null,null,null,null,null,null,null,null,null,null,null,null,null,null,null,null,null,null,null,null,null,null,null,null,null,null,null,null,null,null,null,null,null,null,null,null,null,null,null,null,null,null,null,null,null,null,null,null,null,null,null,null,null,null,null,null,null,null,null,null,null,null,null,null,null,null,null,null,null,null,null,null,null,null,null,null,null,null,null,null,null,null,null,null,null,null,null,null,null,null,null,null,null,null,null,null,null,null,null,null,null,null,null,null,null,null,null,null,null,null,null,null,null,null,null,null,null,null,null,null,null,null,null,null,null,null,null,null,null,null,null,null,null,null,null,null,null,null,null,null,null,null,null,null,{"$f":"'View Records'!AF103","v":""},{"$f":"'View Records'!AG103","v":""},{"$f":"'View Records'!AH103","v":""},{"$f":"'View Records'!AI103","v":""},{"$f":"'View Records'!AJ103","v":""},{"$f":"'View Records'!AK103","v":""},{"$f":"'View Records'!AL103","v":""},{"$f":"'View Records'!AM103","v":""},{"$f":"'View Records'!AN103","v":""},{"$f":"'View Records'!AO103","v":""},{"$f":"'View Records'!AP103","v":""},{"$f":"'View Records'!AQ103","v":""}]
[{"$f":"Checklist!AF109","v":""},{"$f":"Checklist!AG109","v":""},{"$f":"Checklist!AH109","v":""},{"$f":"Checklist!AI109","v":""},{"$f":"Checklist!AJ109","v":""},{"$f":"Checklist!AK109","v":""},{"$f":"Checklist!AL109","v":""},{"$f":"Checklist!AM109","v":""},{"$f":"Checklist!AN109","v":""},{"$f":"Checklist!AO109","v":""},{"$f":"Checklist!AP109","v":""},{"$f":"Checklist!AQ109","v":""},"","","","",99,"","","","","","","","","","","","","","Block","","","","","","","","","","","","",null,null,null,null,null,null,null,null,null,null,null,null,null,null,null,null,null,null,null,null,null,null,null,null,null,null,null,null,null,null,null,null,null,null,null,null,null,null,null,null,null,null,null,null,null,null,null,null,null,null,null,null,null,null,null,null,null,null,null,null,null,null,null,null,null,null,null,null,null,null,null,null,null,null,null,null,null,null,null,null,null,null,null,null,null,null,null,null,null,null,null,null,null,null,null,null,null,null,null,null,null,null,null,null,null,null,null,null,null,null,null,null,null,null,null,null,null,null,null,null,null,null,null,null,null,null,null,null,null,null,null,null,null,null,null,null,null,null,null,null,null,null,null,null,null,null,null,null,null,null,null,null,null,null,null,null,null,null,null,null,null,null,null,null,null,{"$f":"'View Records'!AF104","v":""},{"$f":"'View Records'!AG104","v":""},{"$f":"'View Records'!AH104","v":""},{"$f":"'View Records'!AI104","v":""},{"$f":"'View Records'!AJ104","v":""},{"$f":"'View Records'!AK104","v":""},{"$f":"'View Records'!AL104","v":""},{"$f":"'View Records'!AM104","v":""},{"$f":"'View Records'!AN104","v":""},{"$f":"'View Records'!AO104","v":""},{"$f":"'View Records'!AP104","v":""},{"$f":"'View Records'!AQ104","v":""}]
[{"$f":"Checklist!AF110","v":""},{"$f":"Checklist!AG110","v":""},{"$f":"Checklist!AH110","v":""},{"$f":"Checklist!AI110","v":""},{"$f":"Checklist!AJ110","v":""},{"$f":"Checklist!AK110","v":""},{"$f":"Checklist!AL110","v":""},{"$f":"Checklist!AM110","v":""},{"$f":"Checklist!AN110","v":""},{"$f":"Checklist!AO110","v":""},{"$f":"Checklist!AP110","v":""},{"$f":"Checklist!AQ110","v":""},"","","","",100,"","","","","","","","","","","","","","Block","","","","","","","","","","","","",null,null,null,null,null,null,null,null,null,null,null,null,null,null,null,null,null,null,null,null,null,null,null,null,null,null,null,null,null,null,null,null,null,null,null,null,null,null,null,null,null,null,null,null,null,null,null,null,null,null,null,null,null,null,null,null,null,null,null,null,null,null,null,null,null,null,null,null,null,null,null,null,null,null,null,null,null,null,null,null,null,null,null,null,null,null,null,null,null,null,null,null,null,null,null,null,null,null,null,null,null,null,null,null,null,null,null,null,null,null,null,null,null,null,null,null,null,null,null,null,null,null,null,null,null,null,null,null,null,null,null,null,null,null,null,null,null,null,null,null,null,null,null,null,null,null,null,null,null,null,null,null,null,null,null,null,null,null,null,null,null,null,null,null,null,{"$f":"'View Records'!AF105","v":""},{"$f":"'View Records'!AG105","v":""},{"$f":"'View Records'!AH105","v":""},{"$f":"'View Records'!AI105","v":""},{"$f":"'View Records'!AJ105","v":""},{"$f":"'View Records'!AK105","v":""},{"$f":"'View Records'!AL105","v":""},{"$f":"'View Records'!AM105","v":""},{"$f":"'View Records'!AN105","v":""},{"$f":"'View Records'!AO105","v":""},{"$f":"'View Records'!AP105","v":""},{"$f":"'View Records'!AQ105","v":""}]
[{"$f":"Checklist!AF111","v":""},{"$f":"Checklist!AG111","v":""},{"$f":"Checklist!AH111","v":""},{"$f":"Checklist!AI111","v":""},{"$f":"Checklist!AJ111","v":""},{"$f":"Checklist!AK111","v":""},{"$f":"Checklist!AL111","v":""},{"$f":"Checklist!AM111","v":""},{"$f":"Checklist!AN111","v":""},{"$f":"Checklist!AO111","v":""},{"$f":"Checklist!AP111","v":""},{"$f":"Checklist!AQ111","v":""},"","","","",101,"","","","","","","","","","","","","","Block","","","","","","","","","","","","",null,null,null,null,null,null,null,null,null,null,null,null,null,null,null,null,null,null,null,null,null,null,null,null,null,null,null,null,null,null,null,null,null,null,null,null,null,null,null,null,null,null,null,null,null,null,null,null,null,null,null,null,null,null,null,null,null,null,null,null,null,null,null,null,null,null,null,null,null,null,null,null,null,null,null,null,null,null,null,null,null,null,null,null,null,null,null,null,null,null,null,null,null,null,null,null,null,null,null,null,null,null,null,null,null,null,null,null,null,null,null,null,null,null,null,null,null,null,null,null,null,null,null,null,null,null,null,null,null,null,null,null,null,null,null,null,null,null,null,null,null,null,null,null,null,null,null,null,null,null,null,null,null,null,null,null,null,null,null,null,null,null,null,null,null,{"$f":"'View Records'!AF106","v":""},{"$f":"'View Records'!AG106","v":""},{"$f":"'View Records'!AH106","v":""},{"$f":"'View Records'!AI106","v":""},{"$f":"'View Records'!AJ106","v":""},{"$f":"'View Records'!AK106","v":""},{"$f":"'View Records'!AL106","v":""},{"$f":"'View Records'!AM106","v":""},{"$f":"'View Records'!AN106","v":""},{"$f":"'View Records'!AO106","v":""},{"$f":"'View Records'!AP106","v":""},{"$f":"'View Records'!AQ106","v":""}]
[{"$f":"Checklist!AF112","v":""},{"$f":"Checklist!AG112","v":""},{"$f":"Checklist!AH112","v":""},{"$f":"Checklist!AI112","v":""},{"$f":"Checklist!AJ112","v":""},{"$f":"Checklist!AK112","v":""},{"$f":"Checklist!AL112","v":""},{"$f":"Checklist!AM112","v":""},{"$f":"Checklist!AN112","v":""},{"$f":"Checklist!AO112","v":""},{"$f":"Checklist!AP112","v":""},{"$f":"Checklist!AQ112","v":""},"","","","",102,"","","","","","","","","","","","","","Block","","","","","","","","","","","","",null,null,null,null,null,null,null,null,null,null,null,null,null,null,null,null,null,null,null,null,null,null,null,null,null,null,null,null,null,null,null,null,null,null,null,null,null,null,null,null,null,null,null,null,null,null,null,null,null,null,null,null,null,null,null,null,null,null,null,null,null,null,null,null,null,null,null,null,null,null,null,null,null,null,null,null,null,null,null,null,null,null,null,null,null,null,null,null,null,null,null,null,null,null,null,null,null,null,null,null,null,null,null,null,null,null,null,null,null,null,null,null,null,null,null,null,null,null,null,null,null,null,null,null,null,null,null,null,null,null,null,null,null,null,null,null,null,null,null,null,null,null,null,null,null,null,null,null,null,null,null,null,null,null,null,null,null,null,null,null,null,null,null,null,null,{"$f":"'View Records'!AF107","v":""},{"$f":"'View Records'!AG107","v":""},{"$f":"'View Records'!AH107","v":""},{"$f":"'View Records'!AI107","v":""},{"$f":"'View Records'!AJ107","v":""},{"$f":"'View Records'!AK107","v":""},{"$f":"'View Records'!AL107","v":""},{"$f":"'View Records'!AM107","v":""},{"$f":"'View Records'!AN107","v":""},{"$f":"'View Records'!AO107","v":""},{"$f":"'View Records'!AP107","v":""},{"$f":"'View Records'!AQ107","v":""}]
[{"$f":"Checklist!AF113","v":""},{"$f":"Checklist!AG113","v":""},{"$f":"Checklist!AH113","v":""},{"$f":"Checklist!AI113","v":""},{"$f":"Checklist!AJ113","v":""},{"$f":"Checklist!AK113","v":""},{"$f":"Checklist!AL113","v":""},{"$f":"Checklist!AM113","v":""},{"$f":"Checklist!AN113","v":""},{"$f":"Checklist!AO113","v":""},{"$f":"Checklist!AP113","v":""},{"$f":"Checklist!AQ113","v":""},"","","","",103,"","","","","","","","","","","","","","Block","","","","","","","","","","","","",null,null,null,null,null,null,null,null,null,null,null,null,null,null,null,null,null,null,null,null,null,null,null,null,null,null,null,null,null,null,null,null,null,null,null,null,null,null,null,null,null,null,null,null,null,null,null,null,null,null,null,null,null,null,null,null,null,null,null,null,null,null,null,null,null,null,null,null,null,null,null,null,null,null,null,null,null,null,null,null,null,null,null,null,null,null,null,null,null,null,null,null,null,null,null,null,null,null,null,null,null,null,null,null,null,null,null,null,null,null,null,null,null,null,null,null,null,null,null,null,null,null,null,null,null,null,null,null,null,null,null,null,null,null,null,null,null,null,null,null,null,null,null,null,null,null,null,null,null,null,null,null,null,null,null,null,null,null,null,null,null,null,null,null,null,{"$f":"'View Records'!AF108","v":""},{"$f":"'View Records'!AG108","v":""},{"$f":"'View Records'!AH108","v":""},{"$f":"'View Records'!AI108","v":""},{"$f":"'View Records'!AJ108","v":""},{"$f":"'View Records'!AK108","v":""},{"$f":"'View Records'!AL108","v":""},{"$f":"'View Records'!AM108","v":""},{"$f":"'View Records'!AN108","v":""},{"$f":"'View Records'!AO108","v":""},{"$f":"'View Records'!AP108","v":""},{"$f":"'View Records'!AQ108","v":""}]
[{"$f":"Checklist!AF114","v":""},{"$f":"Checklist!AG114","v":""},{"$f":"Checklist!AH114","v":""},{"$f":"Checklist!AI114","v":""},{"$f":"Checklist!AJ114","v":""},{"$f":"Checklist!AK114","v":""},{"$f":"Checklist!AL114","v":""},{"$f":"Checklist!AM114","v":""},{"$f":"Checklist!AN114","v":""},{"$f":"Checklist!AO114","v":""},{"$f":"Checklist!AP114","v":""},{"$f":"Checklist!AQ114","v":""},"","","","",104,"","","","","","","","","","","","","","Block","","","","","","","","","","","","",null,null,null,null,null,null,null,null,null,null,null,null,null,null,null,null,null,null,null,null,null,null,null,null,null,null,null,null,null,null,null,null,null,null,null,null,null,null,null,null,null,null,null,null,null,null,null,null,null,null,null,null,null,null,null,null,null,null,null,null,null,null,null,null,null,null,null,null,null,null,null,null,null,null,null,null,null,null,null,null,null,null,null,null,null,null,null,null,null,null,null,null,null,null,null,null,null,null,null,null,null,null,null,null,null,null,null,null,null,null,null,null,null,null,null,null,null,null,null,null,null,null,null,null,null,null,null,null,null,null,null,null,null,null,null,null,null,null,null,null,null,null,null,null,null,null,null,null,null,null,null,null,null,null,null,null,null,null,null,null,null,null,null,null,null,{"$f":"'View Records'!AF109","v":""},{"$f":"'View Records'!AG109","v":""},{"$f":"'View Records'!AH109","v":""},{"$f":"'View Records'!AI109","v":""},{"$f":"'View Records'!AJ109","v":""},{"$f":"'View Records'!AK109","v":""},{"$f":"'View Records'!AL109","v":""},{"$f":"'View Records'!AM109","v":""},{"$f":"'View Records'!AN109","v":""},{"$f":"'View Records'!AO109","v":""},{"$f":"'View Records'!AP109","v":""},{"$f":"'View Records'!AQ109","v":""}]
[{"$f":"Checklist!AF115","v":""},{"$f":"Checklist!AG115","v":""},{"$f":"Checklist!AH115","v":""},{"$f":"Checklist!AI115","v":""},{"$f":"Checklist!AJ115","v":""},{"$f":"Checklist!AK115","v":""},{"$f":"Checklist!AL115","v":""},{"$f":"Checklist!AM115","v":""},{"$f":"Checklist!AN115","v":""},{"$f":"Checklist!AO115","v":""},{"$f":"Checklist!AP115","v":""},{"$f":"Checklist!AQ115","v":""},"","","","",105,"","","","","","","","","","","","","","Block","","","","","","","","","","","","",null,null,null,null,null,null,null,null,null,null,null,null,null,null,null,null,null,null,null,null,null,null,null,null,null,null,null,null,null,null,null,null,null,null,null,null,null,null,null,null,null,null,null,null,null,null,null,null,null,null,null,null,null,null,null,null,null,null,null,null,null,null,null,null,null,null,null,null,null,null,null,null,null,null,null,null,null,null,null,null,null,null,null,null,null,null,null,null,null,null,null,null,null,null,null,null,null,null,null,null,null,null,null,null,null,null,null,null,null,null,null,null,null,null,null,null,null,null,null,null,null,null,null,null,null,null,null,null,null,null,null,null,null,null,null,null,null,null,null,null,null,null,null,null,null,null,null,null,null,null,null,null,null,null,null,null,null,null,null,null,null,null,null,null,null,{"$f":"'View Records'!AF110","v":""},{"$f":"'View Records'!AG110","v":""},{"$f":"'View Records'!AH110","v":""},{"$f":"'View Records'!AI110","v":""},{"$f":"'View Records'!AJ110","v":""},{"$f":"'View Records'!AK110","v":""},{"$f":"'View Records'!AL110","v":""},{"$f":"'View Records'!AM110","v":""},{"$f":"'View Records'!AN110","v":""},{"$f":"'View Records'!AO110","v":""},{"$f":"'View Records'!AP110","v":""},{"$f":"'View Records'!AQ110","v":""}]
[{"$f":"Checklist!AF116","v":""},{"$f":"Checklist!AG116","v":""},{"$f":"Checklist!AH116","v":""},{"$f":"Checklist!AI116","v":""},{"$f":"Checklist!AJ116","v":""},{"$f":"Checklist!AK116","v":""},{"$f":"Checklist!AL116","v":""},{"$f":"Checklist!AM116","v":""},{"$f":"Checklist!AN116","v":""},{"$f":"Checklist!AO116","v":""},{"$f":"Checklist!AP116","v":""},{"$f":"Checklist!AQ116","v":""},"","","","",106,"","","","","","","","","","","","","","Block","","","","","","","","","","","","",null,null,null,null,null,null,null,null,null,null,null,null,null,null,null,null,null,null,null,null,null,null,null,null,null,null,null,null,null,null,null,null,null,null,null,null,null,null,null,null,null,null,null,null,null,null,null,null,null,null,null,null,null,null,null,null,null,null,null,null,null,null,null,null,null,null,null,null,null,null,null,null,null,null,null,null,null,null,null,null,null,null,null,null,null,null,null,null,null,null,null,null,null,null,null,null,null,null,null,null,null,null,null,null,null,null,null,null,null,null,null,null,null,null,null,null,null,null,null,null,null,null,null,null,null,null,null,null,null,null,null,null,null,null,null,null,null,null,null,null,null,null,null,null,null,null,null,null,null,null,null,null,null,null,null,null,null,null,null,null,null,null,null,null,null,{"$f":"'View Records'!AF111","v":""},{"$f":"'View Records'!AG111","v":""},{"$f":"'View Records'!AH111","v":""},{"$f":"'View Records'!AI111","v":""},{"$f":"'View Records'!AJ111","v":""},{"$f":"'View Records'!AK111","v":""},{"$f":"'View Records'!AL111","v":""},{"$f":"'View Records'!AM111","v":""},{"$f":"'View Records'!AN111","v":""},{"$f":"'View Records'!AO111","v":""},{"$f":"'View Records'!AP111","v":""},{"$f":"'View Records'!AQ111","v":""}]
[{"$f":"Checklist!AF117","v":""},{"$f":"Checklist!AG117","v":""},{"$f":"Checklist!AH117","v":""},{"$f":"Checklist!AI117","v":""},{"$f":"Checklist!AJ117","v":""},{"$f":"Checklist!AK117","v":""},{"$f":"Checklist!AL117","v":""},{"$f":"Checklist!AM117","v":""},{"$f":"Checklist!AN117","v":""},{"$f":"Checklist!AO117","v":""},{"$f":"Checklist!AP117","v":""},{"$f":"Checklist!AQ117","v":""},"","","","",107,"","","","","","","","","","","","","","Block","","","","","","","","","","","","",null,null,null,null,null,null,null,null,null,null,null,null,null,null,null,null,null,null,null,null,null,null,null,null,null,null,null,null,null,null,null,null,null,null,null,null,null,null,null,null,null,null,null,null,null,null,null,null,null,null,null,null,null,null,null,null,null,null,null,null,null,null,null,null,null,null,null,null,null,null,null,null,null,null,null,null,null,null,null,null,null,null,null,null,null,null,null,null,null,null,null,null,null,null,null,null,null,null,null,null,null,null,null,null,null,null,null,null,null,null,null,null,null,null,null,null,null,null,null,null,null,null,null,null,null,null,null,null,null,null,null,null,null,null,null,null,null,null,null,null,null,null,null,null,null,null,null,null,null,null,null,null,null,null,null,null,null,null,null,null,null,null,null,null,null,{"$f":"'View Records'!AF112","v":""},{"$f":"'View Records'!AG112","v":""},{"$f":"'View Records'!AH112","v":""},{"$f":"'View Records'!AI112","v":""},{"$f":"'View Records'!AJ112","v":""},{"$f":"'View Records'!AK112","v":""},{"$f":"'View Records'!AL112","v":""},{"$f":"'View Records'!AM112","v":""},{"$f":"'View Records'!AN112","v":""},{"$f":"'View Records'!AO112","v":""},{"$f":"'View Records'!AP112","v":""},{"$f":"'View Records'!AQ112","v":""}]
[{"$f":"Checklist!AF118","v":""},{"$f":"Checklist!AG118","v":""},{"$f":"Checklist!AH118","v":""},{"$f":"Checklist!AI118","v":""},{"$f":"Checklist!AJ118","v":""},{"$f":"Checklist!AK118","v":""},{"$f":"Checklist!AL118","v":""},{"$f":"Checklist!AM118","v":""},{"$f":"Checklist!AN118","v":""},{"$f":"Checklist!AO118","v":""},{"$f":"Checklist!AP118","v":""},{"$f":"Checklist!AQ118","v":""},"","","","",108,"","","","","","","","","","","","","","Block","","","","","","","","","","","","",null,null,null,null,null,null,null,null,null,null,null,null,null,null,null,null,null,null,null,null,null,null,null,null,null,null,null,null,null,null,null,null,null,null,null,null,null,null,null,null,null,null,null,null,null,null,null,null,null,null,null,null,null,null,null,null,null,null,null,null,null,null,null,null,null,null,null,null,null,null,null,null,null,null,null,null,null,null,null,null,null,null,null,null,null,null,null,null,null,null,null,null,null,null,null,null,null,null,null,null,null,null,null,null,null,null,null,null,null,null,null,null,null,null,null,null,null,null,null,null,null,null,null,null,null,null,null,null,null,null,null,null,null,null,null,null,null,null,null,null,null,null,null,null,null,null,null,null,null,null,null,null,null,null,null,null,null,null,null,null,null,null,null,null,null,{"$f":"'View Records'!AF113","v":""},{"$f":"'View Records'!AG113","v":""},{"$f":"'View Records'!AH113","v":""},{"$f":"'View Records'!AI113","v":""},{"$f":"'View Records'!AJ113","v":""},{"$f":"'View Records'!AK113","v":""},{"$f":"'View Records'!AL113","v":""},{"$f":"'View Records'!AM113","v":""},{"$f":"'View Records'!AN113","v":""},{"$f":"'View Records'!AO113","v":""},{"$f":"'View Records'!AP113","v":""},{"$f":"'View Records'!AQ113","v":""}]
[{"$f":"Checklist!AF119","v":""},{"$f":"Checklist!AG119","v":""},{"$f":"Checklist!AH119","v":""},{"$f":"Checklist!AI119","v":""},{"$f":"Checklist!AJ119","v":""},{"$f":"Checklist!AK119","v":""},{"$f":"Checklist!AL119","v":""},{"$f":"Checklist!AM119","v":""},{"$f":"Checklist!AN119","v":""},{"$f":"Checklist!AO119","v":""},{"$f":"Checklist!AP119","v":""},{"$f":"Checklist!AQ119","v":""},"","","","",109,"","","","","","","","","","","","","","Block","","","","","","","","","","","","",null,null,null,null,null,null,null,null,null,null,null,null,null,null,null,null,null,null,null,null,null,null,null,null,null,null,null,null,null,null,null,null,null,null,null,null,null,null,null,null,null,null,null,null,null,null,null,null,null,null,null,null,null,null,null,null,null,null,null,null,null,null,null,null,null,null,null,null,null,null,null,null,null,null,null,null,null,null,null,null,null,null,null,null,null,null,null,null,null,null,null,null,null,null,null,null,null,null,null,null,null,null,null,null,null,null,null,null,null,null,null,null,null,null,null,null,null,null,null,null,null,null,null,null,null,null,null,null,null,null,null,null,null,null,null,null,null,null,null,null,null,null,null,null,null,null,null,null,null,null,null,null,null,null,null,null,null,null,null,null,null,null,null,null,null,{"$f":"'View Records'!AF114","v":""},{"$f":"'View Records'!AG114","v":""},{"$f":"'View Records'!AH114","v":""},{"$f":"'View Records'!AI114","v":""},{"$f":"'View Records'!AJ114","v":""},{"$f":"'View Records'!AK114","v":""},{"$f":"'View Records'!AL114","v":""},{"$f":"'View Records'!AM114","v":""},{"$f":"'View Records'!AN114","v":""},{"$f":"'View Records'!AO114","v":""},{"$f":"'View Records'!AP114","v":""},{"$f":"'View Records'!AQ114","v":""}]
[{"$f":"Checklist!AF120","v":""},{"$f":"Checklist!AG120","v":""},{"$f":"Checklist!AH120","v":""},{"$f":"Checklist!AI120","v":""},{"$f":"Checklist!AJ120","v":""},{"$f":"Checklist!AK120","v":""},{"$f":"Checklist!AL120","v":""},{"$f":"Checklist!AM120","v":""},{"$f":"Checklist!AN120","v":""},{"$f":"Checklist!AO120","v":""},{"$f":"Checklist!AP120","v":""},{"$f":"Checklist!AQ120","v":""},"","","","",110,"","","","","","","","","","","","","","Block","","","","","","","","","","","","",null,null,null,null,null,null,null,null,null,null,null,null,null,null,null,null,null,null,null,null,null,null,null,null,null,null,null,null,null,null,null,null,null,null,null,null,null,null,null,null,null,null,null,null,null,null,null,null,null,null,null,null,null,null,null,null,null,null,null,null,null,null,null,null,null,null,null,null,null,null,null,null,null,null,null,null,null,null,null,null,null,null,null,null,null,null,null,null,null,null,null,null,null,null,null,null,null,null,null,null,null,null,null,null,null,null,null,null,null,null,null,null,null,null,null,null,null,null,null,null,null,null,null,null,null,null,null,null,null,null,null,null,null,null,null,null,null,null,null,null,null,null,null,null,null,null,null,null,null,null,null,null,null,null,null,null,null,null,null,null,null,null,null,null,null,{"$f":"'View Records'!AF115","v":""},{"$f":"'View Records'!AG115","v":""},{"$f":"'View Records'!AH115","v":""},{"$f":"'View Records'!AI115","v":""},{"$f":"'View Records'!AJ115","v":""},{"$f":"'View Records'!AK115","v":""},{"$f":"'View Records'!AL115","v":""},{"$f":"'View Records'!AM115","v":""},{"$f":"'View Records'!AN115","v":""},{"$f":"'View Records'!AO115","v":""},{"$f":"'View Records'!AP115","v":""},{"$f":"'View Records'!AQ115","v":""}]
[{"$f":"Checklist!AF121","v":""},{"$f":"Checklist!AG121","v":""},{"$f":"Checklist!AH121","v":""},{"$f":"Checklist!AI121","v":""},{"$f":"Checklist!AJ121","v":""},{"$f":"Checklist!AK121","v":""},{"$f":"Checklist!AL121","v":""},{"$f":"Checklist!AM121","v":""},{"$f":"Checklist!AN121","v":""},{"$f":"Checklist!AO121","v":""},{"$f":"Checklist!AP121","v":""},{"$f":"Checklist!AQ121","v":""},"","","","",111,"","","","","","","","","","","","","","Block","","","","","","","","","","","","",null,null,null,null,null,null,null,null,null,null,null,null,null,null,null,null,null,null,null,null,null,null,null,null,null,null,null,null,null,null,null,null,null,null,null,null,null,null,null,null,null,null,null,null,null,null,null,null,null,null,null,null,null,null,null,null,null,null,null,null,null,null,null,null,null,null,null,null,null,null,null,null,null,null,null,null,null,null,null,null,null,null,null,null,null,null,null,null,null,null,null,null,null,null,null,null,null,null,null,null,null,null,null,null,null,null,null,null,null,null,null,null,null,null,null,null,null,null,null,null,null,null,null,null,null,null,null,null,null,null,null,null,null,null,null,null,null,null,null,null,null,null,null,null,null,null,null,null,null,null,null,null,null,null,null,null,null,null,null,null,null,null,null,null,null,{"$f":"'View Records'!AF116","v":""},{"$f":"'View Records'!AG116","v":""},{"$f":"'View Records'!AH116","v":""},{"$f":"'View Records'!AI116","v":""},{"$f":"'View Records'!AJ116","v":""},{"$f":"'View Records'!AK116","v":""},{"$f":"'View Records'!AL116","v":""},{"$f":"'View Records'!AM116","v":""},{"$f":"'View Records'!AN116","v":""},{"$f":"'View Records'!AO116","v":""},{"$f":"'View Records'!AP116","v":""},{"$f":"'View Records'!AQ116","v":""}]
[{"$f":"Checklist!AF122","v":""},{"$f":"Checklist!AG122","v":""},{"$f":"Checklist!AH122","v":""},{"$f":"Checklist!AI122","v":""},{"$f":"Checklist!AJ122","v":""},{"$f":"Checklist!AK122","v":""},{"$f":"Checklist!AL122","v":""},{"$f":"Checklist!AM122","v":""},{"$f":"Checklist!AN122","v":""},{"$f":"Checklist!AO122","v":""},{"$f":"Checklist!AP122","v":""},{"$f":"Checklist!AQ122","v":""},"","","","",112,"","","","","","","","","","","","","","Block","","","","","","","","","","","","",null,null,null,null,null,null,null,null,null,null,null,null,null,null,null,null,null,null,null,null,null,null,null,null,null,null,null,null,null,null,null,null,null,null,null,null,null,null,null,null,null,null,null,null,null,null,null,null,null,null,null,null,null,null,null,null,null,null,null,null,null,null,null,null,null,null,null,null,null,null,null,null,null,null,null,null,null,null,null,null,null,null,null,null,null,null,null,null,null,null,null,null,null,null,null,null,null,null,null,null,null,null,null,null,null,null,null,null,null,null,null,null,null,null,null,null,null,null,null,null,null,null,null,null,null,null,null,null,null,null,null,null,null,null,null,null,null,null,null,null,null,null,null,null,null,null,null,null,null,null,null,null,null,null,null,null,null,null,null,null,null,null,null,null,null,{"$f":"'View Records'!AF117","v":""},{"$f":"'View Records'!AG117","v":""},{"$f":"'View Records'!AH117","v":""},{"$f":"'View Records'!AI117","v":""},{"$f":"'View Records'!AJ117","v":""},{"$f":"'View Records'!AK117","v":""},{"$f":"'View Records'!AL117","v":""},{"$f":"'View Records'!AM117","v":""},{"$f":"'View Records'!AN117","v":""},{"$f":"'View Records'!AO117","v":""},{"$f":"'View Records'!AP117","v":""},{"$f":"'View Records'!AQ117","v":""}]
[{"$f":"Checklist!AF123","v":""},{"$f":"Checklist!AG123","v":""},{"$f":"Checklist!AH123","v":""},{"$f":"Checklist!AI123","v":""},{"$f":"Checklist!AJ123","v":""},{"$f":"Checklist!AK123","v":""},{"$f":"Checklist!AL123","v":""},{"$f":"Checklist!AM123","v":""},{"$f":"Checklist!AN123","v":""},{"$f":"Checklist!AO123","v":""},{"$f":"Checklist!AP123","v":""},{"$f":"Checklist!AQ123","v":""},"","","","",113,"","","","","","","","","","","","","","Block","","","","","","","","","","","","",null,null,null,null,null,null,null,null,null,null,null,null,null,null,null,null,null,null,null,null,null,null,null,null,null,null,null,null,null,null,null,null,null,null,null,null,null,null,null,null,null,null,null,null,null,null,null,null,null,null,null,null,null,null,null,null,null,null,null,null,null,null,null,null,null,null,null,null,null,null,null,null,null,null,null,null,null,null,null,null,null,null,null,null,null,null,null,null,null,null,null,null,null,null,null,null,null,null,null,null,null,null,null,null,null,null,null,null,null,null,null,null,null,null,null,null,null,null,null,null,null,null,null,null,null,null,null,null,null,null,null,null,null,null,null,null,null,null,null,null,null,null,null,null,null,null,null,null,null,null,null,null,null,null,null,null,null,null,null,null,null,null,null,null,null,{"$f":"'View Records'!AF118","v":""},{"$f":"'View Records'!AG118","v":""},{"$f":"'View Records'!AH118","v":""},{"$f":"'View Records'!AI118","v":""},{"$f":"'View Records'!AJ118","v":""},{"$f":"'View Records'!AK118","v":""},{"$f":"'View Records'!AL118","v":""},{"$f":"'View Records'!AM118","v":""},{"$f":"'View Records'!AN118","v":""},{"$f":"'View Records'!AO118","v":""},{"$f":"'View Records'!AP118","v":""},{"$f":"'View Records'!AQ118","v":""}]
[{"$f":"Checklist!AF124","v":""},{"$f":"Checklist!AG124","v":""},{"$f":"Checklist!AH124","v":""},{"$f":"Checklist!AI124","v":""},{"$f":"Checklist!AJ124","v":""},{"$f":"Checklist!AK124","v":""},{"$f":"Checklist!AL124","v":""},{"$f":"Checklist!AM124","v":""},{"$f":"Checklist!AN124","v":""},{"$f":"Checklist!AO124","v":""},{"$f":"Checklist!AP124","v":""},{"$f":"Checklist!AQ124","v":""},"","","","",114,"","","","","","","","","","","","","","Block","","","","","","","","","","","","",null,null,null,null,null,null,null,null,null,null,null,null,null,null,null,null,null,null,null,null,null,null,null,null,null,null,null,null,null,null,null,null,null,null,null,null,null,null,null,null,null,null,null,null,null,null,null,null,null,null,null,null,null,null,null,null,null,null,null,null,null,null,null,null,null,null,null,null,null,null,null,null,null,null,null,null,null,null,null,null,null,null,null,null,null,null,null,null,null,null,null,null,null,null,null,null,null,null,null,null,null,null,null,null,null,null,null,null,null,null,null,null,null,null,null,null,null,null,null,null,null,null,null,null,null,null,null,null,null,null,null,null,null,null,null,null,null,null,null,null,null,null,null,null,null,null,null,null,null,null,null,null,null,null,null,null,null,null,null,null,null,null,null,null,null,{"$f":"'View Records'!AF119","v":""},{"$f":"'View Records'!AG119","v":""},{"$f":"'View Records'!AH119","v":""},{"$f":"'View Records'!AI119","v":""},{"$f":"'View Records'!AJ119","v":""},{"$f":"'View Records'!AK119","v":""},{"$f":"'View Records'!AL119","v":""},{"$f":"'View Records'!AM119","v":""},{"$f":"'View Records'!AN119","v":""},{"$f":"'View Records'!AO119","v":""},{"$f":"'View Records'!AP119","v":""},{"$f":"'View Records'!AQ119","v":""}]
[{"$f":"Checklist!AF125","v":""},{"$f":"Checklist!AG125","v":""},{"$f":"Checklist!AH125","v":""},{"$f":"Checklist!AI125","v":""},{"$f":"Checklist!AJ125","v":""},{"$f":"Checklist!AK125","v":""},{"$f":"Checklist!AL125","v":""},{"$f":"Checklist!AM125","v":""},{"$f":"Checklist!AN125","v":""},{"$f":"Checklist!AO125","v":""},{"$f":"Checklist!AP125","v":""},{"$f":"Checklist!AQ125","v":""},"","","","",115,"","","","","","","","","","","","","","Block","","","","","","","","","","","","",null,null,null,null,null,null,null,null,null,null,null,null,null,null,null,null,null,null,null,null,null,null,null,null,null,null,null,null,null,null,null,null,null,null,null,null,null,null,null,null,null,null,null,null,null,null,null,null,null,null,null,null,null,null,null,null,null,null,null,null,null,null,null,null,null,null,null,null,null,null,null,null,null,null,null,null,null,null,null,null,null,null,null,null,null,null,null,null,null,null,null,null,null,null,null,null,null,null,null,null,null,null,null,null,null,null,null,null,null,null,null,null,null,null,null,null,null,null,null,null,null,null,null,null,null,null,null,null,null,null,null,null,null,null,null,null,null,null,null,null,null,null,null,null,null,null,null,null,null,null,null,null,null,null,null,null,null,null,null,null,null,null,null,null,null,{"$f":"'View Records'!AF120","v":""},{"$f":"'View Records'!AG120","v":""},{"$f":"'View Records'!AH120","v":""},{"$f":"'View Records'!AI120","v":""},{"$f":"'View Records'!AJ120","v":""},{"$f":"'View Records'!AK120","v":""},{"$f":"'View Records'!AL120","v":""},{"$f":"'View Records'!AM120","v":""},{"$f":"'View Records'!AN120","v":""},{"$f":"'View Records'!AO120","v":""},{"$f":"'View Records'!AP120","v":""},{"$f":"'View Records'!AQ120","v":""}]
[{"$f":"Checklist!AF126","v":""},{"$f":"Checklist!AG126","v":""},{"$f":"Checklist!AH126","v":""},{"$f":"Checklist!AI126","v":""},{"$f":"Checklist!AJ126","v":""},{"$f":"Checklist!AK126","v":""},{"$f":"Checklist!AL126","v":""},{"$f":"Checklist!AM126","v":""},{"$f":"Checklist!AN126","v":""},{"$f":"Checklist!AO126","v":""},{"$f":"Checklist!AP126","v":""},{"$f":"Checklist!AQ126","v":""},"","","","",116,"","","","","","","","","","","","","","Block","","","","","","","","","","","","",null,null,null,null,null,null,null,null,null,null,null,null,null,null,null,null,null,null,null,null,null,null,null,null,null,null,null,null,null,null,null,null,null,null,null,null,null,null,null,null,null,null,null,null,null,null,null,null,null,null,null,null,null,null,null,null,null,null,null,null,null,null,null,null,null,null,null,null,null,null,null,null,null,null,null,null,null,null,null,null,null,null,null,null,null,null,null,null,null,null,null,null,null,null,null,null,null,null,null,null,null,null,null,null,null,null,null,null,null,null,null,null,null,null,null,null,null,null,null,null,null,null,null,null,null,null,null,null,null,null,null,null,null,null,null,null,null,null,null,null,null,null,null,null,null,null,null,null,null,null,null,null,null,null,null,null,null,null,null,null,null,null,null,null,null,{"$f":"'View Records'!AF121","v":""},{"$f":"'View Records'!AG121","v":""},{"$f":"'View Records'!AH121","v":""},{"$f":"'View Records'!AI121","v":""},{"$f":"'View Records'!AJ121","v":""},{"$f":"'View Records'!AK121","v":""},{"$f":"'View Records'!AL121","v":""},{"$f":"'View Records'!AM121","v":""},{"$f":"'View Records'!AN121","v":""},{"$f":"'View Records'!AO121","v":""},{"$f":"'View Records'!AP121","v":""},{"$f":"'View Records'!AQ121","v":""}]
[{"$f":"Checklist!AF127","v":""},{"$f":"Checklist!AG127","v":""},{"$f":"Checklist!AH127","v":""},{"$f":"Checklist!AI127","v":""},{"$f":"Checklist!AJ127","v":""},{"$f":"Checklist!AK127","v":""},{"$f":"Checklist!AL127","v":""},{"$f":"Checklist!AM127","v":""},{"$f":"Checklist!AN127","v":""},{"$f":"Checklist!AO127","v":""},{"$f":"Checklist!AP127","v":""},{"$f":"Checklist!AQ127","v":""},"","","","",117,"","","","","","","","","","","","","","Block","","","","","","","","","","","","",null,null,null,null,null,null,null,null,null,null,null,null,null,null,null,null,null,null,null,null,null,null,null,null,null,null,null,null,null,null,null,null,null,null,null,null,null,null,null,null,null,null,null,null,null,null,null,null,null,null,null,null,null,null,null,null,null,null,null,null,null,null,null,null,null,null,null,null,null,null,null,null,null,null,null,null,null,null,null,null,null,null,null,null,null,null,null,null,null,null,null,null,null,null,null,null,null,null,null,null,null,null,null,null,null,null,null,null,null,null,null,null,null,null,null,null,null,null,null,null,null,null,null,null,null,null,null,null,null,null,null,null,null,null,null,null,null,null,null,null,null,null,null,null,null,null,null,null,null,null,null,null,null,null,null,null,null,null,null,null,null,null,null,null,null,{"$f":"'View Records'!AF122","v":""},{"$f":"'View Records'!AG122","v":""},{"$f":"'View Records'!AH122","v":""},{"$f":"'View Records'!AI122","v":""},{"$f":"'View Records'!AJ122","v":""},{"$f":"'View Records'!AK122","v":""},{"$f":"'View Records'!AL122","v":""},{"$f":"'View Records'!AM122","v":""},{"$f":"'View Records'!AN122","v":""},{"$f":"'View Records'!AO122","v":""},{"$f":"'View Records'!AP122","v":""},{"$f":"'View Records'!AQ122","v":""}]
[{"$f":"Checklist!AF128","v":""},{"$f":"Checklist!AG128","v":""},{"$f":"Checklist!AH128","v":""},{"$f":"Checklist!AI128","v":""},{"$f":"Checklist!AJ128","v":""},{"$f":"Checklist!AK128","v":""},{"$f":"Checklist!AL128","v":""},{"$f":"Checklist!AM128","v":""},{"$f":"Checklist!AN128","v":""},{"$f":"Checklist!AO128","v":""},{"$f":"Checklist!AP128","v":""},{"$f":"Checklist!AQ128","v":""},"","","","",118,"","","","","","","","","","","","","","Block","","","","","","","","","","","","",null,null,null,null,null,null,null,null,null,null,null,null,null,null,null,null,null,null,null,null,null,null,null,null,null,null,null,null,null,null,null,null,null,null,null,null,null,null,null,null,null,null,null,null,null,null,null,null,null,null,null,null,null,null,null,null,null,null,null,null,null,null,null,null,null,null,null,null,null,null,null,null,null,null,null,null,null,null,null,null,null,null,null,null,null,null,null,null,null,null,null,null,null,null,null,null,null,null,null,null,null,null,null,null,null,null,null,null,null,null,null,null,null,null,null,null,null,null,null,null,null,null,null,null,null,null,null,null,null,null,null,null,null,null,null,null,null,null,null,null,null,null,null,null,null,null,null,null,null,null,null,null,null,null,null,null,null,null,null,null,null,null,null,null,null,{"$f":"'View Records'!AF123","v":""},{"$f":"'View Records'!AG123","v":""},{"$f":"'View Records'!AH123","v":""},{"$f":"'View Records'!AI123","v":""},{"$f":"'View Records'!AJ123","v":""},{"$f":"'View Records'!AK123","v":""},{"$f":"'View Records'!AL123","v":""},{"$f":"'View Records'!AM123","v":""},{"$f":"'View Records'!AN123","v":""},{"$f":"'View Records'!AO123","v":""},{"$f":"'View Records'!AP123","v":""},{"$f":"'View Records'!AQ123","v":""}]
[{"$f":"Checklist!AF129","v":""},{"$f":"Checklist!AG129","v":""},{"$f":"Checklist!AH129","v":""},{"$f":"Checklist!AI129","v":""},{"$f":"Checklist!AJ129","v":""},{"$f":"Checklist!AK129","v":""},{"$f":"Checklist!AL129","v":""},{"$f":"Checklist!AM129","v":""},{"$f":"Checklist!AN129","v":""},{"$f":"Checklist!AO129","v":""},{"$f":"Checklist!AP129","v":""},{"$f":"Checklist!AQ129","v":""},"","","","",119,"","","","","","","","","","","","","","Block","","","","","","","","","","","","",null,null,null,null,null,null,null,null,null,null,null,null,null,null,null,null,null,null,null,null,null,null,null,null,null,null,null,null,null,null,null,null,null,null,null,null,null,null,null,null,null,null,null,null,null,null,null,null,null,null,null,null,null,null,null,null,null,null,null,null,null,null,null,null,null,null,null,null,null,null,null,null,null,null,null,null,null,null,null,null,null,null,null,null,null,null,null,null,null,null,null,null,null,null,null,null,null,null,null,null,null,null,null,null,null,null,null,null,null,null,null,null,null,null,null,null,null,null,null,null,null,null,null,null,null,null,null,null,null,null,null,null,null,null,null,null,null,null,null,null,null,null,null,null,null,null,null,null,null,null,null,null,null,null,null,null,null,null,null,null,null,null,null,null,null,{"$f":"'View Records'!AF124","v":""},{"$f":"'View Records'!AG124","v":""},{"$f":"'View Records'!AH124","v":""},{"$f":"'View Records'!AI124","v":""},{"$f":"'View Records'!AJ124","v":""},{"$f":"'View Records'!AK124","v":""},{"$f":"'View Records'!AL124","v":""},{"$f":"'View Records'!AM124","v":""},{"$f":"'View Records'!AN124","v":""},{"$f":"'View Records'!AO124","v":""},{"$f":"'View Records'!AP124","v":""},{"$f":"'View Records'!AQ124","v":""}]
[{"$f":"Checklist!AF130","v":""},{"$f":"Checklist!AG130","v":""},{"$f":"Checklist!AH130","v":""},{"$f":"Checklist!AI130","v":""},{"$f":"Checklist!AJ130","v":""},{"$f":"Checklist!AK130","v":""},{"$f":"Checklist!AL130","v":""},{"$f":"Checklist!AM130","v":""},{"$f":"Checklist!AN130","v":""},{"$f":"Checklist!AO130","v":""},{"$f":"Checklist!AP130","v":""},{"$f":"Checklist!AQ130","v":""},"","","","",120,"","","","","","","","","","","","","","Block","","","","","","","","","","","","",null,null,null,null,null,null,null,null,null,null,null,null,null,null,null,null,null,null,null,null,null,null,null,null,null,null,null,null,null,null,null,null,null,null,null,null,null,null,null,null,null,null,null,null,null,null,null,null,null,null,null,null,null,null,null,null,null,null,null,null,null,null,null,null,null,null,null,null,null,null,null,null,null,null,null,null,null,null,null,null,null,null,null,null,null,null,null,null,null,null,null,null,null,null,null,null,null,null,null,null,null,null,null,null,null,null,null,null,null,null,null,null,null,null,null,null,null,null,null,null,null,null,null,null,null,null,null,null,null,null,null,null,null,null,null,null,null,null,null,null,null,null,null,null,null,null,null,null,null,null,null,null,null,null,null,null,null,null,null,null,null,null,null,null,null,{"$f":"'View Records'!AF125","v":""},{"$f":"'View Records'!AG125","v":""},{"$f":"'View Records'!AH125","v":""},{"$f":"'View Records'!AI125","v":""},{"$f":"'View Records'!AJ125","v":""},{"$f":"'View Records'!AK125","v":""},{"$f":"'View Records'!AL125","v":""},{"$f":"'View Records'!AM125","v":""},{"$f":"'View Records'!AN125","v":""},{"$f":"'View Records'!AO125","v":""},{"$f":"'View Records'!AP125","v":""},{"$f":"'View Records'!AQ125","v":""}]
[{"$f":"Checklist!AF131","v":""},{"$f":"Checklist!AG131","v":""},{"$f":"Checklist!AH131","v":""},{"$f":"Checklist!AI131","v":""},{"$f":"Checklist!AJ131","v":""},{"$f":"Checklist!AK131","v":""},{"$f":"Checklist!AL131","v":""},{"$f":"Checklist!AM131","v":""},{"$f":"Checklist!AN131","v":""},{"$f":"Checklist!AO131","v":""},{"$f":"Checklist!AP131","v":""},{"$f":"Checklist!AQ131","v":""},"","","","",121,"","","","","","","","","","","","","","Block","","","","","","","","","","","","",null,null,null,null,null,null,null,null,null,null,null,null,null,null,null,null,null,null,null,null,null,null,null,null,null,null,null,null,null,null,null,null,null,null,null,null,null,null,null,null,null,null,null,null,null,null,null,null,null,null,null,null,null,null,null,null,null,null,null,null,null,null,null,null,null,null,null,null,null,null,null,null,null,null,null,null,null,null,null,null,null,null,null,null,null,null,null,null,null,null,null,null,null,null,null,null,null,null,null,null,null,null,null,null,null,null,null,null,null,null,null,null,null,null,null,null,null,null,null,null,null,null,null,null,null,null,null,null,null,null,null,null,null,null,null,null,null,null,null,null,null,null,null,null,null,null,null,null,null,null,null,null,null,null,null,null,null,null,null,null,null,null,null,null,null,{"$f":"'View Records'!AF126","v":""},{"$f":"'View Records'!AG126","v":""},{"$f":"'View Records'!AH126","v":""},{"$f":"'View Records'!AI126","v":""},{"$f":"'View Records'!AJ126","v":""},{"$f":"'View Records'!AK126","v":""},{"$f":"'View Records'!AL126","v":""},{"$f":"'View Records'!AM126","v":""},{"$f":"'View Records'!AN126","v":""},{"$f":"'View Records'!AO126","v":""},{"$f":"'View Records'!AP126","v":""},{"$f":"'View Records'!AQ126","v":""}]
[{"$f":"Checklist!AF132","v":""},{"$f":"Checklist!AG132","v":""},{"$f":"Checklist!AH132","v":""},{"$f":"Checklist!AI132","v":""},{"$f":"Checklist!AJ132","v":""},{"$f":"Checklist!AK132","v":""},{"$f":"Checklist!AL132","v":""},{"$f":"Checklist!AM132","v":""},{"$f":"Checklist!AN132","v":""},{"$f":"Checklist!AO132","v":""},{"$f":"Checklist!AP132","v":""},{"$f":"Checklist!AQ132","v":""},"","","","",122,"","","","","","","","","","","","","","Block","","","","","","","","","","","","",null,null,null,null,null,null,null,null,null,null,null,null,null,null,null,null,null,null,null,null,null,null,null,null,null,null,null,null,null,null,null,null,null,null,null,null,null,null,null,null,null,null,null,null,null,null,null,null,null,null,null,null,null,null,null,null,null,null,null,null,null,null,null,null,null,null,null,null,null,null,null,null,null,null,null,null,null,null,null,null,null,null,null,null,null,null,null,null,null,null,null,null,null,null,null,null,null,null,null,null,null,null,null,null,null,null,null,null,null,null,null,null,null,null,null,null,null,null,null,null,null,null,null,null,null,null,null,null,null,null,null,null,null,null,null,null,null,null,null,null,null,null,null,null,null,null,null,null,null,null,null,null,null,null,null,null,null,null,null,null,null,null,null,null,null,{"$f":"'View Records'!AF127","v":""},{"$f":"'View Records'!AG127","v":""},{"$f":"'View Records'!AH127","v":""},{"$f":"'View Records'!AI127","v":""},{"$f":"'View Records'!AJ127","v":""},{"$f":"'View Records'!AK127","v":""},{"$f":"'View Records'!AL127","v":""},{"$f":"'View Records'!AM127","v":""},{"$f":"'View Records'!AN127","v":""},{"$f":"'View Records'!AO127","v":""},{"$f":"'View Records'!AP127","v":""},{"$f":"'View Records'!AQ127","v":""}]
[{"$f":"Checklist!AF133","v":""},{"$f":"Checklist!AG133","v":""},{"$f":"Checklist!AH133","v":""},{"$f":"Checklist!AI133","v":""},{"$f":"Checklist!AJ133","v":""},{"$f":"Checklist!AK133","v":""},{"$f":"Checklist!AL133","v":""},{"$f":"Checklist!AM133","v":""},{"$f":"Checklist!AN133","v":""},{"$f":"Checklist!AO133","v":""},{"$f":"Checklist!AP133","v":""},{"$f":"Checklist!AQ133","v":""},"","","","",123,"","","","","","","","","","","","","","Block","","","","","","","","","","","","",null,null,null,null,null,null,null,null,null,null,null,null,null,null,null,null,null,null,null,null,null,null,null,null,null,null,null,null,null,null,null,null,null,null,null,null,null,null,null,null,null,null,null,null,null,null,null,null,null,null,null,null,null,null,null,null,null,null,null,null,null,null,null,null,null,null,null,null,null,null,null,null,null,null,null,null,null,null,null,null,null,null,null,null,null,null,null,null,null,null,null,null,null,null,null,null,null,null,null,null,null,null,null,null,null,null,null,null,null,null,null,null,null,null,null,null,null,null,null,null,null,null,null,null,null,null,null,null,null,null,null,null,null,null,null,null,null,null,null,null,null,null,null,null,null,null,null,null,null,null,null,null,null,null,null,null,null,null,null,null,null,null,null,null,null,{"$f":"'View Records'!AF128","v":""},{"$f":"'View Records'!AG128","v":""},{"$f":"'View Records'!AH128","v":""},{"$f":"'View Records'!AI128","v":""},{"$f":"'View Records'!AJ128","v":""},{"$f":"'View Records'!AK128","v":""},{"$f":"'View Records'!AL128","v":""},{"$f":"'View Records'!AM128","v":""},{"$f":"'View Records'!AN128","v":""},{"$f":"'View Records'!AO128","v":""},{"$f":"'View Records'!AP128","v":""},{"$f":"'View Records'!AQ128","v":""}]
[{"$f":"Checklist!AF134","v":""},{"$f":"Checklist!AG134","v":""},{"$f":"Checklist!AH134","v":""},{"$f":"Checklist!AI134","v":""},{"$f":"Checklist!AJ134","v":""},{"$f":"Checklist!AK134","v":""},{"$f":"Checklist!AL134","v":""},{"$f":"Checklist!AM134","v":""},{"$f":"Checklist!AN134","v":""},{"$f":"Checklist!AO134","v":""},{"$f":"Checklist!AP134","v":""},{"$f":"Checklist!AQ134","v":""},"","","","",124,"","","","","","","","","","","","","","Block","","","","","","","","","","","","",null,null,null,null,null,null,null,null,null,null,null,null,null,null,null,null,null,null,null,null,null,null,null,null,null,null,null,null,null,null,null,null,null,null,null,null,null,null,null,null,null,null,null,null,null,null,null,null,null,null,null,null,null,null,null,null,null,null,null,null,null,null,null,null,null,null,null,null,null,null,null,null,null,null,null,null,null,null,null,null,null,null,null,null,null,null,null,null,null,null,null,null,null,null,null,null,null,null,null,null,null,null,null,null,null,null,null,null,null,null,null,null,null,null,null,null,null,null,null,null,null,null,null,null,null,null,null,null,null,null,null,null,null,null,null,null,null,null,null,null,null,null,null,null,null,null,null,null,null,null,null,null,null,null,null,null,null,null,null,null,null,null,null,null,null,{"$f":"'View Records'!AF129","v":""},{"$f":"'View Records'!AG129","v":""},{"$f":"'View Records'!AH129","v":""},{"$f":"'View Records'!AI129","v":""},{"$f":"'View Records'!AJ129","v":""},{"$f":"'View Records'!AK129","v":""},{"$f":"'View Records'!AL129","v":""},{"$f":"'View Records'!AM129","v":""},{"$f":"'View Records'!AN129","v":""},{"$f":"'View Records'!AO129","v":""},{"$f":"'View Records'!AP129","v":""},{"$f":"'View Records'!AQ129","v":""}]
[{"$f":"Checklist!AF136","v":""},{"$f":"Checklist!AG136","v":""},{"$f":"Checklist!AH136","v":""},{"$f":"Checklist!AI136","v":""},{"$f":"Checklist!AJ136","v":""},{"$f":"Checklist!AK136","v":""},{"$f":"Checklist!AL136","v":""},{"$f":"Checklist!AM136","v":""},{"$f":"Checklist!AN136","v":""},{"$f":"Checklist!AO136","v":""},{"$f":"Checklist!AP136","v":""},{"$f":"Checklist!AQ136","v":""},"","","","",126,"","","","","","","","","","","","","","Block","","","","","","","","","","","","",null,null,null,null,null,null,null,null,null,null,null,null,null,null,null,null,null,null,null,null,null,null,null,null,null,null,null,null,null,null,null,null,null,null,null,null,null,null,null,null,null,null,null,null,null,null,null,null,null,null,null,null,null,null,null,null,null,null,null,null,null,null,null,null,null,null,null,null,null,null,null,null,null,null,null,null,null,null,null,null,null,null,null,null,null,null,null,null,null,null,null,null,null,null,null,null,null,null,null,null,null,null,null,null,null,null,null,null,null,null,null,null,null,null,null,null,null,null,null,null,null,null,null,null,null,null,null,null,null,null,null,null,null,null,null,null,null,null,null,null,null,null,null,null,null,null,null,null,null,null,null,null,null,null,null,null,null,null,null,null,null,null,null,null,null,{"$f":"'View Records'!AF131","v":""},{"$f":"'View Records'!AG131","v":""},{"$f":"'View Records'!AH131","v":""},{"$f":"'View Records'!AI131","v":""},{"$f":"'View Records'!AJ131","v":""},{"$f":"'View Records'!AK131","v":""},{"$f":"'View Records'!AL131","v":""},{"$f":"'View Records'!AM131","v":""},{"$f":"'View Records'!AN131","v":""},{"$f":"'View Records'!AO131","v":""},{"$f":"'View Records'!AP131","v":""},{"$f":"'View Records'!AQ131","v":""}]
[{"$f":"Checklist!AF145","v":""},{"$f":"Checklist!AG145","v":""},{"$f":"Checklist!AH145","v":""},{"$f":"Checklist!AI145","v":""},{"$f":"Checklist!AJ145","v":""},{"$f":"Checklist!AK145","v":""},{"$f":"Checklist!AL145","v":""},{"$f":"Checklist!AM145","v":""},{"$f":"Checklist!AN145","v":""},{"$f":"Checklist!AO145","v":""},{"$f":"Checklist!AP145","v":""},{"$f":"Checklist!AQ145","v":""},"","","","",135,"","","","","","","","","","","","","","Block","","","","","","","","","","","","",null,null,null,null,null,null,null,null,null,null,null,null,null,null,null,null,null,null,null,null,null,null,null,null,null,null,null,null,null,null,null,null,null,null,null,null,null,null,null,null,null,null,null,null,null,null,null,null,null,null,null,null,null,null,null,null,null,null,null,null,null,null,null,null,null,null,null,null,null,null,null,null,null,null,null,null,null,null,null,null,null,null,null,null,null,null,null,null,null,null,null,null,null,null,null,null,null,null,null,null,null,null,null,null,null,null,null,null,null,null,null,null,null,null,null,null,null,null,null,null,null,null,null,null,null,null,null,null,null,null,null,null,null,null,null,null,null,null,null,null,null,null,null,null,null,null,null,null,null,null,null,null,null,null,null,null,null,null,null,null,null,null,null,null,null,{"$f":"'View Records'!AF140","v":""},{"$f":"'View Records'!AG140","v":""},{"$f":"'View Records'!AH140","v":""},{"$f":"'View Records'!AI140","v":""},{"$f":"'View Records'!AJ140","v":""},{"$f":"'View Records'!AK140","v":""},{"$f":"'View Records'!AL140","v":""},{"$f":"'View Records'!AM140","v":""},{"$f":"'View Records'!AN140","v":""},{"$f":"'View Records'!AO140","v":""},{"$f":"'View Records'!AP140","v":""},{"$f":"'View Records'!AQ140","v":""}]
[{"$f":"Checklist!AF158","v":""},{"$f":"Checklist!AG158","v":""},{"$f":"Checklist!AH158","v":""},{"$f":"Checklist!AI158","v":""},{"$f":"Checklist!AJ158","v":""},{"$f":"Checklist!AK158","v":""},{"$f":"Checklist!AL158","v":""},{"$f":"Checklist!AM158","v":""},{"$f":"Checklist!AN158","v":""},{"$f":"Checklist!AO158","v":""},{"$f":"Checklist!AP158","v":""},{"$f":"Checklist!AQ158","v":""},"","","","",148,"","","","","","","","","","","","","","Block","","","","","","","","","","","","",null,null,null,null,null,null,null,null,null,null,null,null,null,null,null,null,null,null,null,null,null,null,null,null,null,null,null,null,null,null,null,null,null,null,null,null,null,null,null,null,null,null,null,null,null,null,null,null,null,null,null,null,null,null,null,null,null,null,null,null,null,null,null,null,null,null,null,null,null,null,null,null,null,null,null,null,null,null,null,null,null,null,null,null,null,null,null,null,null,null,null,null,null,null,null,null,null,null,null,null,null,null,null,null,null,null,null,null,null,null,null,null,null,null,null,null,null,null,null,null,null,null,null,null,null,null,null,null,null,null,null,null,null,null,null,null,null,null,null,null,null,null,null,null,null,null,null,null,null,null,null,null,null,null,null,null,null,null,null,null,null,null,null,null,null,{"$f":"'View Records'!AF153","v":""},{"$f":"'View Records'!AG153","v":""},{"$f":"'View Records'!AH153","v":""},{"$f":"'View Records'!AI153","v":""},{"$f":"'View Records'!AJ153","v":""},{"$f":"'View Records'!AK153","v":""},{"$f":"'View Records'!AL153","v":""},{"$f":"'View Records'!AM153","v":""},{"$f":"'View Records'!AN153","v":""},{"$f":"'View Records'!AO153","v":""},{"$f":"'View Records'!AP153","v":""},{"$f":"'View Records'!AQ153","v":""}]
[{"$f":"Checklist!AF164","v":""},{"$f":"Checklist!AG164","v":""},{"$f":"Checklist!AH164","v":""},{"$f":"Checklist!AI164","v":""},{"$f":"Checklist!AJ164","v":""},{"$f":"Checklist!AK164","v":""},{"$f":"Checklist!AL164","v":""},{"$f":"Checklist!AM164","v":""},{"$f":"Checklist!AN164","v":""},{"$f":"Checklist!AO164","v":""},{"$f":"Checklist!AP164","v":""},{"$f":"Checklist!AQ164","v":""},"","","","",154,"","","","","","","","","","","","","","Block","","","","","","","","","","","","",null,null,null,null,null,null,null,null,null,null,null,null,null,null,null,null,null,null,null,null,null,null,null,null,null,null,null,null,null,null,null,null,null,null,null,null,null,null,null,null,null,null,null,null,null,null,null,null,null,null,null,null,null,null,null,null,null,null,null,null,null,null,null,null,null,null,null,null,null,null,null,null,null,null,null,null,null,null,null,null,null,null,null,null,null,null,null,null,null,null,null,null,null,null,null,null,null,null,null,null,null,null,null,null,null,null,null,null,null,null,null,null,null,null,null,null,null,null,null,null,null,null,null,null,null,null,null,null,null,null,null,null,null,null,null,null,null,null,null,null,null,null,null,null,null,null,null,null,null,null,null,null,null,null,null,null,null,null,null,null,null,null,null,null,null,{"$f":"'View Records'!AF159","v":""},{"$f":"'View Records'!AG159","v":""},{"$f":"'View Records'!AH159","v":""},{"$f":"'View Records'!AI159","v":""},{"$f":"'View Records'!AJ159","v":""},{"$f":"'View Records'!AK159","v":""},{"$f":"'View Records'!AL159","v":""},{"$f":"'View Records'!AM159","v":""},{"$f":"'View Records'!AN159","v":""},{"$f":"'View Records'!AO159","v":""},{"$f":"'View Records'!AP159","v":""},{"$f":"'View Records'!AQ159","v":""}]
[{"$f":"Checklist!AF173","v":""},{"$f":"Checklist!AG173","v":""},{"$f":"Checklist!AH173","v":""},{"$f":"Checklist!AI173","v":""},{"$f":"Checklist!AJ173","v":""},{"$f":"Checklist!AK173","v":""},{"$f":"Checklist!AL173","v":""},{"$f":"Checklist!AM173","v":""},{"$f":"Checklist!AN173","v":""},{"$f":"Checklist!AO173","v":""},{"$f":"Checklist!AP173","v":""},{"$f":"Checklist!AQ173","v":""},"","","","",163,"","","","","","","","","","","","","","Block","","","","","","","","","","","","",null,null,null,null,null,null,null,null,null,null,null,null,null,null,null,null,null,null,null,null,null,null,null,null,null,null,null,null,null,null,null,null,null,null,null,null,null,null,null,null,null,null,null,null,null,null,null,null,null,null,null,null,null,null,null,null,null,null,null,null,null,null,null,null,null,null,null,null,null,null,null,null,null,null,null,null,null,null,null,null,null,null,null,null,null,null,null,null,null,null,null,null,null,null,null,null,null,null,null,null,null,null,null,null,null,null,null,null,null,null,null,null,null,null,null,null,null,null,null,null,null,null,null,null,null,null,null,null,null,null,null,null,null,null,null,null,null,null,null,null,null,null,null,null,null,null,null,null,null,null,null,null,null,null,null,null,null,null,null,null,null,null,null,null,null,{"$f":"'View Records'!AF168","v":""},{"$f":"'View Records'!AG168","v":""},{"$f":"'View Records'!AH168","v":""},{"$f":"'View Records'!AI168","v":""},{"$f":"'View Records'!AJ168","v":""},{"$f":"'View Records'!AK168","v":""},{"$f":"'View Records'!AL168","v":""},{"$f":"'View Records'!AM168","v":""},{"$f":"'View Records'!AN168","v":""},{"$f":"'View Records'!AO168","v":""},{"$f":"'View Records'!AP168","v":""},{"$f":"'View Records'!AQ168","v":""}]
[{"$f":"Checklist!AF178","v":""},{"$f":"Checklist!AG178","v":""},{"$f":"Checklist!AH178","v":""},{"$f":"Checklist!AI178","v":""},{"$f":"Checklist!AJ178","v":""},{"$f":"Checklist!AK178","v":""},{"$f":"Checklist!AL178","v":""},{"$f":"Checklist!AM178","v":""},{"$f":"Checklist!AN178","v":""},{"$f":"Checklist!AO178","v":""},{"$f":"Checklist!AP178","v":""},{"$f":"Checklist!AQ178","v":""},"","","","",168,"","","","","","","","","","","","","","Block","","","","","","","","","","","","",null,null,null,null,null,null,null,null,null,null,null,null,null,null,null,null,null,null,null,null,null,null,null,null,null,null,null,null,null,null,null,null,null,null,null,null,null,null,null,null,null,null,null,null,null,null,null,null,null,null,null,null,null,null,null,null,null,null,null,null,null,null,null,null,null,null,null,null,null,null,null,null,null,null,null,null,null,null,null,null,null,null,null,null,null,null,null,null,null,null,null,null,null,null,null,null,null,null,null,null,null,null,null,null,null,null,null,null,null,null,null,null,null,null,null,null,null,null,null,null,null,null,null,null,null,null,null,null,null,null,null,null,null,null,null,null,null,null,null,null,null,null,null,null,null,null,null,null,null,null,null,null,null,null,null,null,null,null,null,null,null,null,null,null,null,{"$f":"'View Records'!AF173","v":""},{"$f":"'View Records'!AG173","v":""},{"$f":"'View Records'!AH173","v":""},{"$f":"'View Records'!AI173","v":""},{"$f":"'View Records'!AJ173","v":""},{"$f":"'View Records'!AK173","v":""},{"$f":"'View Records'!AL173","v":""},{"$f":"'View Records'!AM173","v":""},{"$f":"'View Records'!AN173","v":""},{"$f":"'View Records'!AO173","v":""},{"$f":"'View Records'!AP173","v":""},{"$f":"'View Records'!AQ173","v":""}]
[{"$f":"Checklist!AF192","v":""},{"$f":"Checklist!AG192","v":""},{"$f":"Checklist!AH192","v":""},{"$f":"Checklist!AI192","v":""},{"$f":"Checklist!AJ192","v":""},{"$f":"Checklist!AK192","v":""},{"$f":"Checklist!AL192","v":""},{"$f":"Checklist!AM192","v":""},{"$f":"Checklist!AN192","v":""},{"$f":"Checklist!AO192","v":""},{"$f":"Checklist!AP192","v":""},{"$f":"Checklist!AQ192","v":""},"","","","",182,"","","","","","","","","","","","","","Block","","","","","","","","","","","","",null,null,null,null,null,null,null,null,null,null,null,null,null,null,null,null,null,null,null,null,null,null,null,null,null,null,null,null,null,null,null,null,null,null,null,null,null,null,null,null,null,null,null,null,null,null,null,null,null,null,null,null,null,null,null,null,null,null,null,null,null,null,null,null,null,null,null,null,null,null,null,null,null,null,null,null,null,null,null,null,null,null,null,null,null,null,null,null,null,null,null,null,null,null,null,null,null,null,null,null,null,null,null,null,null,null,null,null,null,null,null,null,null,null,null,null,null,null,null,null,null,null,null,null,null,null,null,null,null,null,null,null,null,null,null,null,null,null,null,null,null,null,null,null,null,null,null,null,null,null,null,null,null,null,null,null,null,null,null,null,null,null,null,null,null,{"$f":"'View Records'!AF187","v":""},{"$f":"'View Records'!AG187","v":""},{"$f":"'View Records'!AH187","v":""},{"$f":"'View Records'!AI187","v":""},{"$f":"'View Records'!AJ187","v":""},{"$f":"'View Records'!AK187","v":""},{"$f":"'View Records'!AL187","v":""},{"$f":"'View Records'!AM187","v":""},{"$f":"'View Records'!AN187","v":""},{"$f":"'View Records'!AO187","v":""},{"$f":"'View Records'!AP187","v":""},{"$f":"'View Records'!AQ187","v":""}]
[{"$f":"Checklist!AF193","v":""},{"$f":"Checklist!AG193","v":""},{"$f":"Checklist!AH193","v":""},{"$f":"Checklist!AI193","v":""},{"$f":"Checklist!AJ193","v":""},{"$f":"Checklist!AK193","v":""},{"$f":"Checklist!AL193","v":""},{"$f":"Checklist!AM193","v":""},{"$f":"Checklist!AN193","v":""},{"$f":"Checklist!AO193","v":""},{"$f":"Checklist!AP193","v":""},{"$f":"Checklist!AQ193","v":""},"","","","",183,"","","","","","","","","","","","","","Block","","","","","","","","","","","","",null,null,null,null,null,null,null,null,null,null,null,null,null,null,null,null,null,null,null,null,null,null,null,null,null,null,null,null,null,null,null,null,null,null,null,null,null,null,null,null,null,null,null,null,null,null,null,null,null,null,null,null,null,null,null,null,null,null,null,null,null,null,null,null,null,null,null,null,null,null,null,null,null,null,null,null,null,null,null,null,null,null,null,null,null,null,null,null,null,null,null,null,null,null,null,null,null,null,null,null,null,null,null,null,null,null,null,null,null,null,null,null,null,null,null,null,null,null,null,null,null,null,null,null,null,null,null,null,null,null,null,null,null,null,null,null,null,null,null,null,null,null,null,null,null,null,null,null,null,null,null,null,null,null,null,null,null,null,null,null,null,null,null,null,null,{"$f":"'View Records'!AF188","v":""},{"$f":"'View Records'!AG188","v":""},{"$f":"'View Records'!AH188","v":""},{"$f":"'View Records'!AI188","v":""},{"$f":"'View Records'!AJ188","v":""},{"$f":"'View Records'!AK188","v":""},{"$f":"'View Records'!AL188","v":""},{"$f":"'View Records'!AM188","v":""},{"$f":"'View Records'!AN188","v":""},{"$f":"'View Records'!AO188","v":""},{"$f":"'View Records'!AP188","v":""},{"$f":"'View Records'!AQ188","v":""}]
[{"$f":"Checklist!AF202","v":""},{"$f":"Checklist!AG202","v":""},{"$f":"Checklist!AH202","v":""},{"$f":"Checklist!AI202","v":""},{"$f":"Checklist!AJ202","v":""},{"$f":"Checklist!AK202","v":""},{"$f":"Checklist!AL202","v":""},{"$f":"Checklist!AM202","v":""},{"$f":"Checklist!AN202","v":""},{"$f":"Checklist!AO202","v":""},{"$f":"Checklist!AP202","v":""},{"$f":"Checklist!AQ202","v":""},"","","","",192,"","","","","","","","","","","","","","Block","","","","","","","","","","","","",null,null,null,null,null,null,null,null,null,null,null,null,null,null,null,null,null,null,null,null,null,null,null,null,null,null,null,null,null,null,null,null,null,null,null,null,null,null,null,null,null,null,null,null,null,null,null,null,null,null,null,null,null,null,null,null,null,null,null,null,null,null,null,null,null,null,null,null,null,null,null,null,null,null,null,null,null,null,null,null,null,null,null,null,null,null,null,null,null,null,null,null,null,null,null,null,null,null,null,null,null,null,null,null,null,null,null,null,null,null,null,null,null,null,null,null,null,null,null,null,null,null,null,null,null,null,null,null,null,null,null,null,null,null,null,null,null,null,null,null,null,null,null,null,null,null,null,null,null,null,null,null,null,null,null,null,null,null,null,null,null,null,null,null,null,{"$f":"'View Records'!AF197","v":""},{"$f":"'View Records'!AG197","v":""},{"$f":"'View Records'!AH197","v":""},{"$f":"'View Records'!AI197","v":""},{"$f":"'View Records'!AJ197","v":""},{"$f":"'View Records'!AK197","v":""},{"$f":"'View Records'!AL197","v":""},{"$f":"'View Records'!AM197","v":""},{"$f":"'View Records'!AN197","v":""},{"$f":"'View Records'!AO197","v":""},{"$f":"'View Records'!AP197","v":""},{"$f":"'View Records'!AQ197","v":""}]
[{"$f":"Checklist!AF212","v":""},{"$f":"Checklist!AG212","v":""},{"$f":"Checklist!AH212","v":""},{"$f":"Checklist!AI212","v":""},{"$f":"Checklist!AJ212","v":""},{"$f":"Checklist!AK212","v":""},{"$f":"Checklist!AL212","v":""},{"$f":"Checklist!AM212","v":""},{"$f":"Checklist!AN212","v":""},{"$f":"Checklist!AO212","v":""},{"$f":"Checklist!AP212","v":""},{"$f":"Checklist!AQ212","v":""},"","","","",202,"","","","","","","","","","","","","","Block","","","","","","","","","","","","",null,null,null,null,null,null,null,null,null,null,null,null,null,null,null,null,null,null,null,null,null,null,null,null,null,null,null,null,null,null,null,null,null,null,null,null,null,null,null,null,null,null,null,null,null,null,null,null,null,null,null,null,null,null,null,null,null,null,null,null,null,null,null,null,null,null,null,null,null,null,null,null,null,null,null,null,null,null,null,null,null,null,null,null,null,null,null,null,null,null,null,null,null,null,null,null,null,null,null,null,null,null,null,null,null,null,null,null,null,null,null,null,null,null,null,null,null,null,null,null,null,null,null,null,null,null,null,null,null,null,null,null,null,null,null,null,null,null,null,null,null,null,null,null,null,null,null,null,null,null,null,null,null,null,null,null,null,null,null,null,null,null,null,null,null,{"$f":"'View Records'!AF207","v":""},{"$f":"'View Records'!AG207","v":""},{"$f":"'View Records'!AH207","v":""},{"$f":"'View Records'!AI207","v":""},{"$f":"'View Records'!AJ207","v":""},{"$f":"'View Records'!AK207","v":""},{"$f":"'View Records'!AL207","v":""},{"$f":"'View Records'!AM207","v":""},{"$f":"'View Records'!AN207","v":""},{"$f":"'View Records'!AO207","v":""},{"$f":"'View Records'!AP207","v":""},{"$f":"'View Records'!AQ207","v":""}]
[{"$f":"Checklist!AF221","v":""},{"$f":"Checklist!AG221","v":""},{"$f":"Checklist!AH221","v":""},{"$f":"Checklist!AI221","v":""},{"$f":"Checklist!AJ221","v":""},{"$f":"Checklist!AK221","v":""},{"$f":"Checklist!AL221","v":""},{"$f":"Checklist!AM221","v":""},{"$f":"Checklist!AN221","v":""},{"$f":"Checklist!AO221","v":""},{"$f":"Checklist!AP221","v":""},{"$f":"Checklist!AQ221","v":""},"","","","",211,"","","","","","","","","","","","","","Block","","","","","","","","","","","","",null,null,null,null,null,null,null,null,null,null,null,null,null,null,null,null,null,null,null,null,null,null,null,null,null,null,null,null,null,null,null,null,null,null,null,null,null,null,null,null,null,null,null,null,null,null,null,null,null,null,null,null,null,null,null,null,null,null,null,null,null,null,null,null,null,null,null,null,null,null,null,null,null,null,null,null,null,null,null,null,null,null,null,null,null,null,null,null,null,null,null,null,null,null,null,null,null,null,null,null,null,null,null,null,null,null,null,null,null,null,null,null,null,null,null,null,null,null,null,null,null,null,null,null,null,null,null,null,null,null,null,null,null,null,null,null,null,null,null,null,null,null,null,null,null,null,null,null,null,null,null,null,null,null,null,null,null,null,null,null,null,null,null,null,null,{"$f":"'View Records'!AF216","v":""},{"$f":"'View Records'!AG216","v":""},{"$f":"'View Records'!AH216","v":""},{"$f":"'View Records'!AI216","v":""},{"$f":"'View Records'!AJ216","v":""},{"$f":"'View Records'!AK216","v":""},{"$f":"'View Records'!AL216","v":""},{"$f":"'View Records'!AM216","v":""},{"$f":"'View Records'!AN216","v":""},{"$f":"'View Records'!AO216","v":""},{"$f":"'View Records'!AP216","v":""},{"$f":"'View Records'!AQ216","v":""}]
[{"$f":"Checklist!AF231","v":""},{"$f":"Checklist!AG231","v":""},{"$f":"Checklist!AH231","v":""},{"$f":"Checklist!AI231","v":""},{"$f":"Checklist!AJ231","v":""},{"$f":"Checklist!AK231","v":""},{"$f":"Checklist!AL231","v":""},{"$f":"Checklist!AM231","v":""},{"$f":"Checklist!AN231","v":""},{"$f":"Checklist!AO231","v":""},{"$f":"Checklist!AP231","v":""},{"$f":"Checklist!AQ231","v":""},"","","","",221,"","","","","","","","","","","","","","Block","","","","","","","","","","","","",null,null,null,null,null,null,null,null,null,null,null,null,null,null,null,null,null,null,null,null,null,null,null,null,null,null,null,null,null,null,null,null,null,null,null,null,null,null,null,null,null,null,null,null,null,null,null,null,null,null,null,null,null,null,null,null,null,null,null,null,null,null,null,null,null,null,null,null,null,null,null,null,null,null,null,null,null,null,null,null,null,null,null,null,null,null,null,null,null,null,null,null,null,null,null,null,null,null,null,null,null,null,null,null,null,null,null,null,null,null,null,null,null,null,null,null,null,null,null,null,null,null,null,null,null,null,null,null,null,null,null,null,null,null,null,null,null,null,null,null,null,null,null,null,null,null,null,null,null,null,null,null,null,null,null,null,null,null,null,null,null,null,null,null,null,{"$f":"'View Records'!AF226","v":""},{"$f":"'View Records'!AG226","v":""},{"$f":"'View Records'!AH226","v":""},{"$f":"'View Records'!AI226","v":""},{"$f":"'View Records'!AJ226","v":""},{"$f":"'View Records'!AK226","v":""},{"$f":"'View Records'!AL226","v":""},{"$f":"'View Records'!AM226","v":""},{"$f":"'View Records'!AN226","v":""},{"$f":"'View Records'!AO226","v":""},{"$f":"'View Records'!AP226","v":""},{"$f":"'View Records'!AQ226","v":""}]
[{"$f":"Checklist!AF240","v":""},{"$f":"Checklist!AG240","v":""},{"$f":"Checklist!AH240","v":""},{"$f":"Checklist!AI240","v":""},{"$f":"Checklist!AJ240","v":""},{"$f":"Checklist!AK240","v":""},{"$f":"Checklist!AL240","v":""},{"$f":"Checklist!AM240","v":""},{"$f":"Checklist!AN240","v":""},{"$f":"Checklist!AO240","v":""},{"$f":"Checklist!AP240","v":""},{"$f":"Checklist!AQ240","v":""},"","","","",230,"","","","","","","","","","","","","","Block","","","","","","","","","","","","",null,null,null,null,null,null,null,null,null,null,null,null,null,null,null,null,null,null,null,null,null,null,null,null,null,null,null,null,null,null,null,null,null,null,null,null,null,null,null,null,null,null,null,null,null,null,null,null,null,null,null,null,null,null,null,null,null,null,null,null,null,null,null,null,null,null,null,null,null,null,null,null,null,null,null,null,null,null,null,null,null,null,null,null,null,null,null,null,null,null,null,null,null,null,null,null,null,null,null,null,null,null,null,null,null,null,null,null,null,null,null,null,null,null,null,null,null,null,null,null,null,null,null,null,null,null,null,null,null,null,null,null,null,null,null,null,null,null,null,null,null,null,null,null,null,null,null,null,null,null,null,null,null,null,null,null,null,null,null,null,null,null,null,null,null,{"$f":"'View Records'!AF235","v":""},{"$f":"'View Records'!AG235","v":""},{"$f":"'View Records'!AH235","v":""},{"$f":"'View Records'!AI235","v":""},{"$f":"'View Records'!AJ235","v":""},{"$f":"'View Records'!AK235","v":""},{"$f":"'View Records'!AL235","v":""},{"$f":"'View Records'!AM235","v":""},{"$f":"'View Records'!AN235","v":""},{"$f":"'View Records'!AO235","v":""},{"$f":"'View Records'!AP235","v":""},{"$f":"'View Records'!AQ235","v":""}]
[{"$f":"Checklist!AF245","v":""},{"$f":"Checklist!AG245","v":""},{"$f":"Checklist!AH245","v":""},{"$f":"Checklist!AI245","v":""},{"$f":"Checklist!AJ245","v":""},{"$f":"Checklist!AK245","v":""},{"$f":"Checklist!AL245","v":""},{"$f":"Checklist!AM245","v":""},{"$f":"Checklist!AN245","v":""},{"$f":"Checklist!AO245","v":""},{"$f":"Checklist!AP245","v":""},{"$f":"Checklist!AQ245","v":""},"","","","",235,"","","","","","","","","","","","","","Block","","","","","","","","","","","","",null,null,null,null,null,null,null,null,null,null,null,null,null,null,null,null,null,null,null,null,null,null,null,null,null,null,null,null,null,null,null,null,null,null,null,null,null,null,null,null,null,null,null,null,null,null,null,null,null,null,null,null,null,null,null,null,null,null,null,null,null,null,null,null,null,null,null,null,null,null,null,null,null,null,null,null,null,null,null,null,null,null,null,null,null,null,null,null,null,null,null,null,null,null,null,null,null,null,null,null,null,null,null,null,null,null,null,null,null,null,null,null,null,null,null,null,null,null,null,null,null,null,null,null,null,null,null,null,null,null,null,null,null,null,null,null,null,null,null,null,null,null,null,null,null,null,null,null,null,null,null,null,null,null,null,null,null,null,null,null,null,null,null,null,null,{"$f":"'View Records'!AF240","v":""},{"$f":"'View Records'!AG240","v":""},{"$f":"'View Records'!AH240","v":""},{"$f":"'View Records'!AI240","v":""},{"$f":"'View Records'!AJ240","v":""},{"$f":"'View Records'!AK240","v":""},{"$f":"'View Records'!AL240","v":""},{"$f":"'View Records'!AM240","v":""},{"$f":"'View Records'!AN240","v":""},{"$f":"'View Records'!AO240","v":""},{"$f":"'View Records'!AP240","v":""},{"$f":"'View Records'!AQ240","v":""}]
[{"$f":"Checklist!AF259","v":""},{"$f":"Checklist!AG259","v":""},{"$f":"Checklist!AH259","v":""},{"$f":"Checklist!AI259","v":""},{"$f":"Checklist!AJ259","v":""},{"$f":"Checklist!AK259","v":""},{"$f":"Checklist!AL259","v":""},{"$f":"Checklist!AM259","v":""},{"$f":"Checklist!AN259","v":""},{"$f":"Checklist!AO259","v":""},{"$f":"Checklist!AP259","v":""},{"$f":"Checklist!AQ259","v":""},"","","","",249,"","","","","","","","","","","","","","Block","","","","","","","","","","","","",null,null,null,null,null,null,null,null,null,null,null,null,null,null,null,null,null,null,null,null,null,null,null,null,null,null,null,null,null,null,null,null,null,null,null,null,null,null,null,null,null,null,null,null,null,null,null,null,null,null,null,null,null,null,null,null,null,null,null,null,null,null,null,null,null,null,null,null,null,null,null,null,null,null,null,null,null,null,null,null,null,null,null,null,null,null,null,null,null,null,null,null,null,null,null,null,null,null,null,null,null,null,null,null,null,null,null,null,null,null,null,null,null,null,null,null,null,null,null,null,null,null,null,null,null,null,null,null,null,null,null,null,null,null,null,null,null,null,null,null,null,null,null,null,null,null,null,null,null,null,null,null,null,null,null,null,null,null,null,null,null,null,null,null,null,{"$f":"'View Records'!AF254","v":""},{"$f":"'View Records'!AG254","v":""},{"$f":"'View Records'!AH254","v":""},{"$f":"'View Records'!AI254","v":""},{"$f":"'View Records'!AJ254","v":""},{"$f":"'View Records'!AK254","v":""},{"$f":"'View Records'!AL254","v":""},{"$f":"'View Records'!AM254","v":""},{"$f":"'View Records'!AN254","v":""},{"$f":"'View Records'!AO254","v":""},{"$f":"'View Records'!AP254","v":""},{"$f":"'View Records'!AQ254","v":""}]
[{"$f":"Checklist!AF260","v":""},{"$f":"Checklist!AG260","v":""},{"$f":"Checklist!AH260","v":""},{"$f":"Checklist!AI260","v":""},{"$f":"Checklist!AJ260","v":""},{"$f":"Checklist!AK260","v":""},{"$f":"Checklist!AL260","v":""},{"$f":"Checklist!AM260","v":""},{"$f":"Checklist!AN260","v":""},{"$f":"Checklist!AO260","v":""},{"$f":"Checklist!AP260","v":""},{"$f":"Checklist!AQ260","v":""},"","","","",250,"","","","","","","","","","","","","","Block","","","","","","","","","","","","",null,null,null,null,null,null,null,null,null,null,null,null,null,null,null,null,null,null,null,null,null,null,null,null,null,null,null,null,null,null,null,null,null,null,null,null,null,null,null,null,null,null,null,null,null,null,null,null,null,null,null,null,null,null,null,null,null,null,null,null,null,null,null,null,null,null,null,null,null,null,null,null,null,null,null,null,null,null,null,null,null,null,null,null,null,null,null,null,null,null,null,null,null,null,null,null,null,null,null,null,null,null,null,null,null,null,null,null,null,null,null,null,null,null,null,null,null,null,null,null,null,null,null,null,null,null,null,null,null,null,null,null,null,null,null,null,null,null,null,null,null,null,null,null,null,null,null,null,null,null,null,null,null,null,null,null,null,null,null,null,null,null,null,null,null,{"$f":"'View Records'!AF255","v":""},{"$f":"'View Records'!AG255","v":""},{"$f":"'View Records'!AH255","v":""},{"$f":"'View Records'!AI255","v":""},{"$f":"'View Records'!AJ255","v":""},{"$f":"'View Records'!AK255","v":""},{"$f":"'View Records'!AL255","v":""},{"$f":"'View Records'!AM255","v":""},{"$f":"'View Records'!AN255","v":""},{"$f":"'View Records'!AO255","v":""},{"$f":"'View Records'!AP255","v":""},{"$f":"'View Records'!AQ255","v":""}]
[{"$f":"Checklist!AF269","v":""},{"$f":"Checklist!AG269","v":""},{"$f":"Checklist!AH269","v":""},{"$f":"Checklist!AI269","v":""},{"$f":"Checklist!AJ269","v":""},{"$f":"Checklist!AK269","v":""},{"$f":"Checklist!AL269","v":""},{"$f":"Checklist!AM269","v":""},{"$f":"Checklist!AN269","v":""},{"$f":"Checklist!AO269","v":""},{"$f":"Checklist!AP269","v":""},{"$f":"Checklist!AQ269","v":""},"","","","",259,"","","","","","","","","","","","","","Block","","","","","","","","","","","","",null,null,null,null,null,null,null,null,null,null,null,null,null,null,null,null,null,null,null,null,null,null,null,null,null,null,null,null,null,null,null,null,null,null,null,null,null,null,null,null,null,null,null,null,null,null,null,null,null,null,null,null,null,null,null,null,null,null,null,null,null,null,null,null,null,null,null,null,null,null,null,null,null,null,null,null,null,null,null,null,null,null,null,null,null,null,null,null,null,null,null,null,null,null,null,null,null,null,null,null,null,null,null,null,null,null,null,null,null,null,null,null,null,null,null,null,null,null,null,null,null,null,null,null,null,null,null,null,null,null,null,null,null,null,null,null,null,null,null,null,null,null,null,null,null,null,null,null,null,null,null,null,null,null,null,null,null,null,null,null,null,null,null,null,null,{"$f":"'View Records'!AF264","v":""},{"$f":"'View Records'!AG264","v":""},{"$f":"'View Records'!AH264","v":""},{"$f":"'View Records'!AI264","v":""},{"$f":"'View Records'!AJ264","v":""},{"$f":"'View Records'!AK264","v":""},{"$f":"'View Records'!AL264","v":""},{"$f":"'View Records'!AM264","v":""},{"$f":"'View Records'!AN264","v":""},{"$f":"'View Records'!AO264","v":""},{"$f":"'View Records'!AP264","v":""},{"$f":"'View Records'!AQ264","v":""}]
[{"$f":"Checklist!AF279","v":""},{"$f":"Checklist!AG279","v":""},{"$f":"Checklist!AH279","v":""},{"$f":"Checklist!AI279","v":""},{"$f":"Checklist!AJ279","v":""},{"$f":"Checklist!AK279","v":""},{"$f":"Checklist!AL279","v":""},{"$f":"Checklist!AM279","v":""},{"$f":"Checklist!AN279","v":""},{"$f":"Checklist!AO279","v":""},{"$f":"Checklist!AP279","v":""},{"$f":"Checklist!AQ279","v":""},"","","","",269,"","","","","","","","","","","","","","Block","","","","","","","","","","","","",null,null,null,null,null,null,null,null,null,null,null,null,null,null,null,null,null,null,null,null,null,null,null,null,null,null,null,null,null,null,null,null,null,null,null,null,null,null,null,null,null,null,null,null,null,null,null,null,null,null,null,null,null,null,null,null,null,null,null,null,null,null,null,null,null,null,null,null,null,null,null,null,null,null,null,null,null,null,null,null,null,null,null,null,null,null,null,null,null,null,null,null,null,null,null,null,null,null,null,null,null,null,null,null,null,null,null,null,null,null,null,null,null,null,null,null,null,null,null,null,null,null,null,null,null,null,null,null,null,null,null,null,null,null,null,null,null,null,null,null,null,null,null,null,null,null,null,null,null,null,null,null,null,null,null,null,null,null,null,null,null,null,null,null,null,{"$f":"'View Records'!AF274","v":""},{"$f":"'View Records'!AG274","v":""},{"$f":"'View Records'!AH274","v":""},{"$f":"'View Records'!AI274","v":""},{"$f":"'View Records'!AJ274","v":""},{"$f":"'View Records'!AK274","v":""},{"$f":"'View Records'!AL274","v":""},{"$f":"'View Records'!AM274","v":""},{"$f":"'View Records'!AN274","v":""},{"$f":"'View Records'!AO274","v":""},{"$f":"'View Records'!AP274","v":""},{"$f":"'View Records'!AQ274","v":""}]
[{"$f":"Checklist!AF288","v":""},{"$f":"Checklist!AG288","v":""},{"$f":"Checklist!AH288","v":""},{"$f":"Checklist!AI288","v":""},{"$f":"Checklist!AJ288","v":""},{"$f":"Checklist!AK288","v":""},{"$f":"Checklist!AL288","v":""},{"$f":"Checklist!AM288","v":""},{"$f":"Checklist!AN288","v":""},{"$f":"Checklist!AO288","v":""},{"$f":"Checklist!AP288","v":""},{"$f":"Checklist!AQ288","v":""},"","","","",278,"","","","","","","","","","","","","","Block","","","","","","","","","","","","",null,null,null,null,null,null,null,null,null,null,null,null,null,null,null,null,null,null,null,null,null,null,null,null,null,null,null,null,null,null,null,null,null,null,null,null,null,null,null,null,null,null,null,null,null,null,null,null,null,null,null,null,null,null,null,null,null,null,null,null,null,null,null,null,null,null,null,null,null,null,null,null,null,null,null,null,null,null,null,null,null,null,null,null,null,null,null,null,null,null,null,null,null,null,null,null,null,null,null,null,null,null,null,null,null,null,null,null,null,null,null,null,null,null,null,null,null,null,null,null,null,null,null,null,null,null,null,null,null,null,null,null,null,null,null,null,null,null,null,null,null,null,null,null,null,null,null,null,null,null,null,null,null,null,null,null,null,null,null,null,null,null,null,null,null,{"$f":"'View Records'!AF283","v":""},{"$f":"'View Records'!AG283","v":""},{"$f":"'View Records'!AH283","v":""},{"$f":"'View Records'!AI283","v":""},{"$f":"'View Records'!AJ283","v":""},{"$f":"'View Records'!AK283","v":""},{"$f":"'View Records'!AL283","v":""},{"$f":"'View Records'!AM283","v":""},{"$f":"'View Records'!AN283","v":""},{"$f":"'View Records'!AO283","v":""},{"$f":"'View Records'!AP283","v":""},{"$f":"'View Records'!AQ283","v":""}]
[{"$f":"Checklist!AF298","v":""},{"$f":"Checklist!AG298","v":""},{"$f":"Checklist!AH298","v":""},{"$f":"Checklist!AI298","v":""},{"$f":"Checklist!AJ298","v":""},{"$f":"Checklist!AK298","v":""},{"$f":"Checklist!AL298","v":""},{"$f":"Checklist!AM298","v":""},{"$f":"Checklist!AN298","v":""},{"$f":"Checklist!AO298","v":""},{"$f":"Checklist!AP298","v":""},{"$f":"Checklist!AQ298","v":""},"","","","",288,"","","","","","","","","","","","","","Block","","","","","","","","","","","","",null,null,null,null,null,null,null,null,null,null,null,null,null,null,null,null,null,null,null,null,null,null,null,null,null,null,null,null,null,null,null,null,null,null,null,null,null,null,null,null,null,null,null,null,null,null,null,null,null,null,null,null,null,null,null,null,null,null,null,null,null,null,null,null,null,null,null,null,null,null,null,null,null,null,null,null,null,null,null,null,null,null,null,null,null,null,null,null,null,null,null,null,null,null,null,null,null,null,null,null,null,null,null,null,null,null,null,null,null,null,null,null,null,null,null,null,null,null,null,null,null,null,null,null,null,null,null,null,null,null,null,null,null,null,null,null,null,null,null,null,null,null,null,null,null,null,null,null,null,null,null,null,null,null,null,null,null,null,null,null,null,null,null,null,null,{"$f":"'View Records'!AF293","v":""},{"$f":"'View Records'!AG293","v":""},{"$f":"'View Records'!AH293","v":""},{"$f":"'View Records'!AI293","v":""},{"$f":"'View Records'!AJ293","v":""},{"$f":"'View Records'!AK293","v":""},{"$f":"'View Records'!AL293","v":""},{"$f":"'View Records'!AM293","v":""},{"$f":"'View Records'!AN293","v":""},{"$f":"'View Records'!AO293","v":""},{"$f":"'View Records'!AP293","v":""},{"$f":"'View Records'!AQ293","v":""}]
[{"$f":"Checklist!AF307","v":""},{"$f":"Checklist!AG307","v":""},{"$f":"Checklist!AH307","v":""},{"$f":"Checklist!AI307","v":""},{"$f":"Checklist!AJ307","v":""},{"$f":"Checklist!AK307","v":""},{"$f":"Checklist!AL307","v":""},{"$f":"Checklist!AM307","v":""},{"$f":"Checklist!AN307","v":""},{"$f":"Checklist!AO307","v":""},{"$f":"Checklist!AP307","v":""},{"$f":"Checklist!AQ307","v":""},"","","","",297,"","","","","","","","","","","","","","Block","","","","","","","","","","","","",null,null,null,null,null,null,null,null,null,null,null,null,null,null,null,null,null,null,null,null,null,null,null,null,null,null,null,null,null,null,null,null,null,null,null,null,null,null,null,null,null,null,null,null,null,null,null,null,null,null,null,null,null,null,null,null,null,null,null,null,null,null,null,null,null,null,null,null,null,null,null,null,null,null,null,null,null,null,null,null,null,null,null,null,null,null,null,null,null,null,null,null,null,null,null,null,null,null,null,null,null,null,null,null,null,null,null,null,null,null,null,null,null,null,null,null,null,null,null,null,null,null,null,null,null,null,null,null,null,null,null,null,null,null,null,null,null,null,null,null,null,null,null,null,null,null,null,null,null,null,null,null,null,null,null,null,null,null,null,null,null,null,null,null,null,{"$f":"'View Records'!AF302","v":""},{"$f":"'View Records'!AG302","v":""},{"$f":"'View Records'!AH302","v":""},{"$f":"'View Records'!AI302","v":""},{"$f":"'View Records'!AJ302","v":""},{"$f":"'View Records'!AK302","v":""},{"$f":"'View Records'!AL302","v":""},{"$f":"'View Records'!AM302","v":""},{"$f":"'View Records'!AN302","v":""},{"$f":"'View Records'!AO302","v":""},{"$f":"'View Records'!AP302","v":""},{"$f":"'View Records'!AQ302","v":""}]
[{"$f":"Checklist!AF316","v":""},{"$f":"Checklist!AG316","v":""},{"$f":"Checklist!AH316","v":""},{"$f":"Checklist!AI316","v":""},{"$f":"Checklist!AJ316","v":""},{"$f":"Checklist!AK316","v":""},{"$f":"Checklist!AL316","v":""},{"$f":"Checklist!AM316","v":""},{"$f":"Checklist!AN316","v":""},{"$f":"Checklist!AO316","v":""},{"$f":"Checklist!AP316","v":""},{"$f":"Checklist!AQ316","v":""},"","","","",306,"","","","","","","","","","","","","","Block","","","","","","","","","","","","",null,null,null,null,null,null,null,null,null,null,null,null,null,null,null,null,null,null,null,null,null,null,null,null,null,null,null,null,null,null,null,null,null,null,null,null,null,null,null,null,null,null,null,null,null,null,null,null,null,null,null,null,null,null,null,null,null,null,null,null,null,null,null,null,null,null,null,null,null,null,null,null,null,null,null,null,null,null,null,null,null,null,null,null,null,null,null,null,null,null,null,null,null,null,null,null,null,null,null,null,null,null,null,null,null,null,null,null,null,null,null,null,null,null,null,null,null,null,null,null,null,null,null,null,null,null,null,null,null,null,null,null,null,null,null,null,null,null,null,null,null,null,null,null,null,null,null,null,null,null,null,null,null,null,null,null,null,null,null,null,null,null,null,null,null,{"$f":"'View Records'!AF311","v":""},{"$f":"'View Records'!AG311","v":""},{"$f":"'View Records'!AH311","v":""},{"$f":"'View Records'!AI311","v":""},{"$f":"'View Records'!AJ311","v":""},{"$f":"'View Records'!AK311","v":""},{"$f":"'View Records'!AL311","v":""},{"$f":"'View Records'!AM311","v":""},{"$f":"'View Records'!AN311","v":""},{"$f":"'View Records'!AO311","v":""},{"$f":"'View Records'!AP311","v":""},{"$f":"'View Records'!AQ311","v":""}]
[{"$f":"Checklist!AF318","v":""},{"$f":"Checklist!AG318","v":""},{"$f":"Checklist!AH318","v":""},{"$f":"Checklist!AI318","v":""},{"$f":"Checklist!AJ318","v":""},{"$f":"Checklist!AK318","v":""},{"$f":"Checklist!AL318","v":""},{"$f":"Checklist!AM318","v":""},{"$f":"Checklist!AN318","v":""},{"$f":"Checklist!AO318","v":""},{"$f":"Checklist!AP318","v":""},{"$f":"Checklist!AQ318","v":""},"","","","",308,"","","","","","","","","","","","","","Block","","","","","","","","","","","","",null,null,null,null,null,null,null,null,null,null,null,null,null,null,null,null,null,null,null,null,null,null,null,null,null,null,null,null,null,null,null,null,null,null,null,null,null,null,null,null,null,null,null,null,null,null,null,null,null,null,null,null,null,null,null,null,null,null,null,null,null,null,null,null,null,null,null,null,null,null,null,null,null,null,null,null,null,null,null,null,null,null,null,null,null,null,null,null,null,null,null,null,null,null,null,null,null,null,null,null,null,null,null,null,null,null,null,null,null,null,null,null,null,null,null,null,null,null,null,null,null,null,null,null,null,null,null,null,null,null,null,null,null,null,null,null,null,null,null,null,null,null,null,null,null,null,null,null,null,null,null,null,null,null,null,null,null,null,null,null,null,null,null,null,null,{"$f":"'View Records'!AF313","v":""},{"$f":"'View Records'!AG313","v":""},{"$f":"'View Records'!AH313","v":""},{"$f":"'View Records'!AI313","v":""},{"$f":"'View Records'!AJ313","v":""},{"$f":"'View Records'!AK313","v":""},{"$f":"'View Records'!AL313","v":""},{"$f":"'View Records'!AM313","v":""},{"$f":"'View Records'!AN313","v":""},{"$f":"'View Records'!AO313","v":""},{"$f":"'View Records'!AP313","v":""},{"$f":"'View Records'!AQ313","v":""}]
[{"$f":"Checklist!AF327","v":""},{"$f":"Checklist!AG327","v":""},{"$f":"Checklist!AH327","v":""},{"$f":"Checklist!AI327","v":""},{"$f":"Checklist!AJ327","v":""},{"$f":"Checklist!AK327","v":""},{"$f":"Checklist!AL327","v":""},{"$f":"Checklist!AM327","v":""},{"$f":"Checklist!AN327","v":""},{"$f":"Checklist!AO327","v":""},{"$f":"Checklist!AP327","v":""},{"$f":"Checklist!AQ327","v":""},"","","","",317,"","","","","","","","","","","","","","Block","","","","","","","","","","","","",null,null,null,null,null,null,null,null,null,null,null,null,null,null,null,null,null,null,null,null,null,null,null,null,null,null,null,null,null,null,null,null,null,null,null,null,null,null,null,null,null,null,null,null,null,null,null,null,null,null,null,null,null,null,null,null,null,null,null,null,null,null,null,null,null,null,null,null,null,null,null,null,null,null,null,null,null,null,null,null,null,null,null,null,null,null,null,null,null,null,null,null,null,null,null,null,null,null,null,null,null,null,null,null,null,null,null,null,null,null,null,null,null,null,null,null,null,null,null,null,null,null,null,null,null,null,null,null,null,null,null,null,null,null,null,null,null,null,null,null,null,null,null,null,null,null,null,null,null,null,null,null,null,null,null,null,null,null,null,null,null,null,null,null,null,{"$f":"'View Records'!AF322","v":""},{"$f":"'View Records'!AG322","v":""},{"$f":"'View Records'!AH322","v":""},{"$f":"'View Records'!AI322","v":""},{"$f":"'View Records'!AJ322","v":""},{"$f":"'View Records'!AK322","v":""},{"$f":"'View Records'!AL322","v":""},{"$f":"'View Records'!AM322","v":""},{"$f":"'View Records'!AN322","v":""},{"$f":"'View Records'!AO322","v":""},{"$f":"'View Records'!AP322","v":""},{"$f":"'View Records'!AQ322","v":""}]
[{"$f":"Checklist!AF336","v":""},{"$f":"Checklist!AG336","v":""},{"$f":"Checklist!AH336","v":""},{"$f":"Checklist!AI336","v":""},{"$f":"Checklist!AJ336","v":""},{"$f":"Checklist!AK336","v":""},{"$f":"Checklist!AL336","v":""},{"$f":"Checklist!AM336","v":""},{"$f":"Checklist!AN336","v":""},{"$f":"Checklist!AO336","v":""},{"$f":"Checklist!AP336","v":""},{"$f":"Checklist!AQ336","v":""},"","","","",326,"","","","","","","","","","","","","","Block","","","","","","","","","","",{"$f":"IF(ISNUMBER($P323),VLOOKUP(SMALL($R$2:$R$1197,ROW()-5),$R$2:$AD$1197,12,FALSE),\"\")","v":""},{"$f":"IF(ISNUMBER($P323),VLOOKUP(SMALL($R$2:$R$1197,ROW()-5),$R$2:$AD$1197,13,FALSE),\"\")","v":""},null,null,null,null,null,null,null,null,null,null,null,null,null,null,null,null,null,null,null,null,null,null,null,null,null,null,null,null,null,null,null,null,null,null,null,null,null,null,null,null,null,null,null,null,null,null,null,null,null,null,null,null,null,null,null,null,null,null,null,null,null,null,null,null,null,null,null,null,null,null,null,null,null,null,null,null,null,null,null,null,null,null,null,null,null,null,null,null,null,null,null,null,null,null,null,null,null,null,null,null,null,null,null,null,null,null,null,null,null,null,null,null,null,null,null,null,null,null,null,null,null,null,null,null,null,null,null,null,null,null,null,null,null,null,null,null,null,null,null,null,null,null,null,null,null,null,null,null,null,null,null,null,null,null,null,null,null,null,null,null,null,null,null,null,null,{"$f":"'View Records'!AF331","v":""},{"$f":"'View Records'!AG331","v":""},{"$f":"'View Records'!AH331","v":""},{"$f":"'View Records'!AI331","v":""},{"$f":"'View Records'!AJ331","v":""},{"$f":"'View Records'!AK331","v":""},{"$f":"'View Records'!AL331","v":""},{"$f":"'View Records'!AM331","v":""},{"$f":"'View Records'!AN331","v":""},{"$f":"'View Records'!AO331","v":""},{"$f":"'View Records'!AP331","v":""},{"$f":"'View Records'!AQ331","v":""}]
[{"$f":"Checklist!AF346","v":""},{"$f":"Checklist!AG346","v":""},{"$f":"Checklist!AH346","v":""},{"$f":"Checklist!AI346","v":""},{"$f":"Checklist!AJ346","v":""},{"$f":"Checklist!AK346","v":""},{"$f":"Checklist!AL346","v":""},{"$f":"Checklist!AM346","v":""},{"$f":"Checklist!AN346","v":""},{"$f":"Checklist!AO346","v":""},{"$f":"Checklist!AP346","v":""},{"$f":"Checklist!AQ346","v":""},"","","","",336,"","","","","","","","","","","","","","Block","","","","","","","","","","","","",null,null,null,null,null,null,null,null,null,null,null,null,null,null,null,null,null,null,null,null,null,null,null,null,null,null,null,null,null,null,null,null,null,null,null,null,null,null,null,null,null,null,null,null,null,null,null,null,null,null,null,null,null,null,null,null,null,null,null,null,null,null,null,null,null,null,null,null,null,null,null,null,null,null,null,null,null,null,null,null,null,null,null,null,null,null,null,null,null,null,null,null,null,null,null,null,null,null,null,null,null,null,null,null,null,null,null,null,null,null,null,null,null,null,null,null,null,null,null,null,null,null,null,null,null,null,null,null,null,null,null,null,null,null,null,null,null,null,null,null,null,null,null,null,null,null,null,null,null,null,null,null,null,null,null,null,null,null,null,null,null,null,null,null,null,{"$f":"'View Records'!AF341","v":""},{"$f":"'View Records'!AG341","v":""},{"$f":"'View Records'!AH341","v":""},{"$f":"'View Records'!AI341","v":""},{"$f":"'View Records'!AJ341","v":""},{"$f":"'View Records'!AK341","v":""},{"$f":"'View Records'!AL341","v":""},{"$f":"'View Records'!AM341","v":""},{"$f":"'View Records'!AN341","v":""},{"$f":"'View Records'!AO341","v":""},{"$f":"'View Records'!AP341","v":""},{"$f":"'View Records'!AQ341","v":""}]
[{"$f":"Checklist!AF355","v":""},{"$f":"Checklist!AG355","v":""},{"$f":"Checklist!AH355","v":""},{"$f":"Checklist!AI355","v":""},{"$f":"Checklist!AJ355","v":""},{"$f":"Checklist!AK355","v":""},{"$f":"Checklist!AL355","v":""},{"$f":"Checklist!AM355","v":""},{"$f":"Checklist!AN355","v":""},{"$f":"Checklist!AO355","v":""},{"$f":"Checklist!AP355","v":""},{"$f":"Checklist!AQ355","v":""},"","","","",345,"","","","","","","","","","","","","","Block","","","","","","","","","","","","",null,null,null,null,null,null,null,null,null,null,null,null,null,null,null,null,null,null,null,null,null,null,null,null,null,null,null,null,null,null,null,null,null,null,null,null,null,null,null,null,null,null,null,null,null,null,null,null,null,null,null,null,null,null,null,null,null,null,null,null,null,null,null,null,null,null,null,null,null,null,null,null,null,null,null,null,null,null,null,null,null,null,null,null,null,null,null,null,null,null,null,null,null,null,null,null,null,null,null,null,null,null,null,null,null,null,null,null,null,null,null,null,null,null,null,null,null,null,null,null,null,null,null,null,null,null,null,null,null,null,null,null,null,null,null,null,null,null,null,null,null,null,null,null,null,null,null,null,null,null,null,null,null,null,null,null,null,null,null,null,null,null,null,null,null,{"$f":"'View Records'!AF350","v":""},{"$f":"'View Records'!AG350","v":""},{"$f":"'View Records'!AH350","v":""},{"$f":"'View Records'!AI350","v":""},{"$f":"'View Records'!AJ350","v":""},{"$f":"'View Records'!AK350","v":""},{"$f":"'View Records'!AL350","v":""},{"$f":"'View Records'!AM350","v":""},{"$f":"'View Records'!AN350","v":""},{"$f":"'View Records'!AO350","v":""},{"$f":"'View Records'!AP350","v":""},{"$f":"'View Records'!AQ350","v":""}]
[{"$f":"Checklist!AF365","v":""},{"$f":"Checklist!AG365","v":""},{"$f":"Checklist!AH365","v":""},{"$f":"Checklist!AI365","v":""},{"$f":"Checklist!AJ365","v":""},{"$f":"Checklist!AK365","v":""},{"$f":"Checklist!AL365","v":""},{"$f":"Checklist!AM365","v":""},{"$f":"Checklist!AN365","v":""},{"$f":"Checklist!AO365","v":""},{"$f":"Checklist!AP365","v":""},{"$f":"Checklist!AQ365","v":""},"","","","",355,"","","","","","","","","","","","","","Block","","","","","","","","","","","","",null,null,null,null,null,null,null,null,null,null,null,null,null,null,null,null,null,null,null,null,null,null,null,null,null,null,null,null,null,null,null,null,null,null,null,null,null,null,null,null,null,null,null,null,null,null,null,null,null,null,null,null,null,null,null,null,null,null,null,null,null,null,null,null,null,null,null,null,null,null,null,null,null,null,null,null,null,null,null,null,null,null,null,null,null,null,null,null,null,null,null,null,null,null,null,null,null,null,null,null,null,null,null,null,null,null,null,null,null,null,null,null,null,null,null,null,null,null,null,null,null,null,null,null,null,null,null,null,null,null,null,null,null,null,null,null,null,null,null,null,null,null,null,null,null,null,null,null,null,null,null,null,null,null,null,null,null,null,null,null,null,null,null,null,null,{"$f":"'View Records'!AF360","v":""},{"$f":"'View Records'!AG360","v":""},{"$f":"'View Records'!AH360","v":""},{"$f":"'View Records'!AI360","v":""},{"$f":"'View Records'!AJ360","v":""},{"$f":"'View Records'!AK360","v":""},{"$f":"'View Records'!AL360","v":""},{"$f":"'View Records'!AM360","v":""},{"$f":"'View Records'!AN360","v":""},{"$f":"'View Records'!AO360","v":""},{"$f":"'View Records'!AP360","v":""},{"$f":"'View Records'!AQ360","v":""}]
[{"$f":"Checklist!AF374","v":""},{"$f":"Checklist!AG374","v":""},{"$f":"Checklist!AH374","v":""},{"$f":"Checklist!AI374","v":""},{"$f":"Checklist!AJ374","v":""},{"$f":"Checklist!AK374","v":""},{"$f":"Checklist!AL374","v":""},{"$f":"Checklist!AM374","v":""},{"$f":"Checklist!AN374","v":""},{"$f":"Checklist!AO374","v":""},{"$f":"Checklist!AP374","v":""},{"$f":"Checklist!AQ374","v":""},"","","","",364,"","","","","","","","","","","","","","Block","","","","","","","","","","","","",null,null,null,null,null,null,null,null,null,null,null,null,null,null,null,null,null,null,null,null,null,null,null,null,null,null,null,null,null,null,null,null,null,null,null,null,null,null,null,null,null,null,null,null,null,null,null,null,null,null,null,null,null,null,null,null,null,null,null,null,null,null,null,null,null,null,null,null,null,null,null,null,null,null,null,null,null,null,null,null,null,null,null,null,null,null,null,null,null,null,null,null,null,null,null,null,null,null,null,null,null,null,null,null,null,null,null,null,null,null,null,null,null,null,null,null,null,null,null,null,null,null,null,null,null,null,null,null,null,null,null,null,null,null,null,null,null,null,null,null,null,null,null,null,null,null,null,null,null,null,null,null,null,null,null,null,null,null,null,null,null,null,null,null,null,{"$f":"'View Records'!AF369","v":""},{"$f":"'View Records'!AG369","v":""},{"$f":"'View Records'!AH369","v":""},{"$f":"'View Records'!AI369","v":""},{"$f":"'View Records'!AJ369","v":""},{"$f":"'View Records'!AK369","v":""},{"$f":"'View Records'!AL369","v":""},{"$f":"'View Records'!AM369","v":""},{"$f":"'View Records'!AN369","v":""},{"$f":"'View Records'!AO369","v":""},{"$f":"'View Records'!AP369","v":""},{"$f":"'View Records'!AQ369","v":""}]
[{"$f":"Checklist!AF383","v":""},{"$f":"Checklist!AG383","v":""},{"$f":"Checklist!AH383","v":""},{"$f":"Checklist!AI383","v":""},{"$f":"Checklist!AJ383","v":""},{"$f":"Checklist!AK383","v":""},{"$f":"Checklist!AL383","v":""},{"$f":"Checklist!AM383","v":""},{"$f":"Checklist!AN383","v":""},{"$f":"Checklist!AO383","v":""},{"$f":"Checklist!AP383","v":""},{"$f":"Checklist!AQ383","v":""},"","","","",373,"","","","","","","","","","","","","","Block","","","","","","","","","","","","",null,null,null,null,null,null,null,null,null,null,null,null,null,null,null,null,null,null,null,null,null,null,null,null,null,null,null,null,null,null,null,null,null,null,null,null,null,null,null,null,null,null,null,null,null,null,null,null,null,null,null,null,null,null,null,null,null,null,null,null,null,null,null,null,null,null,null,null,null,null,null,null,null,null,null,null,null,null,null,null,null,null,null,null,null,null,null,null,null,null,null,null,null,null,null,null,null,null,null,null,null,null,null,null,null,null,null,null,null,null,null,null,null,null,null,null,null,null,null,null,null,null,null,null,null,null,null,null,null,null,null,null,null,null,null,null,null,null,null,null,null,null,null,null,null,null,null,null,null,null,null,null,null,null,null,null,null,null,null,null,null,null,null,null,null,{"$f":"'View Records'!AF378","v":""},{"$f":"'View Records'!AG378","v":""},{"$f":"'View Records'!AH378","v":""},{"$f":"'View Records'!AI378","v":""},{"$f":"'View Records'!AJ378","v":""},{"$f":"'View Records'!AK378","v":""},{"$f":"'View Records'!AL378","v":""},{"$f":"'View Records'!AM378","v":""},{"$f":"'View Records'!AN378","v":""},{"$f":"'View Records'!AO378","v":""},{"$f":"'View Records'!AP378","v":""},{"$f":"'View Records'!AQ378","v":""}]
[{"$f":"Checklist!AF385","v":""},{"$f":"Checklist!AG385","v":""},{"$f":"Checklist!AH385","v":""},{"$f":"Checklist!AI385","v":""},{"$f":"Checklist!AJ385","v":""},{"$f":"Checklist!AK385","v":""},{"$f":"Checklist!AL385","v":""},{"$f":"Checklist!AM385","v":""},{"$f":"Checklist!AN385","v":""},{"$f":"Checklist!AO385","v":""},{"$f":"Checklist!AP385","v":""},{"$f":"Checklist!AQ385","v":""},"","","","",375,"","","","","","","","","","","","","","Block","","","","","","","","","","","","",null,null,null,null,null,null,null,null,null,null,null,null,null,null,null,null,null,null,null,null,null,null,null,null,null,null,null,null,null,null,null,null,null,null,null,null,null,null,null,null,null,null,null,null,null,null,null,null,null,null,null,null,null,null,null,null,null,null,null,null,null,null,null,null,null,null,null,null,null,null,null,null,null,null,null,null,null,null,null,null,null,null,null,null,null,null,null,null,null,null,null,null,null,null,null,null,null,null,null,null,null,null,null,null,null,null,null,null,null,null,null,null,null,null,null,null,null,null,null,null,null,null,null,null,null,null,null,null,null,null,null,null,null,null,null,null,null,null,null,null,null,null,null,null,null,null,null,null,null,null,null,null,null,null,null,null,null,null,null,null,null,null,null,null,null,{"$f":"'View Records'!AF380","v":""},{"$f":"'View Records'!AG380","v":""},{"$f":"'View Records'!AH380","v":""},{"$f":"'View Records'!AI380","v":""},{"$f":"'View Records'!AJ380","v":""},{"$f":"'View Records'!AK380","v":""},{"$f":"'View Records'!AL380","v":""},{"$f":"'View Records'!AM380","v":""},{"$f":"'View Records'!AN380","v":""},{"$f":"'View Records'!AO380","v":""},{"$f":"'View Records'!AP380","v":""},{"$f":"'View Records'!AQ380","v":""}]
[{"$f":"Checklist!AF394","v":""},{"$f":"Checklist!AG394","v":""},{"$f":"Checklist!AH394","v":""},{"$f":"Checklist!AI394","v":""},{"$f":"Checklist!AJ394","v":""},{"$f":"Checklist!AK394","v":""},{"$f":"Checklist!AL394","v":""},{"$f":"Checklist!AM394","v":""},{"$f":"Checklist!AN394","v":""},{"$f":"Checklist!AO394","v":""},{"$f":"Checklist!AP394","v":""},{"$f":"Checklist!AQ394","v":""},"","","","",384,"","","","","","","","","","","","","","Block","","","","","","","","","","","","",null,null,null,null,null,null,null,null,null,null,null,null,null,null,null,null,null,null,null,null,null,null,null,null,null,null,null,null,null,null,null,null,null,null,null,null,null,null,null,null,null,null,null,null,null,null,null,null,null,null,null,null,null,null,null,null,null,null,null,null,null,null,null,null,null,null,null,null,null,null,null,null,null,null,null,null,null,null,null,null,null,null,null,null,null,null,null,null,null,null,null,null,null,null,null,null,null,null,null,null,null,null,null,null,null,null,null,null,null,null,null,null,null,null,null,null,null,null,null,null,null,null,null,null,null,null,null,null,null,null,null,null,null,null,null,null,null,null,null,null,null,null,null,null,null,null,null,null,null,null,null,null,null,null,null,null,null,null,null,null,null,null,null,null,null,{"$f":"'View Records'!AF389","v":""},{"$f":"'View Records'!AG389","v":""},{"$f":"'View Records'!AH389","v":""},{"$f":"'View Records'!AI389","v":""},{"$f":"'View Records'!AJ389","v":""},{"$f":"'View Records'!AK389","v":""},{"$f":"'View Records'!AL389","v":""},{"$f":"'View Records'!AM389","v":""},{"$f":"'View Records'!AN389","v":""},{"$f":"'View Records'!AO389","v":""},{"$f":"'View Records'!AP389","v":""},{"$f":"'View Records'!AQ389","v":""}]
[{"$f":"Checklist!AF403","v":""},{"$f":"Checklist!AG403","v":""},{"$f":"Checklist!AH403","v":""},{"$f":"Checklist!AI403","v":""},{"$f":"Checklist!AJ403","v":""},{"$f":"Checklist!AK403","v":""},{"$f":"Checklist!AL403","v":""},{"$f":"Checklist!AM403","v":""},{"$f":"Checklist!AN403","v":""},{"$f":"Checklist!AO403","v":""},{"$f":"Checklist!AP403","v":""},{"$f":"Checklist!AQ403","v":""},"","","","",393,"","","","","","","","","","","","","","Block","","","","","","","","","","","","",null,null,null,null,null,null,null,null,null,null,null,null,null,null,null,null,null,null,null,null,null,null,null,null,null,null,null,null,null,null,null,null,null,null,null,null,null,null,null,null,null,null,null,null,null,null,null,null,null,null,null,null,null,null,null,null,null,null,null,null,null,null,null,null,null,null,null,null,null,null,null,null,null,null,null,null,null,null,null,null,null,null,null,null,null,null,null,null,null,null,null,null,null,null,null,null,null,null,null,null,null,null,null,null,null,null,null,null,null,null,null,null,null,null,null,null,null,null,null,null,null,null,null,null,null,null,null,null,null,null,null,null,null,null,null,null,null,null,null,null,null,null,null,null,null,null,null,null,null,null,null,null,null,null,null,null,null,null,null,null,null,null,null,null,null,{"$f":"'View Records'!AF398","v":""},{"$f":"'View Records'!AG398","v":""},{"$f":"'View Records'!AH398","v":""},{"$f":"'View Records'!AI398","v":""},{"$f":"'View Records'!AJ398","v":""},{"$f":"'View Records'!AK398","v":""},{"$f":"'View Records'!AL398","v":""},{"$f":"'View Records'!AM398","v":""},{"$f":"'View Records'!AN398","v":""},{"$f":"'View Records'!AO398","v":""},{"$f":"'View Records'!AP398","v":""},{"$f":"'View Records'!AQ398","v":""}]
[{"$f":"Checklist!AF414","v":""},{"$f":"Checklist!AG414","v":""},{"$f":"Checklist!AH414","v":""},{"$f":"Checklist!AI414","v":""},{"$f":"Checklist!AJ414","v":""},{"$f":"Checklist!AK414","v":""},{"$f":"Checklist!AL414","v":""},{"$f":"Checklist!AM414","v":""},{"$f":"Checklist!AN414","v":""},{"$f":"Checklist!AO414","v":""},{"$f":"Checklist!AP414","v":""},{"$f":"Checklist!AQ414","v":""},"","","","",404,"","","","","","","","","","","","","","Block","","","","","","","","","","","","",null,null,null,null,null,null,null,null,null,null,null,null,null,null,null,null,null,null,null,null,null,null,null,null,null,null,null,null,null,null,null,null,null,null,null,null,null,null,null,null,null,null,null,null,null,null,null,null,null,null,null,null,null,null,null,null,null,null,null,null,null,null,null,null,null,null,null,null,null,null,null,null,null,null,null,null,null,null,null,null,null,null,null,null,null,null,null,null,null,null,null,null,null,null,null,null,null,null,null,null,null,null,null,null,null,null,null,null,null,null,null,null,null,null,null,null,null,null,null,null,null,null,null,null,null,null,null,null,null,null,null,null,null,null,null,null,null,null,null,null,null,null,null,null,null,null,null,null,null,null,null,null,null,null,null,null,null,null,null,null,null,null,null,null,null,{"$f":"'View Records'!AF409","v":""},{"$f":"'View Records'!AG409","v":""},{"$f":"'View Records'!AH409","v":""},{"$f":"'View Records'!AI409","v":""},{"$f":"'View Records'!AJ409","v":""},{"$f":"'View Records'!AK409","v":""},{"$f":"'View Records'!AL409","v":""},{"$f":"'View Records'!AM409","v":""},{"$f":"'View Records'!AN409","v":""},{"$f":"'View Records'!AO409","v":""},{"$f":"'View Records'!AP409","v":""},{"$f":"'View Records'!AQ409","v":""}]
[{"$f":"Checklist!AF422","v":""},{"$f":"Checklist!AG422","v":""},{"$f":"Checklist!AH422","v":""},{"$f":"Checklist!AI422","v":""},{"$f":"Checklist!AJ422","v":""},{"$f":"Checklist!AK422","v":""},{"$f":"Checklist!AL422","v":""},{"$f":"Checklist!AM422","v":""},{"$f":"Checklist!AN422","v":""},{"$f":"Checklist!AO422","v":""},{"$f":"Checklist!AP422","v":""},{"$f":"Checklist!AQ422","v":""},"","","","",412,"","","","","","","","","","","","","","Block","","","","","","","","","","","","",null,null,null,null,null,null,null,null,null,null,null,null,null,null,null,null,null,null,null,null,null,null,null,null,null,null,null,null,null,null,null,null,null,null,null,null,null,null,null,null,null,null,null,null,null,null,null,null,null,null,null,null,null,null,null,null,null,null,null,null,null,null,null,null,null,null,null,null,null,null,null,null,null,null,null,null,null,null,null,null,null,null,null,null,null,null,null,null,null,null,null,null,null,null,null,null,null,null,null,null,null,null,null,null,null,null,null,null,null,null,null,null,null,null,null,null,null,null,null,null,null,null,null,null,null,null,null,null,null,null,null,null,null,null,null,null,null,null,null,null,null,null,null,null,null,null,null,null,null,null,null,null,null,null,null,null,null,null,null,null,null,null,null,null,null,{"$f":"'View Records'!AF417","v":""},{"$f":"'View Records'!AG417","v":""},{"$f":"'View Records'!AH417","v":""},{"$f":"'View Records'!AI417","v":""},{"$f":"'View Records'!AJ417","v":""},{"$f":"'View Records'!AK417","v":""},{"$f":"'View Records'!AL417","v":""},{"$f":"'View Records'!AM417","v":""},{"$f":"'View Records'!AN417","v":""},{"$f":"'View Records'!AO417","v":""},{"$f":"'View Records'!AP417","v":""},{"$f":"'View Records'!AQ417","v":""}]
[{"$f":"Checklist!AF431","v":""},{"$f":"Checklist!AG431","v":""},{"$f":"Checklist!AH431","v":""},{"$f":"Checklist!AI431","v":""},{"$f":"Checklist!AJ431","v":""},{"$f":"Checklist!AK431","v":""},{"$f":"Checklist!AL431","v":""},{"$f":"Checklist!AM431","v":""},{"$f":"Checklist!AN431","v":""},{"$f":"Checklist!AO431","v":""},{"$f":"Checklist!AP431","v":""},{"$f":"Checklist!AQ431","v":""},"","","","",421,"","","","","","","","","","","","","","Block","","","","","","","","","","","","",null,null,null,null,null,null,null,null,null,null,null,null,null,null,null,null,null,null,null,null,null,null,null,null,null,null,null,null,null,null,null,null,null,null,null,null,null,null,null,null,null,null,null,null,null,null,null,null,null,null,null,null,null,null,null,null,null,null,null,null,null,null,null,null,null,null,null,null,null,null,null,null,null,null,null,null,null,null,null,null,null,null,null,null,null,null,null,null,null,null,null,null,null,null,null,null,null,null,null,null,null,null,null,null,null,null,null,null,null,null,null,null,null,null,null,null,null,null,null,null,null,null,null,null,null,null,null,null,null,null,null,null,null,null,null,null,null,null,null,null,null,null,null,null,null,null,null,null,null,null,null,null,null,null,null,null,null,null,null,null,null,null,null,null,null,{"$f":"'View Records'!AF426","v":""},{"$f":"'View Records'!AG426","v":""},{"$f":"'View Records'!AH426","v":""},{"$f":"'View Records'!AI426","v":""},{"$f":"'View Records'!AJ426","v":""},{"$f":"'View Records'!AK426","v":""},{"$f":"'View Records'!AL426","v":""},{"$f":"'View Records'!AM426","v":""},{"$f":"'View Records'!AN426","v":""},{"$f":"'View Records'!AO426","v":""},{"$f":"'View Records'!AP426","v":""},{"$f":"'View Records'!AQ426","v":""}]
[{"$f":"Checklist!AF443","v":""},{"$f":"Checklist!AG443","v":""},{"$f":"Checklist!AH443","v":""},{"$f":"Checklist!AI443","v":""},{"$f":"Checklist!AJ443","v":""},{"$f":"Checklist!AK443","v":""},{"$f":"Checklist!AL443","v":""},{"$f":"Checklist!AM443","v":""},{"$f":"Checklist!AN443","v":""},{"$f":"Checklist!AO443","v":""},{"$f":"Checklist!AP443","v":""},{"$f":"Checklist!AQ443","v":""},"","","","",433,"","","","","","","","","","","","","","Block","","","","","","","","","","","","",null,null,null,null,null,null,null,null,null,null,null,null,null,null,null,null,null,null,null,null,null,null,null,null,null,null,null,null,null,null,null,null,null,null,null,null,null,null,null,null,null,null,null,null,null,null,null,null,null,null,null,null,null,null,null,null,null,null,null,null,null,null,null,null,null,null,null,null,null,null,null,null,null,null,null,null,null,null,null,null,null,null,null,null,null,null,null,null,null,null,null,null,null,null,null,null,null,null,null,null,null,null,null,null,null,null,null,null,null,null,null,null,null,null,null,null,null,null,null,null,null,null,null,null,null,null,null,null,null,null,null,null,null,null,null,null,null,null,null,null,null,null,null,null,null,null,null,null,null,null,null,null,null,null,null,null,null,null,null,null,null,null,null,null,null,{"$f":"'View Records'!AF438","v":""},{"$f":"'View Records'!AG438","v":""},{"$f":"'View Records'!AH438","v":""},{"$f":"'View Records'!AI438","v":""},{"$f":"'View Records'!AJ438","v":""},{"$f":"'View Records'!AK438","v":""},{"$f":"'View Records'!AL438","v":""},{"$f":"'View Records'!AM438","v":""},{"$f":"'View Records'!AN438","v":""},{"$f":"'View Records'!AO438","v":""},{"$f":"'View Records'!AP438","v":""},{"$f":"'View Records'!AQ438","v":""}]
[{"$f":"Checklist!AF450","v":""},{"$f":"Checklist!AG450","v":""},{"$f":"Checklist!AH450","v":""},{"$f":"Checklist!AI450","v":""},{"$f":"Checklist!AJ450","v":""},{"$f":"Checklist!AK450","v":""},{"$f":"Checklist!AL450","v":""},{"$f":"Checklist!AM450","v":""},{"$f":"Checklist!AN450","v":""},{"$f":"Checklist!AO450","v":""},{"$f":"Checklist!AP450","v":""},{"$f":"Checklist!AQ450","v":""},"","","","",440,"","","","","","","","","","","","","","Block","","","","","","","","","","","","",null,null,null,null,null,null,null,null,null,null,null,null,null,null,null,null,null,null,null,null,null,null,null,null,null,null,null,null,null,null,null,null,null,null,null,null,null,null,null,null,null,null,null,null,null,null,null,null,null,null,null,null,null,null,null,null,null,null,null,null,null,null,null,null,null,null,null,null,null,null,null,null,null,null,null,null,null,null,null,null,null,null,null,null,null,null,null,null,null,null,null,null,null,null,null,null,null,null,null,null,null,null,null,null,null,null,null,null,null,null,null,null,null,null,null,null,null,null,null,null,null,null,null,null,null,null,null,null,null,null,null,null,null,null,null,null,null,null,null,null,null,null,null,null,null,null,null,null,null,null,null,null,null,null,null,null,null,null,null,null,null,null,null,null,null,{"$f":"'View Records'!AF445","v":""},{"$f":"'View Records'!AG445","v":""},{"$f":"'View Records'!AH445","v":""},{"$f":"'View Records'!AI445","v":""},{"$f":"'View Records'!AJ445","v":""},{"$f":"'View Records'!AK445","v":""},{"$f":"'View Records'!AL445","v":""},{"$f":"'View Records'!AM445","v":""},{"$f":"'View Records'!AN445","v":""},{"$f":"'View Records'!AO445","v":""},{"$f":"'View Records'!AP445","v":""},{"$f":"'View Records'!AQ445","v":""}]
[{"$f":"Checklist!AF452","v":""},{"$f":"Checklist!AG452","v":""},{"$f":"Checklist!AH452","v":""},{"$f":"Checklist!AI452","v":""},{"$f":"Checklist!AJ452","v":""},{"$f":"Checklist!AK452","v":""},{"$f":"Checklist!AL452","v":""},{"$f":"Checklist!AM452","v":""},{"$f":"Checklist!AN452","v":""},{"$f":"Checklist!AO452","v":""},{"$f":"Checklist!AP452","v":""},{"$f":"Checklist!AQ452","v":""},"","","","",442,"","","","","","","","","","","","","","Block","","","","","","","","","","","","",null,null,null,null,null,null,null,null,null,null,null,null,null,null,null,null,null,null,null,null,null,null,null,null,null,null,null,null,null,null,null,null,null,null,null,null,null,null,null,null,null,null,null,null,null,null,null,null,null,null,null,null,null,null,null,null,null,null,null,null,null,null,null,null,null,null,null,null,null,null,null,null,null,null,null,null,null,null,null,null,null,null,null,null,null,null,null,null,null,null,null,null,null,null,null,null,null,null,null,null,null,null,null,null,null,null,null,null,null,null,null,null,null,null,null,null,null,null,null,null,null,null,null,null,null,null,null,null,null,null,null,null,null,null,null,null,null,null,null,null,null,null,null,null,null,null,null,null,null,null,null,null,null,null,null,null,null,null,null,null,null,null,null,null,null,{"$f":"'View Records'!AF447","v":""},{"$f":"'View Records'!AG447","v":""},{"$f":"'View Records'!AH447","v":""},{"$f":"'View Records'!AI447","v":""},{"$f":"'View Records'!AJ447","v":""},{"$f":"'View Records'!AK447","v":""},{"$f":"'View Records'!AL447","v":""},{"$f":"'View Records'!AM447","v":""},{"$f":"'View Records'!AN447","v":""},{"$f":"'View Records'!AO447","v":""},{"$f":"'View Records'!AP447","v":""},{"$f":"'View Records'!AQ447","v":""}]
[{"$f":"Checklist!AF461","v":""},{"$f":"Checklist!AG461","v":""},{"$f":"Checklist!AH461","v":""},{"$f":"Checklist!AI461","v":""},{"$f":"Checklist!AJ461","v":""},{"$f":"Checklist!AK461","v":""},{"$f":"Checklist!AL461","v":""},{"$f":"Checklist!AM461","v":""},{"$f":"Checklist!AN461","v":""},{"$f":"Checklist!AO461","v":""},{"$f":"Checklist!AP461","v":""},{"$f":"Checklist!AQ461","v":""},"","","","",451,"","","","","","","","","","","","","","Block","","","","","","","","","","","","",null,null,null,null,null,null,null,null,null,null,null,null,null,null,null,null,null,null,null,null,null,null,null,null,null,null,null,null,null,null,null,null,null,null,null,null,null,null,null,null,null,null,null,null,null,null,null,null,null,null,null,null,null,null,null,null,null,null,null,null,null,null,null,null,null,null,null,null,null,null,null,null,null,null,null,null,null,null,null,null,null,null,null,null,null,null,null,null,null,null,null,null,null,null,null,null,null,null,null,null,null,null,null,null,null,null,null,null,null,null,null,null,null,null,null,null,null,null,null,null,null,null,null,null,null,null,null,null,null,null,null,null,null,null,null,null,null,null,null,null,null,null,null,null,null,null,null,null,null,null,null,null,null,null,null,null,null,null,null,null,null,null,null,null,null,{"$f":"'View Records'!AF456","v":""},{"$f":"'View Records'!AG456","v":""},{"$f":"'View Records'!AH456","v":""},{"$f":"'View Records'!AI456","v":""},{"$f":"'View Records'!AJ456","v":""},{"$f":"'View Records'!AK456","v":""},{"$f":"'View Records'!AL456","v":""},{"$f":"'View Records'!AM456","v":""},{"$f":"'View Records'!AN456","v":""},{"$f":"'View Records'!AO456","v":""},{"$f":"'View Records'!AP456","v":""},{"$f":"'View Records'!AQ456","v":""}]
[{"$f":"Checklist!AF470","v":""},{"$f":"Checklist!AG470","v":""},{"$f":"Checklist!AH470","v":""},{"$f":"Checklist!AI470","v":""},{"$f":"Checklist!AJ470","v":""},{"$f":"Checklist!AK470","v":""},{"$f":"Checklist!AL470","v":""},{"$f":"Checklist!AM470","v":""},{"$f":"Checklist!AN470","v":""},{"$f":"Checklist!AO470","v":""},{"$f":"Checklist!AP470","v":""},{"$f":"Checklist!AQ470","v":""},"","","","",460,"","","","","","","","","","","","","","Block","","","","","","","","","","","","",null,null,null,null,null,null,null,null,null,null,null,null,null,null,null,null,null,null,null,null,null,null,null,null,null,null,null,null,null,null,null,null,null,null,null,null,null,null,null,null,null,null,null,null,null,null,null,null,null,null,null,null,null,null,null,null,null,null,null,null,null,null,null,null,null,null,null,null,null,null,null,null,null,null,null,null,null,null,null,null,null,null,null,null,null,null,null,null,null,null,null,null,null,null,null,null,null,null,null,null,null,null,null,null,null,null,null,null,null,null,null,null,null,null,null,null,null,null,null,null,null,null,null,null,null,null,null,null,null,null,null,null,null,null,null,null,null,null,null,null,null,null,null,null,null,null,null,null,null,null,null,null,null,null,null,null,null,null,null,null,null,null,null,null,null,{"$f":"'View Records'!AF465","v":""},{"$f":"'View Records'!AG465","v":""},{"$f":"'View Records'!AH465","v":""},{"$f":"'View Records'!AI465","v":""},{"$f":"'View Records'!AJ465","v":""},{"$f":"'View Records'!AK465","v":""},{"$f":"'View Records'!AL465","v":""},{"$f":"'View Records'!AM465","v":""},{"$f":"'View Records'!AN465","v":""},{"$f":"'View Records'!AO465","v":""},{"$f":"'View Records'!AP465","v":""},{"$f":"'View Records'!AQ465","v":""}]
[{"$f":"Checklist!AF481","v":""},{"$f":"Checklist!AG481","v":""},{"$f":"Checklist!AH481","v":""},{"$f":"Checklist!AI481","v":""},{"$f":"Checklist!AJ481","v":""},{"$f":"Checklist!AK481","v":""},{"$f":"Checklist!AL481","v":""},{"$f":"Checklist!AM481","v":""},{"$f":"Checklist!AN481","v":""},{"$f":"Checklist!AO481","v":""},{"$f":"Checklist!AP481","v":""},{"$f":"Checklist!AQ481","v":""},"","","","",471,"","","","","","","","","","","","","","Block","","","","","","","","","","","","",null,null,null,null,null,null,null,null,null,null,null,null,null,null,null,null,null,null,null,null,null,null,null,null,null,null,null,null,null,null,null,null,null,null,null,null,null,null,null,null,null,null,null,null,null,null,null,null,null,null,null,null,null,null,null,null,null,null,null,null,null,null,null,null,null,null,null,null,null,null,null,null,null,null,null,null,null,null,null,null,null,null,null,null,null,null,null,null,null,null,null,null,null,null,null,null,null,null,null,null,null,null,null,null,null,null,null,null,null,null,null,null,null,null,null,null,null,null,null,null,null,null,null,null,null,null,null,null,null,null,null,null,null,null,null,null,null,null,null,null,null,null,null,null,null,null,null,null,null,null,null,null,null,null,null,null,null,null,null,null,null,null,null,null,null,{"$f":"'View Records'!AF476","v":""},{"$f":"'View Records'!AG476","v":""},{"$f":"'View Records'!AH476","v":""},{"$f":"'View Records'!AI476","v":""},{"$f":"'View Records'!AJ476","v":""},{"$f":"'View Records'!AK476","v":""},{"$f":"'View Records'!AL476","v":""},{"$f":"'View Records'!AM476","v":""},{"$f":"'View Records'!AN476","v":""},{"$f":"'View Records'!AO476","v":""},{"$f":"'View Records'!AP476","v":""},{"$f":"'View Records'!AQ476","v":""}]
[{"$f":"Checklist!AF489","v":""},{"$f":"Checklist!AG489","v":""},{"$f":"Checklist!AH489","v":""},{"$f":"Checklist!AI489","v":""},{"$f":"Checklist!AJ489","v":""},{"$f":"Checklist!AK489","v":""},{"$f":"Checklist!AL489","v":""},{"$f":"Checklist!AM489","v":""},{"$f":"Checklist!AN489","v":""},{"$f":"Checklist!AO489","v":""},{"$f":"Checklist!AP489","v":""},{"$f":"Checklist!AQ489","v":""},"","","","",479,"","","","","","","","","","","","","","Block","","","","","","","","","","","","",null,null,null,null,null,null,null,null,null,null,null,null,null,null,null,null,null,null,null,null,null,null,null,null,null,null,null,null,null,null,null,null,null,null,null,null,null,null,null,null,null,null,null,null,null,null,null,null,null,null,null,null,null,null,null,null,null,null,null,null,null,null,null,null,null,null,null,null,null,null,null,null,null,null,null,null,null,null,null,null,null,null,null,null,null,null,null,null,null,null,null,null,null,null,null,null,null,null,null,null,null,null,null,null,null,null,null,null,null,null,null,null,null,null,null,null,null,null,null,null,null,null,null,null,null,null,null,null,null,null,null,null,null,null,null,null,null,null,null,null,null,null,null,null,null,null,null,null,null,null,null,null,null,null,null,null,null,null,null,null,null,null,null,null,null,{"$f":"'View Records'!AF484","v":""},{"$f":"'View Records'!AG484","v":""},{"$f":"'View Records'!AH484","v":""},{"$f":"'View Records'!AI484","v":""},{"$f":"'View Records'!AJ484","v":""},{"$f":"'View Records'!AK484","v":""},{"$f":"'View Records'!AL484","v":""},{"$f":"'View Records'!AM484","v":""},{"$f":"'View Records'!AN484","v":""},{"$f":"'View Records'!AO484","v":""},{"$f":"'View Records'!AP484","v":""},{"$f":"'View Records'!AQ484","v":""}]
[{"$f":"Checklist!AF498","v":""},{"$f":"Checklist!AG498","v":""},{"$f":"Checklist!AH498","v":""},{"$f":"Checklist!AI498","v":""},{"$f":"Checklist!AJ498","v":""},{"$f":"Checklist!AK498","v":""},{"$f":"Checklist!AL498","v":""},{"$f":"Checklist!AM498","v":""},{"$f":"Checklist!AN498","v":""},{"$f":"Checklist!AO498","v":""},{"$f":"Checklist!AP498","v":""},{"$f":"Checklist!AQ498","v":""},"","","","",488,"","","","","","","","","","","","","","Block","","","","","","","","","","","","",null,null,null,null,null,null,null,null,null,null,null,null,null,null,null,null,null,null,null,null,null,null,null,null,null,null,null,null,null,null,null,null,null,null,null,null,null,null,null,null,null,null,null,null,null,null,null,null,null,null,null,null,null,null,null,null,null,null,null,null,null,null,null,null,null,null,null,null,null,null,null,null,null,null,null,null,null,null,null,null,null,null,null,null,null,null,null,null,null,null,null,null,null,null,null,null,null,null,null,null,null,null,null,null,null,null,null,null,null,null,null,null,null,null,null,null,null,null,null,null,null,null,null,null,null,null,null,null,null,null,null,null,null,null,null,null,null,null,null,null,null,null,null,null,null,null,null,null,null,null,null,null,null,null,null,null,null,null,null,null,null,null,null,null,null,{"$f":"'View Records'!AF493","v":""},{"$f":"'View Records'!AG493","v":""},{"$f":"'View Records'!AH493","v":""},{"$f":"'View Records'!AI493","v":""},{"$f":"'View Records'!AJ493","v":""},{"$f":"'View Records'!AK493","v":""},{"$f":"'View Records'!AL493","v":""},{"$f":"'View Records'!AM493","v":""},{"$f":"'View Records'!AN493","v":""},{"$f":"'View Records'!AO493","v":""},{"$f":"'View Records'!AP493","v":""},{"$f":"'View Records'!AQ493","v":""}]
[{"$f":"Checklist!AF510","v":""},{"$f":"Checklist!AG510","v":""},{"$f":"Checklist!AH510","v":""},{"$f":"Checklist!AI510","v":""},{"$f":"Checklist!AJ510","v":""},{"$f":"Checklist!AK510","v":""},{"$f":"Checklist!AL510","v":""},{"$f":"Checklist!AM510","v":""},{"$f":"Checklist!AN510","v":""},{"$f":"Checklist!AO510","v":""},{"$f":"Checklist!AP510","v":""},{"$f":"Checklist!AQ510","v":""},"","","","",500,"","","","","","","","","","","","","","Block","","","","","","","","","","","","",null,null,null,null,null,null,null,null,null,null,null,null,null,null,null,null,null,null,null,null,null,null,null,null,null,null,null,null,null,null,null,null,null,null,null,null,null,null,null,null,null,null,null,null,null,null,null,null,null,null,null,null,null,null,null,null,null,null,null,null,null,null,null,null,null,null,null,null,null,null,null,null,null,null,null,null,null,null,null,null,null,null,null,null,null,null,null,null,null,null,null,null,null,null,null,null,null,null,null,null,null,null,null,null,null,null,null,null,null,null,null,null,null,null,null,null,null,null,null,null,null,null,null,null,null,null,null,null,null,null,null,null,null,null,null,null,null,null,null,null,null,null,null,null,null,null,null,null,null,null,null,null,null,null,null,null,null,null,null,null,null,null,null,null,null,{"$f":"'View Records'!AF505","v":""},{"$f":"'View Records'!AG505","v":""},{"$f":"'View Records'!AH505","v":""},{"$f":"'View Records'!AI505","v":""},{"$f":"'View Records'!AJ505","v":""},{"$f":"'View Records'!AK505","v":""},{"$f":"'View Records'!AL505","v":""},{"$f":"'View Records'!AM505","v":""},{"$f":"'View Records'!AN505","v":""},{"$f":"'View Records'!AO505","v":""},{"$f":"'View Records'!AP505","v":""},{"$f":"'View Records'!AQ505","v":""}]
[{"$f":"Checklist!AF517","v":""},{"$f":"Checklist!AG517","v":""},{"$f":"Checklist!AH517","v":""},{"$f":"Checklist!AI517","v":""},{"$f":"Checklist!AJ517","v":""},{"$f":"Checklist!AK517","v":""},{"$f":"Checklist!AL517","v":""},{"$f":"Checklist!AM517","v":""},{"$f":"Checklist!AN517","v":""},{"$f":"Checklist!AO517","v":""},{"$f":"Checklist!AP517","v":""},{"$f":"Checklist!AQ517","v":""},"","","","",507,"","","","","","","","","","","","","","Block","","","","","","","","","","","","",null,null,null,null,null,null,null,null,null,null,null,null,null,null,null,null,null,null,null,null,null,null,null,null,null,null,null,null,null,null,null,null,null,null,null,null,null,null,null,null,null,null,null,null,null,null,null,null,null,null,null,null,null,null,null,null,null,null,null,null,null,null,null,null,null,null,null,null,null,null,null,null,null,null,null,null,null,null,null,null,null,null,null,null,null,null,null,null,null,null,null,null,null,null,null,null,null,null,null,null,null,null,null,null,null,null,null,null,null,null,null,null,null,null,null,null,null,null,null,null,null,null,null,null,null,null,null,null,null,null,null,null,null,null,null,null,null,null,null,null,null,null,null,null,null,null,null,null,null,null,null,null,null,null,null,null,null,null,null,null,null,null,null,null,null,{"$f":"'View Records'!AF512","v":""},{"$f":"'View Records'!AG512","v":""},{"$f":"'View Records'!AH512","v":""},{"$f":"'View Records'!AI512","v":""},{"$f":"'View Records'!AJ512","v":""},{"$f":"'View Records'!AK512","v":""},{"$f":"'View Records'!AL512","v":""},{"$f":"'View Records'!AM512","v":""},{"$f":"'View Records'!AN512","v":""},{"$f":"'View Records'!AO512","v":""},{"$f":"'View Records'!AP512","v":""},{"$f":"'View Records'!AQ512","v":""}]
[{"$f":"Checklist!AF526","v":""},{"$f":"Checklist!AG526","v":""},{"$f":"Checklist!AH526","v":""},{"$f":"Checklist!AI526","v":""},{"$f":"Checklist!AJ526","v":""},{"$f":"Checklist!AK526","v":""},{"$f":"Checklist!AL526","v":""},{"$f":"Checklist!AM526","v":""},{"$f":"Checklist!AN526","v":""},{"$f":"Checklist!AO526","v":""},{"$f":"Checklist!AP526","v":""},{"$f":"Checklist!AQ526","v":""},"","","","",516,"","","","","","","","","","","","","","Block","","","","","","","","","","","","",null,null,null,null,null,null,null,null,null,null,null,null,null,null,null,null,null,null,null,null,null,null,null,null,null,null,null,null,null,null,null,null,null,null,null,null,null,null,null,null,null,null,null,null,null,null,null,null,null,null,null,null,null,null,null,null,null,null,null,null,null,null,null,null,null,null,null,null,null,null,null,null,null,null,null,null,null,null,null,null,null,null,null,null,null,null,null,null,null,null,null,null,null,null,null,null,null,null,null,null,null,null,null,null,null,null,null,null,null,null,null,null,null,null,null,null,null,null,null,null,null,null,null,null,null,null,null,null,null,null,null,null,null,null,null,null,null,null,null,null,null,null,null,null,null,null,null,null,null,null,null,null,null,null,null,null,null,null,null,null,null,null,null,null,null,{"$f":"'View Records'!AF521","v":""},{"$f":"'View Records'!AG521","v":""},{"$f":"'View Records'!AH521","v":""},{"$f":"'View Records'!AI521","v":""},{"$f":"'View Records'!AJ521","v":""},{"$f":"'View Records'!AK521","v":""},{"$f":"'View Records'!AL521","v":""},{"$f":"'View Records'!AM521","v":""},{"$f":"'View Records'!AN521","v":""},{"$f":"'View Records'!AO521","v":""},{"$f":"'View Records'!AP521","v":""},{"$f":"'View Records'!AQ521","v":""}]
[{"$f":"Checklist!AF530","v":""},{"$f":"Checklist!AG530","v":""},{"$f":"Checklist!AH530","v":""},{"$f":"Checklist!AI530","v":""},{"$f":"Checklist!AJ530","v":""},{"$f":"Checklist!AK530","v":""},{"$f":"Checklist!AL530","v":""},{"$f":"Checklist!AM530","v":""},{"$f":"Checklist!AN530","v":""},{"$f":"Checklist!AO530","v":""},{"$f":"Checklist!AP530","v":""},{"$f":"Checklist!AQ530","v":""},"","","","",520,"","","","","","","","","","","","","","Block","","","","","","","","","","","","",null,null,null,null,null,null,null,null,null,null,null,null,null,null,null,null,null,null,null,null,null,null,null,null,null,null,null,null,null,null,null,null,null,null,null,null,null,null,null,null,null,null,null,null,null,null,null,null,null,null,null,null,null,null,null,null,null,null,null,null,null,null,null,null,null,null,null,null,null,null,null,null,null,null,null,null,null,null,null,null,null,null,null,null,null,null,null,null,null,null,null,null,null,null,null,null,null,null,null,null,null,null,null,null,null,null,null,null,null,null,null,null,null,null,null,null,null,null,null,null,null,null,null,null,null,null,null,null,null,null,null,null,null,null,null,null,null,null,null,null,null,null,null,null,null,null,null,null,null,null,null,null,null,null,null,null,null,null,null,null,null,null,null,null,null,{"$f":"'View Records'!AF525","v":""},{"$f":"'View Records'!AG525","v":""},{"$f":"'View Records'!AH525","v":""},{"$f":"'View Records'!AI525","v":""},{"$f":"'View Records'!AJ525","v":""},{"$f":"'View Records'!AK525","v":""},{"$f":"'View Records'!AL525","v":""},{"$f":"'View Records'!AM525","v":""},{"$f":"'View Records'!AN525","v":""},{"$f":"'View Records'!AO525","v":""},{"$f":"'View Records'!AP525","v":""},{"$f":"'View Records'!AQ525","v":""}]
[{"$f":"Checklist!AF537","v":""},{"$f":"Checklist!AG537","v":""},{"$f":"Checklist!AH537","v":""},{"$f":"Checklist!AI537","v":""},{"$f":"Checklist!AJ537","v":""},{"$f":"Checklist!AK537","v":""},{"$f":"Checklist!AL537","v":""},{"$f":"Checklist!AM537","v":""},{"$f":"Checklist!AN537","v":""},{"$f":"Checklist!AO537","v":""},{"$f":"Checklist!AP537","v":""},{"$f":"Checklist!AQ537","v":""},"","","","",527,"","","","","","","","","","","","","","Block","","","","","","","","","","","","",null,null,null,null,null,null,null,null,null,null,null,null,null,null,null,null,null,null,null,null,null,null,null,null,null,null,null,null,null,null,null,null,null,null,null,null,null,null,null,null,null,null,null,null,null,null,null,null,null,null,null,null,null,null,null,null,null,null,null,null,null,null,null,null,null,null,null,null,null,null,null,null,null,null,null,null,null,null,null,null,null,null,null,null,null,null,null,null,null,null,null,null,null,null,null,null,null,null,null,null,null,null,null,null,null,null,null,null,null,null,null,null,null,null,null,null,null,null,null,null,null,null,null,null,null,null,null,null,null,null,null,null,null,null,null,null,null,null,null,null,null,null,null,null,null,null,null,null,null,null,null,null,null,null,null,null,null,null,null,null,null,null,null,null,null,{"$f":"'View Records'!AF532","v":""},{"$f":"'View Records'!AG532","v":""},{"$f":"'View Records'!AH532","v":""},{"$f":"'View Records'!AI532","v":""},{"$f":"'View Records'!AJ532","v":""},{"$f":"'View Records'!AK532","v":""},{"$f":"'View Records'!AL532","v":""},{"$f":"'View Records'!AM532","v":""},{"$f":"'View Records'!AN532","v":""},{"$f":"'View Records'!AO532","v":""},{"$f":"'View Records'!AP532","v":""},{"$f":"'View Records'!AQ532","v":""}]
[{"$f":"Checklist!AF548","v":""},{"$f":"Checklist!AG548","v":""},{"$f":"Checklist!AH548","v":""},{"$f":"Checklist!AI548","v":""},{"$f":"Checklist!AJ548","v":""},{"$f":"Checklist!AK548","v":""},{"$f":"Checklist!AL548","v":""},{"$f":"Checklist!AM548","v":""},{"$f":"Checklist!AN548","v":""},{"$f":"Checklist!AO548","v":""},{"$f":"Checklist!AP548","v":""},{"$f":"Checklist!AQ548","v":""},"","","","",538,"","","","","","","","","","","","","","Block","","","","","","","","","","","","",null,null,null,null,null,null,null,null,null,null,null,null,null,null,null,null,null,null,null,null,null,null,null,null,null,null,null,null,null,null,null,null,null,null,null,null,null,null,null,null,null,null,null,null,null,null,null,null,null,null,null,null,null,null,null,null,null,null,null,null,null,null,null,null,null,null,null,null,null,null,null,null,null,null,null,null,null,null,null,null,null,null,null,null,null,null,null,null,null,null,null,null,null,null,null,null,null,null,null,null,null,null,null,null,null,null,null,null,null,null,null,null,null,null,null,null,null,null,null,null,null,null,null,null,null,null,null,null,null,null,null,null,null,null,null,null,null,null,null,null,null,null,null,null,null,null,null,null,null,null,null,null,null,null,null,null,null,null,null,null,null,null,null,null,null,{"$f":"'View Records'!AF543","v":""},{"$f":"'View Records'!AG543","v":""},{"$f":"'View Records'!AH543","v":""},{"$f":"'View Records'!AI543","v":""},{"$f":"'View Records'!AJ543","v":""},{"$f":"'View Records'!AK543","v":""},{"$f":"'View Records'!AL543","v":""},{"$f":"'View Records'!AM543","v":""},{"$f":"'View Records'!AN543","v":""},{"$f":"'View Records'!AO543","v":""},{"$f":"'View Records'!AP543","v":""},{"$f":"'View Records'!AQ543","v":""}]
[{"$f":"Checklist!AF556","v":""},{"$f":"Checklist!AG556","v":""},{"$f":"Checklist!AH556","v":""},{"$f":"Checklist!AI556","v":""},{"$f":"Checklist!AJ556","v":""},{"$f":"Checklist!AK556","v":""},{"$f":"Checklist!AL556","v":""},{"$f":"Checklist!AM556","v":""},{"$f":"Checklist!AN556","v":""},{"$f":"Checklist!AO556","v":""},{"$f":"Checklist!AP556","v":""},{"$f":"Checklist!AQ556","v":""},"","","","",546,"","","","","","","","","","","","","","Block","","","","","","","","","","","","",null,null,null,null,null,null,null,null,null,null,null,null,null,null,null,null,null,null,null,null,null,null,null,null,null,null,null,null,null,null,null,null,null,null,null,null,null,null,null,null,null,null,null,null,null,null,null,null,null,null,null,null,null,null,null,null,null,null,null,null,null,null,null,null,null,null,null,null,null,null,null,null,null,null,null,null,null,null,null,null,null,null,null,null,null,null,null,null,null,null,null,null,null,null,null,null,null,null,null,null,null,null,null,null,null,null,null,null,null,null,null,null,null,null,null,null,null,null,null,null,null,null,null,null,null,null,null,null,null,null,null,null,null,null,null,null,null,null,null,null,null,null,null,null,null,null,null,null,null,null,null,null,null,null,null,null,null,null,null,null,null,null,null,null,null,{"$f":"'View Records'!AF551","v":""},{"$f":"'View Records'!AG551","v":""},{"$f":"'View Records'!AH551","v":""},{"$f":"'View Records'!AI551","v":""},{"$f":"'View Records'!AJ551","v":""},{"$f":"'View Records'!AK551","v":""},{"$f":"'View Records'!AL551","v":""},{"$f":"'View Records'!AM551","v":""},{"$f":"'View Records'!AN551","v":""},{"$f":"'View Records'!AO551","v":""},{"$f":"'View Records'!AP551","v":""},{"$f":"'View Records'!AQ551","v":""}]
[{"$f":"Checklist!AF565","v":""},{"$f":"Checklist!AG565","v":""},{"$f":"Checklist!AH565","v":""},{"$f":"Checklist!AI565","v":""},{"$f":"Checklist!AJ565","v":""},{"$f":"Checklist!AK565","v":""},{"$f":"Checklist!AL565","v":""},{"$f":"Checklist!AM565","v":""},{"$f":"Checklist!AN565","v":""},{"$f":"Checklist!AO565","v":""},{"$f":"Checklist!AP565","v":""},{"$f":"Checklist!AQ565","v":""},"","","","",555,"","","","","","","","","","","","","","Block","","","","","","","","","","","","",null,null,null,null,null,null,null,null,null,null,null,null,null,null,null,null,null,null,null,null,null,null,null,null,null,null,null,null,null,null,null,null,null,null,null,null,null,null,null,null,null,null,null,null,null,null,null,null,null,null,null,null,null,null,null,null,null,null,null,null,null,null,null,null,null,null,null,null,null,null,null,null,null,null,null,null,null,null,null,null,null,null,null,null,null,null,null,null,null,null,null,null,null,null,null,null,null,null,null,null,null,null,null,null,null,null,null,null,null,null,null,null,null,null,null,null,null,null,null,null,null,null,null,null,null,null,null,null,null,null,null,null,null,null,null,null,null,null,null,null,null,null,null,null,null,null,null,null,null,null,null,null,null,null,null,null,null,null,null,null,null,null,null,null,null,{"$f":"'View Records'!AF560","v":""},{"$f":"'View Records'!AG560","v":""},{"$f":"'View Records'!AH560","v":""},{"$f":"'View Records'!AI560","v":""},{"$f":"'View Records'!AJ560","v":""},{"$f":"'View Records'!AK560","v":""},{"$f":"'View Records'!AL560","v":""},{"$f":"'View Records'!AM560","v":""},{"$f":"'View Records'!AN560","v":""},{"$f":"'View Records'!AO560","v":""},{"$f":"'View Records'!AP560","v":""},{"$f":"'View Records'!AQ560","v":""}]
[{"$f":"Checklist!AF577","v":""},{"$f":"Checklist!AG577","v":""},{"$f":"Checklist!AH577","v":""},{"$f":"Checklist!AI577","v":""},{"$f":"Checklist!AJ577","v":""},{"$f":"Checklist!AK577","v":""},{"$f":"Checklist!AL577","v":""},{"$f":"Checklist!AM577","v":""},{"$f":"Checklist!AN577","v":""},{"$f":"Checklist!AO577","v":""},{"$f":"Checklist!AP577","v":""},{"$f":"Checklist!AQ577","v":""},"","","","",567,"","","","","","","","","","","","","","Block","","","","","","","","","","","","",null,null,null,null,null,null,null,null,null,null,null,null,null,null,null,null,null,null,null,null,null,null,null,null,null,null,null,null,null,null,null,null,null,null,null,null,null,null,null,null,null,null,null,null,null,null,null,null,null,null,null,null,null,null,null,null,null,null,null,null,null,null,null,null,null,null,null,null,null,null,null,null,null,null,null,null,null,null,null,null,null,null,null,null,null,null,null,null,null,null,null,null,null,null,null,null,null,null,null,null,null,null,null,null,null,null,null,null,null,null,null,null,null,null,null,null,null,null,null,null,null,null,null,null,null,null,null,null,null,null,null,null,null,null,null,null,null,null,null,null,null,null,null,null,null,null,null,null,null,null,null,null,null,null,null,null,null,null,null,null,null,null,null,null,null,{"$f":"'View Records'!AF572","v":""},{"$f":"'View Records'!AG572","v":""},{"$f":"'View Records'!AH572","v":""},{"$f":"'View Records'!AI572","v":""},{"$f":"'View Records'!AJ572","v":""},{"$f":"'View Records'!AK572","v":""},{"$f":"'View Records'!AL572","v":""},{"$f":"'View Records'!AM572","v":""},{"$f":"'View Records'!AN572","v":""},{"$f":"'View Records'!AO572","v":""},{"$f":"'View Records'!AP572","v":""},{"$f":"'View Records'!AQ572","v":""}]
[{"$f":"Checklist!AF584","v":""},{"$f":"Checklist!AG584","v":""},{"$f":"Checklist!AH584","v":""},{"$f":"Checklist!AI584","v":""},{"$f":"Checklist!AJ584","v":""},{"$f":"Checklist!AK584","v":""},{"$f":"Checklist!AL584","v":""},{"$f":"Checklist!AM584","v":""},{"$f":"Checklist!AN584","v":""},{"$f":"Checklist!AO584","v":""},{"$f":"Checklist!AP584","v":""},{"$f":"Checklist!AQ584","v":""},"","","","",574,"","","","","","","","","","","","","","Block","","","","","","","","","","","","",null,null,null,null,null,null,null,null,null,null,null,null,null,null,null,null,null,null,null,null,null,null,null,null,null,null,null,null,null,null,null,null,null,null,null,null,null,null,null,null,null,null,null,null,null,null,null,null,null,null,null,null,null,null,null,null,null,null,null,null,null,null,null,null,null,null,null,null,null,null,null,null,null,null,null,null,null,null,null,null,null,null,null,null,null,null,null,null,null,null,null,null,null,null,null,null,null,null,null,null,null,null,null,null,null,null,null,null,null,null,null,null,null,null,null,null,null,null,null,null,null,null,null,null,null,null,null,null,null,null,null,null,null,null,null,null,null,null,null,null,null,null,null,null,null,null,null,null,null,null,null,null,null,null,null,null,null,null,null,null,null,null,null,null,null,{"$f":"'View Records'!AF579","v":""},{"$f":"'View Records'!AG579","v":""},{"$f":"'View Records'!AH579","v":""},{"$f":"'View Records'!AI579","v":""},{"$f":"'View Records'!AJ579","v":""},{"$f":"'View Records'!AK579","v":""},{"$f":"'View Records'!AL579","v":""},{"$f":"'View Records'!AM579","v":""},{"$f":"'View Records'!AN579","v":""},{"$f":"'View Records'!AO579","v":""},{"$f":"'View Records'!AP579","v":""},{"$f":"'View Records'!AQ579","v":""}]
[{"$f":"Checklist!AF593","v":""},{"$f":"Checklist!AG593","v":""},{"$f":"Checklist!AH593","v":""},{"$f":"Checklist!AI593","v":""},{"$f":"Checklist!AJ593","v":""},{"$f":"Checklist!AK593","v":""},{"$f":"Checklist!AL593","v":""},{"$f":"Checklist!AM593","v":""},{"$f":"Checklist!AN593","v":""},{"$f":"Checklist!AO593","v":""},{"$f":"Checklist!AP593","v":""},{"$f":"Checklist!AQ593","v":""},"","","","",583,"","","","","","","","","","","","","","Block","","","","","","","","","","","","",null,null,null,null,null,null,null,null,null,null,null,null,null,null,null,null,null,null,null,null,null,null,null,null,null,null,null,null,null,null,null,null,null,null,null,null,null,null,null,null,null,null,null,null,null,null,null,null,null,null,null,null,null,null,null,null,null,null,null,null,null,null,null,null,null,null,null,null,null,null,null,null,null,null,null,null,null,null,null,null,null,null,null,null,null,null,null,null,null,null,null,null,null,null,null,null,null,null,null,null,null,null,null,null,null,null,null,null,null,null,null,null,null,null,null,null,null,null,null,null,null,null,null,null,null,null,null,null,null,null,null,null,null,null,null,null,null,null,null,null,null,null,null,null,null,null,null,null,null,null,null,null,null,null,null,null,null,null,null,null,null,null,null,null,null,{"$f":"'View Records'!AF588","v":""},{"$f":"'View Records'!AG588","v":""},{"$f":"'View Records'!AH588","v":""},{"$f":"'View Records'!AI588","v":""},{"$f":"'View Records'!AJ588","v":""},{"$f":"'View Records'!AK588","v":""},{"$f":"'View Records'!AL588","v":""},{"$f":"'View Records'!AM588","v":""},{"$f":"'View Records'!AN588","v":""},{"$f":"'View Records'!AO588","v":""},{"$f":"'View Records'!AP588","v":""},{"$f":"'View Records'!AQ588","v":""}]
[{"$f":"Checklist!AF601","v":""},{"$f":"Checklist!AG601","v":""},{"$f":"Checklist!AH601","v":""},{"$f":"Checklist!AI601","v":""},{"$f":"Checklist!AJ601","v":""},{"$f":"Checklist!AK601","v":""},{"$f":"Checklist!AL601","v":""},{"$f":"Checklist!AM601","v":""},{"$f":"Checklist!AN601","v":""},{"$f":"Checklist!AO601","v":""},{"$f":"Checklist!AP601","v":""},{"$f":"Checklist!AQ601","v":""},"","","","",591,"","","","","","","","","","","","","","Block","","","","","","","","","","","","",null,null,null,null,null,null,null,null,null,null,null,null,null,null,null,null,null,null,null,null,null,null,null,null,null,null,null,null,null,null,null,null,null,null,null,null,null,null,null,null,null,null,null,null,null,null,null,null,null,null,null,null,null,null,null,null,null,null,null,null,null,null,null,null,null,null,null,null,null,null,null,null,null,null,null,null,null,null,null,null,null,null,null,null,null,null,null,null,null,null,null,null,null,null,null,null,null,null,null,null,null,null,null,null,null,null,null,null,null,null,null,null,null,null,null,null,null,null,null,null,null,null,null,null,null,null,null,null,null,null,null,null,null,null,null,null,null,null,null,null,null,null,null,null,null,null,null,null,null,null,null,null,null,null,null,null,null,null,null,null,null,null,null,null,null,{"$f":"'View Records'!AF596","v":""},{"$f":"'View Records'!AG596","v":""},{"$f":"'View Records'!AH596","v":""},{"$f":"'View Records'!AI596","v":""},{"$f":"'View Records'!AJ596","v":""},{"$f":"'View Records'!AK596","v":""},{"$f":"'View Records'!AL596","v":""},{"$f":"'View Records'!AM596","v":""},{"$f":"'View Records'!AN596","v":""},{"$f":"'View Records'!AO596","v":""},{"$f":"'View Records'!AP596","v":""},{"$f":"'View Records'!AQ596","v":""}]
[{"$f":"Checklist!AF604","v":""},{"$f":"Checklist!AG604","v":""},{"$f":"Checklist!AH604","v":""},{"$f":"Checklist!AI604","v":""},{"$f":"Checklist!AJ604","v":""},{"$f":"Checklist!AK604","v":""},{"$f":"Checklist!AL604","v":""},{"$f":"Checklist!AM604","v":""},{"$f":"Checklist!AN604","v":""},{"$f":"Checklist!AO604","v":""},{"$f":"Checklist!AP604","v":""},{"$f":"Checklist!AQ604","v":""},"","","","",594,"","","","","","","","","","","","","","Block","","","","","","","","","","","","",null,null,null,null,null,null,null,null,null,null,null,null,null,null,null,null,null,null,null,null,null,null,null,null,null,null,null,null,null,null,null,null,null,null,null,null,null,null,null,null,null,null,null,null,null,null,null,null,null,null,null,null,null,null,null,null,null,null,null,null,null,null,null,null,null,null,null,null,null,null,null,null,null,null,null,null,null,null,null,null,null,null,null,null,null,null,null,null,null,null,null,null,null,null,null,null,null,null,null,null,null,null,null,null,null,null,null,null,null,null,null,null,null,null,null,null,null,null,null,null,null,null,null,null,null,null,null,null,null,null,null,null,null,null,null,null,null,null,null,null,null,null,null,null,null,null,null,null,null,null,null,null,null,null,null,null,null,null,null,null,null,null,null,null,null,{"$f":"'View Records'!AF599","v":""},{"$f":"'View Records'!AG599","v":""},{"$f":"'View Records'!AH599","v":""},{"$f":"'View Records'!AI599","v":""},{"$f":"'View Records'!AJ599","v":""},{"$f":"'View Records'!AK599","v":""},{"$f":"'View Records'!AL599","v":""},{"$f":"'View Records'!AM599","v":""},{"$f":"'View Records'!AN599","v":""},{"$f":"'View Records'!AO599","v":""},{"$f":"'View Records'!AP599","v":""},{"$f":"'View Records'!AQ599","v":""}]
[{"$f":"Checklist!AF613","v":""},{"$f":"Checklist!AG613","v":""},{"$f":"Checklist!AH613","v":""},{"$f":"Checklist!AI613","v":""},{"$f":"Checklist!AJ613","v":""},{"$f":"Checklist!AK613","v":""},{"$f":"Checklist!AL613","v":""},{"$f":"Checklist!AM613","v":""},{"$f":"Checklist!AN613","v":""},{"$f":"Checklist!AO613","v":""},{"$f":"Checklist!AP613","v":""},{"$f":"Checklist!AQ613","v":""},"","","","",603,"","","","","","","","","","","","","","Block","","","","","","","","","","","","",null,null,null,null,null,null,null,null,null,null,null,null,null,null,null,null,null,null,null,null,null,null,null,null,null,null,null,null,null,null,null,null,null,null,null,null,null,null,null,null,null,null,null,null,null,null,null,null,null,null,null,null,null,null,null,null,null,null,null,null,null,null,null,null,null,null,null,null,null,null,null,null,null,null,null,null,null,null,null,null,null,null,null,null,null,null,null,null,null,null,null,null,null,null,null,null,null,null,null,null,null,null,null,null,null,null,null,null,null,null,null,null,null,null,null,null,null,null,null,null,null,null,null,null,null,null,null,null,null,null,null,null,null,null,null,null,null,null,null,null,null,null,null,null,null,null,null,null,null,null,null,null,null,null,null,null,null,null,null,null,null,null,null,null,null,{"$f":"'View Records'!AF608","v":""},{"$f":"'View Records'!AG608","v":""},{"$f":"'View Records'!AH608","v":""},{"$f":"'View Records'!AI608","v":""},{"$f":"'View Records'!AJ608","v":""},{"$f":"'View Records'!AK608","v":""},{"$f":"'View Records'!AL608","v":""},{"$f":"'View Records'!AM608","v":""},{"$f":"'View Records'!AN608","v":""},{"$f":"'View Records'!AO608","v":""},{"$f":"'View Records'!AP608","v":""},{"$f":"'View Records'!AQ608","v":""}]
[{"$f":"Checklist!AF621","v":""},{"$f":"Checklist!AG621","v":""},{"$f":"Checklist!AH621","v":""},{"$f":"Checklist!AI621","v":""},{"$f":"Checklist!AJ621","v":""},{"$f":"Checklist!AK621","v":""},{"$f":"Checklist!AL621","v":""},{"$f":"Checklist!AM621","v":""},{"$f":"Checklist!AN621","v":""},{"$f":"Checklist!AO621","v":""},{"$f":"Checklist!AP621","v":""},{"$f":"Checklist!AQ621","v":""},"","","","",611,"","","","","","","","","","","","","","Block","","","","","","","","","","","","",null,null,null,null,null,null,null,null,null,null,null,null,null,null,null,null,null,null,null,null,null,null,null,null,null,null,null,null,null,null,null,null,null,null,null,null,null,null,null,null,null,null,null,null,null,null,null,null,null,null,null,null,null,null,null,null,null,null,null,null,null,null,null,null,null,null,null,null,null,null,null,null,null,null,null,null,null,null,null,null,null,null,null,null,null,null,null,null,null,null,null,null,null,null,null,null,null,null,null,null,null,null,null,null,null,null,null,null,null,null,null,null,null,null,null,null,null,null,null,null,null,null,null,null,null,null,null,null,null,null,null,null,null,null,null,null,null,null,null,null,null,null,null,null,null,null,null,null,null,null,null,null,null,null,null,null,null,null,null,null,null,null,null,null,null,{"$f":"'View Records'!AF616","v":""},{"$f":"'View Records'!AG616","v":""},{"$f":"'View Records'!AH616","v":""},{"$f":"'View Records'!AI616","v":""},{"$f":"'View Records'!AJ616","v":""},{"$f":"'View Records'!AK616","v":""},{"$f":"'View Records'!AL616","v":""},{"$f":"'View Records'!AM616","v":""},{"$f":"'View Records'!AN616","v":""},{"$f":"'View Records'!AO616","v":""},{"$f":"'View Records'!AP616","v":""},{"$f":"'View Records'!AQ616","v":""}]
[{"$f":"Checklist!AF632","v":""},{"$f":"Checklist!AG632","v":""},{"$f":"Checklist!AH632","v":""},{"$f":"Checklist!AI632","v":""},{"$f":"Checklist!AJ632","v":""},{"$f":"Checklist!AK632","v":""},{"$f":"Checklist!AL632","v":""},{"$f":"Checklist!AM632","v":""},{"$f":"Checklist!AN632","v":""},{"$f":"Checklist!AO632","v":""},{"$f":"Checklist!AP632","v":""},{"$f":"Checklist!AQ632","v":""},"","","","",622,"","","","","","","","","","","","","","Block","","","","","","","","","","","","",null,null,null,null,null,null,null,null,null,null,null,null,null,null,null,null,null,null,null,null,null,null,null,null,null,null,null,null,null,null,null,null,null,null,null,null,null,null,null,null,null,null,null,null,null,null,null,null,null,null,null,null,null,null,null,null,null,null,null,null,null,null,null,null,null,null,null,null,null,null,null,null,null,null,null,null,null,null,null,null,null,null,null,null,null,null,null,null,null,null,null,null,null,null,null,null,null,null,null,null,null,null,null,null,null,null,null,null,null,null,null,null,null,null,null,null,null,null,null,null,null,null,null,null,null,null,null,null,null,null,null,null,null,null,null,null,null,null,null,null,null,null,null,null,null,null,null,null,null,null,null,null,null,null,null,null,null,null,null,null,null,null,null,null,null,{"$f":"'View Records'!AF627","v":""},{"$f":"'View Records'!AG627","v":""},{"$f":"'View Records'!AH627","v":""},{"$f":"'View Records'!AI627","v":""},{"$f":"'View Records'!AJ627","v":""},{"$f":"'View Records'!AK627","v":""},{"$f":"'View Records'!AL627","v":""},{"$f":"'View Records'!AM627","v":""},{"$f":"'View Records'!AN627","v":""},{"$f":"'View Records'!AO627","v":""},{"$f":"'View Records'!AP627","v":""},{"$f":"'View Records'!AQ627","v":""}]
[{"$f":"Checklist!AF641","v":""},{"$f":"Checklist!AG641","v":""},{"$f":"Checklist!AH641","v":""},{"$f":"Checklist!AI641","v":""},{"$f":"Checklist!AJ641","v":""},{"$f":"Checklist!AK641","v":""},{"$f":"Checklist!AL641","v":""},{"$f":"Checklist!AM641","v":""},{"$f":"Checklist!AN641","v":""},{"$f":"Checklist!AO641","v":""},{"$f":"Checklist!AP641","v":""},{"$f":"Checklist!AQ641","v":""},"","","","",631,"","","","","","","","","","","","","","Block","","","","","","","","","","","","",null,null,null,null,null,null,null,null,null,null,null,null,null,null,null,null,null,null,null,null,null,null,null,null,null,null,null,null,null,null,null,null,null,null,null,null,null,null,null,null,null,null,null,null,null,null,null,null,null,null,null,null,null,null,null,null,null,null,null,null,null,null,null,null,null,null,null,null,null,null,null,null,null,null,null,null,null,null,null,null,null,null,null,null,null,null,null,null,null,null,null,null,null,null,null,null,null,null,null,null,null,null,null,null,null,null,null,null,null,null,null,null,null,null,null,null,null,null,null,null,null,null,null,null,null,null,null,null,null,null,null,null,null,null,null,null,null,null,null,null,null,null,null,null,null,null,null,null,null,null,null,null,null,null,null,null,null,null,null,null,null,null,null,null,null,{"$f":"'View Records'!AF636","v":""},{"$f":"'View Records'!AG636","v":""},{"$f":"'View Records'!AH636","v":""},{"$f":"'View Records'!AI636","v":""},{"$f":"'View Records'!AJ636","v":""},{"$f":"'View Records'!AK636","v":""},{"$f":"'View Records'!AL636","v":""},{"$f":"'View Records'!AM636","v":""},{"$f":"'View Records'!AN636","v":""},{"$f":"'View Records'!AO636","v":""},{"$f":"'View Records'!AP636","v":""},{"$f":"'View Records'!AQ636","v":""}]
[{"$f":"Checklist!AF650","v":""},{"$f":"Checklist!AG650","v":""},{"$f":"Checklist!AH650","v":""},{"$f":"Checklist!AI650","v":""},{"$f":"Checklist!AJ650","v":""},{"$f":"Checklist!AK650","v":""},{"$f":"Checklist!AL650","v":""},{"$f":"Checklist!AM650","v":""},{"$f":"Checklist!AN650","v":""},{"$f":"Checklist!AO650","v":""},{"$f":"Checklist!AP650","v":""},{"$f":"Checklist!AQ650","v":""},"","","","",640,"","","","","","","","","","","","","","Block","","","","","","","","","","","","",null,null,null,null,null,null,null,null,null,null,null,null,null,null,null,null,null,null,null,null,null,null,null,null,null,null,null,null,null,null,null,null,null,null,null,null,null,null,null,null,null,null,null,null,null,null,null,null,null,null,null,null,null,null,null,null,null,null,null,null,null,null,null,null,null,null,null,null,null,null,null,null,null,null,null,null,null,null,null,null,null,null,null,null,null,null,null,null,null,null,null,null,null,null,null,null,null,null,null,null,null,null,null,null,null,null,null,null,null,null,null,null,null,null,null,null,null,null,null,null,null,null,null,null,null,null,null,null,null,null,null,null,null,null,null,null,null,null,null,null,null,null,null,null,null,null,null,null,null,null,null,null,null,null,null,null,null,null,null,null,null,null,null,null,null,{"$f":"'View Records'!AF645","v":""},{"$f":"'View Records'!AG645","v":""},{"$f":"'View Records'!AH645","v":""},{"$f":"'View Records'!AI645","v":""},{"$f":"'View Records'!AJ645","v":""},{"$f":"'View Records'!AK645","v":""},{"$f":"'View Records'!AL645","v":""},{"$f":"'View Records'!AM645","v":""},{"$f":"'View Records'!AN645","v":""},{"$f":"'View Records'!AO645","v":""},{"$f":"'View Records'!AP645","v":""},{"$f":"'View Records'!AQ645","v":""}]
[{"$f":"Checklist!AF660","v":""},{"$f":"Checklist!AG660","v":""},{"$f":"Checklist!AH660","v":""},{"$f":"Checklist!AI660","v":""},{"$f":"Checklist!AJ660","v":""},{"$f":"Checklist!AK660","v":""},{"$f":"Checklist!AL660","v":""},{"$f":"Checklist!AM660","v":""},{"$f":"Checklist!AN660","v":""},{"$f":"Checklist!AO660","v":""},{"$f":"Checklist!AP660","v":""},{"$f":"Checklist!AQ660","v":""},"","","","",650,"","","","","","","","","","","","","","Block","","","","","","","","","","","","",null,null,null,null,null,null,null,null,null,null,null,null,null,null,null,null,null,null,null,null,null,null,null,null,null,null,null,null,null,null,null,null,null,null,null,null,null,null,null,null,null,null,null,null,null,null,null,null,null,null,null,null,null,null,null,null,null,null,null,null,null,null,null,null,null,null,null,null,null,null,null,null,null,null,null,null,null,null,null,null,null,null,null,null,null,null,null,null,null,null,null,null,null,null,null,null,null,null,null,null,null,null,null,null,null,null,null,null,null,null,null,null,null,null,null,null,null,null,null,null,null,null,null,null,null,null,null,null,null,null,null,null,null,null,null,null,null,null,null,null,null,null,null,null,null,null,null,null,null,null,null,null,null,null,null,null,null,null,null,null,null,null,null,null,null,{"$f":"'View Records'!AF655","v":""},{"$f":"'View Records'!AG655","v":""},{"$f":"'View Records'!AH655","v":""},{"$f":"'View Records'!AI655","v":""},{"$f":"'View Records'!AJ655","v":""},{"$f":"'View Records'!AK655","v":""},{"$f":"'View Records'!AL655","v":""},{"$f":"'View Records'!AM655","v":""},{"$f":"'View Records'!AN655","v":""},{"$f":"'View Records'!AO655","v":""},{"$f":"'View Records'!AP655","v":""},{"$f":"'View Records'!AQ655","v":""}]
[{"$f":"Checklist!AF668","v":""},{"$f":"Checklist!AG668","v":""},{"$f":"Checklist!AH668","v":""},{"$f":"Checklist!AI668","v":""},{"$f":"Checklist!AJ668","v":""},{"$f":"Checklist!AK668","v":""},{"$f":"Checklist!AL668","v":""},{"$f":"Checklist!AM668","v":""},{"$f":"Checklist!AN668","v":""},{"$f":"Checklist!AO668","v":""},{"$f":"Checklist!AP668","v":""},{"$f":"Checklist!AQ668","v":""},"","","","",658,"","","","","","","","","","","","","","Block","","","","","","","","","","","","",null,null,null,null,null,null,null,null,null,null,null,null,null,null,null,null,null,null,null,null,null,null,null,null,null,null,null,null,null,null,null,null,null,null,null,null,null,null,null,null,null,null,null,null,null,null,null,null,null,null,null,null,null,null,null,null,null,null,null,null,null,null,null,null,null,null,null,null,null,null,null,null,null,null,null,null,null,null,null,null,null,null,null,null,null,null,null,null,null,null,null,null,null,null,null,null,null,null,null,null,null,null,null,null,null,null,null,null,null,null,null,null,null,null,null,null,null,null,null,null,null,null,null,null,null,null,null,null,null,null,null,null,null,null,null,null,null,null,null,null,null,null,null,null,null,null,null,null,null,null,null,null,null,null,null,null,null,null,null,null,null,null,null,null,null,{"$f":"'View Records'!AF663","v":""},{"$f":"'View Records'!AG663","v":""},{"$f":"'View Records'!AH663","v":""},{"$f":"'View Records'!AI663","v":""},{"$f":"'View Records'!AJ663","v":""},{"$f":"'View Records'!AK663","v":""},{"$f":"'View Records'!AL663","v":""},{"$f":"'View Records'!AM663","v":""},{"$f":"'View Records'!AN663","v":""},{"$f":"'View Records'!AO663","v":""},{"$f":"'View Records'!AP663","v":""},{"$f":"'View Records'!AQ663","v":""}]
[{"$f":"Checklist!AF671","v":""},{"$f":"Checklist!AG671","v":""},{"$f":"Checklist!AH671","v":""},{"$f":"Checklist!AI671","v":""},{"$f":"Checklist!AJ671","v":""},{"$f":"Checklist!AK671","v":""},{"$f":"Checklist!AL671","v":""},{"$f":"Checklist!AM671","v":""},{"$f":"Checklist!AN671","v":""},{"$f":"Checklist!AO671","v":""},{"$f":"Checklist!AP671","v":""},{"$f":"Checklist!AQ671","v":""},"","","","",661,"","","","","","","","","","","","","","Block","","","","","","","","","","","","",null,null,null,null,null,null,null,null,null,null,null,null,null,null,null,null,null,null,null,null,null,null,null,null,null,null,null,null,null,null,null,null,null,null,null,null,null,null,null,null,null,null,null,null,null,null,null,null,null,null,null,null,null,null,null,null,null,null,null,null,null,null,null,null,null,null,null,null,null,null,null,null,null,null,null,null,null,null,null,null,null,null,null,null,null,null,null,null,null,null,null,null,null,null,null,null,null,null,null,null,null,null,null,null,null,null,null,null,null,null,null,null,null,null,null,null,null,null,null,null,null,null,null,null,null,null,null,null,null,null,null,null,null,null,null,null,null,null,null,null,null,null,null,null,null,null,null,null,null,null,null,null,null,null,null,null,null,null,null,null,null,null,null,null,null,{"$f":"'View Records'!AF666","v":""},{"$f":"'View Records'!AG666","v":""},{"$f":"'View Records'!AH666","v":""},{"$f":"'View Records'!AI666","v":""},{"$f":"'View Records'!AJ666","v":""},{"$f":"'View Records'!AK666","v":""},{"$f":"'View Records'!AL666","v":""},{"$f":"'View Records'!AM666","v":""},{"$f":"'View Records'!AN666","v":""},{"$f":"'View Records'!AO666","v":""},{"$f":"'View Records'!AP666","v":""},{"$f":"'View Records'!AQ666","v":""}]
[{"$f":"Checklist!AF680","v":""},{"$f":"Checklist!AG680","v":""},{"$f":"Checklist!AH680","v":""},{"$f":"Checklist!AI680","v":""},{"$f":"Checklist!AJ680","v":""},{"$f":"Checklist!AK680","v":""},{"$f":"Checklist!AL680","v":""},{"$f":"Checklist!AM680","v":""},{"$f":"Checklist!AN680","v":""},{"$f":"Checklist!AO680","v":""},{"$f":"Checklist!AP680","v":""},{"$f":"Checklist!AQ680","v":""},"","","","",670,"","","","","","","","","","","","","","Block","","","","","","","","","","","","",null,null,null,null,null,null,null,null,null,null,null,null,null,null,null,null,null,null,null,null,null,null,null,null,null,null,null,null,null,null,null,null,null,null,null,null,null,null,null,null,null,null,null,null,null,null,null,null,null,null,null,null,null,null,null,null,null,null,null,null,null,null,null,null,null,null,null,null,null,null,null,null,null,null,null,null,null,null,null,null,null,null,null,null,null,null,null,null,null,null,null,null,null,null,null,null,null,null,null,null,null,null,null,null,null,null,null,null,null,null,null,null,null,null,null,null,null,null,null,null,null,null,null,null,null,null,null,null,null,null,null,null,null,null,null,null,null,null,null,null,null,null,null,null,null,null,null,null,null,null,null,null,null,null,null,null,null,null,null,null,null,null,null,null,null,{"$f":"'View Records'!AF675","v":""},{"$f":"'View Records'!AG675","v":""},{"$f":"'View Records'!AH675","v":""},{"$f":"'View Records'!AI675","v":""},{"$f":"'View Records'!AJ675","v":""},{"$f":"'View Records'!AK675","v":""},{"$f":"'View Records'!AL675","v":""},{"$f":"'View Records'!AM675","v":""},{"$f":"'View Records'!AN675","v":""},{"$f":"'View Records'!AO675","v":""},{"$f":"'View Records'!AP675","v":""},{"$f":"'View Records'!AQ675","v":""}]
[{"$f":"Checklist!AF688","v":""},{"$f":"Checklist!AG688","v":""},{"$f":"Checklist!AH688","v":""},{"$f":"Checklist!AI688","v":""},{"$f":"Checklist!AJ688","v":""},{"$f":"Checklist!AK688","v":""},{"$f":"Checklist!AL688","v":""},{"$f":"Checklist!AM688","v":""},{"$f":"Checklist!AN688","v":""},{"$f":"Checklist!AO688","v":""},{"$f":"Checklist!AP688","v":""},{"$f":"Checklist!AQ688","v":""},"","","","",678,"","","","","","","","","","","","","","Block","","","","","","","","","","","","",null,null,null,null,null,null,null,null,null,null,null,null,null,null,null,null,null,null,null,null,null,null,null,null,null,null,null,null,null,null,null,null,null,null,null,null,null,null,null,null,null,null,null,null,null,null,null,null,null,null,null,null,null,null,null,null,null,null,null,null,null,null,null,null,null,null,null,null,null,null,null,null,null,null,null,null,null,null,null,null,null,null,null,null,null,null,null,null,null,null,null,null,null,null,null,null,null,null,null,null,null,null,null,null,null,null,null,null,null,null,null,null,null,null,null,null,null,null,null,null,null,null,null,null,null,null,null,null,null,null,null,null,null,null,null,null,null,null,null,null,null,null,null,null,null,null,null,null,null,null,null,null,null,null,null,null,null,null,null,null,null,null,null,null,null,{"$f":"'View Records'!AF683","v":""},{"$f":"'View Records'!AG683","v":""},{"$f":"'View Records'!AH683","v":""},{"$f":"'View Records'!AI683","v":""},{"$f":"'View Records'!AJ683","v":""},{"$f":"'View Records'!AK683","v":""},{"$f":"'View Records'!AL683","v":""},{"$f":"'View Records'!AM683","v":""},{"$f":"'View Records'!AN683","v":""},{"$f":"'View Records'!AO683","v":""},{"$f":"'View Records'!AP683","v":""},{"$f":"'View Records'!AQ683","v":""}]
[{"$f":"Checklist!AF699","v":""},{"$f":"Checklist!AG699","v":""},{"$f":"Checklist!AH699","v":""},{"$f":"Checklist!AI699","v":""},{"$f":"Checklist!AJ699","v":""},{"$f":"Checklist!AK699","v":""},{"$f":"Checklist!AL699","v":""},{"$f":"Checklist!AM699","v":""},{"$f":"Checklist!AN699","v":""},{"$f":"Checklist!AO699","v":""},{"$f":"Checklist!AP699","v":""},{"$f":"Checklist!AQ699","v":""},"","","","",689,"","","","","","","","","","","","","","Block","","","","","","","","","","","","",null,null,null,null,null,null,null,null,null,null,null,null,null,null,null,null,null,null,null,null,null,null,null,null,null,null,null,null,null,null,null,null,null,null,null,null,null,null,null,null,null,null,null,null,null,null,null,null,null,null,null,null,null,null,null,null,null,null,null,null,null,null,null,null,null,null,null,null,null,null,null,null,null,null,null,null,null,null,null,null,null,null,null,null,null,null,null,null,null,null,null,null,null,null,null,null,null,null,null,null,null,null,null,null,null,null,null,null,null,null,null,null,null,null,null,null,null,null,null,null,null,null,null,null,null,null,null,null,null,null,null,null,null,null,null,null,null,null,null,null,null,null,null,null,null,null,null,null,null,null,null,null,null,null,null,null,null,null,null,null,null,null,null,null,null,{"$f":"'View Records'!AF694","v":""},{"$f":"'View Records'!AG694","v":""},{"$f":"'View Records'!AH694","v":""},{"$f":"'View Records'!AI694","v":""},{"$f":"'View Records'!AJ694","v":""},{"$f":"'View Records'!AK694","v":""},{"$f":"'View Records'!AL694","v":""},{"$f":"'View Records'!AM694","v":""},{"$f":"'View Records'!AN694","v":""},{"$f":"'View Records'!AO694","v":""},{"$f":"'View Records'!AP694","v":""},{"$f":"'View Records'!AQ694","v":""}]
[{"$f":"'By Name'!AC3","v":""},{"$f":"'By Name'!AD3","v":""},{"$f":"'By Name'!AE3","v":""},{"$f":"'By Name'!AF3","v":""},{"$f":"'By Name'!AG3","v":""},{"$f":"'By Name'!AH3","v":""},{"$f":"'By Name'!AI3","v":""},{"$f":"'By Name'!AJ3","v":""},{"$f":"'By Name'!AK3","v":""},{"$f":"'By Name'!AL3","v":""},{"$f":"'By Name'!AM3","v":""},{"$f":"'By Name'!AN3","v":""},"","","","",698,"","","","","","","","","","","","","","Block","","","","","","","","","","","","",null,null,null,null,null,null,null,null,null,null,null,null,null,null,null,null,null,null,null,null,null,null,null,null,null,null,null,null,null,null,null,null,null,null,null,null,null,null,null,null,null,null,null,null,null,null,null,null,null,null,null,null,null,null,null,null,null,null,null,null,null,null,null,null,null,null,null,null,null,null,null,null,null,null,null,null,null,null,null,null,null,null,null,null,null,null,null,null,null,null,null,null,null,null,null,null,null,null,null,null,null,null,null,null,null,null,null,null,null,null,null,null,null,null,null,null,null,null,null,null,null,null,null,null,null,null,null,null,null,null,null,null,null,null,null,null,null,null,null,null,null,null,null,null,null,null,null,null,null,null,null,null,null,null,null,null,null,null,null,null,null,null,null,null,null,{"$f":"'View Records'!AF703","v":""},{"$f":"'View Records'!AG703","v":""},{"$f":"'View Records'!AH703","v":""},{"$f":"'View Records'!AI703","v":""},{"$f":"'View Records'!AJ703","v":""},{"$f":"'View Records'!AK703","v":""},{"$f":"'View Records'!AL703","v":""},{"$f":"'View Records'!AM703","v":""},{"$f":"'View Records'!AN703","v":""},{"$f":"'View Records'!AO703","v":""},{"$f":"'View Records'!AP703","v":""},{"$f":"'View Records'!AQ703","v":""}]
[{"$f":"'By Name'!AC12","v":""},{"$f":"'By Name'!AD12","v":""},{"$f":"'By Name'!AE12","v":""},{"$f":"'By Name'!AF12","v":""},{"$f":"'By Name'!AG12","v":""},{"$f":"'By Name'!AH12","v":""},{"$f":"'By Name'!AI12","v":""},{"$f":"'By Name'!AJ12","v":""},{"$f":"'By Name'!AK12","v":""},{"$f":"'By Name'!AL12","v":""},{"$f":"'By Name'!AM12","v":""},{"$f":"'By Name'!AN12","v":""},"","","","",707,"","","","","","","","","","","","","","Block","","","","","","","","","","","","",null,null,null,null,null,null,null,null,null,null,null,null,null,null,null,null,null,null,null,null,null,null,null,null,null,null,null,null,null,null,null,null,null,null,null,null,null,null,null,null,null,null,null,null,null,null,null,null,null,null,null,null,null,null,null,null,null,null,null,null,null,null,null,null,null,null,null,null,null,null,null,null,null,null,null,null,null,null,null,null,null,null,null,null,null,null,null,null,null,null,null,null,null,null,null,null,null,null,null,null,null,null,null,null,null,null,null,null,null,null,null,null,null,null,null,null,null,null,null,null,null,null,null,null,null,null,null,null,null,null,null,null,null,null,null,null,null,null,null,null,null,null,null,null,null,null,null,null,null,null,null,null,null,null,null,null,null,null,null,null,null,null,null,null,null,{"$f":"'View Records'!AF712","v":""},{"$f":"'View Records'!AG712","v":""},{"$f":"'View Records'!AH712","v":""},{"$f":"'View Records'!AI712","v":""},{"$f":"'View Records'!AJ712","v":""},{"$f":"'View Records'!AK712","v":""},{"$f":"'View Records'!AL712","v":""},{"$f":"'View Records'!AM712","v":""},{"$f":"'View Records'!AN712","v":""},{"$f":"'View Records'!AO712","v":""},{"$f":"'View Records'!AP712","v":""},{"$f":"'View Records'!AQ712","v":""}]
[{"$f":"'By Name'!AC22","v":""},{"$f":"'By Name'!AD22","v":""},{"$f":"'By Name'!AE22","v":""},{"$f":"'By Name'!AF22","v":""},{"$f":"'By Name'!AG22","v":""},{"$f":"'By Name'!AH22","v":""},{"$f":"'By Name'!AI22","v":""},{"$f":"'By Name'!AJ22","v":""},{"$f":"'By Name'!AK22","v":""},{"$f":"'By Name'!AL22","v":""},{"$f":"'By Name'!AM22","v":""},{"$f":"'By Name'!AN22","v":""},"","","","",717,"","","","","","","","","","","","","","Block","","","","","","","","","","","","",null,null,null,null,null,null,null,null,null,null,null,null,null,null,null,null,null,null,null,null,null,null,null,null,null,null,null,null,null,null,null,null,null,null,null,null,null,null,null,null,null,null,null,null,null,null,null,null,null,null,null,null,null,null,null,null,null,null,null,null,null,null,null,null,null,null,null,null,null,null,null,null,null,null,null,null,null,null,null,null,null,null,null,null,null,null,null,null,null,null,null,null,null,null,null,null,null,null,null,null,null,null,null,null,null,null,null,null,null,null,null,null,null,null,null,null,null,null,null,null,null,null,null,null,null,null,null,null,null,null,null,null,null,null,null,null,null,null,null,null,null,null,null,null,null,null,null,null,null,null,null,null,null,null,null,null,null,null,null,null,null,null,null,null,null,{"$f":"'View Records'!AF722","v":""},{"$f":"'View Records'!AG722","v":""},{"$f":"'View Records'!AH722","v":""},{"$f":"'View Records'!AI722","v":""},{"$f":"'View Records'!AJ722","v":""},{"$f":"'View Records'!AK722","v":""},{"$f":"'View Records'!AL722","v":""},{"$f":"'View Records'!AM722","v":""},{"$f":"'View Records'!AN722","v":""},{"$f":"'View Records'!AO722","v":""},{"$f":"'View Records'!AP722","v":""},{"$f":"'View Records'!AQ722","v":""}]
[{"$f":"'By Name'!AC23","v":""},{"$f":"'By Name'!AD23","v":""},{"$f":"'By Name'!AE23","v":""},{"$f":"'By Name'!AF23","v":""},{"$f":"'By Name'!AG23","v":""},{"$f":"'By Name'!AH23","v":""},{"$f":"'By Name'!AI23","v":""},{"$f":"'By Name'!AJ23","v":""},{"$f":"'By Name'!AK23","v":""},{"$f":"'By Name'!AL23","v":""},{"$f":"'By Name'!AM23","v":""},{"$f":"'By Name'!AN23","v":""},"","","","",718,"","","","","","","","","","","","","","Block","","","","","","","","","","","","",null,null,null,null,null,null,null,null,null,null,null,null,null,null,null,null,null,null,null,null,null,null,null,null,null,null,null,null,null,null,null,null,null,null,null,null,null,null,null,null,null,null,null,null,null,null,null,null,null,null,null,null,null,null,null,null,null,null,null,null,null,null,null,null,null,null,null,null,null,null,null,null,null,null,null,null,null,null,null,null,null,null,null,null,null,null,null,null,null,null,null,null,null,null,null,null,null,null,null,null,null,null,null,null,null,null,null,null,null,null,null,null,null,null,null,null,null,null,null,null,null,null,null,null,null,null,null,null,null,null,null,null,null,null,null,null,null,null,null,null,null,null,null,null,null,null,null,null,null,null,null,null,null,null,null,null,null,null,null,null,null,null,null,null,null,{"$f":"'View Records'!AF723","v":""},{"$f":"'View Records'!AG723","v":""},{"$f":"'View Records'!AH723","v":""},{"$f":"'View Records'!AI723","v":""},{"$f":"'View Records'!AJ723","v":""},{"$f":"'View Records'!AK723","v":""},{"$f":"'View Records'!AL723","v":""},{"$f":"'View Records'!AM723","v":""},{"$f":"'View Records'!AN723","v":""},{"$f":"'View Records'!AO723","v":""},{"$f":"'View Records'!AP723","v":""},{"$f":"'View Records'!AQ723","v":""}]
[{"$f":"'By Name'!AC32","v":""},{"$f":"'By Name'!AD32","v":""},{"$f":"'By Name'!AE32","v":""},{"$f":"'By Name'!AF32","v":""},{"$f":"'By Name'!AG32","v":""},{"$f":"'By Name'!AH32","v":""},{"$f":"'By Name'!AI32","v":""},{"$f":"'By Name'!AJ32","v":""},{"$f":"'By Name'!AK32","v":""},{"$f":"'By Name'!AL32","v":""},{"$f":"'By Name'!AM32","v":""},{"$f":"'By Name'!AN32","v":""},"","","","",727,"","","","","","","","","","","","","","Block","","","","","","","","","","","","",null,null,null,null,null,null,null,null,null,null,null,null,null,null,null,null,null,null,null,null,null,null,null,null,null,null,null,null,null,null,null,null,null,null,null,null,null,null,null,null,null,null,null,null,null,null,null,null,null,null,null,null,null,null,null,null,null,null,null,null,null,null,null,null,null,null,null,null,null,null,null,null,null,null,null,null,null,null,null,null,null,null,null,null,null,null,null,null,null,null,null,null,null,null,null,null,null,null,null,null,null,null,null,null,null,null,null,null,null,null,null,null,null,null,null,null,null,null,null,null,null,null,null,null,null,null,null,null,null,null,null,null,null,null,null,null,null,null,null,null,null,null,null,null,null,null,null,null,null,null,null,null,null,null,null,null,null,null,null,null,null,null,null,null,null,{"$f":"'View Records'!AF732","v":""},{"$f":"'View Records'!AG732","v":""},{"$f":"'View Records'!AH732","v":""},{"$f":"'View Records'!AI732","v":""},{"$f":"'View Records'!AJ732","v":""},{"$f":"'View Records'!AK732","v":""},{"$f":"'View Records'!AL732","v":""},{"$f":"'View Records'!AM732","v":""},{"$f":"'View Records'!AN732","v":""},{"$f":"'View Records'!AO732","v":""},{"$f":"'View Records'!AP732","v":""},{"$f":"'View Records'!AQ732","v":""}]
[{"$f":"'By Name'!AC42","v":""},{"$f":"'By Name'!AD42","v":""},{"$f":"'By Name'!AE42","v":""},{"$f":"'By Name'!AF42","v":""},{"$f":"'By Name'!AG42","v":""},{"$f":"'By Name'!AH42","v":""},{"$f":"'By Name'!AI42","v":""},{"$f":"'By Name'!AJ42","v":""},{"$f":"'By Name'!AK42","v":""},{"$f":"'By Name'!AL42","v":""},{"$f":"'By Name'!AM42","v":""},{"$f":"'By Name'!AN42","v":""},"","","","",737,"","","","","","","","","","","","","","Block","","","","","","","","","","","","",null,null,null,null,null,null,null,null,null,null,null,null,null,null,null,null,null,null,null,null,null,null,null,null,null,null,null,null,null,null,null,null,null,null,null,null,null,null,null,null,null,null,null,null,null,null,null,null,null,null,null,null,null,null,null,null,null,null,null,null,null,null,null,null,null,null,null,null,null,null,null,null,null,null,null,null,null,null,null,null,null,null,null,null,null,null,null,null,null,null,null,null,null,null,null,null,null,null,null,null,null,null,null,null,null,null,null,null,null,null,null,null,null,null,null,null,null,null,null,null,null,null,null,null,null,null,null,null,null,null,null,null,null,null,null,null,null,null,null,null,null,null,null,null,null,null,null,null,null,null,null,null,null,null,null,null,null,null,null,null,null,null,null,null,null,{"$f":"'View Records'!AF742","v":""},{"$f":"'View Records'!AG742","v":""},{"$f":"'View Records'!AH742","v":""},{"$f":"'View Records'!AI742","v":""},{"$f":"'View Records'!AJ742","v":""},{"$f":"'View Records'!AK742","v":""},{"$f":"'View Records'!AL742","v":""},{"$f":"'View Records'!AM742","v":""},{"$f":"'View Records'!AN742","v":""},{"$f":"'View Records'!AO742","v":""},{"$f":"'View Records'!AP742","v":""},{"$f":"'View Records'!AQ742","v":""}]
[{"$f":"'By Name'!AC50","v":""},{"$f":"'By Name'!AD50","v":""},{"$f":"'By Name'!AE50","v":""},{"$f":"'By Name'!AF50","v":""},{"$f":"'By Name'!AG50","v":""},{"$f":"'By Name'!AH50","v":""},{"$f":"'By Name'!AI50","v":""},{"$f":"'By Name'!AJ50","v":""},{"$f":"'By Name'!AK50","v":""},{"$f":"'By Name'!AL50","v":""},{"$f":"'By Name'!AM50","v":""},{"$f":"'By Name'!AN50","v":""},"","","","",745,"","","","","","","","","","","","","","Block","","","","","","","","","","","","",null,null,null,null,null,null,null,null,null,null,null,null,null,null,null,null,null,null,null,null,null,null,null,null,null,null,null,null,null,null,null,null,null,null,null,null,null,null,null,null,null,null,null,null,null,null,null,null,null,null,null,null,null,null,null,null,null,null,null,null,null,null,null,null,null,null,null,null,null,null,null,null,null,null,null,null,null,null,null,null,null,null,null,null,null,null,null,null,null,null,null,null,null,null,null,null,null,null,null,null,null,null,null,null,null,null,null,null,null,null,null,null,null,null,null,null,null,null,null,null,null,null,null,null,null,null,null,null,null,null,null,null,null,null,null,null,null,null,null,null,null,null,null,null,null,null,null,null,null,null,null,null,null,null,null,null,null,null,null,null,null,null,null,null,null,{"$f":"'View Records'!AF750","v":""},{"$f":"'View Records'!AG750","v":""},{"$f":"'View Records'!AH750","v":""},{"$f":"'View Records'!AI750","v":""},{"$f":"'View Records'!AJ750","v":""},{"$f":"'View Records'!AK750","v":""},{"$f":"'View Records'!AL750","v":""},{"$f":"'View Records'!AM750","v":""},{"$f":"'View Records'!AN750","v":""},{"$f":"'View Records'!AO750","v":""},{"$f":"'View Records'!AP750","v":""},{"$f":"'View Records'!AQ750","v":""}]
[{"$f":"'By Name'!AC61","v":""},{"$f":"'By Name'!AD61","v":""},{"$f":"'By Name'!AE61","v":""},{"$f":"'By Name'!AF61","v":""},{"$f":"'By Name'!AG61","v":""},{"$f":"'By Name'!AH61","v":""},{"$f":"'By Name'!AI61","v":""},{"$f":"'By Name'!AJ61","v":""},{"$f":"'By Name'!AK61","v":""},{"$f":"'By Name'!AL61","v":""},{"$f":"'By Name'!AM61","v":""},{"$f":"'By Name'!AN61","v":""},"","","","",756,"","","","","","","","","","","","","","Block","","","","","","","","","","","","",null,null,null,null,null,null,null,null,null,null,null,null,null,null,null,null,null,null,null,null,null,null,null,null,null,null,null,null,null,null,null,null,null,null,null,null,null,null,null,null,null,null,null,null,null,null,null,null,null,null,null,null,null,null,null,null,null,null,null,null,null,null,null,null,null,null,null,null,null,null,null,null,null,null,null,null,null,null,null,null,null,null,null,null,null,null,null,null,null,null,null,null,null,null,null,null,null,null,null,null,null,null,null,null,null,null,null,null,null,null,null,null,null,null,null,null,null,null,null,null,null,null,null,null,null,null,null,null,null,null,null,null,null,null,null,null,null,null,null,null,null,null,null,null,null,null,null,null,null,null,null,null,null,null,null,null,null,null,null,null,null,null,null,null,null,{"$f":"'View Records'!AF761","v":""},{"$f":"'View Records'!AG761","v":""},{"$f":"'View Records'!AH761","v":""},{"$f":"'View Records'!AI761","v":""},{"$f":"'View Records'!AJ761","v":""},{"$f":"'View Records'!AK761","v":""},{"$f":"'View Records'!AL761","v":""},{"$f":"'View Records'!AM761","v":""},{"$f":"'View Records'!AN761","v":""},{"$f":"'View Records'!AO761","v":""},{"$f":"'View Records'!AP761","v":""},{"$f":"'View Records'!AQ761","v":""}]
[{"$f":"'By Name'!AC70","v":""},{"$f":"'By Name'!AD70","v":""},{"$f":"'By Name'!AE70","v":""},{"$f":"'By Name'!AF70","v":""},{"$f":"'By Name'!AG70","v":""},{"$f":"'By Name'!AH70","v":""},{"$f":"'By Name'!AI70","v":""},{"$f":"'By Name'!AJ70","v":""},{"$f":"'By Name'!AK70","v":""},{"$f":"'By Name'!AL70","v":""},{"$f":"'By Name'!AM70","v":""},{"$f":"'By Name'!AN70","v":""},"","","","",765,"","","","","","","","","","","","","","Block","","","","","","","","","","","","",null,null,null,null,null,null,null,null,null,null,null,null,null,null,null,null,null,null,null,null,null,null,null,null,null,null,null,null,null,null,null,null,null,null,null,null,null,null,null,null,null,null,null,null,null,null,null,null,null,null,null,null,null,null,null,null,null,null,null,null,null,null,null,null,null,null,null,null,null,null,null,null,null,null,null,null,null,null,null,null,null,null,null,null,null,null,null,null,null,null,null,null,null,null,null,null,null,null,null,null,null,null,null,null,null,null,null,null,null,null,null,null,null,null,null,null,null,null,null,null,null,null,null,null,null,null,null,null,null,null,null,null,null,null,null,null,null,null,null,null,null,null,null,null,null,null,null,null,null,null,null,null,null,null,null,null,null,null,null,null,null,null,null,null,null,{"$f":"'View Records'!AF770","v":""},{"$f":"'View Records'!AG770","v":""},{"$f":"'View Records'!AH770","v":""},{"$f":"'View Records'!AI770","v":""},{"$f":"'View Records'!AJ770","v":""},{"$f":"'View Records'!AK770","v":""},{"$f":"'View Records'!AL770","v":""},{"$f":"'View Records'!AM770","v":""},{"$f":"'View Records'!AN770","v":""},{"$f":"'View Records'!AO770","v":""},{"$f":"'View Records'!AP770","v":""},{"$f":"'View Records'!AQ770","v":""}]
[{"$f":"'By Name'!AC79","v":""},{"$f":"'By Name'!AD79","v":""},{"$f":"'By Name'!AE79","v":""},{"$f":"'By Name'!AF79","v":""},{"$f":"'By Name'!AG79","v":""},{"$f":"'By Name'!AH79","v":""},{"$f":"'By Name'!AI79","v":""},{"$f":"'By Name'!AJ79","v":""},{"$f":"'By Name'!AK79","v":""},{"$f":"'By Name'!AL79","v":""},{"$f":"'By Name'!AM79","v":""},{"$f":"'By Name'!AN79","v":""},"","","","",774,"","","","","","","","","","","","","","Block","","","","","","","","","","",{"$f":"IF(ISNUMBER($P771),VLOOKUP(SMALL($R$2:$R$1197,ROW()-5),$R$2:$AD$1197,12,FALSE),\"\")","v":""},{"$f":"IF(ISNUMBER($P771),VLOOKUP(SMALL($R$2:$R$1197,ROW()-5),$R$2:$AD$1197,13,FALSE),\"\")","v":""},null,null,null,null,null,null,null,null,null,null,null,null,null,null,null,null,null,null,null,null,null,null,null,null,null,null,null,null,null,null,null,null,null,null,null,null,null,null,null,null,null,null,null,null,null,null,null,null,null,null,null,null,null,null,null,null,null,null,null,null,null,null,null,null,null,null,null,null,null,null,null,null,null,null,null,null,null,null,null,null,null,null,null,null,null,null,null,null,null,null,null,null,null,null,null,null,null,null,null,null,null,null,null,null,null,null,null,null,null,null,null,null,null,null,null,null,null,null,null,null,null,null,null,null,null,null,null,null,null,null,null,null,null,null,null,null,null,null,null,null,null,null,null,null,null,null,null,null,null,null,null,null,null,null,null,null,null,null,null,null,null,null,null,null,null,{"$f":"'View Records'!AF779","v":""},{"$f":"'View Records'!AG779","v":""},{"$f":"'View Records'!AH779","v":""},{"$f":"'View Records'!AI779","v":""},{"$f":"'View Records'!AJ779","v":""},{"$f":"'View Records'!AK779","v":""},{"$f":"'View Records'!AL779","v":""},{"$f":"'View Records'!AM779","v":""},{"$f":"'View Records'!AN779","v":""},{"$f":"'View Records'!AO779","v":""},{"$f":"'View Records'!AP779","v":""},{"$f":"'View Records'!AQ779","v":""}]
[{"$f":"'By Name'!AC89","v":""},{"$f":"'By Name'!AD89","v":""},{"$f":"'By Name'!AE89","v":""},{"$f":"'By Name'!AF89","v":""},{"$f":"'By Name'!AG89","v":""},{"$f":"'By Name'!AH89","v":""},{"$f":"'By Name'!AI89","v":""},{"$f":"'By Name'!AJ89","v":""},{"$f":"'By Name'!AK89","v":""},{"$f":"'By Name'!AL89","v":""},{"$f":"'By Name'!AM89","v":""},{"$f":"'By Name'!AN89","v":""},"","","","",784,"","","","","","","","","","","","","","Block","","","","","","","","","","","","",null,null,null,null,null,null,null,null,null,null,null,null,null,null,null,null,null,null,null,null,null,null,null,null,null,null,null,null,null,null,null,null,null,null,null,null,null,null,null,null,null,null,null,null,null,null,null,null,null,null,null,null,null,null,null,null,null,null,null,null,null,null,null,null,null,null,null,null,null,null,null,null,null,null,null,null,null,null,null,null,null,null,null,null,null,null,null,null,null,null,null,null,null,null,null,null,null,null,null,null,null,null,null,null,null,null,null,null,null,null,null,null,null,null,null,null,null,null,null,null,null,null,null,null,null,null,null,null,null,null,null,null,null,null,null,null,null,null,null,null,null,null,null,null,null,null,null,null,null,null,null,null,null,null,null,null,null,null,null,null,null,null,null,null,null,{"$f":"'View Records'!AF789","v":""},{"$f":"'View Records'!AG789","v":""},{"$f":"'View Records'!AH789","v":""},{"$f":"'View Records'!AI789","v":""},{"$f":"'View Records'!AJ789","v":""},{"$f":"'View Records'!AK789","v":""},{"$f":"'View Records'!AL789","v":""},{"$f":"'View Records'!AM789","v":""},{"$f":"'View Records'!AN789","v":""},{"$f":"'View Records'!AO789","v":""},{"$f":"'View Records'!AP789","v":""},{"$f":"'View Records'!AQ789","v":""}]
[{"$f":"'By Name'!AC90","v":""},{"$f":"'By Name'!AD90","v":""},{"$f":"'By Name'!AE90","v":""},{"$f":"'By Name'!AF90","v":""},{"$f":"'By Name'!AG90","v":""},{"$f":"'By Name'!AH90","v":""},{"$f":"'By Name'!AI90","v":""},{"$f":"'By Name'!AJ90","v":""},{"$f":"'By Name'!AK90","v":""},{"$f":"'By Name'!AL90","v":""},{"$f":"'By Name'!AM90","v":""},{"$f":"'By Name'!AN90","v":""},"","","","",785,"","","","","","","","","","","","","","Block","","","","","","","","","","","","",null,null,null,null,null,null,null,null,null,null,null,null,null,null,null,null,null,null,null,null,null,null,null,null,null,null,null,null,null,null,null,null,null,null,null,null,null,null,null,null,null,null,null,null,null,null,null,null,null,null,null,null,null,null,null,null,null,null,null,null,null,null,null,null,null,null,null,null,null,null,null,null,null,null,null,null,null,null,null,null,null,null,null,null,null,null,null,null,null,null,null,null,null,null,null,null,null,null,null,null,null,null,null,null,null,null,null,null,null,null,null,null,null,null,null,null,null,null,null,null,null,null,null,null,null,null,null,null,null,null,null,null,null,null,null,null,null,null,null,null,null,null,null,null,null,null,null,null,null,null,null,null,null,null,null,null,null,null,null,null,null,null,null,null,null,{"$f":"'View Records'!AF790","v":""},{"$f":"'View Records'!AG790","v":""},{"$f":"'View Records'!AH790","v":""},{"$f":"'View Records'!AI790","v":""},{"$f":"'View Records'!AJ790","v":""},{"$f":"'View Records'!AK790","v":""},{"$f":"'View Records'!AL790","v":""},{"$f":"'View Records'!AM790","v":""},{"$f":"'View Records'!AN790","v":""},{"$f":"'View Records'!AO790","v":""},{"$f":"'View Records'!AP790","v":""},{"$f":"'View Records'!AQ790","v":""}]
[{"$f":"'By Name'!AC99","v":""},{"$f":"'By Name'!AD99","v":""},{"$f":"'By Name'!AE99","v":""},{"$f":"'By Name'!AF99","v":""},{"$f":"'By Name'!AG99","v":""},{"$f":"'By Name'!AH99","v":""},{"$f":"'By Name'!AI99","v":""},{"$f":"'By Name'!AJ99","v":""},{"$f":"'By Name'!AK99","v":""},{"$f":"'By Name'!AL99","v":""},{"$f":"'By Name'!AM99","v":""},{"$f":"'By Name'!AN99","v":""},"","","","",794,"","","","","","","","","","","","","","Block","","","","","","","","","","","","",null,null,null,null,null,null,null,null,null,null,null,null,null,null,null,null,null,null,null,null,null,null,null,null,null,null,null,null,null,null,null,null,null,null,null,null,null,null,null,null,null,null,null,null,null,null,null,null,null,null,null,null,null,null,null,null,null,null,null,null,null,null,null,null,null,null,null,null,null,null,null,null,null,null,null,null,null,null,null,null,null,null,null,null,null,null,null,null,null,null,null,null,null,null,null,null,null,null,null,null,null,null,null,null,null,null,null,null,null,null,null,null,null,null,null,null,null,null,null,null,null,null,null,null,null,null,null,null,null,null,null,null,null,null,null,null,null,null,null,null,null,null,null,null,null,null,null,null,null,null,null,null,null,null,null,null,null,null,null,null,null,null,null,null,null,{"$f":"'View Records'!AF799","v":""},{"$f":"'View Records'!AG799","v":""},{"$f":"'View Records'!AH799","v":""},{"$f":"'View Records'!AI799","v":""},{"$f":"'View Records'!AJ799","v":""},{"$f":"'View Records'!AK799","v":""},{"$f":"'View Records'!AL799","v":""},{"$f":"'View Records'!AM799","v":""},{"$f":"'View Records'!AN799","v":""},{"$f":"'View Records'!AO799","v":""},{"$f":"'View Records'!AP799","v":""},{"$f":"'View Records'!AQ799","v":""}]
[{"$f":"'By Name'!AC109","v":""},{"$f":"'By Name'!AD109","v":""},{"$f":"'By Name'!AE109","v":""},{"$f":"'By Name'!AF109","v":""},{"$f":"'By Name'!AG109","v":""},{"$f":"'By Name'!AH109","v":""},{"$f":"'By Name'!AI109","v":""},{"$f":"'By Name'!AJ109","v":""},{"$f":"'By Name'!AK109","v":""},{"$f":"'By Name'!AL109","v":""},{"$f":"'By Name'!AM109","v":""},{"$f":"'By Name'!AN109","v":""},"","","","",804,"","","","","","","","","","","","","","Block","","","","","","","","","","","","",null,null,null,null,null,null,null,null,null,null,null,null,null,null,null,null,null,null,null,null,null,null,null,null,null,null,null,null,null,null,null,null,null,null,null,null,null,null,null,null,null,null,null,null,null,null,null,null,null,null,null,null,null,null,null,null,null,null,null,null,null,null,null,null,null,null,null,null,null,null,null,null,null,null,null,null,null,null,null,null,null,null,null,null,null,null,null,null,null,null,null,null,null,null,null,null,null,null,null,null,null,null,null,null,null,null,null,null,null,null,null,null,null,null,null,null,null,null,null,null,null,null,null,null,null,null,null,null,null,null,null,null,null,null,null,null,null,null,null,null,null,null,null,null,null,null,null,null,null,null,null,null,null,null,null,null,null,null,null,null,null,null,null,null,null,{"$f":"'View Records'!AF809","v":""},{"$f":"'View Records'!AG809","v":""},{"$f":"'View Records'!AH809","v":""},{"$f":"'View Records'!AI809","v":""},{"$f":"'View Records'!AJ809","v":""},{"$f":"'View Records'!AK809","v":""},{"$f":"'View Records'!AL809","v":""},{"$f":"'View Records'!AM809","v":""},{"$f":"'View Records'!AN809","v":""},{"$f":"'View Records'!AO809","v":""},{"$f":"'View Records'!AP809","v":""},{"$f":"'View Records'!AQ809","v":""}]
[{"$f":"'By Name'!AC118","v":""},{"$f":"'By Name'!AD118","v":""},{"$f":"'By Name'!AE118","v":""},{"$f":"'By Name'!AF118","v":""},{"$f":"'By Name'!AG118","v":""},{"$f":"'By Name'!AH118","v":""},{"$f":"'By Name'!AI118","v":""},{"$f":"'By Name'!AJ118","v":""},{"$f":"'By Name'!AK118","v":""},{"$f":"'By Name'!AL118","v":""},{"$f":"'By Name'!AM118","v":""},{"$f":"'By Name'!AN118","v":""},"","","","",813,"","","","","","","","","","","","","","Block","","","","","","","","","","","","",null,null,null,null,null,null,null,null,null,null,null,null,null,null,null,null,null,null,null,null,null,null,null,null,null,null,null,null,null,null,null,null,null,null,null,null,null,null,null,null,null,null,null,null,null,null,null,null,null,null,null,null,null,null,null,null,null,null,null,null,null,null,null,null,null,null,null,null,null,null,null,null,null,null,null,null,null,null,null,null,null,null,null,null,null,null,null,null,null,null,null,null,null,null,null,null,null,null,null,null,null,null,null,null,null,null,null,null,null,null,null,null,null,null,null,null,null,null,null,null,null,null,null,null,null,null,null,null,null,null,null,null,null,null,null,null,null,null,null,null,null,null,null,null,null,null,null,null,null,null,null,null,null,null,null,null,null,null,null,null,null,null,null,null,null,{"$f":"'View Records'!AF818","v":""},{"$f":"'View Records'!AG818","v":""},{"$f":"'View Records'!AH818","v":""},{"$f":"'View Records'!AI818","v":""},{"$f":"'View Records'!AJ818","v":""},{"$f":"'View Records'!AK818","v":""},{"$f":"'View Records'!AL818","v":""},{"$f":"'View Records'!AM818","v":""},{"$f":"'View Records'!AN818","v":""},{"$f":"'View Records'!AO818","v":""},{"$f":"'View Records'!AP818","v":""},{"$f":"'View Records'!AQ818","v":""}]
[{"$f":"'By Name'!AC128","v":""},{"$f":"'By Name'!AD128","v":""},{"$f":"'By Name'!AE128","v":""},{"$f":"'By Name'!AF128","v":""},{"$f":"'By Name'!AG128","v":""},{"$f":"'By Name'!AH128","v":""},{"$f":"'By Name'!AI128","v":""},{"$f":"'By Name'!AJ128","v":""},{"$f":"'By Name'!AK128","v":""},{"$f":"'By Name'!AL128","v":""},{"$f":"'By Name'!AM128","v":""},{"$f":"'By Name'!AN128","v":""},"","","","",823,"","","","","","","","","","","","","","Block","","","","","","","","","","","","",null,null,null,null,null,null,null,null,null,null,null,null,null,null,null,null,null,null,null,null,null,null,null,null,null,null,null,null,null,null,null,null,null,null,null,null,null,null,null,null,null,null,null,null,null,null,null,null,null,null,null,null,null,null,null,null,null,null,null,null,null,null,null,null,null,null,null,null,null,null,null,null,null,null,null,null,null,null,null,null,null,null,null,null,null,null,null,null,null,null,null,null,null,null,null,null,null,null,null,null,null,null,null,null,null,null,null,null,null,null,null,null,null,null,null,null,null,null,null,null,null,null,null,null,null,null,null,null,null,null,null,null,null,null,null,null,null,null,null,null,null,null,null,null,null,null,null,null,null,null,null,null,null,null,null,null,null,null,null,null,null,null,null,null,null,{"$f":"'View Records'!AF828","v":""},{"$f":"'View Records'!AG828","v":""},{"$f":"'View Records'!AH828","v":""},{"$f":"'View Records'!AI828","v":""},{"$f":"'View Records'!AJ828","v":""},{"$f":"'View Records'!AK828","v":""},{"$f":"'View Records'!AL828","v":""},{"$f":"'View Records'!AM828","v":""},{"$f":"'View Records'!AN828","v":""},{"$f":"'View Records'!AO828","v":""},{"$f":"'View Records'!AP828","v":""},{"$f":"'View Records'!AQ828","v":""}]
[{"$f":"'By Name'!AC137","v":""},{"$f":"'By Name'!AD137","v":""},{"$f":"'By Name'!AE137","v":""},{"$f":"'By Name'!AF137","v":""},{"$f":"'By Name'!AG137","v":""},{"$f":"'By Name'!AH137","v":""},{"$f":"'By Name'!AI137","v":""},{"$f":"'By Name'!AJ137","v":""},{"$f":"'By Name'!AK137","v":""},{"$f":"'By Name'!AL137","v":""},{"$f":"'By Name'!AM137","v":""},{"$f":"'By Name'!AN137","v":""},"","","","",832,"","","","","","","","","","","","","","Block","","","","","","","","","","","","",null,null,null,null,null,null,null,null,null,null,null,null,null,null,null,null,null,null,null,null,null,null,null,null,null,null,null,null,null,null,null,null,null,null,null,null,null,null,null,null,null,null,null,null,null,null,null,null,null,null,null,null,null,null,null,null,null,null,null,null,null,null,null,null,null,null,null,null,null,null,null,null,null,null,null,null,null,null,null,null,null,null,null,null,null,null,null,null,null,null,null,null,null,null,null,null,null,null,null,null,null,null,null,null,null,null,null,null,null,null,null,null,null,null,null,null,null,null,null,null,null,null,null,null,null,null,null,null,null,null,null,null,null,null,null,null,null,null,null,null,null,null,null,null,null,null,null,null,null,null,null,null,null,null,null,null,null,null,null,null,null,null,null,null,null,{"$f":"'View Records'!AF837","v":""},{"$f":"'View Records'!AG837","v":""},{"$f":"'View Records'!AH837","v":""},{"$f":"'View Records'!AI837","v":""},{"$f":"'View Records'!AJ837","v":""},{"$f":"'View Records'!AK837","v":""},{"$f":"'View Records'!AL837","v":""},{"$f":"'View Records'!AM837","v":""},{"$f":"'View Records'!AN837","v":""},{"$f":"'View Records'!AO837","v":""},{"$f":"'View Records'!AP837","v":""},{"$f":"'View Records'!AQ837","v":""}]
[{"$f":"'By Name'!AC146","v":""},{"$f":"'By Name'!AD146","v":""},{"$f":"'By Name'!AE146","v":""},{"$f":"'By Name'!AF146","v":""},{"$f":"'By Name'!AG146","v":""},{"$f":"'By Name'!AH146","v":""},{"$f":"'By Name'!AI146","v":""},{"$f":"'By Name'!AJ146","v":""},{"$f":"'By Name'!AK146","v":""},{"$f":"'By Name'!AL146","v":""},{"$f":"'By Name'!AM146","v":""},{"$f":"'By Name'!AN146","v":""},"","","","",841,"","","","","","","","","","","","","","Block","","","","","","","","","","","","",null,null,null,null,null,null,null,null,null,null,null,null,null,null,null,null,null,null,null,null,null,null,null,null,null,null,null,null,null,null,null,null,null,null,null,null,null,null,null,null,null,null,null,null,null,null,null,null,null,null,null,null,null,null,null,null,null,null,null,null,null,null,null,null,null,null,null,null,null,null,null,null,null,null,null,null,null,null,null,null,null,null,null,null,null,null,null,null,null,null,null,null,null,null,null,null,null,null,null,null,null,null,null,null,null,null,null,null,null,null,null,null,null,null,null,null,null,null,null,null,null,null,null,null,null,null,null,null,null,null,null,null,null,null,null,null,null,null,null,null,null,null,null,null,null,null,null,null,null,null,null,null,null,null,null,null,null,null,null,null,null,null,null,null,null,{"$f":"'View Records'!AF846","v":""},{"$f":"'View Records'!AG846","v":""},{"$f":"'View Records'!AH846","v":""},{"$f":"'View Records'!AI846","v":""},{"$f":"'View Records'!AJ846","v":""},{"$f":"'View Records'!AK846","v":""},{"$f":"'View Records'!AL846","v":""},{"$f":"'View Records'!AM846","v":""},{"$f":"'View Records'!AN846","v":""},{"$f":"'View Records'!AO846","v":""},{"$f":"'View Records'!AP846","v":""},{"$f":"'View Records'!AQ846","v":""}]
[{"$f":"'By Name'!AC148","v":""},{"$f":"'By Name'!AD148","v":""},{"$f":"'By Name'!AE148","v":""},{"$f":"'By Name'!AF148","v":""},{"$f":"'By Name'!AG148","v":""},{"$f":"'By Name'!AH148","v":""},{"$f":"'By Name'!AI148","v":""},{"$f":"'By Name'!AJ148","v":""},{"$f":"'By Name'!AK148","v":""},{"$f":"'By Name'!AL148","v":""},{"$f":"'By Name'!AM148","v":""},{"$f":"'By Name'!AN148","v":""},"","","","",843,"","","","","","","","","","","","","","Block","","","","","","","","","","","","",null,null,null,null,null,null,null,null,null,null,null,null,null,null,null,null,null,null,null,null,null,null,null,null,null,null,null,null,null,null,null,null,null,null,null,null,null,null,null,null,null,null,null,null,null,null,null,null,null,null,null,null,null,null,null,null,null,null,null,null,null,null,null,null,null,null,null,null,null,null,null,null,null,null,null,null,null,null,null,null,null,null,null,null,null,null,null,null,null,null,null,null,null,null,null,null,null,null,null,null,null,null,null,null,null,null,null,null,null,null,null,null,null,null,null,null,null,null,null,null,null,null,null,null,null,null,null,null,null,null,null,null,null,null,null,null,null,null,null,null,null,null,null,null,null,null,null,null,null,null,null,null,null,null,null,null,null,null,null,null,null,null,null,null,null,{"$f":"'View Records'!AF848","v":""},{"$f":"'View Records'!AG848","v":""},{"$f":"'View Records'!AH848","v":""},{"$f":"'View Records'!AI848","v":""},{"$f":"'View Records'!AJ848","v":""},{"$f":"'View Records'!AK848","v":""},{"$f":"'View Records'!AL848","v":""},{"$f":"'View Records'!AM848","v":""},{"$f":"'View Records'!AN848","v":""},{"$f":"'View Records'!AO848","v":""},{"$f":"'View Records'!AP848","v":""},{"$f":"'View Records'!AQ848","v":""}]
[{"$f":"'By Name'!AC157","v":""},{"$f":"'By Name'!AD157","v":""},{"$f":"'By Name'!AE157","v":""},{"$f":"'By Name'!AF157","v":""},{"$f":"'By Name'!AG157","v":""},{"$f":"'By Name'!AH157","v":""},{"$f":"'By Name'!AI157","v":""},{"$f":"'By Name'!AJ157","v":""},{"$f":"'By Name'!AK157","v":""},{"$f":"'By Name'!AL157","v":""},{"$f":"'By Name'!AM157","v":""},{"$f":"'By Name'!AN157","v":""},"","","","",852,"","","","","","","","","","","","","","Block","","","","","","","","","","","","",null,null,null,null,null,null,null,null,null,null,null,null,null,null,null,null,null,null,null,null,null,null,null,null,null,null,null,null,null,null,null,null,null,null,null,null,null,null,null,null,null,null,null,null,null,null,null,null,null,null,null,null,null,null,null,null,null,null,null,null,null,null,null,null,null,null,null,null,null,null,null,null,null,null,null,null,null,null,null,null,null,null,null,null,null,null,null,null,null,null,null,null,null,null,null,null,null,null,null,null,null,null,null,null,null,null,null,null,null,null,null,null,null,null,null,null,null,null,null,null,null,null,null,null,null,null,null,null,null,null,null,null,null,null,null,null,null,null,null,null,null,null,null,null,null,null,null,null,null,null,null,null,null,null,null,null,null,null,null,null,null,null,null,null,null,{"$f":"'View Records'!AF857","v":""},{"$f":"'View Records'!AG857","v":""},{"$f":"'View Records'!AH857","v":""},{"$f":"'View Records'!AI857","v":""},{"$f":"'View Records'!AJ857","v":""},{"$f":"'View Records'!AK857","v":""},{"$f":"'View Records'!AL857","v":""},{"$f":"'View Records'!AM857","v":""},{"$f":"'View Records'!AN857","v":""},{"$f":"'View Records'!AO857","v":""},{"$f":"'View Records'!AP857","v":""},{"$f":"'View Records'!AQ857","v":""}]
[{"$f":"'By Name'!AC166","v":""},{"$f":"'By Name'!AD166","v":""},{"$f":"'By Name'!AE166","v":""},{"$f":"'By Name'!AF166","v":""},{"$f":"'By Name'!AG166","v":""},{"$f":"'By Name'!AH166","v":""},{"$f":"'By Name'!AI166","v":""},{"$f":"'By Name'!AJ166","v":""},{"$f":"'By Name'!AK166","v":""},{"$f":"'By Name'!AL166","v":""},{"$f":"'By Name'!AM166","v":""},{"$f":"'By Name'!AN166","v":""},"","","","",861,"","","","","","","","","","","","","","Block","","","","","","","","","","","","",null,null,null,null,null,null,null,null,null,null,null,null,null,null,null,null,null,null,null,null,null,null,null,null,null,null,null,null,null,null,null,null,null,null,null,null,null,null,null,null,null,null,null,null,null,null,null,null,null,null,null,null,null,null,null,null,null,null,null,null,null,null,null,null,null,null,null,null,null,null,null,null,null,null,null,null,null,null,null,null,null,null,null,null,null,null,null,null,null,null,null,null,null,null,null,null,null,null,null,null,null,null,null,null,null,null,null,null,null,null,null,null,null,null,null,null,null,null,null,null,null,null,null,null,null,null,null,null,null,null,null,null,null,null,null,null,null,null,null,null,null,null,null,null,null,null,null,null,null,null,null,null,null,null,null,null,null,null,null,null,null,null,null,null,null,{"$f":"'View Records'!AF866","v":""},{"$f":"'View Records'!AG866","v":""},{"$f":"'View Records'!AH866","v":""},{"$f":"'View Records'!AI866","v":""},{"$f":"'View Records'!AJ866","v":""},{"$f":"'View Records'!AK866","v":""},{"$f":"'View Records'!AL866","v":""},{"$f":"'View Records'!AM866","v":""},{"$f":"'View Records'!AN866","v":""},{"$f":"'View Records'!AO866","v":""},{"$f":"'View Records'!AP866","v":""},{"$f":"'View Records'!AQ866","v":""}]
[{"$f":"'By Name'!AC176","v":""},{"$f":"'By Name'!AD176","v":""},{"$f":"'By Name'!AE176","v":""},{"$f":"'By Name'!AF176","v":""},{"$f":"'By Name'!AG176","v":""},{"$f":"'By Name'!AH176","v":""},{"$f":"'By Name'!AI176","v":""},{"$f":"'By Name'!AJ176","v":""},{"$f":"'By Name'!AK176","v":""},{"$f":"'By Name'!AL176","v":""},{"$f":"'By Name'!AM176","v":""},{"$f":"'By Name'!AN176","v":""},"","","","",871,"","","","","","","","","","","","","","Block","","","","","","","","","","","","",null,null,null,null,null,null,null,null,null,null,null,null,null,null,null,null,null,null,null,null,null,null,null,null,null,null,null,null,null,null,null,null,null,null,null,null,null,null,null,null,null,null,null,null,null,null,null,null,null,null,null,null,null,null,null,null,null,null,null,null,null,null,null,null,null,null,null,null,null,null,null,null,null,null,null,null,null,null,null,null,null,null,null,null,null,null,null,null,null,null,null,null,null,null,null,null,null,null,null,null,null,null,null,null,null,null,null,null,null,null,null,null,null,null,null,null,null,null,null,null,null,null,null,null,null,null,null,null,null,null,null,null,null,null,null,null,null,null,null,null,null,null,null,null,null,null,null,null,null,null,null,null,null,null,null,null,null,null,null,null,null,null,null,null,null,{"$f":"'View Records'!AF876","v":""},{"$f":"'View Records'!AG876","v":""},{"$f":"'View Records'!AH876","v":""},{"$f":"'View Records'!AI876","v":""},{"$f":"'View Records'!AJ876","v":""},{"$f":"'View Records'!AK876","v":""},{"$f":"'View Records'!AL876","v":""},{"$f":"'View Records'!AM876","v":""},{"$f":"'View Records'!AN876","v":""},{"$f":"'View Records'!AO876","v":""},{"$f":"'View Records'!AP876","v":""},{"$f":"'View Records'!AQ876","v":""}]
[{"$f":"'By Name'!AC185","v":""},{"$f":"'By Name'!AD185","v":""},{"$f":"'By Name'!AE185","v":""},{"$f":"'By Name'!AF185","v":""},{"$f":"'By Name'!AG185","v":""},{"$f":"'By Name'!AH185","v":""},{"$f":"'By Name'!AI185","v":""},{"$f":"'By Name'!AJ185","v":""},{"$f":"'By Name'!AK185","v":""},{"$f":"'By Name'!AL185","v":""},{"$f":"'By Name'!AM185","v":""},{"$f":"'By Name'!AN185","v":""},"","","","",880,"","","","","","","","","","","","","","Block","","","","","","","","","","","","",null,null,null,null,null,null,null,null,null,null,null,null,null,null,null,null,null,null,null,null,null,null,null,null,null,null,null,null,null,null,null,null,null,null,null,null,null,null,null,null,null,null,null,null,null,null,null,null,null,null,null,null,null,null,null,null,null,null,null,null,null,null,null,null,null,null,null,null,null,null,null,null,null,null,null,null,null,null,null,null,null,null,null,null,null,null,null,null,null,null,null,null,null,null,null,null,null,null,null,null,null,null,null,null,null,null,null,null,null,null,null,null,null,null,null,null,null,null,null,null,null,null,null,null,null,null,null,null,null,null,null,null,null,null,null,null,null,null,null,null,null,null,null,null,null,null,null,null,null,null,null,null,null,null,null,null,null,null,null,null,null,null,null,null,null,{"$f":"'View Records'!AF885","v":""},{"$f":"'View Records'!AG885","v":""},{"$f":"'View Records'!AH885","v":""},{"$f":"'View Records'!AI885","v":""},{"$f":"'View Records'!AJ885","v":""},{"$f":"'View Records'!AK885","v":""},{"$f":"'View Records'!AL885","v":""},{"$f":"'View Records'!AM885","v":""},{"$f":"'View Records'!AN885","v":""},{"$f":"'View Records'!AO885","v":""},{"$f":"'View Records'!AP885","v":""},{"$f":"'View Records'!AQ885","v":""}]
[{"$f":"'By Name'!AC195","v":""},{"$f":"'By Name'!AD195","v":""},{"$f":"'By Name'!AE195","v":""},{"$f":"'By Name'!AF195","v":""},{"$f":"'By Name'!AG195","v":""},{"$f":"'By Name'!AH195","v":""},{"$f":"'By Name'!AI195","v":""},{"$f":"'By Name'!AJ195","v":""},{"$f":"'By Name'!AK195","v":""},{"$f":"'By Name'!AL195","v":""},{"$f":"'By Name'!AM195","v":""},{"$f":"'By Name'!AN195","v":""},"","","","",890,"","","","","","","","","","","","","","Block","","","","","","","","","","","","",null,null,null,null,null,null,null,null,null,null,null,null,null,null,null,null,null,null,null,null,null,null,null,null,null,null,null,null,null,null,null,null,null,null,null,null,null,null,null,null,null,null,null,null,null,null,null,null,null,null,null,null,null,null,null,null,null,null,null,null,null,null,null,null,null,null,null,null,null,null,null,null,null,null,null,null,null,null,null,null,null,null,null,null,null,null,null,null,null,null,null,null,null,null,null,null,null,null,null,null,null,null,null,null,null,null,null,null,null,null,null,null,null,null,null,null,null,null,null,null,null,null,null,null,null,null,null,null,null,null,null,null,null,null,null,null,null,null,null,null,null,null,null,null,null,null,null,null,null,null,null,null,null,null,null,null,null,null,null,null,null,null,null,null,null,{"$f":"'View Records'!AF895","v":""},{"$f":"'View Records'!AG895","v":""},{"$f":"'View Records'!AH895","v":""},{"$f":"'View Records'!AI895","v":""},{"$f":"'View Records'!AJ895","v":""},{"$f":"'View Records'!AK895","v":""},{"$f":"'View Records'!AL895","v":""},{"$f":"'View Records'!AM895","v":""},{"$f":"'View Records'!AN895","v":""},{"$f":"'View Records'!AO895","v":""},{"$f":"'View Records'!AP895","v":""},{"$f":"'View Records'!AQ895","v":""}]
[{"$f":"'By Name'!AC204","v":""},{"$f":"'By Name'!AD204","v":""},{"$f":"'By Name'!AE204","v":""},{"$f":"'By Name'!AF204","v":""},{"$f":"'By Name'!AG204","v":""},{"$f":"'By Name'!AH204","v":""},{"$f":"'By Name'!AI204","v":""},{"$f":"'By Name'!AJ204","v":""},{"$f":"'By Name'!AK204","v":""},{"$f":"'By Name'!AL204","v":""},{"$f":"'By Name'!AM204","v":""},{"$f":"'By Name'!AN204","v":""},"","","","",899,"","","","","","","","","","","","","","Block","","","","","","","","","","","","",null,null,null,null,null,null,null,null,null,null,null,null,null,null,null,null,null,null,null,null,null,null,null,null,null,null,null,null,null,null,null,null,null,null,null,null,null,null,null,null,null,null,null,null,null,null,null,null,null,null,null,null,null,null,null,null,null,null,null,null,null,null,null,null,null,null,null,null,null,null,null,null,null,null,null,null,null,null,null,null,null,null,null,null,null,null,null,null,null,null,null,null,null,null,null,null,null,null,null,null,null,null,null,null,null,null,null,null,null,null,null,null,null,null,null,null,null,null,null,null,null,null,null,null,null,null,null,null,null,null,null,null,null,null,null,null,null,null,null,null,null,null,null,null,null,null,null,null,null,null,null,null,null,null,null,null,null,null,null,null,null,null,null,null,null,{"$f":"'View Records'!AF904","v":""},{"$f":"'View Records'!AG904","v":""},{"$f":"'View Records'!AH904","v":""},{"$f":"'View Records'!AI904","v":""},{"$f":"'View Records'!AJ904","v":""},{"$f":"'View Records'!AK904","v":""},{"$f":"'View Records'!AL904","v":""},{"$f":"'View Records'!AM904","v":""},{"$f":"'View Records'!AN904","v":""},{"$f":"'View Records'!AO904","v":""},{"$f":"'View Records'!AP904","v":""},{"$f":"'View Records'!AQ904","v":""}]
[{"$f":"'By Name'!AC213","v":""},{"$f":"'By Name'!AD213","v":""},{"$f":"'By Name'!AE213","v":""},{"$f":"'By Name'!AF213","v":""},{"$f":"'By Name'!AG213","v":""},{"$f":"'By Name'!AH213","v":""},{"$f":"'By Name'!AI213","v":""},{"$f":"'By Name'!AJ213","v":""},{"$f":"'By Name'!AK213","v":""},{"$f":"'By Name'!AL213","v":""},{"$f":"'By Name'!AM213","v":""},{"$f":"'By Name'!AN213","v":""},"","","","",908,"","","","","","","","","","","","","","Block","","","","","","","","","","","","",null,null,null,null,null,null,null,null,null,null,null,null,null,null,null,null,null,null,null,null,null,null,null,null,null,null,null,null,null,null,null,null,null,null,null,null,null,null,null,null,null,null,null,null,null,null,null,null,null,null,null,null,null,null,null,null,null,null,null,null,null,null,null,null,null,null,null,null,null,null,null,null,null,null,null,null,null,null,null,null,null,null,null,null,null,null,null,null,null,null,null,null,null,null,null,null,null,null,null,null,null,null,null,null,null,null,null,null,null,null,null,null,null,null,null,null,null,null,null,null,null,null,null,null,null,null,null,null,null,null,null,null,null,null,null,null,null,null,null,null,null,null,null,null,null,null,null,null,null,null,null,null,null,null,null,null,null,null,null,null,null,null,null,null,null,{"$f":"'View Records'!AF913","v":""},{"$f":"'View Records'!AG913","v":""},{"$f":"'View Records'!AH913","v":""},{"$f":"'View Records'!AI913","v":""},{"$f":"'View Records'!AJ913","v":""},{"$f":"'View Records'!AK913","v":""},{"$f":"'View Records'!AL913","v":""},{"$f":"'View Records'!AM913","v":""},{"$f":"'View Records'!AN913","v":""},{"$f":"'View Records'!AO913","v":""},{"$f":"'View Records'!AP913","v":""},{"$f":"'View Records'!AQ913","v":""}]
[{"$f":"'By Name'!AC215","v":""},{"$f":"'By Name'!AD215","v":""},{"$f":"'By Name'!AE215","v":""},{"$f":"'By Name'!AF215","v":""},{"$f":"'By Name'!AG215","v":""},{"$f":"'By Name'!AH215","v":""},{"$f":"'By Name'!AI215","v":""},{"$f":"'By Name'!AJ215","v":""},{"$f":"'By Name'!AK215","v":""},{"$f":"'By Name'!AL215","v":""},{"$f":"'By Name'!AM215","v":""},{"$f":"'By Name'!AN215","v":""},"","","","",910,"","","","","","","","","","","","","","Block","","","","","","","","","","","","",null,null,null,null,null,null,null,null,null,null,null,null,null,null,null,null,null,null,null,null,null,null,null,null,null,null,null,null,null,null,null,null,null,null,null,null,null,null,null,null,null,null,null,null,null,null,null,null,null,null,null,null,null,null,null,null,null,null,null,null,null,null,null,null,null,null,null,null,null,null,null,null,null,null,null,null,null,null,null,null,null,null,null,null,null,null,null,null,null,null,null,null,null,null,null,null,null,null,null,null,null,null,null,null,null,null,null,null,null,null,null,null,null,null,null,null,null,null,null,null,null,null,null,null,null,null,null,null,null,null,null,null,null,null,null,null,null,null,null,null,null,null,null,null,null,null,null,null,null,null,null,null,null,null,null,null,null,null,null,null,null,null,null,null,null,{"$f":"'View Records'!AF915","v":""},{"$f":"'View Records'!AG915","v":""},{"$f":"'View Records'!AH915","v":""},{"$f":"'View Records'!AI915","v":""},{"$f":"'View Records'!AJ915","v":""},{"$f":"'View Records'!AK915","v":""},{"$f":"'View Records'!AL915","v":""},{"$f":"'View Records'!AM915","v":""},{"$f":"'View Records'!AN915","v":""},{"$f":"'View Records'!AO915","v":""},{"$f":"'View Records'!AP915","v":""},{"$f":"'View Records'!AQ915","v":""}]
[{"$f":"'By Name'!AC224","v":""},{"$f":"'By Name'!AD224","v":""},{"$f":"'By Name'!AE224","v":""},{"$f":"'By Name'!AF224","v":""},{"$f":"'By Name'!AG224","v":""},{"$f":"'By Name'!AH224","v":""},{"$f":"'By Name'!AI224","v":""},{"$f":"'By Name'!AJ224","v":""},{"$f":"'By Name'!AK224","v":""},{"$f":"'By Name'!AL224","v":""},{"$f":"'By Name'!AM224","v":""},{"$f":"'By Name'!AN224","v":""},"","","","",919,"","","","","","","","","","","","","","Block","","","","","","","","","","","","",null,null,null,null,null,null,null,null,null,null,null,null,null,null,null,null,null,null,null,null,null,null,null,null,null,null,null,null,null,null,null,null,null,null,null,null,null,null,null,null,null,null,null,null,null,null,null,null,null,null,null,null,null,null,null,null,null,null,null,null,null,null,null,null,null,null,null,null,null,null,null,null,null,null,null,null,null,null,null,null,null,null,null,null,null,null,null,null,null,null,null,null,null,null,null,null,null,null,null,null,null,null,null,null,null,null,null,null,null,null,null,null,null,null,null,null,null,null,null,null,null,null,null,null,null,null,null,null,null,null,null,null,null,null,null,null,null,null,null,null,null,null,null,null,null,null,null,null,null,null,null,null,null,null,null,null,null,null,null,null,null,null,null,null,null,{"$f":"'View Records'!AF924","v":""},{"$f":"'View Records'!AG924","v":""},{"$f":"'View Records'!AH924","v":""},{"$f":"'View Records'!AI924","v":""},{"$f":"'View Records'!AJ924","v":""},{"$f":"'View Records'!AK924","v":""},{"$f":"'View Records'!AL924","v":""},{"$f":"'View Records'!AM924","v":""},{"$f":"'View Records'!AN924","v":""},{"$f":"'View Records'!AO924","v":""},{"$f":"'View Records'!AP924","v":""},{"$f":"'View Records'!AQ924","v":""}]
[{"$f":"'By Name'!AC233","v":""},{"$f":"'By Name'!AD233","v":""},{"$f":"'By Name'!AE233","v":""},{"$f":"'By Name'!AF233","v":""},{"$f":"'By Name'!AG233","v":""},{"$f":"'By Name'!AH233","v":""},{"$f":"'By Name'!AI233","v":""},{"$f":"'By Name'!AJ233","v":""},{"$f":"'By Name'!AK233","v":""},{"$f":"'By Name'!AL233","v":""},{"$f":"'By Name'!AM233","v":""},{"$f":"'By Name'!AN233","v":""},"","","","",928,"","","","","","","","","","","","","","Block","","","","","","","","","","","","",null,null,null,null,null,null,null,null,null,null,null,null,null,null,null,null,null,null,null,null,null,null,null,null,null,null,null,null,null,null,null,null,null,null,null,null,null,null,null,null,null,null,null,null,null,null,null,null,null,null,null,null,null,null,null,null,null,null,null,null,null,null,null,null,null,null,null,null,null,null,null,null,null,null,null,null,null,null,null,null,null,null,null,null,null,null,null,null,null,null,null,null,null,null,null,null,null,null,null,null,null,null,null,null,null,null,null,null,null,null,null,null,null,null,null,null,null,null,null,null,null,null,null,null,null,null,null,null,null,null,null,null,null,null,null,null,null,null,null,null,null,null,null,null,null,null,null,null,null,null,null,null,null,null,null,null,null,null,null,null,null,null,null,null,null,{"$f":"'View Records'!AF933","v":""},{"$f":"'View Records'!AG933","v":""},{"$f":"'View Records'!AH933","v":""},{"$f":"'View Records'!AI933","v":""},{"$f":"'View Records'!AJ933","v":""},{"$f":"'View Records'!AK933","v":""},{"$f":"'View Records'!AL933","v":""},{"$f":"'View Records'!AM933","v":""},{"$f":"'View Records'!AN933","v":""},{"$f":"'View Records'!AO933","v":""},{"$f":"'View Records'!AP933","v":""},{"$f":"'View Records'!AQ933","v":""}]
[{"$f":"'By Name'!AC248","v":""},{"$f":"'By Name'!AD248","v":""},{"$f":"'By Name'!AE248","v":""},{"$f":"'By Name'!AF248","v":""},{"$f":"'By Name'!AG248","v":""},{"$f":"'By Name'!AH248","v":""},{"$f":"'By Name'!AI248","v":""},{"$f":"'By Name'!AJ248","v":""},{"$f":"'By Name'!AK248","v":""},{"$f":"'By Name'!AL248","v":""},{"$f":"'By Name'!AM248","v":""},{"$f":"'By Name'!AN248","v":""},"","","","",943,"","","","","","","","","","","","","","Block","","","","","","","","","","","","",null,null,null,null,null,null,null,null,null,null,null,null,null,null,null,null,null,null,null,null,null,null,null,null,null,null,null,null,null,null,null,null,null,null,null,null,null,null,null,null,null,null,null,null,null,null,null,null,null,null,null,null,null,null,null,null,null,null,null,null,null,null,null,null,null,null,null,null,null,null,null,null,null,null,null,null,null,null,null,null,null,null,null,null,null,null,null,null,null,null,null,null,null,null,null,null,null,null,null,null,null,null,null,null,null,null,null,null,null,null,null,null,null,null,null,null,null,null,null,null,null,null,null,null,null,null,null,null,null,null,null,null,null,null,null,null,null,null,null,null,null,null,null,null,null,null,null,null,null,null,null,null,null,null,null,null,null,null,null,null,null,null,null,null,null,{"$f":"'View Records'!AF948","v":""},{"$f":"'View Records'!AG948","v":""},{"$f":"'View Records'!AH948","v":""},{"$f":"'View Records'!AI948","v":""},{"$f":"'View Records'!AJ948","v":""},{"$f":"'View Records'!AK948","v":""},{"$f":"'View Records'!AL948","v":""},{"$f":"'View Records'!AM948","v":""},{"$f":"'View Records'!AN948","v":""},{"$f":"'View Records'!AO948","v":""},{"$f":"'View Records'!AP948","v":""},{"$f":"'View Records'!AQ948","v":""}]
[{"$f":"'By Name'!AC252","v":""},{"$f":"'By Name'!AD252","v":""},{"$f":"'By Name'!AE252","v":""},{"$f":"'By Name'!AF252","v":""},{"$f":"'By Name'!AG252","v":""},{"$f":"'By Name'!AH252","v":""},{"$f":"'By Name'!AI252","v":""},{"$f":"'By Name'!AJ252","v":""},{"$f":"'By Name'!AK252","v":""},{"$f":"'By Name'!AL252","v":""},{"$f":"'By Name'!AM252","v":""},{"$f":"'By Name'!AN252","v":""},"","","","",947,"","","","","","","","","","","","","","Block","","","","","","","","","","","","",null,null,null,null,null,null,null,null,null,null,null,null,null,null,null,null,null,null,null,null,null,null,null,null,null,null,null,null,null,null,null,null,null,null,null,null,null,null,null,null,null,null,null,null,null,null,null,null,null,null,null,null,null,null,null,null,null,null,null,null,null,null,null,null,null,null,null,null,null,null,null,null,null,null,null,null,null,null,null,null,null,null,null,null,null,null,null,null,null,null,null,null,null,null,null,null,null,null,null,null,null,null,null,null,null,null,null,null,null,null,null,null,null,null,null,null,null,null,null,null,null,null,null,null,null,null,null,null,null,null,null,null,null,null,null,null,null,null,null,null,null,null,null,null,null,null,null,null,null,null,null,null,null,null,null,null,null,null,null,null,null,null,null,null,null,{"$f":"'View Records'!AF952","v":""},{"$f":"'View Records'!AG952","v":""},{"$f":"'View Records'!AH952","v":""},{"$f":"'View Records'!AI952","v":""},{"$f":"'View Records'!AJ952","v":""},{"$f":"'View Records'!AK952","v":""},{"$f":"'View Records'!AL952","v":""},{"$f":"'View Records'!AM952","v":""},{"$f":"'View Records'!AN952","v":""},{"$f":"'View Records'!AO952","v":""},{"$f":"'View Records'!AP952","v":""},{"$f":"'View Records'!AQ952","v":""}]
[{"$f":"'By Name'!AC262","v":""},{"$f":"'By Name'!AD262","v":""},{"$f":"'By Name'!AE262","v":""},{"$f":"'By Name'!AF262","v":""},{"$f":"'By Name'!AG262","v":""},{"$f":"'By Name'!AH262","v":""},{"$f":"'By Name'!AI262","v":""},{"$f":"'By Name'!AJ262","v":""},{"$f":"'By Name'!AK262","v":""},{"$f":"'By Name'!AL262","v":""},{"$f":"'By Name'!AM262","v":""},{"$f":"'By Name'!AN262","v":""},"","","","",957,"","","","","","","","","","","","","","Block","","","","","","","","","","","","",null,null,null,null,null,null,null,null,null,null,null,null,null,null,null,null,null,null,null,null,null,null,null,null,null,null,null,null,null,null,null,null,null,null,null,null,null,null,null,null,null,null,null,null,null,null,null,null,null,null,null,null,null,null,null,null,null,null,null,null,null,null,null,null,null,null,null,null,null,null,null,null,null,null,null,null,null,null,null,null,null,null,null,null,null,null,null,null,null,null,null,null,null,null,null,null,null,null,null,null,null,null,null,null,null,null,null,null,null,null,null,null,null,null,null,null,null,null,null,null,null,null,null,null,null,null,null,null,null,null,null,null,null,null,null,null,null,null,null,null,null,null,null,null,null,null,null,null,null,null,null,null,null,null,null,null,null,null,null,null,null,null,null,null,null,{"$f":"'View Records'!AF962","v":""},{"$f":"'View Records'!AG962","v":""},{"$f":"'View Records'!AH962","v":""},{"$f":"'View Records'!AI962","v":""},{"$f":"'View Records'!AJ962","v":""},{"$f":"'View Records'!AK962","v":""},{"$f":"'View Records'!AL962","v":""},{"$f":"'View Records'!AM962","v":""},{"$f":"'View Records'!AN962","v":""},{"$f":"'View Records'!AO962","v":""},{"$f":"'View Records'!AP962","v":""},{"$f":"'View Records'!AQ962","v":""}]
[{"$f":"'By Name'!AC271","v":""},{"$f":"'By Name'!AD271","v":""},{"$f":"'By Name'!AE271","v":""},{"$f":"'By Name'!AF271","v":""},{"$f":"'By Name'!AG271","v":""},{"$f":"'By Name'!AH271","v":""},{"$f":"'By Name'!AI271","v":""},{"$f":"'By Name'!AJ271","v":""},{"$f":"'By Name'!AK271","v":""},{"$f":"'By Name'!AL271","v":""},{"$f":"'By Name'!AM271","v":""},{"$f":"'By Name'!AN271","v":""},"","","","",966,"","","","","","","","","","","","","","Block","","","","","","","","","","",{"$f":"IF(ISNUMBER($P963),VLOOKUP(SMALL($R$2:$R$1197,ROW()-5),$R$2:$AD$1197,12,FALSE),\"\")","v":""},{"$f":"IF(ISNUMBER($P963),VLOOKUP(SMALL($R$2:$R$1197,ROW()-5),$R$2:$AD$1197,13,FALSE),\"\")","v":""},null,null,null,null,null,null,null,null,null,null,null,null,null,null,null,null,null,null,null,null,null,null,null,null,null,null,null,null,null,null,null,null,null,null,null,null,null,null,null,null,null,null,null,null,null,null,null,null,null,null,null,null,null,null,null,null,null,null,null,null,null,null,null,null,null,null,null,null,null,null,null,null,null,null,null,null,null,null,null,null,null,null,null,null,null,null,null,null,null,null,null,null,null,null,null,null,null,null,null,null,null,null,null,null,null,null,null,null,null,null,null,null,null,null,null,null,null,null,null,null,null,null,null,null,null,null,null,null,null,null,null,null,null,null,null,null,null,null,null,null,null,null,null,null,null,null,null,null,null,null,null,null,null,null,null,null,null,null,null,null,null,null,null,null,null,{"$f":"'View Records'!AF971","v":""},{"$f":"'View Records'!AG971","v":""},{"$f":"'View Records'!AH971","v":""},{"$f":"'View Records'!AI971","v":""},{"$f":"'View Records'!AJ971","v":""},{"$f":"'View Records'!AK971","v":""},{"$f":"'View Records'!AL971","v":""},{"$f":"'View Records'!AM971","v":""},{"$f":"'View Records'!AN971","v":""},{"$f":"'View Records'!AO971","v":""},{"$f":"'View Records'!AP971","v":""},{"$f":"'View Records'!AQ971","v":""}]
[{"$f":"'By Name'!AC280","v":""},{"$f":"'By Name'!AD280","v":""},{"$f":"'By Name'!AE280","v":""},{"$f":"'By Name'!AF280","v":""},{"$f":"'By Name'!AG280","v":""},{"$f":"'By Name'!AH280","v":""},{"$f":"'By Name'!AI280","v":""},{"$f":"'By Name'!AJ280","v":""},{"$f":"'By Name'!AK280","v":""},{"$f":"'By Name'!AL280","v":""},{"$f":"'By Name'!AM280","v":""},{"$f":"'By Name'!AN280","v":""},"","","","",975,"","","","","","","","","","","","","","Block","","","","","","","","","","","","",null,null,null,null,null,null,null,null,null,null,null,null,null,null,null,null,null,null,null,null,null,null,null,null,null,null,null,null,null,null,null,null,null,null,null,null,null,null,null,null,null,null,null,null,null,null,null,null,null,null,null,null,null,null,null,null,null,null,null,null,null,null,null,null,null,null,null,null,null,null,null,null,null,null,null,null,null,null,null,null,null,null,null,null,null,null,null,null,null,null,null,null,null,null,null,null,null,null,null,null,null,null,null,null,null,null,null,null,null,null,null,null,null,null,null,null,null,null,null,null,null,null,null,null,null,null,null,null,null,null,null,null,null,null,null,null,null,null,null,null,null,null,null,null,null,null,null,null,null,null,null,null,null,null,null,null,null,null,null,null,null,null,null,null,null,{"$f":"'View Records'!AF980","v":""},{"$f":"'View Records'!AG980","v":""},{"$f":"'View Records'!AH980","v":""},{"$f":"'View Records'!AI980","v":""},{"$f":"'View Records'!AJ980","v":""},{"$f":"'View Records'!AK980","v":""},{"$f":"'View Records'!AL980","v":""},{"$f":"'View Records'!AM980","v":""},{"$f":"'View Records'!AN980","v":""},{"$f":"'View Records'!AO980","v":""},{"$f":"'View Records'!AP980","v":""},{"$f":"'View Records'!AQ980","v":""}]
[{"$f":"'By Name'!AC282","v":""},{"$f":"'By Name'!AD282","v":""},{"$f":"'By Name'!AE282","v":""},{"$f":"'By Name'!AF282","v":""},{"$f":"'By Name'!AG282","v":""},{"$f":"'By Name'!AH282","v":""},{"$f":"'By Name'!AI282","v":""},{"$f":"'By Name'!AJ282","v":""},{"$f":"'By Name'!AK282","v":""},{"$f":"'By Name'!AL282","v":""},{"$f":"'By Name'!AM282","v":""},{"$f":"'By Name'!AN282","v":""},"","","","",977,"","","","","","","","","","","","","","Block","","","","","","","","","","","","",null,null,null,null,null,null,null,null,null,null,null,null,null,null,null,null,null,null,null,null,null,null,null,null,null,null,null,null,null,null,null,null,null,null,null,null,null,null,null,null,null,null,null,null,null,null,null,null,null,null,null,null,null,null,null,null,null,null,null,null,null,null,null,null,null,null,null,null,null,null,null,null,null,null,null,null,null,null,null,null,null,null,null,null,null,null,null,null,null,null,null,null,null,null,null,null,null,null,null,null,null,null,null,null,null,null,null,null,null,null,null,null,null,null,null,null,null,null,null,null,null,null,null,null,null,null,null,null,null,null,null,null,null,null,null,null,null,null,null,null,null,null,null,null,null,null,null,null,null,null,null,null,null,null,null,null,null,null,null,null,null,null,null,null,null,{"$f":"'View Records'!AF982","v":""},{"$f":"'View Records'!AG982","v":""},{"$f":"'View Records'!AH982","v":""},{"$f":"'View Records'!AI982","v":""},{"$f":"'View Records'!AJ982","v":""},{"$f":"'View Records'!AK982","v":""},{"$f":"'View Records'!AL982","v":""},{"$f":"'View Records'!AM982","v":""},{"$f":"'View Records'!AN982","v":""},{"$f":"'View Records'!AO982","v":""},{"$f":"'View Records'!AP982","v":""},{"$f":"'View Records'!AQ982","v":""}]
[{"$f":"'By Name'!AC291","v":""},{"$f":"'By Name'!AD291","v":""},{"$f":"'By Name'!AE291","v":""},{"$f":"'By Name'!AF291","v":""},{"$f":"'By Name'!AG291","v":""},{"$f":"'By Name'!AH291","v":""},{"$f":"'By Name'!AI291","v":""},{"$f":"'By Name'!AJ291","v":""},{"$f":"'By Name'!AK291","v":""},{"$f":"'By Name'!AL291","v":""},{"$f":"'By Name'!AM291","v":""},{"$f":"'By Name'!AN291","v":""},"","","","",986,"","","","","","","","","","","","","","Block","","","","","","","","","","","","",null,null,null,null,null,null,null,null,null,null,null,null,null,null,null,null,null,null,null,null,null,null,null,null,null,null,null,null,null,null,null,null,null,null,null,null,null,null,null,null,null,null,null,null,null,null,null,null,null,null,null,null,null,null,null,null,null,null,null,null,null,null,null,null,null,null,null,null,null,null,null,null,null,null,null,null,null,null,null,null,null,null,null,null,null,null,null,null,null,null,null,null,null,null,null,null,null,null,null,null,null,null,null,null,null,null,null,null,null,null,null,null,null,null,null,null,null,null,null,null,null,null,null,null,null,null,null,null,null,null,null,null,null,null,null,null,null,null,null,null,null,null,null,null,null,null,null,null,null,null,null,null,null,null,null,null,null,null,null,null,null,null,null,null,null,{"$f":"'View Records'!AF991","v":""},{"$f":"'View Records'!AG991","v":""},{"$f":"'View Records'!AH991","v":""},{"$f":"'View Records'!AI991","v":""},{"$f":"'View Records'!AJ991","v":""},{"$f":"'View Records'!AK991","v":""},{"$f":"'View Records'!AL991","v":""},{"$f":"'View Records'!AM991","v":""},{"$f":"'View Records'!AN991","v":""},{"$f":"'View Records'!AO991","v":""},{"$f":"'View Records'!AP991","v":""},{"$f":"'View Records'!AQ991","v":""}]
[{"$f":"'By Name'!AC300","v":""},{"$f":"'By Name'!AD300","v":""},{"$f":"'By Name'!AE300","v":""},{"$f":"'By Name'!AF300","v":""},{"$f":"'By Name'!AG300","v":""},{"$f":"'By Name'!AH300","v":""},{"$f":"'By Name'!AI300","v":""},{"$f":"'By Name'!AJ300","v":""},{"$f":"'By Name'!AK300","v":""},{"$f":"'By Name'!AL300","v":""},{"$f":"'By Name'!AM300","v":""},{"$f":"'By Name'!AN300","v":""},"","","","",995,"","","","","","","","","","","","","","Block","","","","","","","","","","","","",null,null,null,null,null,null,null,null,null,null,null,null,null,null,null,null,null,null,null,null,null,null,null,null,null,null,null,null,null,null,null,null,null,null,null,null,null,null,null,null,null,null,null,null,null,null,null,null,null,null,null,null,null,null,null,null,null,null,null,null,null,null,null,null,null,null,null,null,null,null,null,null,null,null,null,null,null,null,null,null,null,null,null,null,null,null,null,null,null,null,null,null,null,null,null,null,null,null,null,null,null,null,null,null,null,null,null,null,null,null,null,null,null,null,null,null,null,null,null,null,null,null,null,null,null,null,null,null,null,null,null,null,null,null,null,null,null,null,null,null,null,null,null,null,null,null,null,null,null,null,null,null,null,null,null,null,null,null,null,null,null,null,null,null,null,{"$f":"'View Records'!AF1000","v":""},{"$f":"'View Records'!AG1000","v":""},{"$f":"'View Records'!AH1000","v":""},{"$f":"'View Records'!AI1000","v":""},{"$f":"'View Records'!AJ1000","v":""},{"$f":"'View Records'!AK1000","v":""},{"$f":"'View Records'!AL1000","v":""},{"$f":"'View Records'!AM1000","v":""},{"$f":"'View Records'!AN1000","v":""},{"$f":"'View Records'!AO1000","v":""},{"$f":"'View Records'!AP1000","v":""},{"$f":"'View Records'!AQ1000","v":""}]
[{"$f":"'By Name'!AC315","v":""},{"$f":"'By Name'!AD315","v":""},{"$f":"'By Name'!AE315","v":""},{"$f":"'By Name'!AF315","v":""},{"$f":"'By Name'!AG315","v":""},{"$f":"'By Name'!AH315","v":""},{"$f":"'By Name'!AI315","v":""},{"$f":"'By Name'!AJ315","v":""},{"$f":"'By Name'!AK315","v":""},{"$f":"'By Name'!AL315","v":""},{"$f":"'By Name'!AM315","v":""},{"$f":"'By Name'!AN315","v":""},"","","","",1010,"","","","","","","","","","","","","","Block","","","","","","","","","","","","",null,null,null,null,null,null,null,null,null,null,null,null,null,null,null,null,null,null,null,null,null,null,null,null,null,null,null,null,null,null,null,null,null,null,null,null,null,null,null,null,null,null,null,null,null,null,null,null,null,null,null,null,null,null,null,null,null,null,null,null,null,null,null,null,null,null,null,null,null,null,null,null,null,null,null,null,null,null,null,null,null,null,null,null,null,null,null,null,null,null,null,null,null,null,null,null,null,null,null,null,null,null,null,null,null,null,null,null,null,null,null,null,null,null,null,null,null,null,null,null,null,null,null,null,null,null,null,null,null,null,null,null,null,null,null,null,null,null,null,null,null,null,null,null,null,null,null,null,null,null,null,null,null,null,null,null,null,null,null,null,null,null,null,null,null,{"$f":"'View Records'!AF1015","v":""},{"$f":"'View Records'!AG1015","v":""},{"$f":"'View Records'!AH1015","v":""},{"$f":"'View Records'!AI1015","v":""},{"$f":"'View Records'!AJ1015","v":""},{"$f":"'View Records'!AK1015","v":""},{"$f":"'View Records'!AL1015","v":""},{"$f":"'View Records'!AM1015","v":""},{"$f":"'View Records'!AN1015","v":""},{"$f":"'View Records'!AO1015","v":""},{"$f":"'View Records'!AP1015","v":""},{"$f":"'View Records'!AQ1015","v":""}]
[{"$f":"'By Name'!AC319","v":""},{"$f":"'By Name'!AD319","v":""},{"$f":"'By Name'!AE319","v":""},{"$f":"'By Name'!AF319","v":""},{"$f":"'By Name'!AG319","v":""},{"$f":"'By Name'!AH319","v":""},{"$f":"'By Name'!AI319","v":""},{"$f":"'By Name'!AJ319","v":""},{"$f":"'By Name'!AK319","v":""},{"$f":"'By Name'!AL319","v":""},{"$f":"'By Name'!AM319","v":""},{"$f":"'By Name'!AN319","v":""},"","","","",1014,"","","","","","","","","","","","","","Block","","","","","","","","","","","","",null,null,null,null,null,null,null,null,null,null,null,null,null,null,null,null,null,null,null,null,null,null,null,null,null,null,null,null,null,null,null,null,null,null,null,null,null,null,null,null,null,null,null,null,null,null,null,null,null,null,null,null,null,null,null,null,null,null,null,null,null,null,null,null,null,null,null,null,null,null,null,null,null,null,null,null,null,null,null,null,null,null,null,null,null,null,null,null,null,null,null,null,null,null,null,null,null,null,null,null,null,null,null,null,null,null,null,null,null,null,null,null,null,null,null,null,null,null,null,null,null,null,null,null,null,null,null,null,null,null,null,null,null,null,null,null,null,null,null,null,null,null,null,null,null,null,null,null,null,null,null,null,null,null,null,null,null,null,null,null,null,null,null,null,null,{"$f":"'View Records'!AF1019","v":""},{"$f":"'View Records'!AG1019","v":""},{"$f":"'View Records'!AH1019","v":""},{"$f":"'View Records'!AI1019","v":""},{"$f":"'View Records'!AJ1019","v":""},{"$f":"'View Records'!AK1019","v":""},{"$f":"'View Records'!AL1019","v":""},{"$f":"'View Records'!AM1019","v":""},{"$f":"'View Records'!AN1019","v":""},{"$f":"'View Records'!AO1019","v":""},{"$f":"'View Records'!AP1019","v":""},{"$f":"'View Records'!AQ1019","v":""}]
[{"$f":"'By Name'!AC328","v":""},{"$f":"'By Name'!AD328","v":""},{"$f":"'By Name'!AE328","v":""},{"$f":"'By Name'!AF328","v":""},{"$f":"'By Name'!AG328","v":""},{"$f":"'By Name'!AH328","v":""},{"$f":"'By Name'!AI328","v":""},{"$f":"'By Name'!AJ328","v":""},{"$f":"'By Name'!AK328","v":""},{"$f":"'By Name'!AL328","v":""},{"$f":"'By Name'!AM328","v":""},{"$f":"'By Name'!AN328","v":""},"","","","",1023,"","","","","","","","","","","","","","Block","","","","","","","","","","","","",null,null,null,null,null,null,null,null,null,null,null,null,null,null,null,null,null,null,null,null,null,null,null,null,null,null,null,null,null,null,null,null,null,null,null,null,null,null,null,null,null,null,null,null,null,null,null,null,null,null,null,null,null,null,null,null,null,null,null,null,null,null,null,null,null,null,null,null,null,null,null,null,null,null,null,null,null,null,null,null,null,null,null,null,null,null,null,null,null,null,null,null,null,null,null,null,null,null,null,null,null,null,null,null,null,null,null,null,null,null,null,null,null,null,null,null,null,null,null,null,null,null,null,null,null,null,null,null,null,null,null,null,null,null,null,null,null,null,null,null,null,null,null,null,null,null,null,null,null,null,null,null,null,null,null,null,null,null,null,null,null,null,null,null,null,{"$f":"'View Records'!AF1028","v":""},{"$f":"'View Records'!AG1028","v":""},{"$f":"'View Records'!AH1028","v":""},{"$f":"'View Records'!AI1028","v":""},{"$f":"'View Records'!AJ1028","v":""},{"$f":"'View Records'!AK1028","v":""},{"$f":"'View Records'!AL1028","v":""},{"$f":"'View Records'!AM1028","v":""},{"$f":"'View Records'!AN1028","v":""},{"$f":"'View Records'!AO1028","v":""},{"$f":"'View Records'!AP1028","v":""},{"$f":"'View Records'!AQ1028","v":""}]
[{"$f":"'By Name'!AC335","v":""},{"$f":"'By Name'!AD335","v":""},{"$f":"'By Name'!AE335","v":""},{"$f":"'By Name'!AF335","v":""},{"$f":"'By Name'!AG335","v":""},{"$f":"'By Name'!AH335","v":""},{"$f":"'By Name'!AI335","v":""},{"$f":"'By Name'!AJ335","v":""},{"$f":"'By Name'!AK335","v":""},{"$f":"'By Name'!AL335","v":""},{"$f":"'By Name'!AM335","v":""},{"$f":"'By Name'!AN335","v":""},"","","","",1030,"","","","","","","","","","","","","","Block","","","","","","","","","","",{"$f":"IF(ISNUMBER($P1027),VLOOKUP(SMALL($R$2:$R$1197,ROW()-5),$R$2:$AD$1197,12,FALSE),\"\")","v":""},{"$f":"IF(ISNUMBER($P1027),VLOOKUP(SMALL($R$2:$R$1197,ROW()-5),$R$2:$AD$1197,13,FALSE),\"\")","v":""},null,null,null,null,null,null,null,null,null,null,null,null,null,null,null,null,null,null,null,null,null,null,null,null,null,null,null,null,null,null,null,null,null,null,null,null,null,null,null,null,null,null,null,null,null,null,null,null,null,null,null,null,null,null,null,null,null,null,null,null,null,null,null,null,null,null,null,null,null,null,null,null,null,null,null,null,null,null,null,null,null,null,null,null,null,null,null,null,null,null,null,null,null,null,null,null,null,null,null,null,null,null,null,null,null,null,null,null,null,null,null,null,null,null,null,null,null,null,null,null,null,null,null,null,null,null,null,null,null,null,null,null,null,null,null,null,null,null,null,null,null,null,null,null,null,null,null,null,null,null,null,null,null,null,null,null,null,null,null,null,null,null,null,null,null,{"$f":"'View Records'!AF1035","v":""},{"$f":"'View Records'!AG1035","v":""},{"$f":"'View Records'!AH1035","v":""},{"$f":"'View Records'!AI1035","v":""},{"$f":"'View Records'!AJ1035","v":""},{"$f":"'View Records'!AK1035","v":""},{"$f":"'View Records'!AL1035","v":""},{"$f":"'View Records'!AM1035","v":""},{"$f":"'View Records'!AN1035","v":""},{"$f":"'View Records'!AO1035","v":""},{"$f":"'View Records'!AP1035","v":""},{"$f":"'View Records'!AQ1035","v":""}]
[{"$f":"'By Name'!AC347","v":""},{"$f":"'By Name'!AD347","v":""},{"$f":"'By Name'!AE347","v":""},{"$f":"'By Name'!AF347","v":""},{"$f":"'By Name'!AG347","v":""},{"$f":"'By Name'!AH347","v":""},{"$f":"'By Name'!AI347","v":""},{"$f":"'By Name'!AJ347","v":""},{"$f":"'By Name'!AK347","v":""},{"$f":"'By Name'!AL347","v":""},{"$f":"'By Name'!AM347","v":""},{"$f":"'By Name'!AN347","v":""},"","","","",1042,"","","","","","","","","","","","","","Block","","","","","","","","","","","","",null,null,null,null,null,null,null,null,null,null,null,null,null,null,null,null,null,null,null,null,null,null,null,null,null,null,null,null,null,null,null,null,null,null,null,null,null,null,null,null,null,null,null,null,null,null,null,null,null,null,null,null,null,null,null,null,null,null,null,null,null,null,null,null,null,null,null,null,null,null,null,null,null,null,null,null,null,null,null,null,null,null,null,null,null,null,null,null,null,null,null,null,null,null,null,null,null,null,null,null,null,null,null,null,null,null,null,null,null,null,null,null,null,null,null,null,null,null,null,null,null,null,null,null,null,null,null,null,null,null,null,null,null,null,null,null,null,null,null,null,null,null,null,null,null,null,null,null,null,null,null,null,null,null,null,null,null,null,null,null,null,null,null,null,null,{"$f":"'View Records'!AF1047","v":""},{"$f":"'View Records'!AG1047","v":""},{"$f":"'View Records'!AH1047","v":""},{"$f":"'View Records'!AI1047","v":""},{"$f":"'View Records'!AJ1047","v":""},{"$f":"'View Records'!AK1047","v":""},{"$f":"'View Records'!AL1047","v":""},{"$f":"'View Records'!AM1047","v":""},{"$f":"'View Records'!AN1047","v":""},{"$f":"'View Records'!AO1047","v":""},{"$f":"'View Records'!AP1047","v":""},{"$f":"'View Records'!AQ1047","v":""}]
[{"$f":"'By Name'!AC356","v":""},{"$f":"'By Name'!AD356","v":""},{"$f":"'By Name'!AE356","v":""},{"$f":"'By Name'!AF356","v":""},{"$f":"'By Name'!AG356","v":""},{"$f":"'By Name'!AH356","v":""},{"$f":"'By Name'!AI356","v":""},{"$f":"'By Name'!AJ356","v":""},{"$f":"'By Name'!AK356","v":""},{"$f":"'By Name'!AL356","v":""},{"$f":"'By Name'!AM356","v":""},{"$f":"'By Name'!AN356","v":""},"","","","",1051,"","","","","","","","","","","","","","Block","","","","","","","","","","","","",null,null,null,null,null,null,null,null,null,null,null,null,null,null,null,null,null,null,null,null,null,null,null,null,null,null,null,null,null,null,null,null,null,null,null,null,null,null,null,null,null,null,null,null,null,null,null,null,null,null,null,null,null,null,null,null,null,null,null,null,null,null,null,null,null,null,null,null,null,null,null,null,null,null,null,null,null,null,null,null,null,null,null,null,null,null,null,null,null,null,null,null,null,null,null,null,null,null,null,null,null,null,null,null,null,null,null,null,null,null,null,null,null,null,null,null,null,null,null,null,null,null,null,null,null,null,null,null,null,null,null,null,null,null,null,null,null,null,null,null,null,null,null,null,null,null,null,null,null,null,null,null,null,null,null,null,null,null,null,null,null,null,null,null,null,{"$f":"'View Records'!AF1056","v":""},{"$f":"'View Records'!AG1056","v":""},{"$f":"'View Records'!AH1056","v":""},{"$f":"'View Records'!AI1056","v":""},{"$f":"'View Records'!AJ1056","v":""},{"$f":"'View Records'!AK1056","v":""},{"$f":"'View Records'!AL1056","v":""},{"$f":"'View Records'!AM1056","v":""},{"$f":"'View Records'!AN1056","v":""},{"$f":"'View Records'!AO1056","v":""},{"$f":"'View Records'!AP1056","v":""},{"$f":"'View Records'!AQ1056","v":""}]
[{"$f":"'By Name'!AC364","v":""},{"$f":"'By Name'!AD364","v":""},{"$f":"'By Name'!AE364","v":""},{"$f":"'By Name'!AF364","v":""},{"$f":"'By Name'!AG364","v":""},{"$f":"'By Name'!AH364","v":""},{"$f":"'By Name'!AI364","v":""},{"$f":"'By Name'!AJ364","v":""},{"$f":"'By Name'!AK364","v":""},{"$f":"'By Name'!AL364","v":""},{"$f":"'By Name'!AM364","v":""},{"$f":"'By Name'!AN364","v":""},"","","","",1059,"","","","","","","","","","","","","","Block","","","","","","","","","","","","",null,null,null,null,null,null,null,null,null,null,null,null,null,null,null,null,null,null,null,null,null,null,null,null,null,null,null,null,null,null,null,null,null,null,null,null,null,null,null,null,null,null,null,null,null,null,null,null,null,null,null,null,null,null,null,null,null,null,null,null,null,null,null,null,null,null,null,null,null,null,null,null,null,null,null,null,null,null,null,null,null,null,null,null,null,null,null,null,null,null,null,null,null,null,null,null,null,null,null,null,null,null,null,null,null,null,null,null,null,null,null,null,null,null,null,null,null,null,null,null,null,null,null,null,null,null,null,null,null,null,null,null,null,null,null,null,null,null,null,null,null,null,null,null,null,null,null,null,null,null,null,null,null,null,null,null,null,null,null,null,null,null,null,null,null,{"$f":"'View Records'!AF1064","v":""},{"$f":"'View Records'!AG1064","v":""},{"$f":"'View Records'!AH1064","v":""},{"$f":"'View Records'!AI1064","v":""},{"$f":"'View Records'!AJ1064","v":""},{"$f":"'View Records'!AK1064","v":""},{"$f":"'View Records'!AL1064","v":""},{"$f":"'View Records'!AM1064","v":""},{"$f":"'View Records'!AN1064","v":""},{"$f":"'View Records'!AO1064","v":""},{"$f":"'View Records'!AP1064","v":""},{"$f":"'View Records'!AQ1064","v":""}]
[{"$f":"'By Name'!AC367","v":""},{"$f":"'By Name'!AD367","v":""},{"$f":"'By Name'!AE367","v":""},{"$f":"'By Name'!AF367","v":""},{"$f":"'By Name'!AG367","v":""},{"$f":"'By Name'!AH367","v":""},{"$f":"'By Name'!AI367","v":""},{"$f":"'By Name'!AJ367","v":""},{"$f":"'By Name'!AK367","v":""},{"$f":"'By Name'!AL367","v":""},{"$f":"'By Name'!AM367","v":""},{"$f":"'By Name'!AN367","v":""},"","","","",1062,"","","","","","","","","","","","","","Block","","","","","","","","","","","","",null,null,null,null,null,null,null,null,null,null,null,null,null,null,null,null,null,null,null,null,null,null,null,null,null,null,null,null,null,null,null,null,null,null,null,null,null,null,null,null,null,null,null,null,null,null,null,null,null,null,null,null,null,null,null,null,null,null,null,null,null,null,null,null,null,null,null,null,null,null,null,null,null,null,null,null,null,null,null,null,null,null,null,null,null,null,null,null,null,null,null,null,null,null,null,null,null,null,null,null,null,null,null,null,null,null,null,null,null,null,null,null,null,null,null,null,null,null,null,null,null,null,null,null,null,null,null,null,null,null,null,null,null,null,null,null,null,null,null,null,null,null,null,null,null,null,null,null,null,null,null,null,null,null,null,null,null,null,null,null,null,null,null,null,null,{"$f":"'View Records'!AF1067","v":""},{"$f":"'View Records'!AG1067","v":""},{"$f":"'View Records'!AH1067","v":""},{"$f":"'View Records'!AI1067","v":""},{"$f":"'View Records'!AJ1067","v":""},{"$f":"'View Records'!AK1067","v":""},{"$f":"'View Records'!AL1067","v":""},{"$f":"'View Records'!AM1067","v":""},{"$f":"'View Records'!AN1067","v":""},{"$f":"'View Records'!AO1067","v":""},{"$f":"'View Records'!AP1067","v":""},{"$f":"'View Records'!AQ1067","v":""}]
[{"$f":"'By Name'!AC382","v":""},{"$f":"'By Name'!AD382","v":""},{"$f":"'By Name'!AE382","v":""},{"$f":"'By Name'!AF382","v":""},{"$f":"'By Name'!AG382","v":""},{"$f":"'By Name'!AH382","v":""},{"$f":"'By Name'!AI382","v":""},{"$f":"'By Name'!AJ382","v":""},{"$f":"'By Name'!AK382","v":""},{"$f":"'By Name'!AL382","v":""},{"$f":"'By Name'!AM382","v":""},{"$f":"'By Name'!AN382","v":""},"","","","",1077,"","","","","","","","","","","","","","Block","","","","","","","","","","","","",null,null,null,null,null,null,null,null,null,null,null,null,null,null,null,null,null,null,null,null,null,null,null,null,null,null,null,null,null,null,null,null,null,null,null,null,null,null,null,null,null,null,null,null,null,null,null,null,null,null,null,null,null,null,null,null,null,null,null,null,null,null,null,null,null,null,null,null,null,null,null,null,null,null,null,null,null,null,null,null,null,null,null,null,null,null,null,null,null,null,null,null,null,null,null,null,null,null,null,null,null,null,null,null,null,null,null,null,null,null,null,null,null,null,null,null,null,null,null,null,null,null,null,null,null,null,null,null,null,null,null,null,null,null,null,null,null,null,null,null,null,null,null,null,null,null,null,null,null,null,null,null,null,null,null,null,null,null,null,null,null,null,null,null,null,{"$f":"'View Records'!AF1082","v":""},{"$f":"'View Records'!AG1082","v":""},{"$f":"'View Records'!AH1082","v":""},{"$f":"'View Records'!AI1082","v":""},{"$f":"'View Records'!AJ1082","v":""},{"$f":"'View Records'!AK1082","v":""},{"$f":"'View Records'!AL1082","v":""},{"$f":"'View Records'!AM1082","v":""},{"$f":"'View Records'!AN1082","v":""},{"$f":"'View Records'!AO1082","v":""},{"$f":"'View Records'!AP1082","v":""},{"$f":"'View Records'!AQ1082","v":""}]
[{"$f":"'By Name'!AC386","v":""},{"$f":"'By Name'!AD386","v":""},{"$f":"'By Name'!AE386","v":""},{"$f":"'By Name'!AF386","v":""},{"$f":"'By Name'!AG386","v":""},{"$f":"'By Name'!AH386","v":""},{"$f":"'By Name'!AI386","v":""},{"$f":"'By Name'!AJ386","v":""},{"$f":"'By Name'!AK386","v":""},{"$f":"'By Name'!AL386","v":""},{"$f":"'By Name'!AM386","v":""},{"$f":"'By Name'!AN386","v":""},"","","","",1081,"","","","","","","","","","","","","","Block","","","","","","","","","","","","",null,null,null,null,null,null,null,null,null,null,null,null,null,null,null,null,null,null,null,null,null,null,null,null,null,null,null,null,null,null,null,null,null,null,null,null,null,null,null,null,null,null,null,null,null,null,null,null,null,null,null,null,null,null,null,null,null,null,null,null,null,null,null,null,null,null,null,null,null,null,null,null,null,null,null,null,null,null,null,null,null,null,null,null,null,null,null,null,null,null,null,null,null,null,null,null,null,null,null,null,null,null,null,null,null,null,null,null,null,null,null,null,null,null,null,null,null,null,null,null,null,null,null,null,null,null,null,null,null,null,null,null,null,null,null,null,null,null,null,null,null,null,null,null,null,null,null,null,null,null,null,null,null,null,null,null,null,null,null,null,null,null,null,null,null,{"$f":"'View Records'!AF1086","v":""},{"$f":"'View Records'!AG1086","v":""},{"$f":"'View Records'!AH1086","v":""},{"$f":"'View Records'!AI1086","v":""},{"$f":"'View Records'!AJ1086","v":""},{"$f":"'View Records'!AK1086","v":""},{"$f":"'View Records'!AL1086","v":""},{"$f":"'View Records'!AM1086","v":""},{"$f":"'View Records'!AN1086","v":""},{"$f":"'View Records'!AO1086","v":""},{"$f":"'View Records'!AP1086","v":""},{"$f":"'View Records'!AQ1086","v":""}]
[{"$f":"'By Name'!AC395","v":""},{"$f":"'By Name'!AD395","v":""},{"$f":"'By Name'!AE395","v":""},{"$f":"'By Name'!AF395","v":""},{"$f":"'By Name'!AG395","v":""},{"$f":"'By Name'!AH395","v":""},{"$f":"'By Name'!AI395","v":""},{"$f":"'By Name'!AJ395","v":""},{"$f":"'By Name'!AK395","v":""},{"$f":"'By Name'!AL395","v":""},{"$f":"'By Name'!AM395","v":""},{"$f":"'By Name'!AN395","v":""},{"$f":"IF(A1091=\"\",\"\",ROW())","v":""},{"$f":"IF(ROW(A1091)-ROW(A$2)+1>COUNT($M$2:$M$1197),\"\",INDEX(A:A,SMALL($M$2:$M$1197,1+ROW(A1091)-ROW(A$2))))","v":""},{"$f":"IF(ROW(L1091)-ROW(L$2)+1>COUNT($M$2:$M$1197),\"\",INDEX(L:L,SMALL($M$2:$M$1197,1+ROW(L1091)-ROW(L$2))))","v":""},{"$f":"IF(COUNTIF($T$2:$T$1197,\"<=\"&T1091)=0,\"\",COUNTIF($T$2:$T$1197,\"<=\"&T1091))","v":""},1090,{"$f":"IF(ISNUMBER(P1091),P1091+(Q1091/100000),\"\")","v":""},"","","","","","","","","","","","","Block","","","","","","","","","","","","",null,null,null,null,null,null,null,null,null,null,null,null,null,null,null,null,null,null,null,null,null,null,null,null,null,null,null,null,null,null,null,null,null,null,null,null,null,null,null,null,null,null,null,null,null,null,null,null,null,null,null,null,null,null,null,null,null,null,null,null,null,null,null,null,null,null,null,null,null,null,null,null,null,null,null,null,null,null,null,null,null,null,null,null,null,null,null,null,null,null,null,null,null,null,null,null,null,null,null,null,null,null,null,null,null,null,null,null,null,null,null,null,null,null,null,null,null,null,null,null,null,null,null,null,null,null,null,null,null,null,null,null,null,null,null,null,null,null,null,null,null,null,null,null,null,null,null,null,null,null,null,null,null,null,null,null,null,null,null,null,null,null,null,null,null,{"$f":"'View Records'!AF1095","v":""},{"$f":"'View Records'!AG1095","v":""},{"$f":"'View Records'!AH1095","v":""},{"$f":"'View Records'!AI1095","v":""},{"$f":"'View Records'!AJ1095","v":""},{"$f":"'View Records'!AK1095","v":""},{"$f":"'View Records'!AL1095","v":""},{"$f":"'View Records'!AM1095","v":""},{"$f":"'View Records'!AN1095","v":""},{"$f":"'View Records'!AO1095","v":""},{"$f":"'View Records'!AP1095","v":""},{"$f":"'View Records'!AQ1095","v":""}]
[{"$f":"'By Name'!AC402","v":""},{"$f":"'By Name'!AD402","v":""},{"$f":"'By Name'!AE402","v":""},{"$f":"'By Name'!AF402","v":""},{"$f":"'By Name'!AG402","v":""},{"$f":"'By Name'!AH402","v":""},{"$f":"'By Name'!AI402","v":""},{"$f":"'By Name'!AJ402","v":""},{"$f":"'By Name'!AK402","v":""},{"$f":"'By Name'!AL402","v":""},{"$f":"'By Name'!AM402","v":""},{"$f":"'By Name'!AN402","v":""},"","","","",1097,"","","","","","","","","","","","","","Block","","","","","","","","","","","","",null,null,null,null,null,null,null,null,null,null,null,null,null,null,null,null,null,null,null,null,null,null,null,null,null,null,null,null,null,null,null,null,null,null,null,null,null,null,null,null,null,null,null,null,null,null,null,null,null,null,null,null,null,null,null,null,null,null,null,null,null,null,null,null,null,null,null,null,null,null,null,null,null,null,null,null,null,null,null,null,null,null,null,null,null,null,null,null,null,null,null,null,null,null,null,null,null,null,null,null,null,null,null,null,null,null,null,null,null,null,null,null,null,null,null,null,null,null,null,null,null,null,null,null,null,null,null,null,null,null,null,null,null,null,null,null,null,null,null,null,null,null,null,null,null,null,null,null,null,null,null,null,null,null,null,null,null,null,null,null,null,null,null,null,null,{"$f":"'View Records'!AF1102","v":""},{"$f":"'View Records'!AG1102","v":""},{"$f":"'View Records'!AH1102","v":""},{"$f":"'View Records'!AI1102","v":""},{"$f":"'View Records'!AJ1102","v":""},{"$f":"'View Records'!AK1102","v":""},{"$f":"'View Records'!AL1102","v":""},{"$f":"'View Records'!AM1102","v":""},{"$f":"'View Records'!AN1102","v":""},{"$f":"'View Records'!AO1102","v":""},{"$f":"'View Records'!AP1102","v":""},{"$f":"'View Records'!AQ1102","v":""}]
[{"$f":"'By Name'!AC414","v":""},{"$f":"'By Name'!AD414","v":""},{"$f":"'By Name'!AE414","v":""},{"$f":"'By Name'!AF414","v":""},{"$f":"'By Name'!AG414","v":""},{"$f":"'By Name'!AH414","v":""},{"$f":"'By Name'!AI414","v":""},{"$f":"'By Name'!AJ414","v":""},{"$f":"'By Name'!AK414","v":""},{"$f":"'By Name'!AL414","v":""},{"$f":"'By Name'!AM414","v":""},{"$f":"'By Name'!AN414","v":""},"","","","",1109,"","","","","","","","","","","","","","Block","","","","","","","","","","","","",null,null,null,null,null,null,null,null,null,null,null,null,null,null,null,null,null,null,null,null,null,null,null,null,null,null,null,null,null,null,null,null,null,null,null,null,null,null,null,null,null,null,null,null,null,null,null,null,null,null,null,null,null,null,null,null,null,null,null,null,null,null,null,null,null,null,null,null,null,null,null,null,null,null,null,null,null,null,null,null,null,null,null,null,null,null,null,null,null,null,null,null,null,null,null,null,null,null,null,null,null,null,null,null,null,null,null,null,null,null,null,null,null,null,null,null,null,null,null,null,null,null,null,null,null,null,null,null,null,null,null,null,null,null,null,null,null,null,null,null,null,null,null,null,null,null,null,null,null,null,null,null,null,null,null,null,null,null,null,null,null,null,null,null,null,{"$f":"'View Records'!AF1114","v":""},{"$f":"'View Records'!AG1114","v":""},{"$f":"'View Records'!AH1114","v":""},{"$f":"'View Records'!AI1114","v":""},{"$f":"'View Records'!AJ1114","v":""},{"$f":"'View Records'!AK1114","v":""},{"$f":"'View Records'!AL1114","v":""},{"$f":"'View Records'!AM1114","v":""},{"$f":"'View Records'!AN1114","v":""},{"$f":"'View Records'!AO1114","v":""},{"$f":"'View Records'!AP1114","v":""},{"$f":"'View Records'!AQ1114","v":""}]
[{"$f":"'By Name'!AC423","v":""},{"$f":"'By Name'!AD423","v":""},{"$f":"'By Name'!AE423","v":""},{"$f":"'By Name'!AF423","v":""},{"$f":"'By Name'!AG423","v":""},{"$f":"'By Name'!AH423","v":""},{"$f":"'By Name'!AI423","v":""},{"$f":"'By Name'!AJ423","v":""},{"$f":"'By Name'!AK423","v":""},{"$f":"'By Name'!AL423","v":""},{"$f":"'By Name'!AM423","v":""},{"$f":"'By Name'!AN423","v":""},"","","","",1118,"","","","","","","","","","","","","","Block","","","","","","","","","","","","",null,null,null,null,null,null,null,null,null,null,null,null,null,null,null,null,null,null,null,null,null,null,null,null,null,null,null,null,null,null,null,null,null,null,null,null,null,null,null,null,null,null,null,null,null,null,null,null,null,null,null,null,null,null,null,null,null,null,null,null,null,null,null,null,null,null,null,null,null,null,null,null,null,null,null,null,null,null,null,null,null,null,null,null,null,null,null,null,null,null,null,null,null,null,null,null,null,null,null,null,null,null,null,null,null,null,null,null,null,null,null,null,null,null,null,null,null,null,null,null,null,null,null,null,null,null,null,null,null,null,null,null,null,null,null,null,null,null,null,null,null,null,null,null,null,null,null,null,null,null,null,null,null,null,null,null,null,null,null,null,null,null,null,null,null,{"$f":"'View Records'!AF1123","v":""},{"$f":"'View Records'!AG1123","v":""},{"$f":"'View Records'!AH1123","v":""},{"$f":"'View Records'!AI1123","v":""},{"$f":"'View Records'!AJ1123","v":""},{"$f":"'View Records'!AK1123","v":""},{"$f":"'View Records'!AL1123","v":""},{"$f":"'View Records'!AM1123","v":""},{"$f":"'View Records'!AN1123","v":""},{"$f":"'View Records'!AO1123","v":""},{"$f":"'View Records'!AP1123","v":""},{"$f":"'View Records'!AQ1123","v":""}]
[{"$f":"'By Name'!AC431","v":""},{"$f":"'By Name'!AD431","v":""},{"$f":"'By Name'!AE431","v":""},{"$f":"'By Name'!AF431","v":""},{"$f":"'By Name'!AG431","v":""},{"$f":"'By Name'!AH431","v":""},{"$f":"'By Name'!AI431","v":""},{"$f":"'By Name'!AJ431","v":""},{"$f":"'By Name'!AK431","v":""},{"$f":"'By Name'!AL431","v":""},{"$f":"'By Name'!AM431","v":""},{"$f":"'By Name'!AN431","v":""},"","","","",1126,"","","","","","","","","","","","","","Block","","","","","","","","","","","","",null,null,null,null,null,null,null,null,null,null,null,null,null,null,null,null,null,null,null,null,null,null,null,null,null,null,null,null,null,null,null,null,null,null,null,null,null,null,null,null,null,null,null,null,null,null,null,null,null,null,null,null,null,null,null,null,null,null,null,null,null,null,null,null,null,null,null,null,null,null,null,null,null,null,null,null,null,null,null,null,null,null,null,null,null,null,null,null,null,null,null,null,null,null,null,null,null,null,null,null,null,null,null,null,null,null,null,null,null,null,null,null,null,null,null,null,null,null,null,null,null,null,null,null,null,null,null,null,null,null,null,null,null,null,null,null,null,null,null,null,null,null,null,null,null,null,null,null,null,null,null,null,null,null,null,null,null,null,null,null,null,null,null,null,null,{"$f":"'View Records'!AF1131","v":""},{"$f":"'View Records'!AG1131","v":""},{"$f":"'View Records'!AH1131","v":""},{"$f":"'View Records'!AI1131","v":""},{"$f":"'View Records'!AJ1131","v":""},{"$f":"'View Records'!AK1131","v":""},{"$f":"'View Records'!AL1131","v":""},{"$f":"'View Records'!AM1131","v":""},{"$f":"'View Records'!AN1131","v":""},{"$f":"'View Records'!AO1131","v":""},{"$f":"'View Records'!AP1131","v":""},{"$f":"'View Records'!AQ1131","v":""}]
[{"$f":"'By Name'!AC434","v":""},{"$f":"'By Name'!AD434","v":""},{"$f":"'By Name'!AE434","v":""},{"$f":"'By Name'!AF434","v":""},{"$f":"'By Name'!AG434","v":""},{"$f":"'By Name'!AH434","v":""},{"$f":"'By Name'!AI434","v":""},{"$f":"'By Name'!AJ434","v":""},{"$f":"'By Name'!AK434","v":""},{"$f":"'By Name'!AL434","v":""},{"$f":"'By Name'!AM434","v":""},{"$f":"'By Name'!AN434","v":""},"","","","",1129,"","","","","","","","","","","","","","Block","","","","","","","","","","","","",null,null,null,null,null,null,null,null,null,null,null,null,null,null,null,null,null,null,null,null,null,null,null,null,null,null,null,null,null,null,null,null,null,null,null,null,null,null,null,null,null,null,null,null,null,null,null,null,null,null,null,null,null,null,null,null,null,null,null,null,null,null,null,null,null,null,null,null,null,null,null,null,null,null,null,null,null,null,null,null,null,null,null,null,null,null,null,null,null,null,null,null,null,null,null,null,null,null,null,null,null,null,null,null,null,null,null,null,null,null,null,null,null,null,null,null,null,null,null,null,null,null,null,null,null,null,null,null,null,null,null,null,null,null,null,null,null,null,null,null,null,null,null,null,null,null,null,null,null,null,null,null,null,null,null,null,null,null,null,null,null,null,null,null,null,{"$f":"'View Records'!AF1134","v":""},{"$f":"'View Records'!AG1134","v":""},{"$f":"'View Records'!AH1134","v":""},{"$f":"'View Records'!AI1134","v":""},{"$f":"'View Records'!AJ1134","v":""},{"$f":"'View Records'!AK1134","v":""},{"$f":"'View Records'!AL1134","v":""},{"$f":"'View Records'!AM1134","v":""},{"$f":"'View Records'!AN1134","v":""},{"$f":"'View Records'!AO1134","v":""},{"$f":"'View Records'!AP1134","v":""},{"$f":"'View Records'!AQ1134","v":""}]
[{"$f":"'By Name'!AC443","v":""},{"$f":"'By Name'!AD443","v":""},{"$f":"'By Name'!AE443","v":""},{"$f":"'By Name'!AF443","v":""},{"$f":"'By Name'!AG443","v":""},{"$f":"'By Name'!AH443","v":""},{"$f":"'By Name'!AI443","v":""},{"$f":"'By Name'!AJ443","v":""},{"$f":"'By Name'!AK443","v":""},{"$f":"'By Name'!AL443","v":""},{"$f":"'By Name'!AM443","v":""},{"$f":"'By Name'!AN443","v":""},"","","","",1138,"","","","","","","","","","","","","","Block","","","","","","","","","","","","",null,null,null,null,null,null,null,null,null,null,null,null,null,null,null,null,null,null,null,null,null,null,null,null,null,null,null,null,null,null,null,null,null,null,null,null,null,null,null,null,null,null,null,null,null,null,null,null,null,null,null,null,null,null,null,null,null,null,null,null,null,null,null,null,null,null,null,null,null,null,null,null,null,null,null,null,null,null,null,null,null,null,null,null,null,null,null,null,null,null,null,null,null,null,null,null,null,null,null,null,null,null,null,null,null,null,null,null,null,null,null,null,null,null,null,null,null,null,null,null,null,null,null,null,null,null,null,null,null,null,null,null,null,null,null,null,null,null,null,null,null,null,null,null,null,null,null,null,null,null,null,null,null,null,null,null,null,null,null,null,null,null,null,null,null,{"$f":"'View Records'!AF1143","v":""},{"$f":"'View Records'!AG1143","v":""},{"$f":"'View Records'!AH1143","v":""},{"$f":"'View Records'!AI1143","v":""},{"$f":"'View Records'!AJ1143","v":""},{"$f":"'View Records'!AK1143","v":""},{"$f":"'View Records'!AL1143","v":""},{"$f":"'View Records'!AM1143","v":""},{"$f":"'View Records'!AN1143","v":""},{"$f":"'View Records'!AO1143","v":""},{"$f":"'View Records'!AP1143","v":""},{"$f":"'View Records'!AQ1143","v":""}]
[{"$f":"'By Name'!AC451","v":""},{"$f":"'By Name'!AD451","v":""},{"$f":"'By Name'!AE451","v":""},{"$f":"'By Name'!AF451","v":""},{"$f":"'By Name'!AG451","v":""},{"$f":"'By Name'!AH451","v":""},{"$f":"'By Name'!AI451","v":""},{"$f":"'By Name'!AJ451","v":""},{"$f":"'By Name'!AK451","v":""},{"$f":"'By Name'!AL451","v":""},{"$f":"'By Name'!AM451","v":""},{"$f":"'By Name'!AN451","v":""},"","","","",1146,"","","","","","","","","","","","","","Block","","","","","","","","","","","","",null,null,null,null,null,null,null,null,null,null,null,null,null,null,null,null,null,null,null,null,null,null,null,null,null,null,null,null,null,null,null,null,null,null,null,null,null,null,null,null,null,null,null,null,null,null,null,null,null,null,null,null,null,null,null,null,null,null,null,null,null,null,null,null,null,null,null,null,null,null,null,null,null,null,null,null,null,null,null,null,null,null,null,null,null,null,null,null,null,null,null,null,null,null,null,null,null,null,null,null,null,null,null,null,null,null,null,null,null,null,null,null,null,null,null,null,null,null,null,null,null,null,null,null,null,null,null,null,null,null,null,null,null,null,null,null,null,null,null,null,null,null,null,null,null,null,null,null,null,null,null,null,null,null,null,null,null,null,null,null,null,null,null,null,null,{"$f":"'View Records'!AF1151","v":""},{"$f":"'View Records'!AG1151","v":""},{"$f":"'View Records'!AH1151","v":""},{"$f":"'View Records'!AI1151","v":""},{"$f":"'View Records'!AJ1151","v":""},{"$f":"'View Records'!AK1151","v":""},{"$f":"'View Records'!AL1151","v":""},{"$f":"'View Records'!AM1151","v":""},{"$f":"'View Records'!AN1151","v":""},{"$f":"'View Records'!AO1151","v":""},{"$f":"'View Records'!AP1151","v":""},{"$f":"'View Records'!AQ1151","v":""}]
[{"$f":"'By Name'!AC462","v":""},{"$f":"'By Name'!AD462","v":""},{"$f":"'By Name'!AE462","v":""},{"$f":"'By Name'!AF462","v":""},{"$f":"'By Name'!AG462","v":""},{"$f":"'By Name'!AH462","v":""},{"$f":"'By Name'!AI462","v":""},{"$f":"'By Name'!AJ462","v":""},{"$f":"'By Name'!AK462","v":""},{"$f":"'By Name'!AL462","v":""},{"$f":"'By Name'!AM462","v":""},{"$f":"'By Name'!AN462","v":""},"","","","",1157,"","","","","","","","","","","","","","Block",{"$f":"IF(ISNUMBER($P1154),VLOOKUP(SMALL($R$2:$R$1197,ROW()-5),$R$2:$AD$1197,2,FALSE),\"\")","v":""},{"$f":"IF(ISNUMBER($P1154),VLOOKUP(SMALL($R$2:$R$1197,ROW()-5),$R$2:$AD$1197,3,FALSE),\"\")","v":""},{"$f":"IF(ISNUMBER($P1154),VLOOKUP(SMALL($R$2:$R$1197,ROW()-5),$R$2:$AD$1197,4,FALSE),\"\")","v":""},{"$f":"IF(ISNUMBER($P1154),VLOOKUP(SMALL($R$2:$R$1197,ROW()-5),$R$2:$AD$1197,5,FALSE),\"\")","v":""},{"$f":"IF(ISNUMBER($P1154),VLOOKUP(SMALL($R$2:$R$1197,ROW()-5),$R$2:$AD$1197,6,FALSE),\"\")","v":""},{"$f":"IF(ISNUMBER($P1154),VLOOKUP(SMALL($R$2:$R$1197,ROW()-5),$R$2:$AD$1197,7,FALSE),\"\")","v":""},{"$f":"IF(ISNUMBER($P1154),VLOOKUP(SMALL($R$2:$R$1197,ROW()-5),$R$2:$AD$1197,9,FALSE),\"\")","v":""},{"$f":"IF(ISNUMBER($P1154),VLOOKUP(SMALL($R$2:$R$1197,ROW()-5),$R$2:$AD$1197,10,FALSE),\"\")","v":""},{"$f":"IF(ISNUMBER($P1154),VLOOKUP(SMALL($R$2:$R$1197,ROW()-5),$R$2:$AD$1197,8,FALSE),\"\")","v":""},{"$f":"IF(ISNUMBER($P1154),VLOOKUP(SMALL($R$2:$R$1197,ROW()-5),$R$2:$AD$1197,11,FALSE),\"\")","v":""},"","",null,null,null,null,null,null,null,null,null,null,null,null,null,null,null,null,null,null,null,null,null,null,null,null,null,null,null,null,null,null,null,null,null,null,null,null,null,null,null,null,null,null,null,null,null,null,null,null,null,null,null,null,null,null,null,null,null,null,null,null,null,null,null,null,null,null,null,null,null,null,null,null,null,null,null,null,null,null,null,null,null,null,null,null,null,null,null,null,null,null,null,null,null,null,null,null,null,null,null,null,null,null,null,null,null,null,null,null,null,null,null,null,null,null,null,null,null,null,null,null,null,null,null,null,null,null,null,null,null,null,null,null,null,null,null,null,null,null,null,null,null,null,null,null,null,null,null,null,null,null,null,null,null,null,null,null,null,null,null,null,null,null,null,null,null,{"$f":"'View Records'!AF1162","v":""},{"$f":"'View Records'!AG1162","v":""},{"$f":"'View Records'!AH1162","v":""},{"$f":"'View Records'!AI1162","v":""},{"$f":"'View Records'!AJ1162","v":""},{"$f":"'View Records'!AK1162","v":""},{"$f":"'View Records'!AL1162","v":""},{"$f":"'View Records'!AM1162","v":""},{"$f":"'View Records'!AN1162","v":""},{"$f":"'View Records'!AO1162","v":""},{"$f":"'View Records'!AP1162","v":""},{"$f":"'View Records'!AQ1162","v":""}]
[{"$f":"'By Name'!AC469","v":""},{"$f":"'By Name'!AD469","v":""},{"$f":"'By Name'!AE469","v":""},{"$f":"'By Name'!AF469","v":""},{"$f":"'By Name'!AG469","v":""},{"$f":"'By Name'!AH469","v":""},{"$f":"'By Name'!AI469","v":""},{"$f":"'By Name'!AJ469","v":""},{"$f":"'By Name'!AK469","v":""},{"$f":"'By Name'!AL469","v":""},{"$f":"'By Name'!AM469","v":""},{"$f":"'By Name'!AN469","v":""},"","","","",1164,"","","","","","","","","","","","","","Block","","","","","","","","","","","","",null,null,null,null,null,null,null,null,null,null,null,null,null,null,null,null,null,null,null,null,null,null,null,null,null,null,null,null,null,null,null,null,null,null,null,null,null,null,null,null,null,null,null,null,null,null,null,null,null,null,null,null,null,null,null,null,null,null,null,null,null,null,null,null,null,null,null,null,null,null,null,null,null,null,null,null,null,null,null,null,null,null,null,null,null,null,null,null,null,null,null,null,null,null,null,null,null,null,null,null,null,null,null,null,null,null,null,null,null,null,null,null,null,null,null,null,null,null,null,null,null,null,null,null,null,null,null,null,null,null,null,null,null,null,null,null,null,null,null,null,null,null,null,null,null,null,null,null,null,null,null,null,null,null,null,null,null,null,null,null,null,null,null,null,null,{"$f":"'View Records'!AF1169","v":""},{"$f":"'View Records'!AG1169","v":""},{"$f":"'View Records'!AH1169","v":""},{"$f":"'View Records'!AI1169","v":""},{"$f":"'View Records'!AJ1169","v":""},{"$f":"'View Records'!AK1169","v":""},{"$f":"'View Records'!AL1169","v":""},{"$f":"'View Records'!AM1169","v":""},{"$f":"'View Records'!AN1169","v":""},{"$f":"'View Records'!AO1169","v":""},{"$f":"'View Records'!AP1169","v":""},{"$f":"'View Records'!AQ1169","v":""}]
[{"$f":"'By Name'!AC475","v":""},{"$f":"'By Name'!AD475","v":""},{"$f":"'By Name'!AE475","v":""},{"$f":"'By Name'!AF475","v":""},{"$f":"'By Name'!AG475","v":""},{"$f":"'By Name'!AH475","v":""},{"$f":"'By Name'!AI475","v":""},{"$f":"'By Name'!AJ475","v":""},{"$f":"'By Name'!AK475","v":""},{"$f":"'By Name'!AL475","v":""},{"$f":"'By Name'!AM475","v":""},{"$f":"'By Name'!AN475","v":""},"","","","",1170,"","","","","","","","","","","","","","Block","","","","","","","","","","","","",null,null,null,null,null,null,null,null,null,null,null,null,null,null,null,null,null,null,null,null,null,null,null,null,null,null,null,null,null,null,null,null,null,null,null,null,null,null,null,null,null,null,null,null,null,null,null,null,null,null,null,null,null,null,null,null,null,null,null,null,null,null,null,null,null,null,null,null,null,null,null,null,null,null,null,null,null,null,null,null,null,null,null,null,null,null,null,null,null,null,null,null,null,null,null,null,null,null,null,null,null,null,null,null,null,null,null,null,null,null,null,null,null,null,null,null,null,null,null,null,null,null,null,null,null,null,null,null,null,null,null,null,null,null,null,null,null,null,null,null,null,null,null,null,null,null,null,null,null,null,null,null,null,null,null,null,null,null,null,null,null,null,null,null,null,{"$f":"'View Records'!AF1175","v":""},{"$f":"'View Records'!AG1175","v":""},{"$f":"'View Records'!AH1175","v":""},{"$f":"'View Records'!AI1175","v":""},{"$f":"'View Records'!AJ1175","v":""},{"$f":"'View Records'!AK1175","v":""},{"$f":"'View Records'!AL1175","v":""},{"$f":"'View Records'!AM1175","v":""},{"$f":"'View Records'!AN1175","v":""},{"$f":"'View Records'!AO1175","v":""},{"$f":"'View Records'!AP1175","v":""},{"$f":"'View Records'!AQ1175","v":""}]
[{"$f":"'By Name'!AC476","v":""},{"$f":"'By Name'!AD476","v":""},{"$f":"'By Name'!AE476","v":""},{"$f":"'By Name'!AF476","v":""},{"$f":"'By Name'!AG476","v":""},{"$f":"'By Name'!AH476","v":""},{"$f":"'By Name'!AI476","v":""},{"$f":"'By Name'!AJ476","v":""},{"$f":"'By Name'!AK476","v":""},{"$f":"'By Name'!AL476","v":""},{"$f":"'By Name'!AM476","v":""},{"$f":"'By Name'!AN476","v":""},"","","","",1171,"","","","","","","","","","","","","","Block","","","","","","","","","","","","",null,null,null,null,null,null,null,null,null,null,null,null,null,null,null,null,null,null,null,null,null,null,null,null,null,null,null,null,null,null,null,null,null,null,null,null,null,null,null,null,null,null,null,null,null,null,null,null,null,null,null,null,null,null,null,null,null,null,null,null,null,null,null,null,null,null,null,null,null,null,null,null,null,null,null,null,null,null,null,null,null,null,null,null,null,null,null,null,null,null,null,null,null,null,null,null,null,null,null,null,null,null,null,null,null,null,null,null,null,null,null,null,null,null,null,null,null,null,null,null,null,null,null,null,null,null,null,null,null,null,null,null,null,null,null,null,null,null,null,null,null,null,null,null,null,null,null,null,null,null,null,null,null,null,null,null,null,null,null,null,null,null,null,null,null,{"$f":"'View Records'!AF1176","v":""},{"$f":"'View Records'!AG1176","v":""},{"$f":"'View Records'!AH1176","v":""},{"$f":"'View Records'!AI1176","v":""},{"$f":"'View Records'!AJ1176","v":""},{"$f":"'View Records'!AK1176","v":""},{"$f":"'View Records'!AL1176","v":""},{"$f":"'View Records'!AM1176","v":""},{"$f":"'View Records'!AN1176","v":""},{"$f":"'View Records'!AO1176","v":""},{"$f":"'View Records'!AP1176","v":""},{"$f":"'View Records'!AQ1176","v":""}]
[{"$f":"'By Name'!AC477","v":""},{"$f":"'By Name'!AD477","v":""},{"$f":"'By Name'!AE477","v":""},{"$f":"'By Name'!AF477","v":""},{"$f":"'By Name'!AG477","v":""},{"$f":"'By Name'!AH477","v":""},{"$f":"'By Name'!AI477","v":""},{"$f":"'By Name'!AJ477","v":""},{"$f":"'By Name'!AK477","v":""},{"$f":"'By Name'!AL477","v":""},{"$f":"'By Name'!AM477","v":""},{"$f":"'By Name'!AN477","v":""},"","","","",1172,"","","","","","","","","","","","","","Block","","","","","","","","","","","","",null,null,null,null,null,null,null,null,null,null,null,null,null,null,null,null,null,null,null,null,null,null,null,null,null,null,null,null,null,null,null,null,null,null,null,null,null,null,null,null,null,null,null,null,null,null,null,null,null,null,null,null,null,null,null,null,null,null,null,null,null,null,null,null,null,null,null,null,null,null,null,null,null,null,null,null,null,null,null,null,null,null,null,null,null,null,null,null,null,null,null,null,null,null,null,null,null,null,null,null,null,null,null,null,null,null,null,null,null,null,null,null,null,null,null,null,null,null,null,null,null,null,null,null,null,null,null,null,null,null,null,null,null,null,null,null,null,null,null,null,null,null,null,null,null,null,null,null,null,null,null,null,null,null,null,null,null,null,null,null,null,null,null,null,null,{"$f":"'View Records'!AF1177","v":""},{"$f":"'View Records'!AG1177","v":""},{"$f":"'View Records'!AH1177","v":""},{"$f":"'View Records'!AI1177","v":""},{"$f":"'View Records'!AJ1177","v":""},{"$f":"'View Records'!AK1177","v":""},{"$f":"'View Records'!AL1177","v":""},{"$f":"'View Records'!AM1177","v":""},{"$f":"'View Records'!AN1177","v":""},{"$f":"'View Records'!AO1177","v":""},{"$f":"'View Records'!AP1177","v":""},{"$f":"'View Records'!AQ1177","v":""}]
[{"$f":"'By Name'!AC478","v":""},{"$f":"'By Name'!AD478","v":""},{"$f":"'By Name'!AE478","v":""},{"$f":"'By Name'!AF478","v":""},{"$f":"'By Name'!AG478","v":""},{"$f":"'By Name'!AH478","v":""},{"$f":"'By Name'!AI478","v":""},{"$f":"'By Name'!AJ478","v":""},{"$f":"'By Name'!AK478","v":""},{"$f":"'By Name'!AL478","v":""},{"$f":"'By Name'!AM478","v":""},{"$f":"'By Name'!AN478","v":""},"","","","",1173,"","","","","","","","","","","","","","Block","","","","","","","","","","","","",null,null,null,null,null,null,null,null,null,null,null,null,null,null,null,null,null,null,null,null,null,null,null,null,null,null,null,null,null,null,null,null,null,null,null,null,null,null,null,null,null,null,null,null,null,null,null,null,null,null,null,null,null,null,null,null,null,null,null,null,null,null,null,null,null,null,null,null,null,null,null,null,null,null,null,null,null,null,null,null,null,null,null,null,null,null,null,null,null,null,null,null,null,null,null,null,null,null,null,null,null,null,null,null,null,null,null,null,null,null,null,null,null,null,null,null,null,null,null,null,null,null,null,null,null,null,null,null,null,null,null,null,null,null,null,null,null,null,null,null,null,null,null,null,null,null,null,null,null,null,null,null,null,null,null,null,null,null,null,null,null,null,null,null,null,{"$f":"'View Records'!AF1178","v":""},{"$f":"'View Records'!AG1178","v":""},{"$f":"'View Records'!AH1178","v":""},{"$f":"'View Records'!AI1178","v":""},{"$f":"'View Records'!AJ1178","v":""},{"$f":"'View Records'!AK1178","v":""},{"$f":"'View Records'!AL1178","v":""},{"$f":"'View Records'!AM1178","v":""},{"$f":"'View Records'!AN1178","v":""},{"$f":"'View Records'!AO1178","v":""},{"$f":"'View Records'!AP1178","v":""},{"$f":"'View Records'!AQ1178","v":""}]
[{"$f":"'By Name'!AC479","v":""},{"$f":"'By Name'!AD479","v":""},{"$f":"'By Name'!AE479","v":""},{"$f":"'By Name'!AF479","v":""},{"$f":"'By Name'!AG479","v":""},{"$f":"'By Name'!AH479","v":""},{"$f":"'By Name'!AI479","v":""},{"$f":"'By Name'!AJ479","v":""},{"$f":"'By Name'!AK479","v":""},{"$f":"'By Name'!AL479","v":""},{"$f":"'By Name'!AM479","v":""},{"$f":"'By Name'!AN479","v":""},"","","","",1174,"","","","","","","","","","","","","","Block","","","","","","","","","","","","",null,null,null,null,null,null,null,null,null,null,null,null,null,null,null,null,null,null,null,null,null,null,null,null,null,null,null,null,null,null,null,null,null,null,null,null,null,null,null,null,null,null,null,null,null,null,null,null,null,null,null,null,null,null,null,null,null,null,null,null,null,null,null,null,null,null,null,null,null,null,null,null,null,null,null,null,null,null,null,null,null,null,null,null,null,null,null,null,null,null,null,null,null,null,null,null,null,null,null,null,null,null,null,null,null,null,null,null,null,null,null,null,null,null,null,null,null,null,null,null,null,null,null,null,null,null,null,null,null,null,null,null,null,null,null,null,null,null,null,null,null,null,null,null,null,null,null,null,null,null,null,null,null,null,null,null,null,null,null,null,null,null,null,null,null,{"$f":"'View Records'!AF1179","v":""},{"$f":"'View Records'!AG1179","v":""},{"$f":"'View Records'!AH1179","v":""},{"$f":"'View Records'!AI1179","v":""},{"$f":"'View Records'!AJ1179","v":""},{"$f":"'View Records'!AK1179","v":""},{"$f":"'View Records'!AL1179","v":""},{"$f":"'View Records'!AM1179","v":""},{"$f":"'View Records'!AN1179","v":""},{"$f":"'View Records'!AO1179","v":""},{"$f":"'View Records'!AP1179","v":""},{"$f":"'View Records'!AQ1179","v":""}]
[{"$f":"'By Name'!AC480","v":""},{"$f":"'By Name'!AD480","v":""},{"$f":"'By Name'!AE480","v":""},{"$f":"'By Name'!AF480","v":""},{"$f":"'By Name'!AG480","v":""},{"$f":"'By Name'!AH480","v":""},{"$f":"'By Name'!AI480","v":""},{"$f":"'By Name'!AJ480","v":""},{"$f":"'By Name'!AK480","v":""},{"$f":"'By Name'!AL480","v":""},{"$f":"'By Name'!AM480","v":""},{"$f":"'By Name'!AN480","v":""},"","","","",1175,"","","","","","","","","","","","","","Block","","","","","","","","","","","","",null,null,null,null,null,null,null,null,null,null,null,null,null,null,null,null,null,null,null,null,null,null,null,null,null,null,null,null,null,null,null,null,null,null,null,null,null,null,null,null,null,null,null,null,null,null,null,null,null,null,null,null,null,null,null,null,null,null,null,null,null,null,null,null,null,null,null,null,null,null,null,null,null,null,null,null,null,null,null,null,null,null,null,null,null,null,null,null,null,null,null,null,null,null,null,null,null,null,null,null,null,null,null,null,null,null,null,null,null,null,null,null,null,null,null,null,null,null,null,null,null,null,null,null,null,null,null,null,null,null,null,null,null,null,null,null,null,null,null,null,null,null,null,null,null,null,null,null,null,null,null,null,null,null,null,null,null,null,null,null,null,null,null,null,null,{"$f":"'View Records'!AF1180","v":""},{"$f":"'View Records'!AG1180","v":""},{"$f":"'View Records'!AH1180","v":""},{"$f":"'View Records'!AI1180","v":""},{"$f":"'View Records'!AJ1180","v":""},{"$f":"'View Records'!AK1180","v":""},{"$f":"'View Records'!AL1180","v":""},{"$f":"'View Records'!AM1180","v":""},{"$f":"'View Records'!AN1180","v":""},{"$f":"'View Records'!AO1180","v":""},{"$f":"'View Records'!AP1180","v":""},{"$f":"'View Records'!AQ1180","v":""}]
[{"$f":"'By Name'!AC481","v":""},{"$f":"'By Name'!AD481","v":""},{"$f":"'By Name'!AE481","v":""},{"$f":"'By Name'!AF481","v":""},{"$f":"'By Name'!AG481","v":""},{"$f":"'By Name'!AH481","v":""},{"$f":"'By Name'!AI481","v":""},{"$f":"'By Name'!AJ481","v":""},{"$f":"'By Name'!AK481","v":""},{"$f":"'By Name'!AL481","v":""},{"$f":"'By Name'!AM481","v":""},{"$f":"'By Name'!AN481","v":""},"","","","",1176,"","","","","","","","","","","","","","Block","","","","","","","","","","","","",null,null,null,null,null,null,null,null,null,null,null,null,null,null,null,null,null,null,null,null,null,null,null,null,null,null,null,null,null,null,null,null,null,null,null,null,null,null,null,null,null,null,null,null,null,null,null,null,null,null,null,null,null,null,null,null,null,null,null,null,null,null,null,null,null,null,null,null,null,null,null,null,null,null,null,null,null,null,null,null,null,null,null,null,null,null,null,null,null,null,null,null,null,null,null,null,null,null,null,null,null,null,null,null,null,null,null,null,null,null,null,null,null,null,null,null,null,null,null,null,null,null,null,null,null,null,null,null,null,null,null,null,null,null,null,null,null,null,null,null,null,null,null,null,null,null,null,null,null,null,null,null,null,null,null,null,null,null,null,null,null,null,null,null,null,{"$f":"'View Records'!AF1181","v":""},{"$f":"'View Records'!AG1181","v":""},{"$f":"'View Records'!AH1181","v":""},{"$f":"'View Records'!AI1181","v":""},{"$f":"'View Records'!AJ1181","v":""},{"$f":"'View Records'!AK1181","v":""},{"$f":"'View Records'!AL1181","v":""},{"$f":"'View Records'!AM1181","v":""},{"$f":"'View Records'!AN1181","v":""},{"$f":"'View Records'!AO1181","v":""},{"$f":"'View Records'!AP1181","v":""},{"$f":"'View Records'!AQ1181","v":""}]
[{"$f":"'By Name'!AC482","v":""},{"$f":"'By Name'!AD482","v":""},{"$f":"'By Name'!AE482","v":""},{"$f":"'By Name'!AF482","v":""},{"$f":"'By Name'!AG482","v":""},{"$f":"'By Name'!AH482","v":""},{"$f":"'By Name'!AI482","v":""},{"$f":"'By Name'!AJ482","v":""},{"$f":"'By Name'!AK482","v":""},{"$f":"'By Name'!AL482","v":""},{"$f":"'By Name'!AM482","v":""},{"$f":"'By Name'!AN482","v":""},"","","","",1177,"","","","","","","","","","","","","","Block","","","","","","","","","","","","",null,null,null,null,null,null,null,null,null,null,null,null,null,null,null,null,null,null,null,null,null,null,null,null,null,null,null,null,null,null,null,null,null,null,null,null,null,null,null,null,null,null,null,null,null,null,null,null,null,null,null,null,null,null,null,null,null,null,null,null,null,null,null,null,null,null,null,null,null,null,null,null,null,null,null,null,null,null,null,null,null,null,null,null,null,null,null,null,null,null,null,null,null,null,null,null,null,null,null,null,null,null,null,null,null,null,null,null,null,null,null,null,null,null,null,null,null,null,null,null,null,null,null,null,null,null,null,null,null,null,null,null,null,null,null,null,null,null,null,null,null,null,null,null,null,null,null,null,null,null,null,null,null,null,null,null,null,null,null,null,null,null,null,null,null,{"$f":"'View Records'!AF1182","v":""},{"$f":"'View Records'!AG1182","v":""},{"$f":"'View Records'!AH1182","v":""},{"$f":"'View Records'!AI1182","v":""},{"$f":"'View Records'!AJ1182","v":""},{"$f":"'View Records'!AK1182","v":""},{"$f":"'View Records'!AL1182","v":""},{"$f":"'View Records'!AM1182","v":""},{"$f":"'View Records'!AN1182","v":""},{"$f":"'View Records'!AO1182","v":""},{"$f":"'View Records'!AP1182","v":""},{"$f":"'View Records'!AQ1182","v":""}]
[{"$f":"'By Name'!AC483","v":""},{"$f":"'By Name'!AD483","v":""},{"$f":"'By Name'!AE483","v":""},{"$f":"'By Name'!AF483","v":""},{"$f":"'By Name'!AG483","v":""},{"$f":"'By Name'!AH483","v":""},{"$f":"'By Name'!AI483","v":""},{"$f":"'By Name'!AJ483","v":""},{"$f":"'By Name'!AK483","v":""},{"$f":"'By Name'!AL483","v":""},{"$f":"'By Name'!AM483","v":""},{"$f":"'By Name'!AN483","v":""},"","","","",1178,"","","","","","","","","","","","","","Block","","","","","","","","","","","","",null,null,null,null,null,null,null,null,null,null,null,null,null,null,null,null,null,null,null,null,null,null,null,null,null,null,null,null,null,null,null,null,null,null,null,null,null,null,null,null,null,null,null,null,null,null,null,null,null,null,null,null,null,null,null,null,null,null,null,null,null,null,null,null,null,null,null,null,null,null,null,null,null,null,null,null,null,null,null,null,null,null,null,null,null,null,null,null,null,null,null,null,null,null,null,null,null,null,null,null,null,null,null,null,null,null,null,null,null,null,null,null,null,null,null,null,null,null,null,null,null,null,null,null,null,null,null,null,null,null,null,null,null,null,null,null,null,null,null,null,null,null,null,null,null,null,null,null,null,null,null,null,null,null,null,null,null,null,null,null,null,null,null,null,null,{"$f":"'View Records'!AF1183","v":""},{"$f":"'View Records'!AG1183","v":""},{"$f":"'View Records'!AH1183","v":""},{"$f":"'View Records'!AI1183","v":""},{"$f":"'View Records'!AJ1183","v":""},{"$f":"'View Records'!AK1183","v":""},{"$f":"'View Records'!AL1183","v":""},{"$f":"'View Records'!AM1183","v":""},{"$f":"'View Records'!AN1183","v":""},{"$f":"'View Records'!AO1183","v":""},{"$f":"'View Records'!AP1183","v":""},{"$f":"'View Records'!AQ1183","v":""}]
[{"$f":"'By Name'!AC484","v":""},{"$f":"'By Name'!AD484","v":""},{"$f":"'By Name'!AE484","v":""},{"$f":"'By Name'!AF484","v":""},{"$f":"'By Name'!AG484","v":""},{"$f":"'By Name'!AH484","v":""},{"$f":"'By Name'!AI484","v":""},{"$f":"'By Name'!AJ484","v":""},{"$f":"'By Name'!AK484","v":""},{"$f":"'By Name'!AL484","v":""},{"$f":"'By Name'!AM484","v":""},{"$f":"'By Name'!AN484","v":""},"","","","",1179,"","","","","","","","","","","","","","Block","","","","","","","","","","","","",null,null,null,null,null,null,null,null,null,null,null,null,null,null,null,null,null,null,null,null,null,null,null,null,null,null,null,null,null,null,null,null,null,null,null,null,null,null,null,null,null,null,null,null,null,null,null,null,null,null,null,null,null,null,null,null,null,null,null,null,null,null,null,null,null,null,null,null,null,null,null,null,null,null,null,null,null,null,null,null,null,null,null,null,null,null,null,null,null,null,null,null,null,null,null,null,null,null,null,null,null,null,null,null,null,null,null,null,null,null,null,null,null,null,null,null,null,null,null,null,null,null,null,null,null,null,null,null,null,null,null,null,null,null,null,null,null,null,null,null,null,null,null,null,null,null,null,null,null,null,null,null,null,null,null,null,null,null,null,null,null,null,null,null,null,{"$f":"'View Records'!AF1184","v":""},{"$f":"'View Records'!AG1184","v":""},{"$f":"'View Records'!AH1184","v":""},{"$f":"'View Records'!AI1184","v":""},{"$f":"'View Records'!AJ1184","v":""},{"$f":"'View Records'!AK1184","v":""},{"$f":"'View Records'!AL1184","v":""},{"$f":"'View Records'!AM1184","v":""},{"$f":"'View Records'!AN1184","v":""},{"$f":"'View Records'!AO1184","v":""},{"$f":"'View Records'!AP1184","v":""},{"$f":"'View Records'!AQ1184","v":""}]
[{"$f":"'By Name'!AC485","v":""},{"$f":"'By Name'!AD485","v":""},{"$f":"'By Name'!AE485","v":""},{"$f":"'By Name'!AF485","v":""},{"$f":"'By Name'!AG485","v":""},{"$f":"'By Name'!AH485","v":""},{"$f":"'By Name'!AI485","v":""},{"$f":"'By Name'!AJ485","v":""},{"$f":"'By Name'!AK485","v":""},{"$f":"'By Name'!AL485","v":""},{"$f":"'By Name'!AM485","v":""},{"$f":"'By Name'!AN485","v":""},"","","","",1180,"","","","","","","","","","","","","","Block","","","","","","","","","","","","",null,null,null,null,null,null,null,null,null,null,null,null,null,null,null,null,null,null,null,null,null,null,null,null,null,null,null,null,null,null,null,null,null,null,null,null,null,null,null,null,null,null,null,null,null,null,null,null,null,null,null,null,null,null,null,null,null,null,null,null,null,null,null,null,null,null,null,null,null,null,null,null,null,null,null,null,null,null,null,null,null,null,null,null,null,null,null,null,null,null,null,null,null,null,null,null,null,null,null,null,null,null,null,null,null,null,null,null,null,null,null,null,null,null,null,null,null,null,null,null,null,null,null,null,null,null,null,null,null,null,null,null,null,null,null,null,null,null,null,null,null,null,null,null,null,null,null,null,null,null,null,null,null,null,null,null,null,null,null,null,null,null,null,null,null,{"$f":"'View Records'!AF1185","v":""},{"$f":"'View Records'!AG1185","v":""},{"$f":"'View Records'!AH1185","v":""},{"$f":"'View Records'!AI1185","v":""},{"$f":"'View Records'!AJ1185","v":""},{"$f":"'View Records'!AK1185","v":""},{"$f":"'View Records'!AL1185","v":""},{"$f":"'View Records'!AM1185","v":""},{"$f":"'View Records'!AN1185","v":""},{"$f":"'View Records'!AO1185","v":""},{"$f":"'View Records'!AP1185","v":""},{"$f":"'View Records'!AQ1185","v":""}]
[{"$f":"'By Name'!AC486","v":""},{"$f":"'By Name'!AD486","v":""},{"$f":"'By Name'!AE486","v":""},{"$f":"'By Name'!AF486","v":""},{"$f":"'By Name'!AG486","v":""},{"$f":"'By Name'!AH486","v":""},{"$f":"'By Name'!AI486","v":""},{"$f":"'By Name'!AJ486","v":""},{"$f":"'By Name'!AK486","v":""},{"$f":"'By Name'!AL486","v":""},{"$f":"'By Name'!AM486","v":""},{"$f":"'By Name'!AN486","v":""},"","","","",1181,"","","","","","","","","","","","","","Block","","","","","","","","","","","","",null,null,null,null,null,null,null,null,null,null,null,null,null,null,null,null,null,null,null,null,null,null,null,null,null,null,null,null,null,null,null,null,null,null,null,null,null,null,null,null,null,null,null,null,null,null,null,null,null,null,null,null,null,null,null,null,null,null,null,null,null,null,null,null,null,null,null,null,null,null,null,null,null,null,null,null,null,null,null,null,null,null,null,null,null,null,null,null,null,null,null,null,null,null,null,null,null,null,null,null,null,null,null,null,null,null,null,null,null,null,null,null,null,null,null,null,null,null,null,null,null,null,null,null,null,null,null,null,null,null,null,null,null,null,null,null,null,null,null,null,null,null,null,null,null,null,null,null,null,null,null,null,null,null,null,null,null,null,null,null,null,null,null,null,null,{"$f":"'View Records'!AF1186","v":""},{"$f":"'View Records'!AG1186","v":""},{"$f":"'View Records'!AH1186","v":""},{"$f":"'View Records'!AI1186","v":""},{"$f":"'View Records'!AJ1186","v":""},{"$f":"'View Records'!AK1186","v":""},{"$f":"'View Records'!AL1186","v":""},{"$f":"'View Records'!AM1186","v":""},{"$f":"'View Records'!AN1186","v":""},{"$f":"'View Records'!AO1186","v":""},{"$f":"'View Records'!AP1186","v":""},{"$f":"'View Records'!AQ1186","v":""}]
[{"$f":"'By Name'!AC487","v":""},{"$f":"'By Name'!AD487","v":""},{"$f":"'By Name'!AE487","v":""},{"$f":"'By Name'!AF487","v":""},{"$f":"'By Name'!AG487","v":""},{"$f":"'By Name'!AH487","v":""},{"$f":"'By Name'!AI487","v":""},{"$f":"'By Name'!AJ487","v":""},{"$f":"'By Name'!AK487","v":""},{"$f":"'By Name'!AL487","v":""},{"$f":"'By Name'!AM487","v":""},{"$f":"'By Name'!AN487","v":""},"","","","",1182,"","","","","","","","","","","","","","Block","","","","","","","","","","","","",null,null,null,null,null,null,null,null,null,null,null,null,null,null,null,null,null,null,null,null,null,null,null,null,null,null,null,null,null,null,null,null,null,null,null,null,null,null,null,null,null,null,null,null,null,null,null,null,null,null,null,null,null,null,null,null,null,null,null,null,null,null,null,null,null,null,null,null,null,null,null,null,null,null,null,null,null,null,null,null,null,null,null,null,null,null,null,null,null,null,null,null,null,null,null,null,null,null,null,null,null,null,null,null,null,null,null,null,null,null,null,null,null,null,null,null,null,null,null,null,null,null,null,null,null,null,null,null,null,null,null,null,null,null,null,null,null,null,null,null,null,null,null,null,null,null,null,null,null,null,null,null,null,null,null,null,null,null,null,null,null,null,null,null,null,{"$f":"'View Records'!AF1187","v":""},{"$f":"'View Records'!AG1187","v":""},{"$f":"'View Records'!AH1187","v":""},{"$f":"'View Records'!AI1187","v":""},{"$f":"'View Records'!AJ1187","v":""},{"$f":"'View Records'!AK1187","v":""},{"$f":"'View Records'!AL1187","v":""},{"$f":"'View Records'!AM1187","v":""},{"$f":"'View Records'!AN1187","v":""},{"$f":"'View Records'!AO1187","v":""},{"$f":"'View Records'!AP1187","v":""},{"$f":"'View Records'!AQ1187","v":""}]
[{"$f":"'By Name'!AC488","v":""},{"$f":"'By Name'!AD488","v":""},{"$f":"'By Name'!AE488","v":""},{"$f":"'By Name'!AF488","v":""},{"$f":"'By Name'!AG488","v":""},{"$f":"'By Name'!AH488","v":""},{"$f":"'By Name'!AI488","v":""},{"$f":"'By Name'!AJ488","v":""},{"$f":"'By Name'!AK488","v":""},{"$f":"'By Name'!AL488","v":""},{"$f":"'By Name'!AM488","v":""},{"$f":"'By Name'!AN488","v":""},"","","","",1183,"","","","","","","","","","","","","","Block","","","","","","","","","","","","",null,null,null,null,null,null,null,null,null,null,null,null,null,null,null,null,null,null,null,null,null,null,null,null,null,null,null,null,null,null,null,null,null,null,null,null,null,null,null,null,null,null,null,null,null,null,null,null,null,null,null,null,null,null,null,null,null,null,null,null,null,null,null,null,null,null,null,null,null,null,null,null,null,null,null,null,null,null,null,null,null,null,null,null,null,null,null,null,null,null,null,null,null,null,null,null,null,null,null,null,null,null,null,null,null,null,null,null,null,null,null,null,null,null,null,null,null,null,null,null,null,null,null,null,null,null,null,null,null,null,null,null,null,null,null,null,null,null,null,null,null,null,null,null,null,null,null,null,null,null,null,null,null,null,null,null,null,null,null,null,null,null,null,null,null,{"$f":"'View Records'!AF1188","v":""},{"$f":"'View Records'!AG1188","v":""},{"$f":"'View Records'!AH1188","v":""},{"$f":"'View Records'!AI1188","v":""},{"$f":"'View Records'!AJ1188","v":""},{"$f":"'View Records'!AK1188","v":""},{"$f":"'View Records'!AL1188","v":""},{"$f":"'View Records'!AM1188","v":""},{"$f":"'View Records'!AN1188","v":""},{"$f":"'View Records'!AO1188","v":""},{"$f":"'View Records'!AP1188","v":""},{"$f":"'View Records'!AQ1188","v":""}]
[{"$f":"'By Name'!AC489","v":""},{"$f":"'By Name'!AD489","v":""},{"$f":"'By Name'!AE489","v":""},{"$f":"'By Name'!AF489","v":""},{"$f":"'By Name'!AG489","v":""},{"$f":"'By Name'!AH489","v":""},{"$f":"'By Name'!AI489","v":""},{"$f":"'By Name'!AJ489","v":""},{"$f":"'By Name'!AK489","v":""},{"$f":"'By Name'!AL489","v":""},{"$f":"'By Name'!AM489","v":""},{"$f":"'By Name'!AN489","v":""},"","","","",1184,"","","","","","","","","","","","","","Block","","","","","","","","","","","","",null,null,null,null,null,null,null,null,null,null,null,null,null,null,null,null,null,null,null,null,null,null,null,null,null,null,null,null,null,null,null,null,null,null,null,null,null,null,null,null,null,null,null,null,null,null,null,null,null,null,null,null,null,null,null,null,null,null,null,null,null,null,null,null,null,null,null,null,null,null,null,null,null,null,null,null,null,null,null,null,null,null,null,null,null,null,null,null,null,null,null,null,null,null,null,null,null,null,null,null,null,null,null,null,null,null,null,null,null,null,null,null,null,null,null,null,null,null,null,null,null,null,null,null,null,null,null,null,null,null,null,null,null,null,null,null,null,null,null,null,null,null,null,null,null,null,null,null,null,null,null,null,null,null,null,null,null,null,null,null,null,null,null,null,null,{"$f":"'View Records'!AF1189","v":""},{"$f":"'View Records'!AG1189","v":""},{"$f":"'View Records'!AH1189","v":""},{"$f":"'View Records'!AI1189","v":""},{"$f":"'View Records'!AJ1189","v":""},{"$f":"'View Records'!AK1189","v":""},{"$f":"'View Records'!AL1189","v":""},{"$f":"'View Records'!AM1189","v":""},{"$f":"'View Records'!AN1189","v":""},{"$f":"'View Records'!AO1189","v":""},{"$f":"'View Records'!AP1189","v":""},{"$f":"'View Records'!AQ1189","v":""}]
[{"$f":"'By Name'!AC490","v":""},{"$f":"'By Name'!AD490","v":""},{"$f":"'By Name'!AE490","v":""},{"$f":"'By Name'!AF490","v":""},{"$f":"'By Name'!AG490","v":""},{"$f":"'By Name'!AH490","v":""},{"$f":"'By Name'!AI490","v":""},{"$f":"'By Name'!AJ490","v":""},{"$f":"'By Name'!AK490","v":""},{"$f":"'By Name'!AL490","v":""},{"$f":"'By Name'!AM490","v":""},{"$f":"'By Name'!AN490","v":""},"","","","",1185,"","","","","","","","","","","","","","Block","","","","","","","","","","","","",null,null,null,null,null,null,null,null,null,null,null,null,null,null,null,null,null,null,null,null,null,null,null,null,null,null,null,null,null,null,null,null,null,null,null,null,null,null,null,null,null,null,null,null,null,null,null,null,null,null,null,null,null,null,null,null,null,null,null,null,null,null,null,null,null,null,null,null,null,null,null,null,null,null,null,null,null,null,null,null,null,null,null,null,null,null,null,null,null,null,null,null,null,null,null,null,null,null,null,null,null,null,null,null,null,null,null,null,null,null,null,null,null,null,null,null,null,null,null,null,null,null,null,null,null,null,null,null,null,null,null,null,null,null,null,null,null,null,null,null,null,null,null,null,null,null,null,null,null,null,null,null,null,null,null,null,null,null,null,null,null,null,null,null,null,{"$f":"'View Records'!AF1190","v":""},{"$f":"'View Records'!AG1190","v":""},{"$f":"'View Records'!AH1190","v":""},{"$f":"'View Records'!AI1190","v":""},{"$f":"'View Records'!AJ1190","v":""},{"$f":"'View Records'!AK1190","v":""},{"$f":"'View Records'!AL1190","v":""},{"$f":"'View Records'!AM1190","v":""},{"$f":"'View Records'!AN1190","v":""},{"$f":"'View Records'!AO1190","v":""},{"$f":"'View Records'!AP1190","v":""},{"$f":"'View Records'!AQ1190","v":""}]
[{"$f":"'By Name'!AC491","v":""},{"$f":"'By Name'!AD491","v":""},{"$f":"'By Name'!AE491","v":""},{"$f":"'By Name'!AF491","v":""},{"$f":"'By Name'!AG491","v":""},{"$f":"'By Name'!AH491","v":""},{"$f":"'By Name'!AI491","v":""},{"$f":"'By Name'!AJ491","v":""},{"$f":"'By Name'!AK491","v":""},{"$f":"'By Name'!AL491","v":""},{"$f":"'By Name'!AM491","v":""},{"$f":"'By Name'!AN491","v":""},"","","","",1186,"","","","","","","","","","","","","","Block","","","","","","","","","","","","",null,null,null,null,null,null,null,null,null,null,null,null,null,null,null,null,null,null,null,null,null,null,null,null,null,null,null,null,null,null,null,null,null,null,null,null,null,null,null,null,null,null,null,null,null,null,null,null,null,null,null,null,null,null,null,null,null,null,null,null,null,null,null,null,null,null,null,null,null,null,null,null,null,null,null,null,null,null,null,null,null,null,null,null,null,null,null,null,null,null,null,null,null,null,null,null,null,null,null,null,null,null,null,null,null,null,null,null,null,null,null,null,null,null,null,null,null,null,null,null,null,null,null,null,null,null,null,null,null,null,null,null,null,null,null,null,null,null,null,null,null,null,null,null,null,null,null,null,null,null,null,null,null,null,null,null,null,null,null,null,null,null,null,null,null,{"$f":"'View Records'!AF1191","v":""},{"$f":"'View Records'!AG1191","v":""},{"$f":"'View Records'!AH1191","v":""},{"$f":"'View Records'!AI1191","v":""},{"$f":"'View Records'!AJ1191","v":""},{"$f":"'View Records'!AK1191","v":""},{"$f":"'View Records'!AL1191","v":""},{"$f":"'View Records'!AM1191","v":""},{"$f":"'View Records'!AN1191","v":""},{"$f":"'View Records'!AO1191","v":""},{"$f":"'View Records'!AP1191","v":""},{"$f":"'View Records'!AQ1191","v":""}]
[{"$f":"'By Name'!AC492","v":""},{"$f":"'By Name'!AD492","v":""},{"$f":"'By Name'!AE492","v":""},{"$f":"'By Name'!AF492","v":""},{"$f":"'By Name'!AG492","v":""},{"$f":"'By Name'!AH492","v":""},{"$f":"'By Name'!AI492","v":""},{"$f":"'By Name'!AJ492","v":""},{"$f":"'By Name'!AK492","v":""},{"$f":"'By Name'!AL492","v":""},{"$f":"'By Name'!AM492","v":""},{"$f":"'By Name'!AN492","v":""},"","","","",1187,"","","","","","","","","","","","","","Block","","","","","","","","","","","","",null,null,null,null,null,null,null,null,null,null,null,null,null,null,null,null,null,null,null,null,null,null,null,null,null,null,null,null,null,null,null,null,null,null,null,null,null,null,null,null,null,null,null,null,null,null,null,null,null,null,null,null,null,null,null,null,null,null,null,null,null,null,null,null,null,null,null,null,null,null,null,null,null,null,null,null,null,null,null,null,null,null,null,null,null,null,null,null,null,null,null,null,null,null,null,null,null,null,null,null,null,null,null,null,null,null,null,null,null,null,null,null,null,null,null,null,null,null,null,null,null,null,null,null,null,null,null,null,null,null,null,null,null,null,null,null,null,null,null,null,null,null,null,null,null,null,null,null,null,null,null,null,null,null,null,null,null,null,null,null,null,null,null,null,null,{"$f":"'View Records'!AF1192","v":""},{"$f":"'View Records'!AG1192","v":""},{"$f":"'View Records'!AH1192","v":""},{"$f":"'View Records'!AI1192","v":""},{"$f":"'View Records'!AJ1192","v":""},{"$f":"'View Records'!AK1192","v":""},{"$f":"'View Records'!AL1192","v":""},{"$f":"'View Records'!AM1192","v":""},{"$f":"'View Records'!AN1192","v":""},{"$f":"'View Records'!AO1192","v":""},{"$f":"'View Records'!AP1192","v":""},{"$f":"'View Records'!AQ1192","v":""}]
[{"$f":"'By Name'!AC493","v":""},{"$f":"'By Name'!AD493","v":""},{"$f":"'By Name'!AE493","v":""},{"$f":"'By Name'!AF493","v":""},{"$f":"'By Name'!AG493","v":""},{"$f":"'By Name'!AH493","v":""},{"$f":"'By Name'!AI493","v":""},{"$f":"'By Name'!AJ493","v":""},{"$f":"'By Name'!AK493","v":""},{"$f":"'By Name'!AL493","v":""},{"$f":"'By Name'!AM493","v":""},{"$f":"'By Name'!AN493","v":""},"","","","",1188,"","","","","","","","","","","","","","Block","","","","","","","","","","","","",null,null,null,null,null,null,null,null,null,null,null,null,null,null,null,null,null,null,null,null,null,null,null,null,null,null,null,null,null,null,null,null,null,null,null,null,null,null,null,null,null,null,null,null,null,null,null,null,null,null,null,null,null,null,null,null,null,null,null,null,null,null,null,null,null,null,null,null,null,null,null,null,null,null,null,null,null,null,null,null,null,null,null,null,null,null,null,null,null,null,null,null,null,null,null,null,null,null,null,null,null,null,null,null,null,null,null,null,null,null,null,null,null,null,null,null,null,null,null,null,null,null,null,null,null,null,null,null,null,null,null,null,null,null,null,null,null,null,null,null,null,null,null,null,null,null,null,null,null,null,null,null,null,null,null,null,null,null,null,null,null,null,null,null,null,{"$f":"'View Records'!AF1193","v":""},{"$f":"'View Records'!AG1193","v":""},{"$f":"'View Records'!AH1193","v":""},{"$f":"'View Records'!AI1193","v":""},{"$f":"'View Records'!AJ1193","v":""},{"$f":"'View Records'!AK1193","v":""},{"$f":"'View Records'!AL1193","v":""},{"$f":"'View Records'!AM1193","v":""},{"$f":"'View Records'!AN1193","v":""},{"$f":"'View Records'!AO1193","v":""},{"$f":"'View Records'!AP1193","v":""},{"$f":"'View Records'!AQ1193","v":""}]
[{"$f":"'By Name'!AC494","v":""},{"$f":"'By Name'!AD494","v":""},{"$f":"'By Name'!AE494","v":""},{"$f":"'By Name'!AF494","v":""},{"$f":"'By Name'!AG494","v":""},{"$f":"'By Name'!AH494","v":""},{"$f":"'By Name'!AI494","v":""},{"$f":"'By Name'!AJ494","v":""},{"$f":"'By Name'!AK494","v":""},{"$f":"'By Name'!AL494","v":""},{"$f":"'By Name'!AM494","v":""},{"$f":"'By Name'!AN494","v":""},"","","","",1189,"","","","","","","","","","","","","","Block","","","","","","","","","","","","",null,null,null,null,null,null,null,null,null,null,null,null,null,null,null,null,null,null,null,null,null,null,null,null,null,null,null,null,null,null,null,null,null,null,null,null,null,null,null,null,null,null,null,null,null,null,null,null,null,null,null,null,null,null,null,null,null,null,null,null,null,null,null,null,null,null,null,null,null,null,null,null,null,null,null,null,null,null,null,null,null,null,null,null,null,null,null,null,null,null,null,null,null,null,null,null,null,null,null,null,null,null,null,null,null,null,null,null,null,null,null,null,null,null,null,null,null,null,null,null,null,null,null,null,null,null,null,null,null,null,null,null,null,null,null,null,null,null,null,null,null,null,null,null,null,null,null,null,null,null,null,null,null,null,null,null,null,null,null,null,null,null,null,null,null,{"$f":"'View Records'!AF1194","v":""},{"$f":"'View Records'!AG1194","v":""},{"$f":"'View Records'!AH1194","v":""},{"$f":"'View Records'!AI1194","v":""},{"$f":"'View Records'!AJ1194","v":""},{"$f":"'View Records'!AK1194","v":""},{"$f":"'View Records'!AL1194","v":""},{"$f":"'View Records'!AM1194","v":""},{"$f":"'View Records'!AN1194","v":""},{"$f":"'View Records'!AO1194","v":""},{"$f":"'View Records'!AP1194","v":""},{"$f":"'View Records'!AQ1194","v":""}]
[{"$f":"'By Name'!AC495","v":""},{"$f":"'By Name'!AD495","v":""},{"$f":"'By Name'!AE495","v":""},{"$f":"'By Name'!AF495","v":""},{"$f":"'By Name'!AG495","v":""},{"$f":"'By Name'!AH495","v":""},{"$f":"'By Name'!AI495","v":""},{"$f":"'By Name'!AJ495","v":""},{"$f":"'By Name'!AK495","v":""},{"$f":"'By Name'!AL495","v":""},{"$f":"'By Name'!AM495","v":""},{"$f":"'By Name'!AN495","v":""},"","","","",1190,"","","","","","","","","","","","","","Block","","","","","","","","","","","","",null,null,null,null,null,null,null,null,null,null,null,null,null,null,null,null,null,null,null,null,null,null,null,null,null,null,null,null,null,null,null,null,null,null,null,null,null,null,null,null,null,null,null,null,null,null,null,null,null,null,null,null,null,null,null,null,null,null,null,null,null,null,null,null,null,null,null,null,null,null,null,null,null,null,null,null,null,null,null,null,null,null,null,null,null,null,null,null,null,null,null,null,null,null,null,null,null,null,null,null,null,null,null,null,null,null,null,null,null,null,null,null,null,null,null,null,null,null,null,null,null,null,null,null,null,null,null,null,null,null,null,null,null,null,null,null,null,null,null,null,null,null,null,null,null,null,null,null,null,null,null,null,null,null,null,null,null,null,null,null,null,null,null,null,null,{"$f":"'View Records'!AF1195","v":""},{"$f":"'View Records'!AG1195","v":""},{"$f":"'View Records'!AH1195","v":""},{"$f":"'View Records'!AI1195","v":""},{"$f":"'View Records'!AJ1195","v":""},{"$f":"'View Records'!AK1195","v":""},{"$f":"'View Records'!AL1195","v":""},{"$f":"'View Records'!AM1195","v":""},{"$f":"'View Records'!AN1195","v":""},{"$f":"'View Records'!AO1195","v":""},{"$f":"'View Records'!AP1195","v":""},{"$f":"'View Records'!AQ1195","v":""}]
[{"$f":"'By Name'!AC496","v":""},{"$f":"'By Name'!AD496","v":""},{"$f":"'By Name'!AE496","v":""},{"$f":"'By Name'!AF496","v":""},{"$f":"'By Name'!AG496","v":""},{"$f":"'By Name'!AH496","v":""},{"$f":"'By Name'!AI496","v":""},{"$f":"'By Name'!AJ496","v":""},{"$f":"'By Name'!AK496","v":""},{"$f":"'By Name'!AL496","v":""},{"$f":"'By Name'!AM496","v":""},{"$f":"'By Name'!AN496","v":""},"","","","",1191,"","","","","","","","","","","","","","Block","","","","","","","","","","","","",null,null,null,null,null,null,null,null,null,null,null,null,null,null,null,null,null,null,null,null,null,null,null,null,null,null,null,null,null,null,null,null,null,null,null,null,null,null,null,null,null,null,null,null,null,null,null,null,null,null,null,null,null,null,null,null,null,null,null,null,null,null,null,null,null,null,null,null,null,null,null,null,null,null,null,null,null,null,null,null,null,null,null,null,null,null,null,null,null,null,null,null,null,null,null,null,null,null,null,null,null,null,null,null,null,null,null,null,null,null,null,null,null,null,null,null,null,null,null,null,null,null,null,null,null,null,null,null,null,null,null,null,null,null,null,null,null,null,null,null,null,null,null,null,null,null,null,null,null,null,null,null,null,null,null,null,null,null,null,null,null,null,null,null,null,{"$f":"'View Records'!AF1196","v":""},{"$f":"'View Records'!AG1196","v":""},{"$f":"'View Records'!AH1196","v":""},{"$f":"'View Records'!AI1196","v":""},{"$f":"'View Records'!AJ1196","v":""},{"$f":"'View Records'!AK1196","v":""},{"$f":"'View Records'!AL1196","v":""},{"$f":"'View Records'!AM1196","v":""},{"$f":"'View Records'!AN1196","v":""},{"$f":"'View Records'!AO1196","v":""},{"$f":"'View Records'!AP1196","v":""},{"$f":"'View Records'!AQ1196","v":""}]
[{"$f":"'By Name'!AC497","v":""},{"$f":"'By Name'!AD497","v":""},{"$f":"'By Name'!AE497","v":""},{"$f":"'By Name'!AF497","v":""},{"$f":"'By Name'!AG497","v":""},{"$f":"'By Name'!AH497","v":""},{"$f":"'By Name'!AI497","v":""},{"$f":"'By Name'!AJ497","v":""},{"$f":"'By Name'!AK497","v":""},{"$f":"'By Name'!AL497","v":""},{"$f":"'By Name'!AM497","v":""},{"$f":"'By Name'!AN497","v":""},"","","","",1192,"","","","","","","","","","","","","","Block","","","","","","","","","","","","",null,null,null,null,null,null,null,null,null,null,null,null,null,null,null,null,null,null,null,null,null,null,null,null,null,null,null,null,null,null,null,null,null,null,null,null,null,null,null,null,null,null,null,null,null,null,null,null,null,null,null,null,null,null,null,null,null,null,null,null,null,null,null,null,null,null,null,null,null,null,null,null,null,null,null,null,null,null,null,null,null,null,null,null,null,null,null,null,null,null,null,null,null,null,null,null,null,null,null,null,null,null,null,null,null,null,null,null,null,null,null,null,null,null,null,null,null,null,null,null,null,null,null,null,null,null,null,null,null,null,null,null,null,null,null,null,null,null,null,null,null,null,null,null,null,null,null,null,null,null,null,null,null,null,null,null,null,null,null,null,null,null,null,null,null,{"$f":"'View Records'!AF1197","v":""},{"$f":"'View Records'!AG1197","v":""},{"$f":"'View Records'!AH1197","v":""},{"$f":"'View Records'!AI1197","v":""},{"$f":"'View Records'!AJ1197","v":""},{"$f":"'View Records'!AK1197","v":""},{"$f":"'View Records'!AL1197","v":""},{"$f":"'View Records'!AM1197","v":""},{"$f":"'View Records'!AN1197","v":""},{"$f":"'View Records'!AO1197","v":""},{"$f":"'View Records'!AP1197","v":""},{"$f":"'View Records'!AQ1197","v":""}]
[{"$f":"'By Name'!AC498","v":""},{"$f":"'By Name'!AD498","v":""},{"$f":"'By Name'!AE498","v":""},{"$f":"'By Name'!AF498","v":""},{"$f":"'By Name'!AG498","v":""},{"$f":"'By Name'!AH498","v":""},{"$f":"'By Name'!AI498","v":""},{"$f":"'By Name'!AJ498","v":""},{"$f":"'By Name'!AK498","v":""},{"$f":"'By Name'!AL498","v":""},{"$f":"'By Name'!AM498","v":""},{"$f":"'By Name'!AN498","v":""},"","","","",1193,"","","","","","","","","","","","","","Block","","","","","","","","","","","","",null,null,null,null,null,null,null,null,null,null,null,null,null,null,null,null,null,null,null,null,null,null,null,null,null,null,null,null,null,null,null,null,null,null,null,null,null,null,null,null,null,null,null,null,null,null,null,null,null,null,null,null,null,null,null,null,null,null,null,null,null,null,null,null,null,null,null,null,null,null,null,null,null,null,null,null,null,null,null,null,null,null,null,null,null,null,null,null,null,null,null,null,null,null,null,null,null,null,null,null,null,null,null,null,null,null,null,null,null,null,null,null,null,null,null,null,null,null,null,null,null,null,null,null,null,null,null,null,null,null,null,null,null,null,null,null,null,null,null,null,null,null,null,null,null,null,null,null,null,null,null,null,null,null,null,null,null,null,null,null,null,null,null,null,null,{"$f":"'View Records'!AF1198","v":""},{"$f":"'View Records'!AG1198","v":""},{"$f":"'View Records'!AH1198","v":""},{"$f":"'View Records'!AI1198","v":""},{"$f":"'View Records'!AJ1198","v":""},{"$f":"'View Records'!AK1198","v":""},{"$f":"'View Records'!AL1198","v":""},{"$f":"'View Records'!AM1198","v":""},{"$f":"'View Records'!AN1198","v":""},{"$f":"'View Records'!AO1198","v":""},{"$f":"'View Records'!AP1198","v":""},{"$f":"'View Records'!AQ1198","v":""}]
[{"$f":"'By Name'!AC499","v":""},{"$f":"'By Name'!AD499","v":""},{"$f":"'By Name'!AE499","v":""},{"$f":"'By Name'!AF499","v":""},{"$f":"'By Name'!AG499","v":""},{"$f":"'By Name'!AH499","v":""},{"$f":"'By Name'!AI499","v":""},{"$f":"'By Name'!AJ499","v":""},{"$f":"'By Name'!AK499","v":""},{"$f":"'By Name'!AL499","v":""},{"$f":"'By Name'!AM499","v":""},{"$f":"'By Name'!AN499","v":""},"","","","",1194,"","","","","","","","","","","","","","Block","","","","","","","","","","","","",null,null,null,null,null,null,null,null,null,null,null,null,null,null,null,null,null,null,null,null,null,null,null,null,null,null,null,null,null,null,null,null,null,null,null,null,null,null,null,null,null,null,null,null,null,null,null,null,null,null,null,null,null,null,null,null,null,null,null,null,null,null,null,null,null,null,null,null,null,null,null,null,null,null,null,null,null,null,null,null,null,null,null,null,null,null,null,null,null,null,null,null,null,null,null,null,null,null,null,null,null,null,null,null,null,null,null,null,null,null,null,null,null,null,null,null,null,null,null,null,null,null,null,null,null,null,null,null,null,null,null,null,null,null,null,null,null,null,null,null,null,null,null,null,null,null,null,null,null,null,null,null,null,null,null,null,null,null,null,null,null,null,null,null,null,{"$f":"'View Records'!AF1199","v":""},{"$f":"'View Records'!AG1199","v":""},{"$f":"'View Records'!AH1199","v":""},{"$f":"'View Records'!AI1199","v":""},{"$f":"'View Records'!AJ1199","v":""},{"$f":"'View Records'!AK1199","v":""},{"$f":"'View Records'!AL1199","v":""},{"$f":"'View Records'!AM1199","v":""},{"$f":"'View Records'!AN1199","v":""},{"$f":"'View Records'!AO1199","v":""},{"$f":"'View Records'!AP1199","v":""},{"$f":"'View Records'!AQ1199","v":""}]
[{"$f":"'By Name'!AC500","v":""},{"$f":"'By Name'!AD500","v":""},{"$f":"'By Name'!AE500","v":""},{"$f":"'By Name'!AF500","v":""},{"$f":"'By Name'!AG500","v":""},{"$f":"'By Name'!AH500","v":""},{"$f":"'By Name'!AI500","v":""},{"$f":"'By Name'!AJ500","v":""},{"$f":"'By Name'!AK500","v":""},{"$f":"'By Name'!AL500","v":""},{"$f":"'By Name'!AM500","v":""},{"$f":"'By Name'!AN500","v":""},"","","","",1195,"","","","","","","","","","","","","","Block","","","","","","","","","","","","",null,null,null,null,null,null,null,null,null,null,null,null,null,null,null,null,null,null,null,null,null,null,null,null,null,null,null,null,null,null,null,null,null,null,null,null,null,null,null,null,null,null,null,null,null,null,null,null,null,null,null,null,null,null,null,null,null,null,null,null,null,null,null,null,null,null,null,null,null,null,null,null,null,null,null,null,null,null,null,null,null,null,null,null,null,null,null,null,null,null,null,null,null,null,null,null,null,null,null,null,null,null,null,null,null,null,null,null,null,null,null,null,null,null,null,null,null,null,null,null,null,null,null,null,null,null,null,null,null,null,null,null,null,null,null,null,null,null,null,null,null,null,null,null,null,null,null,null,null,null,null,null,null,null,null,null,null,null,null,null,null,null,null,null,null,{"$f":"'View Records'!AF1200","v":""},{"$f":"'View Records'!AG1200","v":""},{"$f":"'View Records'!AH1200","v":""},{"$f":"'View Records'!AI1200","v":""},{"$f":"'View Records'!AJ1200","v":""},{"$f":"'View Records'!AK1200","v":""},{"$f":"'View Records'!AL1200","v":""},{"$f":"'View Records'!AM1200","v":""},{"$f":"'View Records'!AN1200","v":""},{"$f":"'View Records'!AO1200","v":""},{"$f":"'View Records'!AP1200","v":""},{"$f":"'View Records'!AQ1200","v":""}]
[{"$f":"'By Name'!AC501","v":""},{"$f":"'By Name'!AD501","v":""},{"$f":"'By Name'!AE501","v":""},{"$f":"'By Name'!AF501","v":""},{"$f":"'By Name'!AG501","v":""},{"$f":"'By Name'!AH501","v":""},{"$f":"'By Name'!AI501","v":""},{"$f":"'By Name'!AJ501","v":""},{"$f":"'By Name'!AK501","v":""},{"$f":"'By Name'!AL501","v":""},{"$f":"'By Name'!AM501","v":""},{"$f":"'By Name'!AN501","v":""},"","","","",1196,"","","","","","","","","","","","","","Block","","","","","","","","","","","","",null,null,null,null,null,null,null,null,null,null,null,null,null,null,null,null,null,null,null,null,null,null,null,null,null,null,null,null,null,null,null,null,null,null,null,null,null,null,null,null,null,null,null,null,null,null,null,null,null,null,null,null,null,null,null,null,null,null,null,null,null,null,null,null,null,null,null,null,null,null,null,null,null,null,null,null,null,null,null,null,null,null,null,null,null,null,null,null,null,null,null,null,null,null,null,null,null,null,null,null,null,null,null,null,null,null,null,null,null,null,null,null,null,null,null,null,null,null,null,null,null,null,null,null,null,null,null,null,null,null,null,null,null,null,null,null,null,null,null,null,null,null,null,null,null,null,null,null,null,null,null,null,null,null,null,null,null,null,null,null,null,null,null,null,null,{"$f":"'View Records'!AF1201","v":""},{"$f":"'View Records'!AG1201","v":""},{"$f":"'View Records'!AH1201","v":""},{"$f":"'View Records'!AI1201","v":""},{"$f":"'View Records'!AJ1201","v":""},{"$f":"'View Records'!AK1201","v":""},{"$f":"'View Records'!AL1201","v":""},{"$f":"'View Records'!AM1201","v":""},{"$f":"'View Records'!AN1201","v":""},{"$f":"'View Records'!AO1201","v":""},{"$f":"'View Records'!AP1201","v":""},{"$f":"'View Records'!AQ1201","v":""}]
[null,null,null,null,null,null,null,null,null,null,null,null,null,null,null,null,null,null,null,null,null,null,null,null,null,null,null,null,null,null,"Block","","","","","","","","","","","",""]
[null,null,null,null,null,null,null,null,null,null,null,null,null,null,null,null,null,null,null,null,null,null,null,null,null,null,null,null,null,null,"Block","","","","","","","","","","","",""]
[null,null,null,null,null,null,null,null,null,null,null,null,null,null,null,null,null,null,null,null,null,null,null,null,null,null,null,null,null,null,"Block","","","","","","","","","","","",""]
[null,null,null,null,null,null,null,null,null,null,null,null,null,null,null,null,null,null,null,null,null,null,null,null,null,null,null,null,null,null,"Block","","","","","","","","","","","",""]

{"sheet":"Copied Records","index":3,"n_rows":1198,"n_cols":12,"rows_kept":1198,"cut":false,"hidden":false,"merged":[]}
["BRC","Taxon","Vernacular","Site","Gridref","VC","Recorder","Determiner","Date","Method","Stage","Comment"]
[]
[]
[]
[]
[]
[]
[]
[]
[]
[]
[]
[]
[]
[]
[]
[]
[]
[]
[]
[]
[]
[]
[]
[]
[]
[]
[]
[]
[]
[]
[]
[]
[]
[]
[]
[]
[]
[]
[]
[]
[]
[]
[]
[]
[]
[]
[]
[]
[]
[]
[]
[]
[]
[]
[]
[]
[]
[]
[]
[]
[]
[]
[]
[]
[]
[]
[]
[]
[]
[]
[]
[]
[]
[]
[]
[]
[]
[]
[]
[]
[]
[]
[]
[]
[]
[]
[]
[]
[]
[]
[]
[]
[]
[]
[]
[]
[]
[]
[]
[]
[]
[]
[]
[]
[]
[]
[]
[]
[]
[]
[]
[]
[]
[]
[]
[]
[]
[]
[]
[]
[]
[]
[]
[]
[]
[]
[]
[]
[]
[]
[]
[]
[]
[]
[]
[]
[]
[]
[]
[]
[]
[]
[]
[]
[]
[]
[]
[]
[]
[]
[]
[]
[]
[]
[]
[]
[]
[]
[]
[]
[]
[]
[]
[]
[]
[]
[]
[]
[]
[]
[]
[]
[]
[]
[]
[]
[]
[]
[]
[]
[]
[]
[]
[]
[]
[]
[]
[]
[]
[]
[]
[]
[]
[]
[]
[]
[]
[]
[]
[]
[]
[]
[]
[]
[]
[]
[]
[]
[]
[]
[]
[]
[]
[]
[]
[]
[]
[]
[]
[]
[]
[]
[]
[]
[]
[]
[]
[]
[]
[]
[]
[]
[]
[]
[]
[]
[]
[]
[]
[]
[]
[]
[]
[]
[]
[]
[]
[]
[]
[]
[]
[]
[]
[]
[]
[]
[]
[]
[]
[]
[]
[]
[]
[]
[]
[]
[]
[]
[]
[]
[]
[]
[]
[]
[]
[]
[]
[]
[]
[]
[]
[]
[]
[]
[]
[]
[]
[]
[]
[]
[]
[]
[]
[]
[]
[]
[]
[]
[]
[]
[]
[]
[]
[]
[]
[]
[]
[]
[]
[]
[]
[]
[]
[]
[]
[]
[]
[]
[]
[]
[]
[]
[]
[]
[]
[]
[]
[]
[]
[]
[]
[]
[]
[]
[]
[]
[]
[]
[]
[]
[]
[]
[]
[]
[]
[]
[]
[]
[]
[]
[]
[]
[]
[]
[]
[]
[]
[]
[]
[]
[]
[]
[]
[]
[]
[]
[]
[]
[]
[]
[]
[]
[]
[]
[]
[]
[]
[]
[]
[]
[]
[]
[]
[]
[]
[]
[]
[]
[]
[]
[]
[]
[]
[]
[]
[]
[]
[]
[]
[]
[]
[]
[]
[]
[]
[]
[]
[]
[]
[]
[]
[]
[]
[]
[]
[]
[]
[]
[]
[]
[]
[]
[]
[]
[]
[]
[]
[]
[]
[]
[]
[]
[]
[]
[]
[]
[]
[]
[]
[]
[]
[]
[]
[]
[]
[]
[]
[]
[]
[]
[]
[]
[]
[]
[]
[]
[]
[]
[]
[]
[]
[]
[]
[]
[]
[]
[]
[]
[]
[]
[]
[]
[]
[]
[]
[]
[]
[]
[]
[]
[]
[]
[]
[]
[]
[]
[]
[]
[]
[]
[]
[]
[]
[]
[]
[]
[]
[]
[]
[]
[]
[]
[]
[]
[]
[]
[]
[]
[]
[]
[]
[]
[]
[]
[]
[]
[]
[]
[]
[]
[]
[]
[]
[]
[]
[]
[]
[]
[]
[]
[]
[]
[]
[]
[]
[]
[]
[]
[]
[]
[]
[]
[]
[]
[]
[]
[]
[]
[]
[]
[]
[]
[]
[]
[]
[]
[]
[]
[]
[]
[]
[]
[]
[]
[]
[]
[]
[]
[]
[]
[]
[]
[]
[]
[]
[]
[]
[]
[]
[]
[]
[]
[]
[]
[]
[]
[]
[]
[]
[]
[]
[]
[]
[]
[]
[]
[]
[]
[]
[]
[]
[]
[]
[]
[]
[]
[]
[]
[]
[]
[]
[]
[]
[]
[]
[]
[]
[]
[]
[]
[]
[]
[]
[]
[]
[]
[]
[]
[]
[]
[]
[]
[]
[]
[]
[]
[]
[]
[]
[]
[]
[]
[]
[]
[]
[]
[]
[]
[]
[]
[]
[]
[]
[]
[]
[]
[]
[]
[]
[]
[]
[]
[]
[]
[]
[]
[]
[]
[]
[]
[]
[]
[]
[]
[]
[]
[]
[]
[]
[]
[]
[]
[]
[]
[]
[]
[]
[]
[]
[]
[]
[]
[]
[]
[]
[]
[]
[]
[]
[]
[]
[]
[]
[]
[]
[]
[]
[]
[]
[]
[]
[]
[]
[]
[]
[]
[]
[]
[]
[]
[]
[]
[]
[]
[]
[]
[]
[]
[]
[]
[]
[]
[]
[]
[]
[]
[]
[]
[]
[]
[]
[]
[]
[]
[]
[]
[]
[]
[]
[]
[]
[]
[]
[]
[]
[]
[]
[]
[]
[]
[]
[]
[]
[]
[]
[]
[]
[]
[]
[]
[]
[]
[]
[]
[]
[]
[]
[]
[]
[]
[]
[]
[]
[]
[]
[]
[]
[]
[]
[]
[]
[]
[]
[]
[]
[]
[]
[]
[]
[]
[]
[]
[]
[]
[]
[]
[]
[]
[]
[]
[]
[]
[]
[]
[]
[]
[]
[]
[]
[]
[]
[]
[]
[]
[]
[]
[]
[]
[]
[]
[]
[]
[]
[]
[]
[]
[]
[]
[]
[]
[]
[]
[]
[]
[]
[]
[]
[]
[]
[]
[]
[]
[]
[]
[]
[]
[]
[]
[]
[]
[]
[]
[]
[]
[]
[]
[]
[]
[]
[]
[]
[]
[]
[]
[]
[]
[]
[]
[]
[]
[]
[]
[]
[]
[]
[]
[]
[]
[]
[]
[]
[]
[]
[]
[]
[]
[]
[]
[]
[]
[]
[]
[]
[]
[]
[]
[]
[]
[]
[]
[]
[]
[]
[]
[]
[]
[]
[]
[]
[]
[]
[]
[]
[]
[]
[]
[]
[]
[]
[]
[]
[]
[]
[]
[]
[]
[]
[]
[]
[]
[]
[]
[]
[]
[]
[]
[]
[]
[]
[]
[]
[]
[]
[]
[]
[]
[]
[]
[]
[]
[]
[]
[]
[]
[]
[]
[]
[]
[]
[]
[]
[]
[]
[]
[]
[]
[]
[]
[]
[]
[]
[]
[]
[]
[]
[]
[]
[]
[]
[]
[]
[]
[]
[]
[]
[]
[]
[]
[]
[]
[]
[]
[]
[]
[]
[]
[]
[]
[]
[]
[]
[]
[]
[]
[]
[]
[]
[]
[]
[]
[]
[]
[]
[]
[]
[]
[]
[]
[]
[]
[]
[]
[]
[]
[]
[]
[]
[]
[]
[]
[]
[]
[]
[]
[]
[]
[]
[]
[]
[]
[]
[]
[]
[]
[]
[]
[]
[]
[]
[]
[]
[]
[]
[]
[]
[]
[]
[]
[]
[]
[]
[]
[]
[]
[]
[]
[]
[]
[]
[]
[]
[]
[]
[]
[]
[]
[]
[]
[]
[]
[]
[]
[]
[]
[]
[]
[]
[]
[]
[]
[]
[]
[]
[]
[]
[]
[]
[]
[]
[]
[]
[]
[]
[]
[]
[]
[]
[]
[]
[]
[]
[]
[]
[]
[]
[]
[]
[]
[]
[]
[]
[]
[]
[]
[]
[]
[]
[]
[]
[]
[]
[]
[]
[]
[]
[]
[]
[]
[]
[]
[]
[]
[]
[]
[]
[]
[]
[]
[]
[]
[]
[]
[]
[]
[]
[]
[]
[]
[]
[]
[]
[]
[]
[]
[]
[]
[]
[]
[]
[]
[]
[]
[]
[]
[]
[]
[]
[]
[]
[]
[]
[]
[]
[]
[]
[]
["xxxxxxx"]